{"text_format":"1","workbook":"xlsx","n_sheets":14,"sheets":["Zmeny","Soutez","Region","Pilot","Data","Temp","Zebrik G","Zebrik W","KB PMRg 2016","KB PMRg 2017","KB PMRg 2018","N PMČR 2019","N PMRg 2019","N PMČRj 2019"],"not_rendered":{"charts":0,"images":0,"macros":1,"external_links":0,"defined_names":36,"comments":2,"pivot_tables":2},"unopened":[],"bounds":{"document_bytes":16777216,"sheet_cells":100000,"rows_first":2000,"rows_last":500,"rows_between":2000,"halvings":0,"cell_chars":16384,"cell_head_chars":4096},"cells_cut":0,"cells_raw":0,"read":"whole","date_system":"1900"}

{"sheet":"Zmeny","index":0,"n_rows":4,"n_cols":3,"rows_kept":4,"cut":false,"hidden":false,"merged":[[0,1,0,2]]}
[null,"Změna"]
["Datum","Rev","Popis"]
["2018-09-25","00","Surová nepřipomínkovaná verze"]
["2018-10-28","01","Upravené koeficienty soutěží"]

{"sheet":"Soutez","index":1,"n_rows":155,"n_cols":13,"rows_kept":155,"cut":false,"hidden":false,"merged":[]}
["Soutěž","Stát","Rok","Místo","Poč. disc.","Poč. pilotů","Ki","Kn","dKi/Kn","Termín","Web","Results","Poznámka"]
["Zařazené soutěže 2016:"]
["AZ Cup 2016 - Klub","CZ",2016,"Zbraslavice",4,55,0.9,0.94500000000000006,{"$f":"H3-G3","v":4.500000000000004E-2},"14.4.-23.4.2016",null,"http://www.soaringspot.com/cs/az-cup-2016-zbraslavice-2016/results/klubova"]
["AZ Cup 2016 - Kombi","CZ",2016,"Zbraslavice",3,22,0,0,0,"14.4.-23.4.2016",null,"http://www.soaringspot.com/cs/az-cup-2016-zbraslavice-2016/results/kombinovana","Méně než 4 platné disciplíny"]
["12. JPJ 2016 - Klub","CZ",2016,"Šumperk",5,25,0.6,0.60499999999999998,5.0000000000000044E-3,"29.4.-7.5.2016",null,"http://www.soaringspot.com/cs/12-jarni-pohar-jeseniku-2016-sumperk-2016/results/klubova-trida"]
["12. JPJ 2016 - Kombi","CZ",2016,"Šumperk",5,17,0.6,0.6,0,"29.4.-7.5.2016",null,"http://www.soaringspot.com/cs/12-jarni-pohar-jeseniku-2016-sumperk-2016/results/kombi-trida"]
["Závody Šohajů 2016 - Klub","CZ",2016,"Raná",2,9,0,0,0,"21.5.-28.5.2016",null,"http://www.soaringspot.com/cs/zavody-sohaju-2016-rana-u-loun-2016/results/club","Méně než 4 platné disciplíny, méně než 10 soutěžících ve třídě"]
["PMČR 2016 - Klub","CZ",2016,"Moravská Třebová",7,46,1,1.0900000000000001,9.000000000000008E-2,"22.5.-4.6.2016",null,"http://www.soaringspot.com/cs/plachtarske-mistrovstvi-cr-2016-moravsca-trebova-2016/results/klubova"]
["PMČR 2016 - Kombi 15m","CZ",2016,"Moravská Třebová",7,23,1,1.0449999999999999,4.4999999999999929E-2,"22.5.-4.6.2016",null,"http://www.soaringspot.com/cs/plachtarske-mistrovstvi-cr-2016-moravsca-trebova-2016/results/kombi-15m"]
["PMČR 2016 - Kombi Open","CZ",2016,"Moravská Třebová",7,19,1,1.06,6.0000000000000053E-2,"22.5.-4.6.2016",null,"http://www.soaringspot.com/cs/plachtarske-mistrovstvi-cr-2016-moravsca-trebova-2016/results/kombi-open"]
["FL 2016 - Kombi","CZ",2016,"Frýdlant n/Ostr.",6,17,0.6,0.6,0,"1.7.-9.7.2016",null,"http://www.soaringspot.com/cs/fl-2016-adrenalin-grand-prix-frydlant-2016/results/fl"]
["Adrenalin GP 2016 - Klub GP","CZ",2016,"Frýdlant n/Ostr.",6,14,0.6,0.6,0,"1.7.-9.7.2016",null,"http://www.soaringspot.com/cs/fl-2016-adrenalin-grand-prix-frydlant-2016/results/agp"]
["Safari 2016 - Duo Kombi","CZ",2016,"Dvůr Králové",5,15,0.6,0.6,0,"3.7.-15.7.2016",null,"http://www.soaringspot.com/cs/safari-2016-dvur-kralove-2016/results/duo-kombi"]
["Safari 2016 - Kombi","CZ",2016,"Dvůr Králové",6,36,0.6,0.6,0,"3.7.-15.7.2016",null,"http://www.soaringspot.com/cs/safari-2016-dvur-kralove-2016/results/volna"]
["Toužim Cup 2016 - Klub","CZ",2016,"Toužim",3,26,0,0,0,"9.7.-17.7.2016",null,"http://www.soaringspot.com/cs/tcup-2016-touain-2016/results/klub","Méně než 4 platné disciplíny"]
["Toužim Cup 2016 - Kombi","CZ",2016,"Toužim",4,16,0.6,0.60499999999999998,{"$f":"H16-G16","v":5.0000000000000044E-3},"9.7.-17.7.2016",null,"http://www.soaringspot.com/cs/tcup-2016-touain-2016/results/kombi"]
["PMRg 2016 - Klub","CZ",2016,"Zbraslavice",6,39,0.95,0.96,1.0000000000000009E-2,"10.7.-23.7.2016",null,"http://www.soaringspot.com/cs/plachtarske-mistrovstvi-regionu-2016-zbraslavice-2016/results/klubova"]
["PMRg 2016 - Kombi","CZ",2016,"Zbraslavice",6,13,0.95,0.98499999999999999,3.5000000000000031E-2,"10.7.-23.7.2016",null,"http://www.soaringspot.com/cs/plachtarske-mistrovstvi-regionu-2016-zbraslavice-2016/results/kombinovana"]
["Pohár Vysočiny 2016 - Klub","CZ",2016,"Havlíčkův Brod",5,46,0.6,0.6,0,"23.7.-31.7.2016",null,"http://www.soaringspot.com/cs/plachtarsky-pohar-vysociny-2016-havlickuv-brod-2016/results/klubova"]
["Pohár Vysočiny 2016 - Kombi","CZ",2016,"Havlíčkův Brod",5,21,0.6,0.61499999999999999,1.5000000000000013E-2,"23.7.-31.7.2016",null,"http://www.soaringspot.com/cs/plachtarsky-pohar-vysociny-2016-havlickuv-brod-2016/results/kombinovana"]
["Ranský Pohár 2016 - Klub","CZ",2016,"Raná",2,5,0,0,0,"23.7.-31.7.2016",null,"http://www.soaringspot.com/cs/ransky-pohar-2016-rana-u-loun-2016/results/club","Méně než 4 platné disciplíny, méně než 10 soutěžících ve třídě"]
["Ranský Pohár 2016 - Kombi","CZ",2016,"Raná",4,19,0.6,0.6,0,"23.7.-31.7.2016",null,"http://www.soaringspot.com/cs/ransky-pohar-2016-rana-u-loun-2016/results/kombi"]
["Pohár Českého Ráje 2016 - Kombi","CZ",2016,"Jičín",5,7,0,0,0,"30.7.-6.8.2016",null,"http://www.soaringspot.com/cs/pohar-ceskeho-raje-2016-jicin-letiske-2016/","Méně než 10 soutěžících ve třídě"]
["PMČRj 2016 - Klub","CZ",2016,"Vysoké Mýto",7,32,0.9,0.91500000000000004,1.5000000000000013E-2,"31.7.-12.8.2016",null,"http://www.soaringspot.com/cs/plachtarske-mistrovstvi-cr-junioru-2016-vysoke-myto-2016/"]
["Šumava Glide 2016 - Kombi","CZ",2016,"Frymburk",3,8,0,0,0,"12.8.-20.8.2016",null,"http://www.soaringspot.com/cs/sumava-glide-2016-frymburk-2016/","Méně než 4 platné disciplíny, méně než 10 soutěžících ve třídě"]
["15. HOP 2016 - Klub","CZ",2016,"Hronov",5,25,0.6,0.6,0,"13.8.-20.8.2016",null,"http://www.soaringspot.com/cs/15-hop-2016-velke-porici-2016/"]
["15. HOP 2016 - Kombi","CZ",2016,"Hronov",6,17,0.6,0.6,0,"13.8.-20.8.2016",null,"http://www.soaringspot.com/cs/15-hop-2016-velke-porici-2016/"]
["GGP MB 2016 - Klub GP","CZ",2016,"Mladá Boleslav",4,16,0.6,0.60499999999999998,5.0000000000000044E-3,"20.8.-28.8.2016",null,"http://www.soaringspot.com/cs/gradient-club-grand-prix-mlada-boleslav-2016/"]
["GGP MB 2016 - Pohár MV - Kombi","CZ",2016,"Mladá Boleslav",3,13,0,0,0,"20.8.-28.8.2016",null,"http://www.soaringspot.com/cs/gradient-club-grand-prix-mlada-boleslav-2016/","Méně než 4 platné disciplíny"]
["GGP MB 2016 - Gradient GP","CZ",2016,"Mladá Boleslav",4,9,0,0,0,"20.8.-28.8.2016",null,"http://www.soaringspot.com/cs/gradient-club-grand-prix-mlada-boleslav-2016/","Méně než 10 soutěžících ve třídě"]
["34. WGC 2016 - Std","LT",2016,"Pociunai",7,40,1,1.105,0.10499999999999998,"31.7.-13.8.2016",null,"http://www.soaringspot.com/cs/34th-wgc2016/"]
["34. WGC 2016 - Klub","LT",2016,"Pociunai",7,49,1,1.105,0.10499999999999998,"31.7.-13.8.2016",null,"http://www.soaringspot.com/cs/34th-wgc2016/"]
["34. WGC 2016 - Duo 20m","LT",2016,"Pociunai",7,22,1,1.0049999999999999,4.9999999999998934E-3,"31.7.-13.8.2016",null,"http://www.soaringspot.com/cs/34th-wgc2016/"]
["Pribina Cup 2016 - Klub","SK",2016,"Nitra",4,26,0.9,0.92,2.0000000000000018E-2,"25.3.-2.4.2016",null,"http://www.soaringspot.com/cs/pribina-cup-2016-nitra-2016/"]
["Pribina Cup 2016 - Kombi 15m","SK",2016,"Nitra",4,13,0.9,0.90500000000000003,5.0000000000000044E-3,"25.3.-2.4.2016",null,"http://www.soaringspot.com/cs/pribina-cup-2016-nitra-2016/"]
["Pribina Cup 2016 - Kombi Open","SK",2016,"Nitra",7,30,0.9,0.92,2.0000000000000018E-2,"25.3.-2.4.2016",null,"http://www.soaringspot.com/cs/pribina-cup-2016-nitra-2016/"]
["Pribina Cup 2016 - Duo 20m","SK",2016,"Nitra",4,19,0.9,0.90500000000000003,5.0000000000000044E-3,"25.3.-2.4.2016",null,"http://www.soaringspot.com/cs/pribina-cup-2016-nitra-2016/"]
["FCC 2016 - Klub","SK",2016,"Prievidza",7,59,0.9,0.94000000000000006,4.0000000000000036E-2,"10.4.-21.4.2016",null,"http://www.soaringspot.com/cs/fcc-gliding-2016-prievidza-2016/"]
["FCC 2016 - Kombi 15m","SK",2016,"Prievidza",9,42,0.9,0.96000000000000008,6.0000000000000053E-2,"10.4.-21.4.2016",null,"http://www.soaringspot.com/cs/fcc-gliding-2016-prievidza-2016/"]
["FCC 2016 - Kombi Open","SK",2016,"Prievidza",8,30,0.9,0.97499999999999998,7.4999999999999956E-2,"10.4.-21.4.2016",null,"http://www.soaringspot.com/cs/fcc-gliding-2016-prievidza-2016/"]
["Fatraglide 2016 - Klub","SK",2016,"Martin",5,15,0.6,0.6,0,"23.4.-1.5.2016",null,"http://www.soaringspot.com/cs/fatraglide16-martin-2016/"]
["Fatraglide 2016 - Kombi","SK",2016,"Martin",5,9,0,0,0,"23.4.-1.5.2016",null,"http://www.soaringspot.com/cs/fatraglide16-martin-2016/","Méně než 10 soutěžících ve třídě"]
["PMSR 2016 - Klub","SK",2016,"Partizánske",9,58,0.9,0.92,2.0000000000000018E-2,"2.7.-17.7.2016",null,"http://www.soaringspot.com/cs/pmsr-a-memorial-a-makarenka-2016-partizanske-2016/"]
["PMSR 2016 - Kombi","SK",2016,"Partizánske",9,20,0.9,0.92,2.0000000000000018E-2,"2.7.-17.7.2016",null,"http://www.soaringspot.com/cs/pmsr-a-memorial-a-makarenka-2016-partizanske-2016/"]
["Oldtimer Pribina Star 2016 - Kombi","SK",2016,"Nitra",5,15,0.6,0.6,0,"12.8.-20.8.2016",null,"http://www.soaringspot.com/cs/oldtimer-pribina-star-2016/"]
["SGP 2016 RU - Klub GP","RU",2016,"Usman",6,20,0.9,0.95000000000000007,5.0000000000000044E-2,"1.5.-8.5.2016","http://www.sgp.aero/russia2016.aspx","http://www.sgp.aero/russia2016.aspx"]
["SGP 2016 DE - 18m GP","DE",2016,"Musbach",6,19,0.9,0.93500000000000005,3.5000000000000031E-2,"7.8.-13.8.2016","http://www.sgp.aero/germany2016.aspx","http://www.sgp.aero/germany2016.aspx"]
["7. WSGP Final 2016 - 18m GP","SA",2016,"Potchefstroom",6,18,1,1.08,8.0000000000000071E-2,"5.11.-12.11.2016","http://www.sgp.aero/finals2016.aspx","http://www.sgp.aero/finals2016.aspx"]
["34. WGC 2016 - 15m","AU",2016,"Benalla",6,37,1,1.095,9.4999999999999973E-2,"8.1. - 22.1.2017","http://www.wgc2017.com/","http://www.wgc2017.com/results(hidden)/daily-race-results.aspx?contestID=25893"]
["34. WGC 2016 - 18m","AU",2016,"Benalla",7,43,1,1.105,0.10499999999999998,"8.1. - 22.1.2017","http://www.wgc2017.com/","http://www.wgc2017.com/results(hidden)/daily-race-results.aspx?contestID=25893"]
["34. WGC 2016 - Open","AU",2016,"Benalla",8,35,1,1.105,0.10499999999999998,"8.1. - 22.1.2017","http://www.wgc2017.com/","http://www.wgc2017.com/results(hidden)/daily-race-results.aspx?contestID=25893"]
["Zařazené soutěže 2017:"]
["AZ Cup 2017 - Klub","CZ",2017,"Zbraslavice",3,34,0,0,0,"14.4.-22.4.2017","http://www.azcup.cz/","https://www.soaringspot.com/cs/az-cup-2017-zbraslavice-2017/results/klub/task-4-on-2017-04-21/total"]
["AZ Cup 2017 - Kombi","CZ",2017,"Zbraslavice",4,21,0.9,0.92,2.0000000000000018E-2,"14.4.-22.4.2017","http://www.azcup.cz/","https://www.soaringspot.com/cs/az-cup-2017-zbraslavice-2017/results/kombi/task-4-on-2017-04-21/total"]
["13. JPJ 2017 - Klub","CZ",2017,"Šumperk",5,39,0.6,0.63,3.0000000000000027E-2,"29.4.-7.5.2017","http://www.jpj-sumperk.cz/","https://www.soaringspot.com/cs/13-jarni-pohar-jeseniku-2017-sumperk-2017/results/klubova-trida/task-7-on-2017-05-07/total"]
["13. JPJ 2017 - Kombi","CZ",2017,"Šumperk",5,29,0.6,0.6,0,"29.4.-7.5.2017","http://www.jpj-sumperk.cz/","https://www.soaringspot.com/cs/13-jarni-pohar-jeseniku-2017-sumperk-2017/results/kombi-trida/task-7-on-2017-05-07/total"]
["Závody Šohajů 2017 - Klub","CZ",2017,"Raná",5,10,0.6,0.6,0,"20.5.-27.5.2017","http://sohaje.aeroklubrana.cz/","https://www.soaringspot.com/cs/zavody-sohaju-a-historickych-kluzaku-2017-rana-loumy-2017/results/club/task-8-on-2017-05-27/total"]
["9. WGC Women 2017 - Klub","CZ",2017,"Zbraslavice",12,23,1,1.01,1.0000000000000009E-2,"21.5.-4.6.2017","https://www.wwgc2017.cz/","https://www.soaringspot.com/cs/9th-fai-womens-world-gliding-championship-2017-zbraslavice-2017/results/club/task-12-on-2017-06-03/total"]
["9. WGC Women 2017 - Std","CZ",2017,"Zbraslavice",12,14,1,1.0249999999999999,2.4999999999999911E-2,"21.5.-4.6.2017","https://www.wwgc2017.cz/","https://www.soaringspot.com/cs/9th-fai-womens-world-gliding-championship-2017-zbraslavice-2017/results/standard/task-12-on-2017-06-03/total"]
["9. WGC Women 2017 - 18m","CZ",2017,"Zbraslavice",12,11,1,1.01,1.0000000000000009E-2,"21.5.-4.6.2017","https://www.wwgc2017.cz/","https://www.soaringspot.com/cs/9th-fai-womens-world-gliding-championship-2017-zbraslavice-2017/results/18m/task-12-on-2017-06-03/total"]
["PMČR CON 2017 - Klub","CZ",2017,"Příbram",6,25,1,1.03,3.0000000000000027E-2,"25.6.-7.7.2017","http://www.wgc2018.cz/","https://www.soaringspot.com/cs/czech-gliding-nationals-pre-worlds-2017-pribram-2017/results/club/task-10-on-2017-07-06/total"]
["PMČR CON 2017 - Kombi 15m","CZ",2017,"Příbram",7,16,1,1.0349999999999999,3.499999999999992E-2,"25.6.-7.7.2017","http://www.wgc2018.cz/","https://www.soaringspot.com/cs/czech-gliding-nationals-pre-worlds-2017-pribram-2017/results/15m-mixed/task-10-on-2017-07-06/total"]
["PMČR CON 2017 - Kombi Open","CZ",2017,"Příbram",7,23,1,1.085,8.4999999999999964E-2,"25.6.-7.7.2017","http://www.wgc2018.cz/","https://www.soaringspot.com/cs/czech-gliding-nationals-pre-worlds-2017-pribram-2017/results/open/task-10-on-2017-07-06/total"]
["FL 2017 - Kombi","CZ",2017,"Frýdlant n/Ostr.",5,16,0.6,0.6,0,"30.6.-8.7.2017","https://fl2017.akfrydlant.cz/","https://www.soaringspot.com/cs/fl-2017-adrenalin-grand-prix-frydlant-2017/results/fl/task-6-on-2017-07-06/total"]
["Adrenalin GP 2017 - Klub GP","CZ",2017,"Frýdlant n/Ostr.",6,11,0.6,0.6,0,"30.6.-8.7.2017","https://fl2017.akfrydlant.cz/","https://www.soaringspot.com/cs/fl-2017-adrenalin-grand-prix-frydlant-2017/results/agp/task-6-on-2017-07-06/total"]
["Safari 2017 - Duo Kombi","CZ",2017,"Dvůr Králové",4,10,0.6,0.6,0,"2.7.-14.7.2017","http://www.gliding.cz/souteze/2017/safari/","https://www.soaringspot.com/cs/20-safari-2017-dvur-kralove-nad-labem-2017/results/duo-blanik/task-8-on-2017-07-14/total"]
["Safari 2017 - Klub","CZ",2017,"Dvůr Králové",5,28,0.6,0.6,0,"2.7.-14.7.2017","http://www.gliding.cz/souteze/2017/safari/","https://www.soaringspot.com/cs/20-safari-2017-dvur-kralove-nad-labem-2017/results/klub/task-9-on-2017-07-14/total"]
["Safari 2017 - Kombi","CZ",2017,"Dvůr Králové",5,11,0.6,0.6,0,"2.7.-14.7.2017","http://www.gliding.cz/souteze/2017/safari/","https://www.soaringspot.com/cs/20-safari-2017-dvur-kralove-nad-labem-2017/results/volna"]
["Ranský Pohár 2017 - Klub","CZ",2017,"Raná",3,14,0,0,0,"8.7.-15.7.2017","http://pohar.aeroklubrana.cz/","https://www.soaringspot.com/cs/ransky-pohar-2017-rana-loumy-2017/results/club/task-3-on-2017-07-13/total"]
["Toužim Cup 2017 - Klub","CZ",2017,"Toužim",2,26,0,0,0,"8.7.-15.7.2017","http://www.gliding.cz/souteze/2017/tcup/","https://www.soaringspot.com/cs/tcup2017/results/klub/task-3-on-2017-07-13/total"]
["Toužim Cup 2017 - Kombi","CZ",2017,"Toužim",2,12,0,0,0,"8.7.-15.7.2017","http://www.gliding.cz/souteze/2017/tcup/","https://www.soaringspot.com/cs/tcup2017/results/kombi/task-4-on-2017-07-13/total"]
["PMČRj 2017 - Klub","CZ",2017,"Jihlava",7,31,0.9,0.90500000000000003,5.0000000000000044E-3,"9.7.-21.7.2017","http://www.gliding.cz/souteze/2017/pmcr_j/","https://www.soaringspot.com/cs/plachtarske-mistrovstvi-ceske-republiky-junioru-jihlava-2017/results/club/task-10-on-2017-07-21/total"]
["Pohár Vysočiny 2017 - Klub","CZ",2017,"Havlíčkův Brod",3,47,0,0,0,"22.7.-30.7.2017","http://www.gliding.cz/souteze/2017/ppv/","https://www.soaringspot.com/cs/plachtarsky-pohar-vysociny-2017-havlickuv-brod-2017/results/klub/task-4-on-2017-07-29/total"]
["Pohár Vysočiny 2017 - Kombi","CZ",2017,"Havlíčkův Brod",3,17,0,0,0,"22.7.-30.7.2017","http://www.gliding.cz/souteze/2017/ppv/","https://www.soaringspot.com/cs/plachtarsky-pohar-vysociny-2017-havlickuv-brod-2017/results/kombi/task-5-on-2017-07-29/total"]
["19. EGC 2017 - Klub","CZ",2017,"Moravská Třebová",6,31,1,1.075,7.4999999999999956E-2,"23.7.-4.8.2017","http://www.egc2017.cz/","https://www.soaringspot.com/cs/19th-fai-european-gliding-championships-moravska-trebova-2017/results/club/task-10-on-2017-08-03/total"]
["19. EGC 2017 - Std","CZ",2017,"Moravská Třebová",6,27,1,1.0900000000000001,9.000000000000008E-2,"23.7.-4.8.2017","http://www.egc2017.cz/","https://www.soaringspot.com/cs/19th-fai-european-gliding-championships-moravska-trebova-2017/results/standard/task-10-on-2017-08-03/total"]
["19. EGC 2017 - Duo","CZ",2017,"Moravská Třebová",6,16,1,1.01,1.0000000000000009E-2,"23.7.-4.8.2017","http://www.egc2017.cz/","https://www.soaringspot.com/cs/19th-fai-european-gliding-championships-moravska-trebova-2017/results/double-seater/task-10-on-2017-08-03/total"]
["Pohár Českého Ráje 2017 - Kombi","CZ",2017,"Jičín",4,10,0.6,0.6,0,"29.7.-5.8.2017","http://aecr.cz/ud%C3%A1lost/pohar-ceskeho-raje-2017/","https://www.soaringspot.com/cs/pohar-ceskeho-raje-2017-jicin-2017/results/combi/task-5-on-2017-08-05/total"]
["PMRg 2017 - Klub","CZ",2017,"Křižanov",7,47,0.95,0.97499999999999998,2.5000000000000022E-2,"6.8.-18.8.2017","http://lkka.cz/pmrg2017/","https://www.soaringspot.com/cs/plachtarske-mistrovstvi-regionu-krizanov-2017/results/klubova-trida/task-9-on-2017-08-18/total"]
["PMRg 2017 - Kombi","CZ",2017,"Křižanov",8,19,0.95,0.96499999999999997,{"$f":"H80-G80","v":1.5000000000000013E-2},"6.8.-18.8.2017","http://lkka.cz/pmrg2017/","https://www.soaringspot.com/cs/plachtarske-mistrovstvi-regionu-krizanov-2017/results/kombinovana-trida/task-9-on-2017-08-18/total"]
["16. HOP 2017 - Klub","CZ",2017,"Hronov",4,27,0.6,0.60499999999999998,5.0000000000000044E-3,"12.8.-19.8.2017","http://www.lkvp.cz/HOP-2017.html","https://www.soaringspot.com/cs/16-hop-2017-velke-porici-2017/results/klub-hop/task-5-on-2017-08-18/total"]
["16. HOP 2017 - Kombi","CZ",2017,"Hronov",4,13,0.6,0.6,0,"12.8.-19.8.2017","http://www.lkvp.cz/HOP-2017.html","https://www.soaringspot.com/cs/16-hop-2017-velke-porici-2017/results/kombi-ppf/task-6-on-2017-08-18/total"]
["GGP MB 2017 - Gradient GP","CZ",2017,"Mladá Boleslav",3,6,0,0,0,"26.8.-2.9.2017","http://ggp.cpska.cz/public/index3.php","https://www.soaringspot.com/cs/gradient-club-grand-prix-2017-mlada-boleslav-2017/results/gradient-gp/task-4-on-2017-08-29/total"]
["GGP MB 2017 - Klub GP","CZ",2017,"Mladá Boleslav",2,6,0,0,0,"26.8.-2.9.2017","http://ggp.cpska.cz/public/index3.php","https://www.soaringspot.com/cs/gradient-club-grand-prix-2017-mlada-boleslav-2017/results/club-gp/task-4-on-2017-08-29/total"]
["GGP MB 2017 - Pohár MV - Kombi","CZ",2017,"Mladá Boleslav",4,11,0.6,0.62,2.0000000000000018E-2,"26.8.-2.9.2017","http://ggp.cpska.cz/public/index3.php","https://www.soaringspot.com/cs/gradient-club-grand-prix-2017-mlada-boleslav-2017/results/pohar-metodeje-vlach/task-7-on-2017-09-02/total"]
["Pribina Cup 2017 - Klub","SK",2017,"Nitra",4,45,0.9,0.94000000000000006,4.0000000000000036E-2,"14.4.-22.4.2017","www.pribinacup.sk/","https://www.soaringspot.com/cs/pribina-cup-2017-nitra-2017/results/unknown/task-5-on-2017-04-21/total"]
["Pribina Cup 2017 - Kombi 15m","SK",2017,"Nitra",5,34,0.9,0.94500000000000006,4.500000000000004E-2,"14.4.-22.4.2017","www.pribinacup.sk/","https://www.soaringspot.com/cs/pribina-cup-2017-nitra-2017/results/15-meter/task-5-on-2017-04-21/total"]
["Pribina Cup 2017 - Kombi Open","SK",2017,"Nitra",4,32,0.9,0.97499999999999998,7.4999999999999956E-2,"14.4.-22.4.2017","www.pribinacup.sk/","https://www.soaringspot.com/cs/pribina-cup-2017-nitra-2017/results/open/task-5-on-2017-04-21/total"]
["Pribina Cup 2017 - Duo 20m","SK",2017,"Nitra",5,25,0.9,0.90500000000000003,5.0000000000000044E-3,"14.4.-22.4.2017","www.pribinacup.sk/","https://www.soaringspot.com/cs/pribina-cup-2017-nitra-2017/results/20m-double-seater/task-5-on-2017-04-21/total"]
["FCC 2017 - Klub","SK",2017,"Prievidza",4,43,0.9,0.93500000000000005,3.5000000000000031E-2,"23.4.-4.5.2017","http://www.fccgliding.sk/","https://www.soaringspot.com/cs/fcc-gliding-2017-prievidza-2017/results/club/task-6-on-2017-05-01/total"]
["FCC 2017 - Kombi 15m","SK",2017,"Prievidza",4,32,0.9,0.93,3.0000000000000027E-2,"23.4.-4.5.2017","http://www.fccgliding.sk/","https://www.soaringspot.com/cs/fcc-gliding-2017-prievidza-2017/results/15-m/task-6-on-2017-05-01/total"]
["FCC 2017 - Kombi Open","SK",2017,"Prievidza",4,23,0.9,0.97,6.9999999999999951E-2,"23.4.-4.5.2017","http://www.fccgliding.sk/","https://www.soaringspot.com/cs/fcc-gliding-2017-prievidza-2017/results/combi/task-6-on-2017-05-01/total"]
["PMSR 2017 - Klub","SK",2017,"Partizánske",9,33,0.9,0.91500000000000004,1.5000000000000013E-2,"2.7.-16.7.2017","http://www.pmsr.sk/index.php?str=uvod&detail=86&od=0&language=sk&rocnik=2017","https://www.soaringspot.com/cs/pmsr-2017-a-memorial-a-makarenka-male-bielice1-2017/results/klub/task-11-on-2017-07-15/total"]
["PMSR 2017 - Kombi","SK",2017,"Partizánske",10,16,0.9,0.90500000000000003,5.0000000000000044E-3,"2.7.-16.7.2017","http://www.pmsr.sk/index.php?str=uvod&detail=86&od=0&language=sk&rocnik=2017","https://www.soaringspot.com/cs/pmsr-2017-a-memorial-a-makarenka-male-bielice1-2017/results/kombi/task-11-on-2017-07-15/total"]
["SGP 2017 SK - 18m GP","SK",2017,"Partizánske",7,15,0.9,0.93500000000000005,3.5000000000000031E-2,"27.7.-5.8.2017","http://www.sgp.aero/slovakia2017.aspx","https://www.soaringspot.com/cs/slovakia-sgp-male-bielice-2017/results/18-meter/task-7-on-2017-08-04/total"]
["Oldtimer Pribina Star 2017 - Klub","SK",2017,"Nitra",5,14,0.6,0.6,0,"12.8.-19.8.2017","http://www.airportnitra.sk/sk/oldtimer-pribina-star.html","https://www.soaringspot.com/cs/oldtimerpribina-star-2017-nitra-2017/results/veteran/task-5-on-2017-08-18/total"]
["25. Alpe Adria Cup - Kombi","AT",2017,"Feldkirchen",6,29,0.6,0.61499999999999999,1.5000000000000013E-2,"20.5.-27.5.2017","https://www.soaringspot.com/cs/aac2017/results/offene-klasse/task-6-on-2017-05-27/total","https://www.soaringspot.com/cs/aac2017/results/offene-klasse/task-6-on-2017-05-27/total"]
["TAL 2017 - Kombi","AT",2017,"Dobersberg",4,13,0.6,0.6,0,"5.8.-12.8.2017","https://www.soaringspot.com/cs/dobersberg-tal-2017/results/allgemeine-klasse/task-4-on-2017-08-12/total","https://www.soaringspot.com/cs/dobersberg-tal-2017/results/allgemeine-klasse/task-4-on-2017-08-12/total"]
["10. WGC Juniors 2017 - Klub","LT",2017,"Pociunai",7,38,1,1.01,1.0000000000000009E-2,"30.7.-12.8.2017","http://jwgc2017.pociunai.lt/","https://www.soaringspot.com/en_gb/jwgc2017/results/club/task-8-on-2017-08-12/total"]
["10. WGC Juniors 2017 - Std","LT",2017,"Pociunai",8,32,1,1.02,2.0000000000000018E-2,"30.7.-12.8.2017","http://jwgc2017.pociunai.lt/","https://www.soaringspot.com/en_gb/jwgc2017/results/standard/task-8-on-2017-08-12/total"]
["19. EGC 2017 - 15m","UK",2017,"Lasham",9,16,1,1.0649999999999999,6.4999999999999947E-2,"10.8.-26.8.2017","http://www.egc2017.co.uk/","http://www.egc2017.co.uk/overall15m"]
["19. EGC 2017 - 18m","UK",2017,"Lasham",10,25,1,1.095,9.4999999999999973E-2,"10.8.-26.8.2017","http://www.egc2017.co.uk/","http://www.egc2017.co.uk/overall18m"]
["19. EGC 2017 - Open","UK",2017,"Lasham",10,18,1,1.0900000000000001,9.000000000000008E-2,"10.8.-26.8.2017","http://www.egc2017.co.uk/","http://www.egc2017.co.uk/overallOpen"]
["Zařazené soutěže 2018:"]
["AZ Cup 2018 - Klub","CZ",2018,"Zbraslavice",8,40,0.9,0.92500000000000004,{"$f":"G105/H105","v":0.97297297297297292},"28.4.-7.5.2018","http://www.azcup.cz/","https://www.soaringspot.com/cs/az-cup-2018-zbraslavice-2018/results/klub"]
["AZ Cup 2018 - Kombi","CZ",2018,"Zbraslavice",9,29,0.9,0.95,{"$f":"G106/H106","v":0.94736842105263164},"28.4.-7.5.2018","http://www.azcup.cz/","https://www.soaringspot.com/cs/az-cup-2018-zbraslavice-2018/results/kombi"]
["14. JPJ 2018 - Klub","CZ",2018,"Šumperk",2,44,0,{"$f":"G107","v":0},{"$f":"G107/H107","v":{"$error":"#DIV/0!"}},"28.4.-7.5.2018","http://www.jpj-sumperk.cz/","https://www.soaringspot.com/cs/14-jarni-pohar-jeseniku-2018-sumperk-2018/results/klubova-trida","Méně jak 4 platné disciplíny"]
["14. JPJ 2018 - Kombi","CZ",2018,"Šumperk",2,24,0,{"$f":"G108","v":0},{"$f":"G108/H108","v":{"$error":"#DIV/0!"}},"28.4.-7.5.2018","http://www.jpj-sumperk.cz/","https://www.soaringspot.com/cs/14-jarni-pohar-jeseniku-2018-sumperk-2018/results/kombi-trida","Méně jak 4 platné disciplíny"]
["PMČR 2018 - Klub","CZ",2018,"Tábor",10,29,1,1.0549999999999999,{"$f":"G109/H109","v":0.94786729857819907},"27.5.-9.6.2018","http://www.gliding.cz/souteze/2018/pmcr/","https://www.soaringspot.com/cs/plachtarske-mistrovstvi-cr-2018-tabor-2018/results/klub"]
["PMČR 2018 - Kombi 15m","CZ",2018,"Tábor",9,17,1,1.0549999999999999,0.94786729857819907,"27.5.-9.6.2018","http://www.gliding.cz/souteze/2018/pmcr/","https://www.soaringspot.com/cs/plachtarske-mistrovstvi-cr-2018-tabor-2018/results/kombi-15"]
["PMČR 2018 - Kombi Open","CZ",2018,"Tábor",9,14,1,1.0249999999999999,0.97560975609756106,"27.5.-9.6.2018","http://www.gliding.cz/souteze/2018/pmcr/","https://www.soaringspot.com/cs/plachtarske-mistrovstvi-cr-2018-tabor-2018/results/kombi-open"]
["FL 2018 - Kombi","CZ",2018,"Frýdlant n/Ostr.",6,15,0.6,{"$f":"G112","v":0.6},{"$f":"G112/H112","v":1},"29.6.-7.7.2018","https://fl2018.akfrydlant.cz/","https://www.soaringspot.com/cs/fl-2018-adrenalin-grand-prix-frydlant-2018/results/fl"]
["Adrenalin GP 2018 - Klub GP","CZ",2018,"Frýdlant n/Ostr.",7,12,0.6,0.60499999999999998,0.99173553719008267,"29.6.-7.7.2018","https://fl2018.akfrydlant.cz/","https://www.soaringspot.com/cs/fl-2018-adrenalin-grand-prix-frydlant-2018/results/agp"]
["Safari 2018 - Duo Kombi","CZ",2018,"Dvůr Králové",6,11,0.6,0.6,{"$f":"G114/H114","v":1},"30.6.-13.7.2018","http://www.gliding.cz/souteze/2018/safari/","https://www.soaringspot.com/cs/21-safari-pohar-dvur-kralove-nad-labem-2018/results/duo-blanik"]
["Safari 2018 - Klub","CZ",2018,"Dvůr Králové",8,29,0.6,0.6,1,"30.6.-13.7.2018","http://www.gliding.cz/souteze/2018/safari/","https://www.soaringspot.com/cs/21-safari-pohar-dvur-kralove-nad-labem-2018/results/klub"]
["Safari 2018 - Kombi","CZ",2018,"Dvůr Králové",8,11,0.6,0.6,1,"30.6.-13.7.2018","http://www.gliding.cz/souteze/2018/safari/","https://www.soaringspot.com/cs/21-safari-pohar-dvur-kralove-nad-labem-2018/results/volna"]
["Toužim Cup 2018 - Klub","CZ",2018,"Toužim",5,29,0.9,{"$f":"G117","v":0.9},{"$f":"G117/H117","v":1},"14.7.-21.7.2018","http://www.gliding.cz/souteze/2018/tcup/","https://www.soaringspot.com/cs/touzim-cup-2018-touzim-2018/results/klub"]
["Toužim Cup 2018 - Kombi","CZ",2018,"Toužim",5,19,0.9,0.90500000000000003,0.99447513812154698,"14.7.-21.7.2018","http://www.gliding.cz/souteze/2018/tcup/","https://www.soaringspot.com/cs/touzim-cup-2018-touzim-2018/results/kombi"]
["PMČRj 2018 - Klub","CZ",2018,"Raná",10,30,0.9,0.90500000000000003,{"$f":"G119/H119","v":0.99447513812154698},"15.7.-27.7.2018","http://www.gliding.cz/souteze/2018/pmcr_j/","https://www.soaringspot.com/cs/plachtarske-mistrovstvi-cr-junioru-2018-rana-loumy-2018/results/club"]
["Ranský Pohár 2018 - Kombi","CZ",2018,"Raná",6,19,0.6,{"$f":"G120","v":0.6},{"$f":"G120/H120","v":1},"21.7.-28.7.2018","http://pohar.aeroklubrana.cz/","https://www.soaringspot.com/cs/ransky-pohar-2018-rana-loumy-2018/results/combi"]
["PPV 2018 - Klub","CZ",2018,"Havlíčkův Brod",6,44,0.9,{"$f":"G121","v":0.9},{"$f":"G121/H121","v":1},"21.7.-28.7.2018","http://www.gliding.cz/souteze/2018/ppv/","https://www.soaringspot.com/cs/plachtarsky-pohar-vysociny-2018-havlickuv-brod-2018/results/klubova-trida"]
["PPV 2018 - Kombi","CZ",2018,"Havlíčkův Brod",6,17,0.9,0.9,1,"21.7.-28.7.2018","http://www.gliding.cz/souteze/2018/ppv/","https://www.soaringspot.com/cs/plachtarsky-pohar-vysociny-2018-havlickuv-brod-2018/results/kombinovana-trida"]
["Pohár Českého Ráje 2018 - Kombi","CZ",2018,"Jičín",8,10,0.6,{"$f":"G123","v":0.6},{"$f":"G123/H123","v":1},"28.7.-4.8.2018",null,"https://www.soaringspot.com/cs/pohar-ceskeho-raje-2018-jicin-2018/results/unknown"]
["PMRg 2018 - Klub","CZ",2018,"Hodkovice",10,36,0.95,0.96499999999999997,{"$f":"G124/H124","v":0.98445595854922274},"29.7.-11.8.2018","http://www.gliding.cz/souteze/2018/pmrg/","https://www.soaringspot.com/cs/mistrovstvi-ceske-republiky-regionu-hodkovice-nad-mohelkou-2018/results/klub"]
["PMRg 2018 - Kombi","CZ",2018,"Hodkovice",10,17,0.95,0.97,{"$f":"G125/H125","v":0.97938144329896903},"29.7.-11.8.2018","http://www.gliding.cz/souteze/2018/pmrg/","https://www.soaringspot.com/cs/mistrovstvi-ceske-republiky-regionu-hodkovice-nad-mohelkou-2018/results/kombi-open"]
["35. WGC 2018 - Std","PL",2018,"Ostrow Wielkopolski",7,47,1,1.105,{"$f":"G126/H126","v":0.90497737556561086},"8.7.-21.7.2018","https://ostrowglide.com/en/","https://www.soaringspot.com/cs/wgc2018pl/results/standard"]
["35. WGC 2018 - 15m","PL",2018,"Ostrow Wielkopolski",7,37,1,1.085,0.92165898617511521,"8.7.-21.7.2018","https://ostrowglide.com/en/","https://www.soaringspot.com/cs/wgc2018pl/results/15-meter"]
["35. WGC 2018 - Klub","PL",2018,"Ostrow Wielkopolski",7,48,1,1.0900000000000001,0.9174311926605504,"8.7.-21.7.2018","https://ostrowglide.com/en/","https://www.soaringspot.com/cs/wgc2018pl/results/club"]
["35. WGC 2018 - 18m","CZ",2018,"Hosím",12,45,1,1.105,{"$f":"G129/H129","v":0.90497737556561086},"28.7.-11.8.2018","http://www.wgc2018.cz/","https://www.soaringspot.com/cs/35th-world-gliding-championships-hosin-2018/results/18-meter"]
["35. WGC 2018 - Open","CZ",2018,"Hosím",12,31,1,1.095,0.91324200913242015,"28.7.-11.8.2018","http://www.wgc2018.cz/","https://www.soaringspot.com/cs/35th-world-gliding-championships-hosin-2018/results/open"]
["35. WGC 2018 - Duo 20m","CZ",2018,"Hosím",12,18,1,1.07,0.93457943925233644,"28.7.-11.8.2018","http://www.wgc2018.cz/","https://www.soaringspot.com/cs/35th-world-gliding-championships-hosin-2018/results/double-seater"]
["17. HOP 2018 - Klub","CZ",2018,"Hronov",6,26,0.6,{"$f":"G132","v":0.6},{"$f":"G132/H132","v":1},"11.8.-18.8.2018","http://www.lkvp.cz/HOP-2018.html","https://www.soaringspot.com/cs/17-hop-2018-velke-porici-2018/results/klub-hop"]
["17. HOP 2018 - Kombi","CZ",2018,"Hronov",6,15,0.6,0.6,1,"11.8.-18.8.2018","http://www.lkvp.cz/HOP-2018.html","https://www.soaringspot.com/cs/17-hop-2018-velke-porici-2018/results/kombi-ppf"]
["GGP MB 2018 - Gradient GP","CZ",2018,"Mladá Boleslav",6,11,0.6,{"$f":"G134","v":0.6},{"$f":"G134/H134","v":1},"18.8.-25.8.2018","http://ggp.cpska.cz/public/index3.php","https://www.soaringspot.com/cs/gradient-club-grand-prix-2018-mlada-boleslav-2018/results/gradient-gp"]
["GGP MB 2018 - Klub GP","CZ",2018,"Mladá Boleslav",6,10,0.6,0.61,0.98360655737704916,"18.8.-25.8.2018","http://ggp.cpska.cz/public/index3.php","https://www.soaringspot.com/cs/gradient-club-grand-prix-2018-mlada-boleslav-2018/results/club-gp"]
["GGP MB 2018 - Pohár MV - Kombi","CZ",2018,"Mladá Boleslav",6,11,0.6,0.61,0.98360655737704916,"18.8.-25.8.2018","http://ggp.cpska.cz/public/index3.php","https://www.soaringspot.com/cs/gradient-club-grand-prix-2018-mlada-boleslav-2018/results/pohar-metodeje-vlach"]
["Fatraglide 2018 - Kombi","SK",2018,"Martin",9,14,0.6,0.6,1,"28.4.-7.5.2018","http://www.fatraglide.sk/","https://www.soaringspot.com/en_gb/fatraglide18-martin-2018/results/combi"]
["Hahnweide 2018 - Duo 20m","DE",2018,"Kirchheim/Teck",6,32,0.6,0.65,{"$f":"G138/H138","v":0.92307692307692302},"4.5.-12.5.2018","http://www.wettbewerb.wolf-hirth.de/","https://www.soaringspot.com/de/52-internationaler-hahnweide-wettbewerb-hahnweide-2018/results/dosi"]
["Flatland Cup 2018 - Klub","HU",2018,"Szeged",7,35,0.9,0.90500000000000003,{"$f":"G139/H139","v":0.99447513812154698},"3.8.-11.8.2018","http://flatlandcup.hu/2018/hu/","https://www.soaringspot.com/cs/xi-flatland-cup-szeged-2018/results/fai-club"]
["Flatland Cup 2018 - Kombi","HU",2018,"Szeged",9,25,0.9,0.90500000000000003,{"$f":"G140/H140","v":0.99447513812154698},"3.8.-11.8.2018","http://flatlandcup.hu/2018/hu/","https://www.soaringspot.com/cs/xi-flatland-cup-szeged-2018/results/open"]
["FCC 2018 - Klub","SK",2018,"Prievidza",8,47,0.9,0.94,{"$f":"G141/H141","v":0.95744680851063835},"8.4.-19.4.2018","http://www.fccgliding.sk/","https://www.soaringspot.com/cs/fcc-gliding-2018-prievidza-2018/results/club"]
["FCC 2018 - Kombi 15m","SK",2018,"Prievidza",7,33,0.9,0.98,0.91836734693877553,"8.4.-19.4.2018","http://www.fccgliding.sk/","https://www.soaringspot.com/cs/fcc-gliding-2018-prievidza-2018/results/15-m"]
["FCC 2018 - Kombi Open","SK",2018,"Prievidza",8,25,0.9,0.96,0.93750000000000011,"8.4.-19.4.2018","http://www.fccgliding.sk/","https://www.soaringspot.com/cs/fcc-gliding-2018-prievidza-2018/results/combi"]
["Šariš Cup 2018 - Klub","SK",2018,"Ražňany",6,19,0.6,{"$f":"G144","v":0.6},1,"26.5.-3.6.2018",null,"https://www.soaringspot.com/cs/sariscup-gliding-2018-raznany-2018/results/club"]
["PMSR 2018 - Kombi","SK",2018,"Prievidza",9,20,0.9,0.91,0.98901098901098905,"10.6.-22.6.2018",null,"https://www.soaringspot.com/cs/61-majstrovstva-slovenska-v-bezmotorovom-lietani-prievidza-2018/results/volna-trieda"]
["SGP 2018 RU - Klub GP","RU",2018,"Usman",3,17,0,0,{"$f":"G146/H146","v":{"$error":"#DIV/0!"}},"19.5.-26.5.2018","http://sgp.aero/russia2018/event-information/event-schedule.aspx?contestID=31481","http://sgp.aero/russia2018/results-sgp/results.aspx?contestID=31527","Méně jak 4 platné disciplíny"]
["8. WSGP Final 2018 - 18m GP","CL",2018,"Vitacura",6,19,1,1.0549999999999999,0.94786729857819907,"11.1.-20.1.2018","http://sgp.aero/finals2017.aspx","http://sgp.aero/finals2017/results-sgp/results.aspx?contestID=28606"]
["38. MAM 2018 - Kombi","SK",2018,"Partizánske",10,9,0,0,{"$error":"#DIV/0!"},"1.7.-15.7.2018",null,"https://www.soaringspot.com/cs/38-memorial-alexandra-makarenka-2018-male-bielice-2018/results/kombi-treida","Méně jak 10 soutšžících pilotů"]
["Pribina Cup 2018 - Klub","SK",2018,"Nitra",2,34,0,{"$f":"G149","v":0},{"$error":"#DIV/0!"},"30.3.-7.4.2018","www.pribinacup.sk/","https://www.soaringspot.com/cs/pribina-cup-2018-nitra-2018/results/club","Méně jak 4 platné disciplíny"]
["Pribina Cup 2018 - Kombi 15m","SK",2018,"Nitra",2,26,0,{"$f":"G150","v":0},{"$error":"#DIV/0!"},"30.3.-7.4.2018","www.pribinacup.sk/","https://www.soaringspot.com/cs/pribina-cup-2018-nitra-2018/results/15-meter","Méně jak 4 platné disciplíny"]
["Pribina Cup 2018 - Kombi Open","SK",2018,"Nitra",2,18,0,{"$f":"G151","v":0},{"$error":"#DIV/0!"},"30.3.-7.4.2018","www.pribinacup.sk/","https://www.soaringspot.com/cs/pribina-cup-2018-nitra-2018/results/open","Méně jak 4 platné disciplíny"]
["Pribina Cup 2018 - Duo 20m","SK",2018,"Nitra",2,13,0,{"$f":"G152","v":0},{"$error":"#DIV/0!"},"30.3.-7.4.2018","www.pribinacup.sk/","https://www.soaringspot.com/cs/pribina-cup-2018-nitra-2018/results/20m-multi-seat","Méně jak 4 platné disciplíny"]
[]
[]
["Schváleno Plachtařskou komisí AeČR dne 4.11.2018 ve Vysokém Mýtě"]

{"sheet":"Region","index":2,"n_rows":115,"n_cols":4,"rows_kept":115,"cut":false,"hidden":false,"merged":[]}
["Aeroklub","Region","Počet",{"$f":"C69+C37+C2","v":88}]
["Benešov","CZ/C1",{"$f":"COUNTIF(B2:B35,B2)","v":34}]
["Beroun","CZ/C1"]
["Bystřice u Benešova","CZ/C1"]
["Erpužice","CZ/C1"]
["GAC Benešov","CZ/C1"]
["Hořovice","CZ/C1"]
["Hosín","CZ/C1"]
["Jindřichův Hradec","CZ/C1"]
["Karlovy Vary","CZ/C1"]
["Karlštejn","CZ/C1"]
["Kladno","CZ/C1"]
["Klatovy","CZ/C1"]
["Kolín","CZ/C1"]
["Kralupy","CZ/C1"]
["Letkov","CZ/C1"]
["Letňany","CZ/C1"]
["Mladá Boleslav","CZ/C1"]
["Nesvačily","CZ/C1"]
["Panenský Týnec","CZ/C1"]
["Plasy","CZ/C1"]
["Plzeň Bory","CZ/C1"]
["Prachatice","CZ/C1"]
["Příbram","CZ/C1"]
["Rakovník","CZ/C1"]
["Slaný","CZ/C1"]
["Soběslav","CZ/C1"]
["Staňkov","CZ/C1"]
["Strakonice","CZ/C1"]
["Tábor","CZ/C1"]
["Tachov","CZ/C1"]
["Točná","CZ/C1"]
["Toužim","CZ/C1"]
["Vlašim","CZ/C1"]
["Zbraslavice","CZ/C1"]
["-","-"]
["Broumov","CZ/C2",{"$f":"COUNTIF(B37:B67,B37)","v":31}]
["Česká Lípa","CZ/C2"]
["Dvůr Králové","CZ/C2"]
["Havlíčkův Brod","CZ/C2"]
["Hodkovice","CZ/C2"]
["Hořice","CZ/C2"]
["Hradčany","CZ/C2"]
["Hronov","CZ/C2"]
["Chomutov","CZ/C2"]
["Chotěboř","CZ/C2"]
["Chrudim","CZ/C2"]
["Jaroměř","CZ/C2"]
["Jičín","CZ/C2"]
["Letecká společnost na Vysočině","CZ/C2"]
["Liberec","CZ/C2"]
["Mnichovo Hradiště","CZ/C2"]
["Most","CZ/C2"]
["Nové Město nad Metují","CZ/C2"]
["Pardubice","CZ/C2"]
["Podhořany","CZ/C2"]
["Polička","CZ/C2"]
["Přibyslav","CZ/C2"]
["Raná","CZ/C2"]
["Roudnice","CZ/C2"]
["Skuteč","CZ/C2"]
["Turnov","CZ/C2"]
["Ústí nad Labem","CZ/C2"]
["Ústí nad Orlicí","CZ/C2"]
["Vrchlabí","CZ/C2"]
["Vysoké Mýto","CZ/C2"]
["Žamberk","CZ/C2"]
[]
["Bohuňovice","CZ/M",{"$f":"COUNTIF(B69:B91,B69)","v":23}]
["Břeclav","CZ/M"]
["LK Břeclav","CZ/M"]
["Frýdlant","CZ/M"]
["Hranice","CZ/M"]
["Jeseník","CZ/M"]
["Jihlava","CZ/M"]
["Krnov","CZ/M"]
["Kroměříž","CZ/M"]
["Křižanov","CZ/M"]
["Kunovice","CZ/M"]
["Kyjov","CZ/M"]
["Luhačovice","CZ/M"]
["Medlánky","CZ/M"]
["Moravská Třebová","CZ/M"]
["Olomouc","CZ/M"]
["Prostějov","CZ/M"]
["Slatina","CZ/M"]
["Slavičín","CZ/M"]
["Stichovice","CZ/M"]
["Šumperk","CZ/M"]
["Vyškov","CZ/M"]
["Zábřeh","CZ/M"]
[]
["Aalborg","DK"]
["Air Sympatia","SK"]
["Akaflieg Dresden","DE"]
["Bad Nauheim","DE"]
["Bratislava","SK"]
["Dánsko","DK"]
["Greiz","DE"]
["Japonsko","JP"]
["Jelenia Góra","PL"]
["Martin","SK"]
["Německo","DE"]
["Nitra","SK"]
["Novo Mesto","SI"]
["Poprad","SK"]
["Prešov","SK"]
["Prievidza","SK"]
["Rakousko","AT"]
["Ružomberok","SK"]
["SGC Martin","SK"]
["Slovinsko","SI"]
["Trenčín","SK"]
["Trnava","SK"]
["Žilina","SK"]

{"sheet":"Pilot","index":3,"n_rows":876,"n_cols":17,"rows_kept":876,"cut":false,"hidden":false,"merged":[]}
["Jmeno","Rok nar.","Aeroklub","Region","M/F","Junior v roce",2019,"Hranice pro juniory:",{"$f":"G1-25","v":1994},"Počet jun:",{"$f":"COUNTIF(F3:F2042,\"Junior v roce \"&G1)","v":60},"Počet F:",{"$f":"COUNTIF(E3:E2042,\"F\")","v":67},"Počet M:",{"$f":"COUNTIF(E3:E2042,\"M\")","v":807},"Počet celk:",{"$f":"COUNTIF(A3:A2042,\"<>\")","v":874}]
["-"," "," "," "," "," "]
["Adam Jandora",1992,"Medlánky",{"$f":"VLOOKUP(C3,Region,2,0)","v":"CZ/M"},"M",{"$f":"IF(A3=\"(prázdné)\",\"\",IF(($G$1-B3)>25,\"\",\"Junior v roce \"&$G$1))","v":""}]
["Adam Olejar",1991,"Medlánky","CZ/M","M",{"$f":"IF(A4=\"(prázdné)\",\"\",IF(($G$1-B4)>25,\"\",\"Junior v roce \"&$G$1))","v":""}]
["Adam Sostaric",1991,"Chrudim","CZ/C2","M",""]
["Albrecht Beat",1953,"Šumperk","CZ/M","M",""]
["Alena Netusilova",1970,"Zbraslavice","CZ/C1","F",""]
["Ales Cervenka",1981,"Soběslav","CZ/C1","M",""]
["Ales Hajek",1958,"Mladá Boleslav","CZ/C1","M",""]
["Ales Hala",1994,"Tábor","CZ/C1","M","Junior v roce 2019"]
["Ales Holoubek",1966,"Jičín","CZ/C2","M",""]
["Ales Tresl",1958,"Raná","CZ/C2","M",""]
["Ales Vorac",1985,"Křižanov","CZ/M","M",""]
["Ales Vyhnal",1989,"Kralupy","CZ/C1","M",""]
["Alexander Nerandzic",1966,"Raná","CZ/C2","M",""]
["Alois Cmajdalka",1963,"Kunovice","CZ/M","M",""]
["Alois Sohr",1939,"Hranice","CZ/M","M",""]
["Andrea Bensova",1978,"Zbraslavice","CZ/C1","F",""]
["Aneta Prachtova",1991,"Kralupy","CZ/C1","F",""]
["Anna Hajkova",1989,"Mladá Boleslav","CZ/C1","F",""]
["Antonin Bordovsky",1951,"Krnov","CZ/M","M",""]
["Antonin Bruna",1945,"GAC Benešov","CZ/C1","M",""]
["Antonin Burger",1943,"Panenský Týnec","CZ/C1","M",""]
["Antonin Konicek",1973,"Kunovice","CZ/M","M",""]
["Antonin Kutalek",1943,"Zábřeh","CZ/M","M",""]
["Antonin Novotny",1972,"Luhačovice","CZ/M","M",""]
["Antonin Otrusina",1948,"Křižanov","CZ/M","M",""]
["Antonin Pilat",1971,"Vyškov","CZ/M","M",""]
["Antonin Teichmann",1965,"Hronov","CZ/C2","M",""]
["Barbora Kubickova",1993,"Medlánky","CZ/M","F",""]
["Barbora Moravcova",1994,"Zbraslavice","CZ/C1","F","Junior v roce 2019"]
["Barbora Nahodilova",1989,"Hosín","CZ/C1","F",""]
["Bedrich Honzicek",1972,"Letňany",{"$f":"VLOOKUP(C33,Region,2,0)","v":"CZ/C1"},"M",{"$f":"IF(A33=\"(prázdné)\",\"\",IF(($G$1-B33)>25,\"\",\"Junior v roce \"&$G$1))","v":""}]
["Bedrich Prochazka",1957,"Rakovník","CZ/C1","M",""]
["Bohdan Sebestik",1957,"Kroměříž","CZ/M","M",""]
["Bohumil Kunc",1983,"Kunovice","CZ/M","M",""]
["Bohumil Rikal",1946,"Hronov","CZ/C2","M",""]
["Bohumil Svec",1985,"Roudnice","CZ/C2","M",""]
["Bohumir Zajdl",1950,"Dvůr Králové","CZ/C2","M",""]
["Bohus Marcinik",1947,"Příbram","CZ/C1","M",""]
["Boris Bachraty",1974,"Břeclav","CZ/M","M",""]
["Bronislav Smatana",1970,"Zbraslavice","CZ/C1","M",""]
["Carsten Tietz",1966,"Hronov",{"$f":"VLOOKUP(C43,Region,2,0)","v":"CZ/C2"},"M",{"$f":"IF(A43=\"(prázdné)\",\"\",IF(($G$1-B43)>25,\"\",\"Junior v roce \"&$G$1))","v":""}]
["Dalibor Daricek",1993,"Kunovice","CZ/M","M",""]
["Dalibor Fencl",1966,"Zbraslavice","CZ/C1","M",""]
["Dalibor Pek",1968,"Raná","CZ/C2","M",""]
["Dana Novakova",1965,"Mladá Boleslav","CZ/C1","F",""]
["Danes Grula",1961,"Medlánky","CZ/M","M",""]
["Daniel Adamec",1977,"Hranice","CZ/M","M",""]
["Daniel Brichta",1962,"GAC Benešov",{"$f":"VLOOKUP(C50,Region,2,0)","v":"CZ/C1"},"M",{"$f":"IF(A50=\"(prázdné)\",\"\",IF(($G$1-B50)>25,\"\",\"Junior v roce \"&$G$1))","v":""}]
["Daniel Dvorak",1980,"Letkov","CZ/C1","M",""]
["Daniel Krasnicky",1984,"Příbram","CZ/C1","M",""]
["Daniel Moravek",1973,"Hodkovice","CZ/C2","M",""]
["Daniel Novak",1971,"Letkov","CZ/C1","M",""]
["Daniel Ryba",1994,"Dvůr Králové","CZ/C2","M","Junior v roce 2019"]
["Daniel Suchy",1995,"Hranice","CZ/M","M","Junior v roce 2019"]
["Daniela Frankova",1997,"Hořice","CZ/C2","M","Junior v roce 2019"]
["Daniela Stepankova",1988,"Hosín","CZ/C1","F",""]
["David Cisar",1987,"Křižanov","CZ/M","M",""]
["David Londa",1973,"Mladá Boleslav","CZ/C1","M",""]
["David Mach",1994,"Hronov","CZ/C2","M","Junior v roce 2019"]
["David Marek",1991,"Křižanov","CZ/M","M",""]
["David Novotny",1984,"Polička","CZ/C2","M",""]
["David Popovsky",1976,"Rakovník","CZ/C1","M",""]
["David Prihoda",1994,"Hranice","CZ/M","M","Junior v roce 2019"]
["David Rozporka",1994,"Hronov","CZ/C2","M","Junior v roce 2019"]
["David Rytina",1983,"Zbraslavice","CZ/C1","M",""]
["David Riha",1983,"Vlašim","CZ/C1","M",""]
["David Sachl",1978,"Kralupy","CZ/C1","M",""]
["David Tejnora",1982,"Kolín","CZ/C1","M",""]
["David Trnecka",1979,"Medlánky","CZ/M","M",""]
["David Vrchota",1976,"Jaroměř",{"$f":"VLOOKUP(C72,Region,2,0)","v":"CZ/C2"},"M",{"$f":"IF(A72=\"(prázdné)\",\"\",IF(($G$1-B72)>25,\"\",\"Junior v roce \"&$G$1))","v":""}]
["David Zapletal",1970,"Mladá Boleslav","CZ/C1","M",{"$f":"IF(A73=\"(prázdné)\",\"\",IF(($G$1-B73)>25,\"\",\"Junior v roce \"&$G$1))","v":""}]
["David Zatecka",1993,"GAC Benešov",{"$f":"VLOOKUP(C74,Region,2,0)","v":"CZ/C1"},"M",""]
["Dusan Gadas",1960,"Hranice","CZ/M","M",""]
["Dusan Kmet",1972,"Křižanov","CZ/M","M",""]
["Dusan Sys",1977,"Šumperk","CZ/M","M",""]
["Dusan Zerzan",1970,"Šumperk","CZ/M","M",""]
["Eduard Svoboda",1957,"Raná","CZ/C2","M",""]
["Eva Cerna",1964,"Příbram","CZ/C1","F",""]
["Evzen Skala",1954,"Vrchlabí","CZ/C2","M",""]
["Filip Graf",1981,"Křižanov","CZ/M","M",""]
["Filip Neumann",1977,"GAC Benešov","CZ/C1","M",""]
["Filip Sklenar",1990,"Žamberk","CZ/C2","M",""]
["Filip sirc",1993,"Letňany","CZ/C1","M",""]
["Filip Vita",2001,"Kroměříž","CZ/M","M","Junior v roce 2019"]
["Frantisek Brozman",1960,"Tachov","CZ/C1","M",""]
["Frantisek Filandr",1956,"Most","CZ/C2","M",""]
["Frantisek Hubacek",1978,"Točná","CZ/C1","M",""]
["Frantisek Komarek",1985,"Zbraslavice","CZ/C1","M",""]
["Frantisek Kriz",1961,"Toužim","CZ/C1","M",""]
["Frantisek Marek",1960,"Křižanov","CZ/M","M",""]
["Frantisek Matousek",1937,"Nové Město nad Metují","CZ/C2","M",""]
["Frantisek Myska",1968,"Most","CZ/C2","M",""]
["Frantisek Pycha",1972,"Chrudim","CZ/C2","M",""]
["Frantisek Soucek",1945,"Dvůr Králové","CZ/C2","M",""]
["Frantisek Sindelar",1954,"Kralupy","CZ/C1","M",""]
["Frantisek Vancura",1966,"Hranice","CZ/M","M",""]
["Gabriela Cervena",1966,"Jaroměř","CZ/C2","F",""]
["Gustav Vrbacky",1933,"Medlánky","CZ/M","M",""]
["Hana Treslova",1991,"Raná","CZ/C2","F",""]
["Hana Vokrinkova",1958,"Hodkovice","CZ/C2","F",""]
["Hynek Pokorny",1991,"Letňany","CZ/C1","M",""]
["Christof Madory",1958,"Šumperk","CZ/M","M",""]
["Ilja Kopacek",1943,"Jičín",{"$f":"VLOOKUP(C105,Region,2,0)","v":"CZ/C2"},"M",{"$f":"IF(A105=\"(prázdné)\",\"\",IF(($G$1-B105)>25,\"\",\"Junior v roce \"&$G$1))","v":""}]
["Ivan Filakovsky",1965,"Medlánky","CZ/M","M",""]
["Ivan Harasta 65",1965,"Toužim","CZ/C1","M",""]
["Ivan Harasta 98",1998,"Toužim","CZ/C1","M","Junior v roce 2019"]
["Ivan Kuzelka",1945,"Havlíčkův Brod","CZ/C2","M",""]
["Ivan Ladr",1940,"Dvůr Králové","CZ/C2","M",""]
["Ivan Novak",1962,"Mladá Boleslav","CZ/C1","M",""]
["Ivan Tvrdik",1997,"Letňany","CZ/C1","M","Junior v roce 2019"]
["Ivo Burda",1962,"Zbraslavice","CZ/C1","M",""]
["Ivo Nezval",1964,"Šumperk","CZ/M","M",""]
["Ivo Vudarcik",1994,"Rakovník","CZ/C1","M","Junior v roce 2019"]
["Jacek Kerum",1943,"Příbram","CZ/C1","M",""]
["Jakub Brotanek",1985,"Roudnice","CZ/C2","M",""]
["Jakub Hlavacek",1991,"Letkov","CZ/C1","M",""]
["Jakub Kmosek",1978,"Zbraslavice","CZ/C1","M",""]
["Jakub Kohn",1992,"Prostějov","CZ/M","M",""]
["Jakub Malik",1999,"Letňany","CZ/C1","M","Junior v roce 2019"]
["Jakub Michalicka",1993,"Rakovník","CZ/C1","M",""]
["Jakub Tiller",1987,"Broumov","CZ/C2","M",""]
["Jakub Vimr",1975,"GAC Benešov","CZ/C1","M",""]
["Jan Belina",1979,"Hořice","CZ/C2","M",""]
["Jan Beran",1999,"Kladno",{"$f":"VLOOKUP(C126,Region,2,0)","v":"CZ/C1"},"M","Junior v roce 2019"]
["Jan Beranek",1976,"Jihlava","CZ/M","M",""]
["Jan Boruvka",1984,"Jičín","CZ/C2","M",""]
["Jan Cerveny",1984,"Jaroměř","CZ/C2","M",""]
["Jan Dersak 69",1969,"Kralupy","CZ/C1","M",""]
["Jan Dersak 92",1992,"Kralupy","CZ/C1","M",""]
["Jan Drahota",1988,"Rakovník","CZ/C1","M",""]
["Jan Florian",1992,"Zbraslavice","CZ/C1","M",""]
["Jan Habermann",1975,"Vlašim",{"$f":"VLOOKUP(C134,Region,2,0)","v":"CZ/C1"},"M",{"$f":"IF(A134=\"(prázdné)\",\"\",IF(($G$1-B134)>25,\"\",\"Junior v roce \"&$G$1))","v":""}]
["Jan Hejret",1976,"Jaroměř","CZ/C2","M",""]
["Jan Hlavacek",1965,"Rakovník","CZ/C1","M",""]
["Jan Horak",1971,"Zbraslavice","CZ/C1","M",""]
["Jan Horky",1968,"Medlánky","CZ/M","M",""]
["Jan Hrbatsch",1989,"Hodkovice","CZ/C2","M",""]
["Jan Hruska",1988,"Tábor","CZ/C1","M",{"$f":"IF(A140=\"(prázdné)\",\"\",IF(($G$1-B140)>25,\"\",\"Junior v roce \"&$G$1))","v":""}]
["Jan Hybner",1977,"Liberec",{"$f":"VLOOKUP(C141,Region,2,0)","v":"CZ/C2"},"M",""]
["Jan Jicha",1984,"Podhořany","CZ/C2","M",""]
["Jan Jindra",1981,"Roudnice","CZ/C2","M",""]
["Jan Kantor",1983,"Letňany","CZ/C1","M",""]
["Jan Kapralek",1991,"Kladno","CZ/C1","M",""]
["Jan Kohout",1970,"Žamberk","CZ/C2","M",""]
["Jan Konecny",1972,"Rakovník","CZ/C1","M",""]
["Jan Kostka",1996,"Kladno","CZ/C1","M","Junior v roce 2019"]
["Jan Kotan",1982,"Letňany","CZ/C1","M",""]
["Jan Kralik",1991,"Letkov","CZ/C1","M",""]
["Jan Kristof",1962,"Frýdlant","CZ/M","M",""]
["Jan Kulistak",1990,"Kunovice","CZ/M","M",""]
["Jan Lancdorf",1988,"Panenský Týnec","CZ/C1","M",""]
["Jan Louda",1986,"Mladá Boleslav","CZ/C1","M",""]
["Jan Mareth",1979,"Frýdlant","CZ/M","M",""]
["Jan Masek",1977,"Kladno","CZ/C1","M",""]
["Jan Matejovsky",1972,"Hranice","CZ/M","M",""]
["Jan Merta",1952,"Šumperk","CZ/M","M",""]
["Jan Moravec",1979,"Zábřeh","CZ/M","M",""]
["Jan Obrucnik",1991,"Kralupy","CZ/C1","M",""]
["Jan Oscatka",1990,"Jaroměř",{"$f":"VLOOKUP(C161,Region,2,0)","v":"CZ/C2"},"M",{"$f":"IF(A161=\"(prázdné)\",\"\",IF(($G$1-B161)>25,\"\",\"Junior v roce \"&$G$1))","v":""}]
["Jan Otrusina",1976,"Křižanov","CZ/M","M",""]
["Jan Ourada",1978,"Točná","CZ/C1","M",""]
["Jan Pavlik",1987,"Křižanov","CZ/M","M",""]
["Jan Platenik",1981,"Krnov","CZ/M","M",""]
["Jan Podhrazsky",1976,"Šumperk","CZ/M","M",""]
["Jan Pokluda",1973,"Šumperk","CZ/M","M",""]
["Jan Pubec",1979,"Plzeň Bory","CZ/C1","M",""]
["Jan Ratz",1987,"Plasy","CZ/C1","M",""]
["Jan Rensa",1980,"Polička","CZ/C2","M",""]
["Jan Rolinek",1973,"Luhačovice","CZ/M","M",""]
["Jan Rott",1962,"Plasy","CZ/C1","M",""]
["Jan Repka",1959,"Liberec","CZ/C2","M",""]
["Jan Seifert",1948,"Raná","CZ/C2","M",""]
["Jan Simon",1970,"Kralupy","CZ/C1","M",""]
["Jan Sindelar",1946,"Kunovice","CZ/M","M",""]
["Jan Smaha",1958,"Česká Lípa","CZ/C2","M",""]
["Jan Sponer",1988,"Medlánky","CZ/M","M",""]
["Jan Stepan",1991,"Hronov","CZ/C2","M",""]
["Jan Sustr 76",1976,"Raná","CZ/C2","M",""]
["Jan Sustr 77",1977,"Staňkov","CZ/C1","M",""]
["Jan Svarc",1977,"Raná","CZ/C2","M",""]
["Jan Terrich",1978,"Liberec","CZ/C2","M",""]
["Jan Tomasek",1970,"Dvůr Králové","CZ/C2","M",""]
["Jan Turek",1987,"Toužim","CZ/C1","M",""]
["Jan Vavrin",1987,"Vysoké Mýto","CZ/C2","M",""]
["Jan Viskot",1995,"Břeclav","CZ/M","M","Junior v roce 2019"]
["Jan Vozeh",1995,"Rakovník","CZ/C1","M","Junior v roce 2019"]
["Jan Zahradka",1981,"Hodkovice","CZ/C2","M",""]
["Jan Zapletal",1997,"Kroměříž","CZ/M","M","Junior v roce 2019"]
["Jan Zdvorak",1980,"Roudnice","CZ/C2","M",""]
["Jan Zezula",1979,"Letňany","CZ/C1","M",""]
["Jan Zona",1965,"Kroměříž","CZ/M","M",""]
["Jan Zanda",1983,"Letkov","CZ/C1","M",""]
["Jana Dvorakova",1953,"Raná","CZ/C2","F",""]
["Jana Kantorova",1980,"Hosín","CZ/C1","F",""]
["Jana Krejcova",1972,"Křižanov","CZ/M","F",""]
["Jana Mezerova",1975,"Raná","CZ/C2","F",""]
["Jana Treslova",1963,"Raná","CZ/C2","F",""]
["Jana Veprekova",1961,"Dvůr Králové","CZ/C2","F",""]
["Jarmila Zatykova",1959,"Kralupy","CZ/C1","F",""]
["Jaromir Hammer",1965,"Křižanov","CZ/M","M",""]
["Jaromir Hendrych",1954,"Raná","CZ/C2","M",""]
["Jaromir Jedlicka",1972,"Letňany","CZ/C1","M",""]
["Jaromir Macoun",1999,"Jičín","CZ/C2","M",{"$f":"IF(A205=\"(prázdné)\",\"\",IF(($G$1-B205)>25,\"\",\"Junior v roce \"&$G$1))","v":"Junior v roce 2019"}]
["Jaromir Pauer",1974,"Hosín",{"$f":"VLOOKUP(C206,Region,2,0)","v":"CZ/C1"},"M",""]
["Jaromir Prokes",1984,"Tábor","CZ/C1","M",""]
["Jaromir Vlk",1959,"Šumperk","CZ/M","M",""]
["Jaroslav Bocek",1962,"Turnov","CZ/C2","M",""]
["Jaroslav Buryan",1953,"Zábřeh","CZ/M","M",""]
["Jaroslav Cempirek 51",1951,"Jindřichův Hradec","CZ/C1","M",""]
["Jaroslav Cempirek 77",1977,"Jihlava",{"$f":"VLOOKUP(C212,Region,2,0)","v":"CZ/M"},"M",{"$f":"IF(A212=\"(prázdné)\",\"\",IF(($G$1-B212)>25,\"\",\"Junior v roce \"&$G$1))","v":""}]
["Jaroslav Cejka",1952,"Letkov","CZ/C1","M",""]
["Jaroslav Deml",1986,"Hořice","CZ/C2","M",""]
["Jaroslav Florian",1977,"Medlánky","CZ/M","M",""]
["Jaroslav Hendrych",1946,"Příbram","CZ/C1","M",""]
["Jaroslav Hot",1965,"Toužim","CZ/C1","M",""]
["Jaroslav Juracka",1971,"Křižanov","CZ/M","M",""]
["Jaroslav Kacer",1978,"Raná","CZ/C2","M",""]
["Jaroslav Kares",1962,"Olomouc","CZ/M","M",""]
["Jaroslav Marek",1938,"Luhačovice","CZ/M","M",""]
["Jaroslav Nedorost",1986,"Letňany",{"$f":"VLOOKUP(C222,Region,2,0)","v":"CZ/C1"},"M",{"$f":"IF(A222=\"(prázdné)\",\"\",IF(($G$1-B222)>25,\"\",\"Junior v roce \"&$G$1))","v":""}]
["Jaroslav Palicka",1992,"Frýdlant","CZ/M","M",""]
["Jaroslav Petrasek",1976,"Jičín","CZ/C2","M",""]
["Jaroslav Potmesil",1964,"Zbraslavice","CZ/C1","M",""]
["Jaroslav Rapac",1977,"Dvůr Králové","CZ/C2","M",""]
["Jaroslav Szakal",1955,"Jaroměř","CZ/C2","M",""]
["Jaroslav Sima",1972,"Chomutov","CZ/C2","M",""]
["Jaroslav Simek",1968,"Letkov","CZ/C1","M",""]
["Jaroslav Tomana",1975,"Zbraslavice","CZ/C1","M",""]
["Jaroslav Tyls",1941,"Hronov","CZ/C2","M",""]
["Jaroslav Zavrel",1971,"Medlánky","CZ/M","M",""]
["Jindrich Hala",1989,"Rakovník","CZ/C1","M",""]
["Jindrich Hruska",1986,"Soběslav","CZ/C1","M",""]
["Jindrich Svorc",1978,"Letňany","CZ/C1","M",""]
["Jindriska Sloukova",1973,"Medlánky","CZ/M","F",""]
["Jirka Rybar",1958,"Hodkovice","CZ/C2","M",""]
["Jiri Bastl",1944,"Turnov","CZ/C2","M",""]
["Jiri Bojko",1959,"Krnov","CZ/M","M",""]
["Jiri Cincera",1966,"Toužim","CZ/C1","M",""]
["Jiri Dockal",1982,"Letňany","CZ/C1","M",""]
["Jiri Donat",1983,"Chrudim","CZ/C2","M",""]
["Jiri Fousek",1990,"Raná","CZ/C2","M",""]
["Jiri Hendrych",1943,"Točná","CZ/C1","M",""]
["Jiri Hodan",1959,"Zbraslavice","CZ/C1","M",""]
["Jiri Holcman",1976,"Hosín","CZ/C1","M",""]
["Jiri Horak",1971,"Kladno","CZ/C1","M",""]
["Jiri Hula",1973,"Slaný","CZ/C1","M",""]
["Jiri Janda",1966,"Letňany","CZ/C1","M",""]
["Jiri Klicnar",1965,"Medlánky","CZ/M","M",""]
["Jiri Kobik",1952,"Hořice","CZ/C2","M",""]
["Jiri Kokrment",1950,"Frýdlant","CZ/M","M",""]
["Jiri Koudela",1974,"Vyškov","CZ/M","M",""]
["Jiri Krticka",1965,"Jaroměř","CZ/C2","M",""]
["Jiri Krzanowski",1944,"Letkov","CZ/C1","M",""]
["Jiri Kupec",1960,"Medlánky","CZ/M","M",""]
["Jiri Kusbach",1959,"Luhačovice","CZ/M","M",""]
["Jiri Kyslik",1968,"Česká Lípa","CZ/C2","M",""]
["Jiri Lenik",1947,"Raná","CZ/C2","M",""]
["Jiri Maier 66",1966,"Raná","CZ/C2","M",""]
["Jiri Maier 99",1999,"Raná","CZ/C2","M","Junior v roce 2019"]
["Jiri Mlejnek",1984,"Mladá Boleslav","CZ/C1","M",""]
["Jiri Obst",1964,"Vrchlabí","CZ/C2","M",""]
["Jiri Pajer",1977,"Zbraslavice","CZ/C1","M",""]
["Jiri Pelucha",1984,"Frýdlant","CZ/M","M",""]
["Jiri Pesta",1973,"Dvůr Králové","CZ/C2","M",""]
["Jiri Peterka",1951,"Křižanov",{"$f":"VLOOKUP(C267,Region,2,0)","v":"CZ/M"},"M",{"$f":"IF(A267=\"(prázdné)\",\"\",IF(($G$1-B267)>25,\"\",\"Junior v roce \"&$G$1))","v":""}]
["Jiri Piskaty",1962,"Kunovice","CZ/M","M",""]
["Jiri Pixa",1968,"Slaný","CZ/C1","M",""]
["Jiri Prochazka",1971,"Toužim","CZ/C1","M",""]
["Jiri Prucha",1963,"Chomutov","CZ/C2","M",""]
["Jiri Slouka",1967,"Medlánky","CZ/M","M",{"$f":"IF(A272=\"(prázdné)\",\"\",IF(($G$1-B272)>25,\"\",\"Junior v roce \"&$G$1))","v":""}]
["Jiri Sohr",1960,"Šumperk",{"$f":"VLOOKUP(C273,Region,2,0)","v":"CZ/M"},"M",""]
["Jiri Steiger",1969,"Olomouc","CZ/M","M",""]
["Jiri Suchomel",1950,"Broumov",{"$f":"VLOOKUP(C275,Region,2,0)","v":"CZ/C2"},"M",{"$f":"IF(A275=\"(prázdné)\",\"\",IF(($G$1-B275)>25,\"\",\"Junior v roce \"&$G$1))","v":""}]
["Jiri Slemr",1979,"Vysoké Mýto","CZ/C2","M",""]
["Jiri Stepanek",1956,"Moravská Třebová","CZ/M","M",""]
["Jiri Tomicek",1947,"Dvůr Králové","CZ/C2","M",""]
["Jiri Valentr",1947,"Rakovník","CZ/C1","M",""]
["Jiri Vavrina",1958,"Kyjov","CZ/M","M",""]
["Jiri Vokrinek",1965,"Hodkovice","CZ/C2","M",""]
["Jiri Vondracek",1989,"Kladno","CZ/C1","M",""]
["Jiri Zablatzky",1978,"Hranice","CZ/M","M",""]
["Jitka Hromkova",1985,"Šumperk","CZ/M","F",""]
["Jitka Skalova",1955,"Zbraslavice","CZ/C1","F",""]
["Jitka Zimova",1981,"Hodkovice","CZ/C2","F",""]
["Josef Andrasovsky",1954,"Jaroměř","CZ/C2","M",""]
["Josef Bacina",1976,"Vysoké Mýto","CZ/C2","M",""]
["Josef Barta",1977,"Vysoké Mýto","CZ/C2","M",""]
["Josef Bostik",1963,"GAC Benešov","CZ/C1","M",""]
["Josef Busek",1967,"Hosín","CZ/C1","M",""]
["Josef Hlusek",1993,"Kunovice","CZ/M","M",""]
["Josef Kolman",1983,"Letňany","CZ/C1","M",""]
["Josef Krejsa",1938,"Hranice","CZ/M","M",""]
["Josef Kreutzer",1992,"Letkov","CZ/C1","M",""]
["Josef Linhart",1972,"Medlánky","CZ/M","M",""]
["Josef Macicek",1949,"Frýdlant","CZ/M","M",""]
["Josef Mezera",1951,"Raná","CZ/C2","M",""]
["Josef Novak",1981,"Kunovice","CZ/M","M",""]
["Josef Novotny",1983,"Přibyslav","CZ/C2","M",""]
["Josef Plechac",1942,"Hronov","CZ/C2","M",""]
["Josef Rydl",1940,"Turnov","CZ/C2","M",""]
["Josef Sedlacek",1968,"Zbraslavice","CZ/C1","M",""]
["Jozef Hartinger",1987,"Medlánky","CZ/M","M",""]
["Jurij Sikorsky",1975,"Hodkovice","CZ/C2","M",""]
["Kamil Novak",1970,"Jaroměř","CZ/C2","M",""]
["Kamil Sohr",1973,"Šumperk","CZ/M","M",""]
["Karel Balatka",1965,"Liberec","CZ/C2","M",""]
["Karel Benes",1980,"Polička","CZ/C2","M",""]
["Karel Benisek 48",1948,"Toužim","CZ/C1","M",""]
["Karel Benisek 76",1976,"Toužim","CZ/C1","M",""]
["Karel Cerny",1943,"Beroun","CZ/C1","M",""]
["Karel Elsnic",1974,"Křižanov","CZ/M","M",""]
["Karel Ertl",1939,"LK Břeclav","CZ/M","M",""]
["Karel Grotz",1934,"Toužim","CZ/C1","M",""]
["Karel Horalek",1976,"Olomouc",{"$f":"VLOOKUP(C316,Region,2,0)","v":"CZ/M"},"M",{"$f":"IF(A316=\"(prázdné)\",\"\",IF(($G$1-B316)>25,\"\",\"Junior v roce \"&$G$1))","v":""}]
["Karel Knotek",1961,"Soběslav","CZ/C1","M",""]
["Karel Kolomaznik",1955,"Šumperk","CZ/M","M",""]
["Karel Kotlan",1957,"Medlánky","CZ/M","M",""]
["Karel Lang",1967,"Medlánky","CZ/M","M",""]
["Karel Mares",1974,"Slaný","CZ/C1","M",""]
["Karel Minarik",1965,"Hranice","CZ/M","M",""]
["Karel Novak",1993,"Mladá Boleslav","CZ/C1","M",""]
["Karel Policky",1950,"Kolín","CZ/C1","M",""]
["Karel Stach",1963,"Letňany","CZ/C1","M",""]
["Karel Toman",1976,"Letňany","CZ/C1","M",""]
["Karel Vagenknecht",1960,"Šumperk","CZ/M","M",""]
["Karel Vladar",1972,"Hodkovice","CZ/C2","M",""]
["Katerina Dvorakova",1984,"Most","CZ/C2","F",""]
["Katerina Kardosova",1988,"Kunovice","CZ/M","F",""]
["Katerina Vojtova",1983,"Slaný","CZ/C1","F",""]
["Klara Teichmannova",1993,"Hronov","CZ/C2","F",""]
["Kristina Santruckova",1996,"Podhořany",{"$f":"VLOOKUP(C333,Region,2,0)","v":"CZ/C2"},"F",{"$f":"IF(A333=\"(prázdné)\",\"\",IF(($G$1-B333)>25,\"\",\"Junior v roce \"&$G$1))","v":"Junior v roce 2019"}]
["Krystof Mimra",1992,"Most",{"$f":"VLOOKUP(C334,Region,2,0)","v":"CZ/C2"},"M",{"$f":"IF(A334=\"(prázdné)\",\"\",IF(($G$1-B334)>25,\"\",\"Junior v roce \"&$G$1))","v":""}]
["Krystof Urban",1999,"Jindřichův Hradec","CZ/C1","M","Junior v roce 2019"]
["Ladislav Berger",1970,"Kralupy","CZ/C1","M",""]
["Ladislav Durnik",1974,"Kunovice","CZ/M","M",""]
["Ladislav Hybl",1955,"Šumperk","CZ/M","M",""]
["Ladislav Jozsa",1981,"Medlánky","CZ/M","M",""]
["Ladislav Krecbach",1985,"Jaroměř","CZ/C2","M",{"$f":"IF(A340=\"(prázdné)\",\"\",IF(($G$1-B340)>25,\"\",\"Junior v roce \"&$G$1))","v":""}]
["Ladislav Krizek",1982,"Šumperk",{"$f":"VLOOKUP(C341,Region,2,0)","v":"CZ/M"},"M",""]
["Ladislav Prokes",1954,"Vrchlabí",{"$f":"VLOOKUP(C342,Region,2,0)","v":"CZ/C2"},"M",{"$f":"IF(A342=\"(prázdné)\",\"\",IF(($G$1-B342)>25,\"\",\"Junior v roce \"&$G$1))","v":""}]
["Ladislav Valenta",1961,"Žamberk","CZ/C2","M",""]
["Ladislav Vratny",1959,"Jaroměř","CZ/C2","M",""]
["Lenka Hajkova",1982,"Raná","CZ/C2","F",""]
["Lenka Kuthanova",1960,"LK Břeclav","CZ/M","F",""]
["Lenka Stovickova",1963,"Hořice","CZ/C2","F",""]
["Leos Strnadek",1983,"Hodkovice","CZ/C2","M",""]
["Libor Bednarik",1972,"Kunovice","CZ/M","M",""]
["Libor Danhel",1966,"Kunovice","CZ/M","M",""]
["Libor Hyps",1988,"Chrudim","CZ/C2","M",""]
["Libor Kovarik",1966,"Hosín","CZ/C1","M",""]
["Linda Vasatova",1990,"Mladá Boleslav","CZ/C1","F",""]
["Lubomir Doupal",1975,"Krnov","CZ/M","M",""]
["Lubomir Motl",1959,"Kyjov","CZ/M","M",""]
["Lubomir Papezik",1951,"Luhačovice","CZ/M","M",""]
["Lubomir Svoboda",1959,"Letkov","CZ/C1","M",""]
["Lubomir Vrba",1955,"Toužim","CZ/C1","M",""]
["Lubor Sobek",1979,"Frýdlant","CZ/M","M",""]
["Lubor Vyhlid",1972,"Kroměříž","CZ/M","M",""]
["Lubor Zeleny",1957,"Přibyslav","CZ/C2","M",""]
["Lubos Florian",1966,"Jičín",{"$f":"VLOOKUP(C362,Region,2,0)","v":"CZ/C2"},"M",{"$f":"IF(A362=\"(prázdné)\",\"\",IF(($G$1-B362)>25,\"\",\"Junior v roce \"&$G$1))","v":""}]
["Lubos Kunc 56",1956,"Dvůr Králové","CZ/C2","M",""]
["Lubos Kunc 85",1985,"Vrchlabí","CZ/C2","M",""]
["Lubos Stiburek",1954,"Raná","CZ/C2","M",""]
["Lubos Svoboda",1959,"Letkov","CZ/C1","M",""]
["Ludek Kluger",1963,"Tábor","CZ/C1","M",""]
["Ludek Mikl",1963,"Kroměříž",{"$f":"VLOOKUP(C368,Region,2,0)","v":"CZ/M"},"M",{"$f":"IF(A368=\"(prázdné)\",\"\",IF(($G$1-B368)>25,\"\",\"Junior v roce \"&$G$1))","v":""}]
["Ludek Souhrada",1974,"Raná","CZ/C2","M",""]
["Lukas Capek",1992,"Letňany","CZ/C1","M",""]
["Lukas Fiala",1976,"Kralupy","CZ/C1","M",""]
["Lukas Fronek",1989,"Kyjov",{"$f":"VLOOKUP(C372,Region,2,0)","v":"CZ/M"},"M",{"$f":"IF(A372=\"(prázdné)\",\"\",IF(($G$1-B372)>25,\"\",\"Junior v roce \"&$G$1))","v":""}]
["Lukas Hynek",1979,"Dvůr Králové","CZ/C2","M",""]
["Lukas Jezek",1975,"Jičín","CZ/C2","M",""]
["Lukas Kotek",1994,"Frýdlant","CZ/M","M","Junior v roce 2019"]
["Lukas Koukal",1991,"Letkov","CZ/C1","M",""]
["Lukas Maly",1998,"Vysoké Mýto","CZ/C2","M","Junior v roce 2019"]
["Lukas Petrzela",1987,"Olomouc",{"$f":"VLOOKUP(C378,Region,2,0)","v":"CZ/M"},"M",{"$f":"IF(A378=\"(prázdné)\",\"\",IF(($G$1-B378)>25,\"\",\"Junior v roce \"&$G$1))","v":""}]
["Lukas Plocek",1990,"Mladá Boleslav","CZ/C1","M",""]
["Lukas Popelka",1977,"Polička","CZ/C2","M",""]
["Lukas Zemek",1994,"Letkov",{"$f":"VLOOKUP(C381,Region,2,0)","v":"CZ/C1"},"M","Junior v roce 2019"]
["Lumir Motyka",1955,"Frýdlant","CZ/M","M",""]
["Marcel Skarohlid",1972,"Hodkovice","CZ/C2","M",""]
["Marek Blatak",1969,"Šumperk","CZ/M","M",""]
["Marek Csukas",1982,"Podhořany","CZ/C2","M",""]
["Marek Cacky",1971,"Kladno","CZ/C1","M",""]
["Marek Cerveny",1989,"Jaroměř","CZ/C2","M",""]
["Marek Kornec",1957,"Dvůr Králové","CZ/C2","M",""]
["Marek Malinsky",1985,"Chrudim","CZ/C2","M",""]
["Marek Novy",1973,"Roudnice","CZ/C2","M",""]
["Marek Pechanec",1970,"Luhačovice","CZ/M","M",""]
["Marek Pechar",1995,"Chrudim","CZ/C2","M","Junior v roce 2019"]
["Marek Seitl",1995,"Dvůr Králové","CZ/C2","M","Junior v roce 2019"]
["Marek Sild",1976,"Kunovice","CZ/M","M",""]
["Marek Svancara",1976,"GAC Benešov","CZ/C1","M",""]
["Marek Vinar",1976,"Letňany","CZ/C1","M",""]
["Martin Balik",1982,"Kralupy","CZ/C1","M",""]
["Martin Cicvarek",1966,"Liberec","CZ/C2","M",""]
["Martin Donek",1976,"Beroun","CZ/C1","M",""]
["Martin Dundr",1968,"Hořice","CZ/C2","M",""]
["Martin Ficnar",1971,"Šumperk","CZ/M","M",""]
["Martin Fric",1967,"Raná","CZ/C2","M",""]
["Martin Gedeon",1989,"Letkov","CZ/C1","M",""]
["Martin Grmela",1989,"Zbraslavice",{"$f":"VLOOKUP(C404,Region,2,0)","v":"CZ/C1"},"M",{"$f":"IF(A404=\"(prázdné)\",\"\",IF(($G$1-B404)>25,\"\",\"Junior v roce \"&$G$1))","v":""}]
["Martin Hejny",1984,"Šumperk","CZ/M","M",""]
["Martin Holik",1959,"Letňany","CZ/C1","M",""]
["Martin Horacek",1985,"Dvůr Králové","CZ/C2","M",""]
["Martin Hrivna",1978,"Zbraslavice","CZ/C1","M",""]
["Martin Chovan",1973,"Zbraslavice","CZ/C1","M",""]
["Martin Janousek",1985,"Turnov","CZ/C2","M",""]
["Martin Koci",1975,"Ústí nad Orlicí","CZ/C2","M",{"$f":"IF(A411=\"(prázdné)\",\"\",IF(($G$1-B411)>25,\"\",\"Junior v roce \"&$G$1))","v":""}]
["Martin Kozina",1970,"Křižanov",{"$f":"VLOOKUP(C412,Region,2,0)","v":"CZ/M"},"M",{"$f":"IF(A412=\"(prázdné)\",\"\",IF(($G$1-B412)>25,\"\",\"Junior v roce \"&$G$1))","v":""}]
["Martin Kriz",1968,"Přibyslav",{"$f":"VLOOKUP(C413,Region,2,0)","v":"CZ/C2"},"M",""]
["Martin Krizovic",1971,"Přibyslav","CZ/C2","M",""]
["Martin Liptak",1970,"Toužim","CZ/C1","M",""]
["Martin Marek",1967,"Roudnice","CZ/C2","M",""]
["Martin Marhefka",1975,"Kyjov","CZ/M","M",""]
["Martin Markl",1960,"Kolín","CZ/C1","M",""]
["Martin Molnar",1986,"Šumperk","CZ/M","M",""]
["Martin Nejezchleb",1979,"Plzeň Bory","CZ/C1","M",""]
["Martin Novak",1976,"Slaný","CZ/C1","M",""]
["Martin Pehe",1978,"Soběslav","CZ/C1","M",""]
["Martin Pekar",1973,"Šumperk","CZ/M","M",""]
["Martin Picka",1974,"Letkov","CZ/C1","M",""]
["Martin Piskacek",1991,"Beroun","CZ/C1","M",""]
["Martin Sehnoutka",1970,"Dvůr Králové","CZ/C2","M",""]
["Martin Skala",1985,"Vrchlabí","CZ/C2","M",""]
["Martin Soucek",1975,"Mladá Boleslav","CZ/C1","M",""]
["Martin Suchy",1969,"Hranice","CZ/M","M",""]
["Martin Svacina",1965,"Frýdlant","CZ/M","M",""]
["Martin Svoboda",1989,"Letkov","CZ/C1","M",""]
["Martin Sonka",1978,"Tábor","CZ/C1","M",""]
["Martin Stepanek",1987,"Moravská Třebová","CZ/M","M",""]
["Martin Stepka",1966,"Turnov","CZ/C2","M",""]
["Martin Svarc",1981,"Olomouc","CZ/M","M",""]
["Martin Urban",1971,"Frýdlant","CZ/M","M",""]
["Martin Urner",1974,"Letňany","CZ/C1","M",""]
["Martin Valenta",1969,"Toužim","CZ/C1","M",""]
["Martin Vana",1979,"Mladá Boleslav","CZ/C1","M",""]
["Martin Vnoucek",1972,"Vlašim","CZ/C1","M",""]
["Martin Vondracek",1967,"Hronov","CZ/C2","M",""]
["Martin Vrba",1977,"Toužim","CZ/C1","M",""]
["Martin Vyskocil",1981,"Hodkovice","CZ/C2","M",""]
["Martin Zahalka",1987,"Staňkov","CZ/C1","M",""]
["Martin Zvonicek",1972,"Raná","CZ/C2","M",""]
["Martina Bartonikova",1990,"Luhačovice","CZ/M","F",""]
["Martina Kloubova",1991,"Hodkovice","CZ/C2","F",""]
["Martina Kubatova",1988,"Kyjov","CZ/M","F",""]
["Matej Bartos",1998,"Hodkovice",{"$f":"VLOOKUP(C449,Region,2,0)","v":"CZ/C2"},"M","Junior v roce 2019"]
["Matej Charouz",1993,"Hodkovice","CZ/C2","M",""]
["Matej Jelinek",1999,"Hronov",{"$f":"VLOOKUP(C451,Region,2,0)","v":"CZ/C2"},"M","Junior v roce 2019"]
["Matej Kiss",1990,"Točná","CZ/C1","M",""]
["Matej Krestes",1986,"Slaný","CZ/C1","M",""]
["Matej Plch",1987,"Letkov","CZ/C1","M",""]
["Matej Rendla",2000,"Zbraslavice","CZ/C1","M","Junior v roce 2019"]
["Matej Uhlik",1995,"Letkov","CZ/C1","M","Junior v roce 2019"]
["Matous Schmidt",1981,"Letňany","CZ/C1","M",""]
["Michael Cernes",1997,"Letňany","CZ/C1","M","Junior v roce 2019"]
["Michael Fik",1972,"Strakonice","CZ/C1","M",""]
["Michaela Houskova",1978,"Letkov","CZ/C1","F",""]
["Michaela Rendlova",2004,"Zbraslavice",{"$f":"VLOOKUP(C461,Region,2,0)","v":"CZ/C1"},"F","Junior v roce 2019"]
["Michaela Sirmerova",2000,"Jihlava",{"$f":"VLOOKUP(C462,Region,2,0)","v":"CZ/M"},"F",{"$f":"IF(A462=\"(prázdné)\",\"\",IF(($G$1-B462)>25,\"\",\"Junior v roce \"&$G$1))","v":"Junior v roce 2019"}]
["MIchaela Vlacilikova",1993,"Luhačovice","CZ/M","F",""]
["Michal Budejovsky",1991,"Letkov","CZ/C1","M",""]
["Michal Buryan",1977,"Vysoké Mýto","CZ/C2","M",""]
["Michal Coufal",1999,"Jičín",{"$f":"VLOOKUP(C466,Region,2,0)","v":"CZ/C2"},"M","Junior v roce 2019"]
["Michal Cupak",1991,"Medlánky","CZ/M","M",""]
["Michal Cechmanek",1978,"Luhačovice","CZ/M","M",""]
["Michal Drab",1969,"Letkov","CZ/C1","M",""]
["Michal Dvorak",1986,"Zbraslavice","CZ/C1","M",""]
["Michal Fortik",1976,"Točná","CZ/C1","M",""]
["Michal Hemrle",1974,"Česká Lípa",{"$f":"VLOOKUP(C472,Region,2,0)","v":"CZ/C2"},"M",{"$f":"IF(A472=\"(prázdné)\",\"\",IF(($G$1-B472)>25,\"\",\"Junior v roce \"&$G$1))","v":""}]
["Michal Janda",1972,"Broumov","CZ/C2","M",""]
["Michal Kares",1987,"Ústí nad Orlicí","CZ/C2","M",""]
["Michal Kodousek",1983,"Jaroměř","CZ/C2","M",""]
["Michal Kratochvil",1984,"Slaný","CZ/C1","M",""]
["Michal Krupicka",1975,"Most","CZ/C2","M",""]
["Michal Lesinger",1966,"Moravská Třebová","CZ/M","M",""]
["Michal Linhart",1982,"Vyškov","CZ/M","M",""]
["Michal Maly",1982,"Broumov","CZ/C2","M",""]
["Michal Marek",1982,"Křižanov","CZ/M","M",""]
["Michal Navratil",1985,"Křižanov","CZ/M","M",{"$f":"IF(A482=\"(prázdné)\",\"\",IF(($G$1-B482)>25,\"\",\"Junior v roce \"&$G$1))","v":""}]
["Michal Posluzny",1968,"Medlánky",{"$f":"VLOOKUP(C483,Region,2,0)","v":"CZ/M"},"M",""]
["Michal Rancak",1984,"Mladá Boleslav","CZ/C1","M",""]
["Michal Richter",1983,"Kolín","CZ/C1","M",""]
["Michal Sebek",1998,"Letňany","CZ/C1","M","Junior v roce 2019"]
["Michal Sich",1979,"Mladá Boleslav","CZ/C1","M",""]
["Michal Stastny",1970,"Medlánky","CZ/M","M",""]
["Michal Trylc",1987,"Plasy","CZ/C1","M",""]
["Michal Vopalensky",1974,"Letňany",{"$f":"VLOOKUP(C490,Region,2,0)","v":"CZ/C1"},"M",{"$f":"IF(A490=\"(prázdné)\",\"\",IF(($G$1-B490)>25,\"\",\"Junior v roce \"&$G$1))","v":""}]
["Milada Moudra",1991,"Hodkovice","CZ/C2","F",""]
["Milan Dvorak",1965,"Liberec","CZ/C2","M",""]
["Milan Kuk",1950,"Dvůr Králové","CZ/C2","M",""]
["Milan Meisner",1961,"Dvůr Králové","CZ/C2","M",""]
["Milan Svoboda 34",1934,"Letkov","CZ/C1","M",""]
["Milan Svoboda 80",1980,"Havlíčkův Brod","CZ/C2","M","",null,"Dříve Chotěboř"]
["Milan Svorc",1955,"Podhořany","CZ/C2","M",""]
["Miloslav Cindr",1974,"Ústí nad Orlicí","CZ/C2","M",""]
["Miloslav Cink",1987,"Letkov","CZ/C1","M","",null,"Dříve Letkov"]
["Miloslav Fiser",1974,"Hodkovice","CZ/C2","M",""]
["Miloslav Hulmak",1963,"Hosín","CZ/C1","M",""]
["Miloslav Krch",1988,"Zbraslavice","CZ/C1","M",""]
["Milos Dedera",1956,"Jihlava","CZ/M","M",""]
["Milos Eichler",1964,"Dvůr Králové","CZ/C2","M",""]
["Milos Houha",1954,"Plzeň Bory","CZ/C1","M",""]
["Milos Hrabe",1979,"Letňany","CZ/C1","M",""]
["Milos Matejka",1956,"Beroun","CZ/C1","M",""]
["Milos Pajr",1966,"Jičín","CZ/C2","M",""]
["Milos Pospisil",1952,"Frýdlant","CZ/M","M",""]
["Milos Rejzl",1962,"Klatovy","CZ/C1","M",""]
["Miroslav Burdych",1973,"Nové Město nad Metují","CZ/C2","M",""]
["Miroslav Burian",1969,"Křižanov","CZ/M","M",""]
["Miroslav Cervenka",1980,"Křižanov","CZ/M","M",""]
["Miroslav Filip",1959,"Křižanov","CZ/M","M",""]
["Miroslav Horinek",1976,"Křižanov","CZ/M","M",""]
["Miroslav Jezek",1973,"Žamberk","CZ/C2","M",""]
["Miroslav Koci",1961,"Žamberk","CZ/C2","M",""]
["Miroslav Kudlacek",1986,"Polička",{"$f":"VLOOKUP(C518,Region,2,0)","v":"CZ/C2"},"M",{"$f":"IF(A518=\"(prázdné)\",\"\",IF(($G$1-B518)>25,\"\",\"Junior v roce \"&$G$1))","v":""}]
["Miroslav Macik",1983,"Rakovník","CZ/C1","M",""]
["Miroslav Major",1968,"GAC Benešov","CZ/C1","M",""]
["Miroslav Mancik",1976,"Kyjov","CZ/M","M",""]
["Miroslav Odlozilik",1973,"Křižanov","CZ/M","M",""]
["Miroslav Ofukany",1951,"Kolín","CZ/C1","M",""]
["Miroslav Plechac",1969,"Hronov","CZ/C2","M",""]
["Miroslav Sklenar",1964,"Žamberk","CZ/C2","M",""]
["Miroslav Streda",1945,"Vrchlabí","CZ/C2","M",""]
["Miroslav Sedivy",1974,"Letkov","CZ/C1","M",""]
["Miroslav Stepan",1955,"Žamberk","CZ/C2","M",""]
["Miroslav Trybucek",1965,"Jičín","CZ/C2","M",""]
["Monika Bezdekova",1988,"Letňany","CZ/C1","F","",null,"Dříve Bubnová"]
["Monika Jiraskova",1994,"Hronov","CZ/C2","F","Junior v roce 2019"]
["Monika Klovanicova",1992,"Kunovice","CZ/M","F",""]
["Nikola Zizkovsky",1980,"Kralupy","CZ/C1","M",""]
["Oldrich Bartonik",1961,"Luhačovice","CZ/M","M",""]
["Oldrich Hlavacek",1973,"Medlánky","CZ/M","M",""]
["Oldrich Houzvicka",1975,"Frýdlant","CZ/M","M",""]
["Oldrich Kounovsky",1976,"Medlánky",{"$f":"VLOOKUP(C537,Region,2,0)","v":"CZ/M"},"M",{"$f":"IF(A537=\"(prázdné)\",\"\",IF(($G$1-B537)>25,\"\",\"Junior v roce \"&$G$1))","v":""}]
["Oldrich Slavicek",1959,"Hronov","CZ/C2","M",""]
["Oldrich Stumbauer",1992,"Prachatice",{"$f":"VLOOKUP(C539,Region,2,0)","v":"CZ/C1"},"M",{"$f":"IF(A539=\"(prázdné)\",\"\",IF(($G$1-B539)>25,\"\",\"Junior v roce \"&$G$1))","v":""}]
["Olga Mokosova",1970,"Jihlava","CZ/M","F",""]
["Ondrej Bartos",1975,"Točná","CZ/C1","M",""]
["Ondrej Belohlavek",1978,"Vysoké Mýto","CZ/C2","M",""]
["Ondrej Blaha",1976,"Letňany","CZ/C1","M",""]
["Ondrej Bordovsky",1983,"Krnov","CZ/M","M",""]
["Ondrej Dupal",1966,"GAC Benešov","CZ/C1","M",""]
["Ondrej Dvorak 58",1958,"Raná","CZ/C2","M",""]
["Ondrej Dvorak 87",1987,"Raná","CZ/C2","M",""]
["Ondrej Dvorak 98",1998,"Mladá Boleslav","CZ/C1","M","Junior v roce 2019"]
["Ondrej Holas",1989,"Česká Lípa","CZ/C2","M",""]
["Ondrej Jung",1976,"Zbraslavice","CZ/C1","M",{"$f":"IF(A550=\"(prázdné)\",\"\",IF(($G$1-B550)>25,\"\",\"Junior v roce \"&$G$1))","v":""}]
["Ondrej Kluger",1990,"LK Břeclav",{"$f":"VLOOKUP(C551,Region,2,0)","v":"CZ/M"},"M",""]
["Ondrej Kover",1993,"Šumperk","CZ/M","M",""]
["Ondrej Krejci",1974,"Chotěboř","CZ/C2","M",""]
["Ondrej Marek",1989,"Žamberk","CZ/C2","M",""]
["Ondrej Skala",1982,"Vrchlabí","CZ/C2","M",""]
["Ondrej Sindelar",1979,"Mladá Boleslav","CZ/C1","M",""]
["Ondrej Supka",1994,"Kunovice","CZ/M","M","Junior v roce 2019"]
["Ondrej Teichman",1984,"Dvůr Králové","CZ/C2","M",""]
["Ondrej Trkal",1991,"Vysoké Mýto","CZ/C2","M",""]
["Ondrej Valach",1986,"Točná","CZ/C1","M",""]
["Ondrej Vyskocil",1991,"Letkov","CZ/C1","M",""]
["Ondrej Zeman",1980,"Letňany","CZ/C1","M",""]
["Ota Vavrin",1947,"Vysoké Mýto","CZ/C2","M",""]
["Otakar Tucek",1947,"Raná","CZ/C2","M",""]
["Patrik Cebis",1972,"Kralupy","CZ/C1","M",""]
["Pavel Brodsky",1992,"Hořice","CZ/C2","M",""]
["Pavel Cerny",1996,"Příbram","CZ/C1","M","Junior v roce 2019"]
["Pavel Derda",1952,"Dvůr Králové","CZ/C2","M",""]
["Pavel Dostal",1944,"Turnov","CZ/C2","M",""]
["Pavel Foldyna",1976,"Frýdlant","CZ/M","M",""]
["Pavel Franc",1974,"Hronov","CZ/C2","M",""]
["Pavel Haluza",1966,"Prostějov","CZ/M","M",""]
["Pavel Handl",1971,"Kroměříž",{"$f":"VLOOKUP(C573,Region,2,0)","v":"CZ/M"},"M",{"$f":"IF(A573=\"(prázdné)\",\"\",IF(($G$1-B573)>25,\"\",\"Junior v roce \"&$G$1))","v":""}]
["Pavel Hartman",1963,"Jaroměř","CZ/C2","M",""]
["Pavel Jiranek",1993,"Toužim","CZ/C1","M",""]
["Pavel Jurak",1986,"Kunovice","CZ/M","M",""]
["Pavel Jurka",1955,"Moravská Třebová","CZ/M","M",""]
["Pavel Kalous",1921,"Frýdlant","CZ/M","M",""]
["Pavel Kostkan",1952,"Dvůr Králové","CZ/C2","M",""]
["Pavel Koudelka",1973,"Křižanov","CZ/M","M",""]
["Pavel Laznicka",1955,"Letňany","CZ/C1","M",""]
["Pavel Liska",1965,"Roudnice","CZ/C2","M",""]
["Pavel Louzecky",1957,"Přibyslav","CZ/C2","M",""]
["Pavel Nemec",1988,"Šumperk","CZ/M","M",""]
["Pavel Paces",1972,"Kladno","CZ/C1","M",""]
["Pavel Pittner",1980,"Polička","CZ/C2","M",""]
["Pavel Rericha",1967,"Moravská Třebová","CZ/M","M",""]
["Pavel Schor",1985,"Medlánky","CZ/M","M",""]
["Pavel Svoboda",1938,"Letňany","CZ/C1","M",""]
["Pavel Simek",1957,"Vyškov","CZ/M","M",""]
["Pavel Skrabal",1969,"Šumperk","CZ/M","M",""]
["Pavel Sulc",1976,"Hodkovice",{"$f":"VLOOKUP(C592,Region,2,0)","v":"CZ/C2"},"M",{"$f":"IF(A592=\"(prázdné)\",\"\",IF(($G$1-B592)>25,\"\",\"Junior v roce \"&$G$1))","v":""}]
["Pavel Svejkovsky",1968,"Česká Lípa",{"$f":"VLOOKUP(C593,Region,2,0)","v":"CZ/C2"},"M",{"$f":"IF(A593=\"(prázdné)\",\"\",IF(($G$1-B593)>25,\"\",\"Junior v roce \"&$G$1))","v":""}]
["Pavel Svrcek",1972,"Frýdlant","CZ/M","M",""]
["Pavel Trojan",1960,"Chrudim","CZ/C2","M",""]
["Pavel Trybenekr",1990,"Hořice","CZ/C2","M",""]
["Pavel Zima",1979,"Břeclav","CZ/M","M",""]
["Pavla Seifertova",1981,"Raná","CZ/C2","F",""]
["Pavlina Hanusova",1970,"Turnov","CZ/C2","F",""]
["Pavlina Horackova",1965,"Šumperk","CZ/M","F",""]
["Peter Kaspar",1980,"Vyškov",{"$f":"VLOOKUP(C601,Region,2,0)","v":"CZ/M"},"M",{"$f":"IF(A601=\"(prázdné)\",\"\",IF(($G$1-B601)>25,\"\",\"Junior v roce \"&$G$1))","v":""}]
["Petr Baros",1974,"Hranice","CZ/M","M",""]
["Petr Bartak",1984,"Letkov","CZ/C1","M",""]
["Petr Brezina",1963,"Frýdlant","CZ/M","M",""]
["Petr Bezdek",1965,"Letňany","CZ/C1","M",""]
["Petr Cernicky",1974,"Toužim",{"$f":"VLOOKUP(C606,Region,2,0)","v":"CZ/C1"},"M",{"$f":"IF(A606=\"(prázdné)\",\"\",IF(($G$1-B606)>25,\"\",\"Junior v roce \"&$G$1))","v":""}]
["Petr Doubek",1974,"Kralupy","CZ/C1","M",""]
["Petr Filip",1982,"Zbraslavice","CZ/C1","M",""]
["Petr Fisar",1974,"Ústí nad Orlicí","CZ/C2","M",""]
["Petr Fousek",1958,"Zbraslavice","CZ/C1","M",""]
["Petr Frycek",1960,"Most","CZ/C2","M",""]
["Petr Gebauer",1999,"Mladá Boleslav","CZ/C1","M","Junior v roce 2019"]
["Petr Gryc",1949,"Medlánky","CZ/M","M",""]
["Petr Hanacek",1962,"Jeseník","CZ/M","M",""]
["Petr Havrlant",1965,"Šumperk","CZ/M","M",""]
["Petr Hodulak",1974,"Beroun","CZ/C1","M",""]
["Petr Hofman",1984,"Letňany","CZ/C1","M",""]
["Petr Hora",1948,"Hodkovice","CZ/C2","M",{"$f":"IF(A618=\"(prázdné)\",\"\",IF(($G$1-B618)>25,\"\",\"Junior v roce \"&$G$1))","v":""}]
["Petr Hotovy",1958,"Česká Lípa",{"$f":"VLOOKUP(C619,Region,2,0)","v":"CZ/C2"},"M",""]
["Petr Houstek 49",1949,"Jaroměř","CZ/C2","M",""]
["Petr Houstek 79",1979,"Jaroměř","CZ/C2","M",""]
["Petr Hrebec",1972,"Točná","CZ/C1","M",""]
["Petr Humlicek",1973,"Medlánky","CZ/M","M",""]
["Petr Hybner",1951,"Liberec","CZ/C2","M",""]
["Petr Jasan",1960,"Medlánky","CZ/M","M",""]
["Petr Jedlicka",1987,"Medlánky","CZ/M","M",""]
["Petr Jiranek 63",1962,"Toužim","CZ/C1","M",""]
["Petr Jiranek 91",1991,"Toužim","CZ/C1","M",""]
["Petr Jirasek",1968,"Hronov","CZ/C2","M",""]
["Petr Kachlik",1954,"GAC Benešov","CZ/C1","M",""]
["Petr Kapounek",1977,"Kroměříž","CZ/M","M",""]
["Petr Kaufmann",1958,"Nové Město nad Metují","CZ/C2","M",""]
["Petr Kejr",1959,"Kralupy","CZ/C1","M",""]
["Petr Kolacek",1965,"Šumperk","CZ/M","M",""]
["Petr Kolomaznik",1981,"Šumperk","CZ/M","M",""]
["Petr Kotal",1975,"Točná","CZ/C1","M",""]
["Petr Koutny",1971,"Křižanov","CZ/M","M",""]
["Petr Kohr",1970,"Raná","CZ/C2","M",""]
["Petr Krejcirik",1960,"Hranice","CZ/M","M",""]
["Petr Kubik 74",1974,"Křižanov","CZ/M","M",""]
["Petr Kubik 75",1975,"Moravská Třebová","CZ/M","M",""]
["Petr Kyzivat",1970,"Jičín","CZ/C2","M",""]
["Petr Lonsky",1965,"Toužim","CZ/C1","M",""]
["Petr Los",1961,"Toužim","CZ/C1","M",""]
["Petr Macicek",1976,"Frýdlant","CZ/M","M",""]
["Petr Malcek",1965,"Letňany","CZ/C1","M",""]
["Petr Mitas",1993,"Kunovice","CZ/M","M",""]
["Petr Panek",1975,"Dvůr Králové","CZ/C2","M",""]
["Petr Petricka",1972,"Soběslav","CZ/C1","M",""]
["Petr Prichystal",1973,"Moravská Třebová","CZ/M","M",""]
["Petr Rajda",1970,"Křižanov","CZ/M","M",""]
["Petr Rozhon",1972,"Hosín","CZ/C1","M",""]
["Petr Rygl",1966,"Jičín","CZ/C2","M",""]
["Petr Seibrt",1974,"Nové Město nad Metují","CZ/C2","M",""]
["Petr Sloupensky",1959,"Ústí nad Orlicí","CZ/C2","M",""]
["Petr Starek",1974,"Zbraslavice","CZ/C1","M",""]
["Petr Striz",1980,"Točná","CZ/C1","M",""]
["Petr Svoboda",1988,"Letkov","CZ/C1","M",""]
["Petr Safar",1978,"Ústí nad Orlicí","CZ/C2","M",""]
["Petr Senkyr",1965,"Kunovice","CZ/M","M",""]
["Petr Setka",1971,"Letkov","CZ/C1","M",""]
["Petr Spunar",1966,"Mladá Boleslav","CZ/C1","M",""]
["Petr Stepanek",1989,"Moravská Třebová","CZ/M","M",""]
["Petr Tax",1968,"Jičín",{"$f":"VLOOKUP(C664,Region,2,0)","v":"CZ/C2"},"M",{"$f":"IF(A664=\"(prázdné)\",\"\",IF(($G$1-B664)>25,\"\",\"Junior v roce \"&$G$1))","v":""}]
["Petr Tichy",1973,"Zbraslavice","CZ/C1","M",""]
["Petr Uhrincko",1969,"Kladno","CZ/C1","M",""]
["Petr Valenta",1994,"Kunovice","CZ/M","M","Junior v roce 2019"]
["Petr Vlasak",1974,"Medlánky","CZ/M","M",""]
["Petr Vodicka",1965,"Jaroměř","CZ/C2","M",""]
["Petr Zajic",1962,"Liberec","CZ/C2","M",""]
["Petra Benesova",1985,"Beroun","CZ/C1","F",""]
["Petra Diepoldova",1978,"Vysoké Mýto","CZ/C2","F",""]
["Petra Piskata",1989,"Hranice","CZ/M","F",""]
["Petra Pinkova",1988,"Letkov","CZ/C1","F",""]
["Petra Retamozova",1990,"Kralupy","CZ/C1","F",""]
["Premek Popovsky",1966,"Kyjov","CZ/M","M",""]
["Premysl Muzik",1990,"Hosín","CZ/C1","M",""]
["Radek Gadas",1998,"Hodkovice",{"$f":"VLOOKUP(C678,Region,2,0)","v":"CZ/C2"},"M","Junior v roce 2019"]
["Radek Hybl",1980,"Šumperk","CZ/M","M",""]
["Radek Chmela",1984,"Luhačovice","CZ/M","M",""]
["Radek Jaksa",1979,"Prostějov","CZ/M","M",""]
["Radek Krejcirik",1991,"Hranice","CZ/M","M",""]
["Radek Kucirek",1973,"Havlíčkův Brod","CZ/C2","M",""]
["Radek Laga",1997,"Kunovice",{"$f":"VLOOKUP(C684,Region,2,0)","v":"CZ/M"},"M","Junior v roce 2019"]
["Radek Munzar",1976,"Jaroměř","CZ/C2","M",{"$f":"IF(A685=\"(prázdné)\",\"\",IF(($G$1-B685)>25,\"\",\"Junior v roce \"&$G$1))","v":""}]
["Radek Tobolka",1977,"Jičín",{"$f":"VLOOKUP(C686,Region,2,0)","v":"CZ/C2"},"M",""]
["Radek Trunec",1989,"Letkov","CZ/C1","M",""]
["Radek Vlcek",1982,"Šumperk","CZ/M","M",""]
["Radek Zima 78",1978,"Hodkovice","CZ/C2","M",""]
["Radek Zima 75",1975,"Břeclav","CZ/M","M",""]
["Radim Bradac",1995,"Letňany","CZ/C1","M","Junior v roce 2019"]
["Radim Hahn",1972,"Zábřeh","CZ/M","M",""]
["Radim Hauptmann",1963,"Jičín","CZ/C2","M",""]
["Radim Jordan",1976,"Žamberk","CZ/C2","M",""]
["Radim Krofta",1984,"Rakovník","CZ/C1","M",""]
["Radim Malatek",1978,"Beroun","CZ/C1","M",""]
["Radim Vadasz",1989,"Soběslav","CZ/C1","M",""]
["Radim Zielinski",1969,"Frýdlant","CZ/M","M",""]
["Radmila Horacek Filakovska",1963,"Dvůr Králové","CZ/C2","F",""]
["Radoslav Pur",1973,"Hosín","CZ/C1","M",""]
["Radovan Otto",1968,"Ústí nad Labem","CZ/C2","M",""]
["Radovan Sohr",1965,"Hranice","CZ/M","M","",null,"Dříve Jičín"]
["Rene Hudak",1972,"Kunovice","CZ/M","M",""]
["Rene Picha",1970,"Vlašim","CZ/C1","M",""]
["Richard Jensen",1965,"Zbraslavice","CZ/C1","M",""]
["Richard Svarovsky",1976,"Zábřeh","CZ/M","M",""]
["Richard Vlcek",1993,"Kunovice","CZ/M","M",""]
["Robert Jandera",1976,"Hodkovice","CZ/C2","M",""]
["Robert Sima",1971,"GAC Benešov","CZ/C1","M",""]
["Roman Cerny",1971,"Hranice","CZ/M","M",""]
["Roman Huszar",1963,"Letňany","CZ/C1","M",""]
["Roman Jokl",1979,"Letkov","CZ/C1","M",""]
["Roman Konarik",1976,"Luhačovice","CZ/M","M",""]
["Roman Lanzendorf",1964,"Letkov","CZ/C1","M",""]
["Roman Lengal",1987,"Břeclav",{"$f":"VLOOKUP(C715,Region,2,0)","v":"CZ/M"},"M",{"$f":"IF(A715=\"(prázdné)\",\"\",IF(($G$1-B715)>25,\"\",\"Junior v roce \"&$G$1))","v":""}]
["Roman Lukes",1979,"Přibyslav",{"$f":"VLOOKUP(C716,Region,2,0)","v":"CZ/C2"},"M",{"$f":"IF(A716=\"(prázdné)\",\"\",IF(($G$1-B716)>25,\"\",\"Junior v roce \"&$G$1))","v":""}]
["Roman Michalek",1974,"Toužim","CZ/C1","M",""]
["Roman Mracek",1980,"Letkov","CZ/C1","M",""]
["Roman Schotli",1970,"Hranice","CZ/M","M",""]
["Roman Stoklasa",1984,"Medlánky","CZ/M","M",""]
["Rostislav Broz",1968,"Vrchlabí","CZ/C2","M",""]
["Rostislav Fric",1973,"Raná","CZ/C2","M","",null,"Dříve Jičín"]
["Rostislav Matl",1972,"Vyškov","CZ/M","M",""]
["Rostislav Stryk",1972,"Frýdlant","CZ/M","M",""]
["Rostislav Subert",1982,"Šumperk","CZ/M","M",""]
["Rudolf Ferbar",1969,"Moravská Třebová","CZ/M","M",""]
["Rudolf Jung",1954,"Zbraslavice","CZ/C1","M",""]
["Sabina Vitova",1998,"Kroměříž","CZ/M","F","Junior v roce 2019"]
["Slavomir Piskaty 58",1958,"Kunovice","CZ/M","M",""]
["Slavomir Piskaty 84",1984,"Kunovice","CZ/M","M",""]
["Slavomir Tanglmajer",1966,"Chomutov","CZ/C2","M",""]
["Slavomir Valecko",1960,"Hranice","CZ/M","M",""]
["Sona Fortova",1980,"GAC Benešov","CZ/C1","F",""]
["Stanislav Doskocil",1978,"Medlánky","CZ/M","M",""]
["Stanislav Hanus",1970,"Vrchlabí","CZ/C2","M",""]
["Stanislav Honzatko",1952,"Slaný","CZ/C1","M",""]
["Stanislav John",1974,"Hosín",{"$f":"VLOOKUP(C737,Region,2,0)","v":"CZ/C1"},"M",{"$f":"IF(A737=\"(prázdné)\",\"\",IF(($G$1-B737)>25,\"\",\"Junior v roce \"&$G$1))","v":""}]
["Stanislav Kubicek",1960,"Medlánky","CZ/M","M",""]
["Stanislav Poslusny",1965,"GAC Benešov","CZ/C1","M",""]
["Svatopluk Tomsu",1973,"Jaroměř","CZ/C2","M",""]
["Sarka Lochova",1966,"Šumperk","CZ/M","F",""]
["Stefan Uher",1968,"Turnov","CZ/C2","M",""]
["Stepan Matous",1980,"Dvůr Králové","CZ/C2","M",""]
["Teodor Skoda",1998,"Hronov",{"$f":"VLOOKUP(C744,Region,2,0)","v":"CZ/C2"},"M",{"$f":"IF(A744=\"(prázdné)\",\"\",IF(($G$1-B744)>25,\"\",\"Junior v roce \"&$G$1))","v":"Junior v roce 2019"}]
["Tereza Jirsakova",1997,"Hronov","CZ/C2","F","Junior v roce 2019"]
["Tereza Koubkova",1999,"Letňany","CZ/C1","F",{"$f":"IF(A746=\"(prázdné)\",\"\",IF(($G$1-B746)>25,\"\",\"Junior v roce \"&$G$1))","v":"Junior v roce 2019"}]
["Tereza Novakova",1993,"Chrudim",{"$f":"VLOOKUP(C747,Region,2,0)","v":"CZ/C2"},"F",{"$f":"IF(A747=\"(prázdné)\",\"\",IF(($G$1-B747)>25,\"\",\"Junior v roce \"&$G$1))","v":""}]
["Tibor Hruza",1970,"Letkov","CZ/C1","M",""]
["Tomas Barton",1982,"Hosín","CZ/C1","M",""]
["Tomas Buben",1971,"Jaroměř","CZ/C2","M",""]
["Tomas Ditrt",1969,"Podhořany","CZ/C2","M",""]
["Tomas Fiala 72",1972,"Křižanov","CZ/M","M",""]
["Tomas Fiala 77",1977,"Luhačovice","CZ/M","M",""]
["Tomas Fila",1987,"Beroun","CZ/C1","M",{"$f":"IF(A754=\"(prázdné)\",\"\",IF(($G$1-B754)>25,\"\",\"Junior v roce \"&$G$1))","v":""}]
["Tomas Flegl",1987,"Hodkovice",{"$f":"VLOOKUP(C755,Region,2,0)","v":"CZ/C2"},"M",""]
["Tomas Frinta",1970,"Hodkovice","CZ/C2","M",""]
["Tomas Hlavacek",1984,"Kolín",{"$f":"VLOOKUP(C757,Region,2,0)","v":"CZ/C1"},"M",{"$f":"IF(A757=\"(prázdné)\",\"\",IF(($G$1-B757)>25,\"\",\"Junior v roce \"&$G$1))","v":""}]
["Tomas Hlavenka",1987,"Luhačovice","CZ/M","M",""]
["Tomas Holzapfel",1975,"Mladá Boleslav","CZ/C1","M",""]
["Tomas Hulmak",1999,"Hosín","CZ/C1","M","Junior v roce 2019"]
["Tomas Charvat",1981,"Vysoké Mýto","CZ/C2","M",""]
["Tomas Jakoubek",2000,"Hronov",{"$f":"VLOOKUP(C762,Region,2,0)","v":"CZ/C2"},"M","Junior v roce 2019"]
["Tomas Jedlicka",1959,"Karlštejn","CZ/C1","M",""]
["Tomas Jilek",1995,"Raná","CZ/C2","M","Junior v roce 2019"]
["Tomas Jiricny",1981,"Hodkovice","CZ/C2","M",""]
["Tomas Jung",1950,"Zbraslavice","CZ/C1","M",""]
["Tomas Kohout",1981,"Slaný","CZ/C1","M",""]
["Tomas Koutnik",1985,"Jaroměř","CZ/C2","M",""]
["Tomas Kovarik",1965,"Zbraslavice","CZ/C1","M",""]
["Tomas Kubac",1993,"Roudnice","CZ/C2","M",""]
["Tomas Lisec",1984,"Točná","CZ/C1","M",""]
["Tomas Magnusek",1988,"Frýdlant","CZ/M","M",""]
["Tomas Malik",1972,"Letňany","CZ/C1","M",""]
["Tomas Malinsky",1988,"Křižanov","CZ/M","M",""]
["Tomas Manasek",1980,"Kunovice","CZ/M","M",""]
["Tomas Mezera",1973,"Raná","CZ/C2","M",""]
["Tomas Michna",1989,"Šumperk","CZ/M","M",""]
["Tomas Moravec",2000,"Žamberk","CZ/C2","M","Junior v roce 2019"]
["Tomas Morch",1981,"Raná","CZ/C2","M",""]
["Tomas Ohera",1977,"Letňany","CZ/C1","M",""]
["Tomas Ondrusek",1994,"Letkov","CZ/C1","M","Junior v roce 2019"]
["Tomas Ondrisek",1970,"Kunovice","CZ/M","M",""]
["Tomas Palata",1966,"Liberec","CZ/C2","M",""]
["Tomas Podolak",1986,"Kralupy","CZ/C1","M",""]
["Tomas Profeld",1964,"Jičín","CZ/C2","M",""]
["Tomas Prokop",1972,"Šumperk","CZ/M","M",""]
["Tomas Prikryl",1973,"Vyškov","CZ/M","M",""]
["Tomas Ptacovsky",1981,"Letňany","CZ/C1","M",""]
["Tomas Rendla",1973,"Zbraslavice","CZ/C1","M",""]
["Tomas Rysavy",1959,"Medlánky","CZ/M","M",""]
["Tomas Sedlacek",1972,"Zbraslavice","CZ/C1","M",""]
["Tomas Seifert",1972,"Raná","CZ/C2","M",""]
["Tomas Shrbeny",1968,"Točná","CZ/C1","M",""]
["Tomas Suchanek",1964,"GAC Benešov","CZ/C1","M",""]
["Tomas Talanda",1988,"Křižanov","CZ/M","M",""]
["Tomas Vrbsky",1964,"Letkov","CZ/C1","M",""]
["Tomas Zamecnik",1988,"Zbraslavice","CZ/C1","M",""]
["Ulf Kern",1958,"Raná","CZ/C2","M",""]
["Vaclav Cerny",1949,"Plasy","CZ/C1","M",""]
["Vaclav Halek",1966,"Toužim",{"$f":"VLOOKUP(C800,Region,2,0)","v":"CZ/C1"},"M",{"$f":"IF(A800=\"(prázdné)\",\"\",IF(($G$1-B800)>25,\"\",\"Junior v roce \"&$G$1))","v":""}]
["Vaclav Hruza",1965,"Břeclav","CZ/M","M",""]
["Vaclav Koudelka",1997,"Jičín","CZ/C2","M","Junior v roce 2019"]
["Vaclav Krejcar",1943,"Hořice","CZ/C2","M",""]
["Vaclav Kult",1973,"Broumov","CZ/C2","M",""]
["Vaclav Kunasek",1987,"Zbraslavice","CZ/C1","M",""]
["Vaclav Kysilka",1979,"GAC Benešov",{"$f":"VLOOKUP(C806,Region,2,0)","v":"CZ/C1"},"M",{"$f":"IF(A806=\"(prázdné)\",\"\",IF(($G$1-B806)>25,\"\",\"Junior v roce \"&$G$1))","v":""}]
["Vaclav Marel",1974,"Jaroměř","CZ/C2","M",""]
["Vaclav Petru",1974,"Letňany","CZ/C1","M",""]
["Vaclav Sehnal",1962,"Kolín","CZ/C1","M",""]
["Vaclav Svoboda",1970,"Letkov","CZ/C1","M",""]
["Vaclav Trnka",1939,"Ústí nad Orlicí","CZ/C2","M",""]
["Vaclav Zeman",1984,"Zbraslavice","CZ/C1","M",""]
["Vaclav Zak",1962,"GAC Benešov","CZ/C1","M",""]
["Vera Vavrinova",1949,"Vysoké Mýto","CZ/C2","F",""]
["Veronika Ambrozova",1984,"Křižanov","CZ/M","F",""]
["Veronika Jezkova",1986,"Mladá Boleslav","CZ/C1","F",""]
["Veronika Mullerova",1983,"Letňany","CZ/C1","F",""]
["Viktor Becan",1979,"GAC Benešov","CZ/C1","M",""]
["Vilem Riha",1990,"Letňany","CZ/C1","M",""]
["Vit Hrdlicka",1960,"Medlánky","CZ/M","M",""]
["Vit Morkovsky",2000,"Polička","CZ/C2","M","Junior v roce 2019"]
["Vit Novak",1985,"Olomouc","CZ/M","M",{"$f":"IF(A822=\"(prázdné)\",\"\",IF(($G$1-B822)>25,\"\",\"Junior v roce \"&$G$1))","v":""}]
["Vit Prokop",1987,"Medlánky",{"$f":"VLOOKUP(C823,Region,2,0)","v":"CZ/M"},"M",""]
["Vit Rydl",1969,"Turnov","CZ/C2","M",""]
["Vit Tvrdik",2000,"Letňany","CZ/C1","M","Junior v roce 2019"]
["Vladimir Abraham",1962,"Raná","CZ/C2","M",""]
["Vladimir Baran",1949,"Frýdlant","CZ/M","M",""]
["Vladimir Dostal",1943,"Hronov","CZ/C2","M",""]
["Vladimir Fousek",1964,"Raná","CZ/C2","M",""]
["Vladimir Fux",1963,"Křižanov","CZ/M","M",""]
["Vladimir Hammer",2000,"Klatovy",{"$f":"VLOOKUP(C831,Region,2,0)","v":"CZ/C1"},"M","Junior v roce 2019"]
["Vladimir Hampl",1970,"Dvůr Králové","CZ/C2","M",""]
["Vladimir Jirka",1965,"Zábřeh","CZ/M","M",""]
["Vladimir Kamensky",1983,"Břeclav","CZ/M","M",""]
["Vladimir Kramosil",1937,"Most","CZ/C2","M",""]
["Vladimir Maca",1982,"Jihlava","CZ/M","M",""]
["Vladimir Nemec",1976,"Jeseník","CZ/M","M",""]
["Vladimir Prihoda",1953,"Kralupy","CZ/C1","M",""]
["Vladimir Spilka",1940,"Hranice","CZ/M","M",""]
["Vlastislav Picka",1948,"Jindřichův Hradec","CZ/C1","M",""]
["Vojtech Bartos",1970,"Medlánky","CZ/M","M",""]
["Vojtech Hajek",1987,"Mladá Boleslav","CZ/C1","M",""]
["Vojtech Karlik",1982,"Kunovice","CZ/M","M",""]
["Vojtech Kostejn",1974,"Hodkovice","CZ/C2","M",""]
["Vojtech Labuda",1980,"Příbram","CZ/C1","M",""]
["Vojtech Novotny",1992,"Kralupy","CZ/C1","M",""]
["Vojtech Petrovicky",1986,"Mladá Boleslav","CZ/C1","M",""]
["Vojtech Pivonka",1976,"Vrchlabí","CZ/C2","M",""]
["Vojtech Sehnal",1994,"Kolín","CZ/C1","M","Junior v roce 2019"]
["Vojtech Stavny",1962,"Letkov","CZ/C1","M",""]
["Vojtech Vach",1976,"Hronov","CZ/C2","M",""]
["Vratislav Orlita",1946,"Kunovice","CZ/M","M",""]
["Vratislav sram",1966,"Broumov","CZ/C2","M",""]
["Wolfgang Sluka",1942,"Liberec","CZ/C2","M",""]
["Yvona Vyhnankova",1963,"Olomouc","CZ/M","F",""]
["Zbynek Bican",1961,"Raná","CZ/C2","M",""]
["Zbynek Fuksa",1956,"Jičín",{"$f":"VLOOKUP(C857,Region,2,0)","v":"CZ/C2"},"M",{"$f":"IF(A857=\"(prázdné)\",\"\",IF(($G$1-B857)>25,\"\",\"Junior v roce \"&$G$1))","v":""}]
["Zbynek Zdrahal",1965,"Medlánky","CZ/M","M",""]
["Zbynek Koudelka",1991,"Křižanov","CZ/M","M",""]
["Zdenek Balcarek",1967,"Kroměříž","CZ/M","M",""]
["Zdenek Bohm",1963,"Kolín","CZ/C1","M",""]
["Zdenek Boruvka 54",1954,"Jičín","CZ/C2","M",""]
["Zdenek Boruvka 86",1986,"Jičín","CZ/C2","M",""]
["Zdenek Buben",1978,"Hodkovice","CZ/C2","M",""]
["Zdenek Kropac",1981,"Kladno","CZ/C1","M",""]
["Zdenek Krivanek",1967,"Kolín","CZ/C1","M",""]
["Zdenek Mach",1976,"Broumov","CZ/C2","M",""]
["Zdenek Parizek",1984,"Raná","CZ/C2","M",""]
["Zdenek Schenk",1972,"Hranice","CZ/M","M",""]
["Zdenek Setek",1980,"Kolín","CZ/C1","M",""]
["Zdenek Spacek",1980,"Přibyslav","CZ/C2","M",""]
["Zdenek Zabloudil",1962,"Medlánky","CZ/M","M",""]
["Zdenek Zerzan",1968,"Šumperk",{"$f":"VLOOKUP(C873,Region,2,0)","v":"CZ/M"},"M",""]
["Zuzana Kutilkova",1993,"Křižanov",{"$f":"VLOOKUP(C874,Region,2,0)","v":"CZ/M"},"F",""]
["Zuzana Markesova",2001,"Medlánky",{"$f":"VLOOKUP(C875,Region,2,0)","v":"CZ/M"},"F",{"$f":"IF(A875=\"(prázdné)\",\"\",IF(($G$1-B875)>25,\"\",\"Junior v roce \"&$G$1))","v":"Junior v roce 2019"}]
["Zitomir Krepinsky",1987,"Chrudim",{"$f":"VLOOKUP(C876,Region,2,0)","v":"CZ/C2"},"M",{"$f":"IF(A876=\"(prázdné)\",\"\",IF(($G$1-B876)>25,\"\",\"Junior v roce \"&$G$1))","v":""}]

{"sheet":"Data","index":4,"n_rows":3579,"n_cols":20,"rows_kept":3579,"cut":false,"hidden":false,"merged":[]}
[null,null,null,null,null,null,null,null,null,null,null,null,"Počet:",{"$f":"SUBTOTAL(103,N7:N3543)","v":995},{"$f":"SUBTOTAL(103,O7:O3543)","v":88}]
["*",null,null,null,null,null,null,null,null,null,null,null,"Počet pilot:",{"$f":"COUNTIFS(N$7:N$3543,\"x\",$A$7:$A$3543,$A$2)","v":995},{"$f":"COUNTIFS(O$7:O$3543,\"x\",$A$7:$A$3543,$A$2)","v":88}]
[null,null,null,null,null,null,null,null,null,null,null,null,2017,{"$f":"COUNTIFS($M$7:$M$3543,$M3,N$7:N$3543,\"x\",$A$7:$A$3543,$A$2)","v":296},27]
[null,null,null,null,null,null,null,null,null,null,null,null,2016,287,20]
[null,null,null,null,null,null,null,null,null,null,null,null,2015,0,0]
["Jméno","Rok narození","Aeroklub","Region","Soutěž","Stát","Pořadí ve třídě","Body ve třídě","Max. B ve třídě","Kn","Bi","Bi×Kn","Rok","G","W","Typ","CN","M/F","Junior","Poznámka"]
["Zdenek Boruvka 86",{"$f":"VLOOKUP(A7,Pilot,2,0)","v":1986},{"$f":"VLOOKUP(A7,Pilot,3,0)","v":"Jičín"},{"$f":"VLOOKUP(A7,Pilot,4,0)","v":"CZ/C2"},"AZ Cup 2016 - Klub","CZ",1,2540,2540,{"$f":"VLOOKUP(E7,Soutez,8,0)","v":0.94500000000000006},{"$f":"ROUND(H7/I7*10000*0.7+(MAX($G$7:$G$61)-G7)/(MAX($G$7:$G$61)-1)*10000*0.3,0)","v":10000},{"$f":"ROUND(J7*K7,0)","v":9450},2016,"x",null,"Std. Cirrus","BJ",{"$f":"VLOOKUP(A7,Pilot,5,0)","v":"M"},{"$f":"IF(ISERROR(VLOOKUP(A7,Pilot,6,0)),\"Není v databázi\",VLOOKUP(A7,Pilot,6,0))","v":""}]
["Tomas Suchanek",1964,"GAC Benešov","CZ/C1","AZ Cup 2016 - Klub","CZ",2,2536,2540,0.94500000000000006,{"$f":"ROUND(H8/I8*10000*0.7+(MAX($G$7:$G$61)-G8)/(MAX($G$7:$G$61)-1)*10000*0.3,0)","v":9932},{"$f":"ROUND(J8*K8,0)","v":9386},2016,null,null,"Cirrus Std.","STI","M",""]
["David Popovsky",1976,"Rakovník","CZ/C1","AZ Cup 2016 - Klub","CZ",3,2496,2540,0.94500000000000006,9766,9229,2016,"x",null,"ASW-24A bez TN8",76,"M",""]
["Jaroslav Tomana",1975,"Zbraslavice","CZ/C1","AZ Cup 2016 - Klub","CZ",4,2484,2540,0.94500000000000006,9676,9144,2016,null,null,"Std. Cirrus","SN","M",""]
["Jan Horak",1971,"Zbraslavice","CZ/C1","AZ Cup 2016 - Klub","CZ",5,2473,2540,0.94500000000000006,9589,9062,2016,"x",null,"ASW-15B","TX","M",""]
["Martin Urban",1971,"Frýdlant","CZ/M","AZ Cup 2016 - Klub","CZ",6,2401,2540,0.94500000000000006,9334,8821,2016,"x",null,"LS-3A 15m","SJ","M",""]
["Jakub Kmosek",1978,"Zbraslavice","CZ/C1","AZ Cup 2016 - Klub","CZ",7,2397,2540,0.94500000000000006,9266,8756,2016,"x",null,"Std. Cirrus","ST","M",""]
["Michal Kodousek",1983,"Jaroměř","CZ/C2","AZ Cup 2016 - Klub","CZ",8,2379,2540,0.94500000000000006,9160,8656,2016,"x",null,"LS-3 15m","RI","M",""]
["Jakub Hlavacek",1991,"Letkov","CZ/C1","AZ Cup 2016 - Klub","CZ",9,2367,2540,0.94500000000000006,9070,8571,2016,null,null,"Std. Cirrus","AL","M",""]
["Richard Vlcek",1993,"Kunovice","CZ/M","AZ Cup 2016 - Klub","CZ",10,2317,2540,0.94500000000000006,8876,8388,2016,"x",null,"Std. Cirrus","OK","M",""]
["Ondrej Dvorak 87",1987,"Raná","CZ/C2","AZ Cup 2016 - Klub","CZ",10,2317,2540,0.94500000000000006,8876,8388,2016,null,null,"Std. Cirrus","FW","M",""]
["Jan Louda",1986,"Mladá Boleslav","CZ/C1","AZ Cup 2016 - Klub","CZ",12,2314,2540,0.94500000000000006,8755,8273,2016,null,null,"Std. Cirrus","CX","M",""]
["Josef Bostik",1963,"GAC Benešov","CZ/C1","AZ Cup 2016 - Klub","CZ",13,2302,2540,0.94500000000000006,8665,8188,2016,null,null,"Std. Cirrus","I","M",""]
["Pavel Rericha",1967,"Moravská Třebová","CZ/M","AZ Cup 2016 - Klub","CZ",14,2260,2540,0.94500000000000006,8492,8025,2016,"x",null,"ASW-19B","AE","M",""]
["Vaclav Marel",1974,"Jaroměř","CZ/C2","AZ Cup 2016 - Klub","CZ",15,2255,2540,{"$f":"VLOOKUP(E21,Soutez,8,0)","v":0.94500000000000006},8422,7959,2016,null,null,"Std. Cirrus","IF","M",""]
["Michal Lesinger",1966,"Moravská Třebová","CZ/M","AZ Cup 2016 - Klub","CZ",16,2193,2540,0.94500000000000006,8195,7744,2016,null,null,"ASW-19B","LL","M",""]
["Leos Strnadek",1983,"Hodkovice","CZ/C2","AZ Cup 2016 - Klub","CZ",17,2173,2540,0.94500000000000006,8083,7638,2016,"x",null,"ASW-19B","AFK","M",""]
["Barbora Moravcova",1994,"Zbraslavice","CZ/C1","AZ Cup 2016 - Klub","CZ",18,2030,2540,0.94500000000000006,7632,7212,2016,null,null,"ASW-15B","JJ","F","Junior v roce 2019"]
["Ondrej Sindelar",1979,"Mladá Boleslav","CZ/C1","AZ Cup 2016 - Klub","CZ",19,1977,2540,0.94500000000000006,7430,7021,2016,null,null,"ASW-19B","OI","M",""]
["Jiri Fousek",1990,"Raná","CZ/C2","AZ Cup 2016 - Klub","CZ",20,1865,2540,0.94500000000000006,7064,6675,2016,null,null,"Std. Cirrus","LW","M",""]
["Martin Balik",1982,"Kralupy","CZ/C1","AZ Cup 2016 - Klub","CZ",21,1818,2540,0.94500000000000006,6878,6500,2016,"x",null,"LS-1f","EF","M",""]
["Vaclav Kunasek",1987,"Zbraslavice","CZ/C1","AZ Cup 2016 - Klub","CZ",22,1792,2540,0.94500000000000006,6750,6379,2016,"x",null,"Std. Cirrus","P2","M",""]
["Jan Hruska",1988,"Tábor","CZ/C1","AZ Cup 2016 - Klub","CZ",23,1788,2540,0.94500000000000006,6682,6314,2016,"x",null,"ASW-15B","SP","M",""]
["Jan Vavrin",1987,"Vysoké Mýto","CZ/C2","AZ Cup 2016 - Klub","CZ",24,1764,2540,0.94500000000000006,6560,6199,2016,null,null,"ASW-15B","IG","M",""]
["Michal Kratochvil",1984,"Slaný","CZ/C1","AZ Cup 2016 - Klub","CZ",25,1760,2540,0.94500000000000006,6492,6135,2016,"x",null,"Std. Cirrus","OMG","M",""]
["Linda Vasatova",1990,"Mladá Boleslav","CZ/C1","AZ Cup 2016 - Klub","CZ",26,1752,2540,0.94500000000000006,6413,6060,2016,"x","x","ASW-19B","AH","F",""]
["Pavel Jiranek",1993,"Toužim","CZ/C1","AZ Cup 2016 - Klub","CZ",27,1717,2540,0.94500000000000006,6260,5916,2016,null,null,"Std. Cirrus","IYD","M",""]
["David Mach",1994,"Hronov","CZ/C2","AZ Cup 2016 - Klub","CZ",28,1679,2540,0.94500000000000006,6099,5764,2016,null,null,"Cirrus VTC","1W","M","Junior v roce 2019"]
["David Riha",1983,"Vlašim","CZ/C1","AZ Cup 2016 - Klub","CZ",29,1673,2540,0.94500000000000006,6026,5695,2016,"x",null,"ASW-15B","XE","M",""]
["Lukas Plocek",1990,"Mladá Boleslav","CZ/C1","AZ Cup 2016 - Klub","CZ",30,1586,2540,0.94500000000000006,5729,5414,2016,null,null,"ASW-15B","MB","M",""]
["Vaclav Svoboda",1970,"Letkov","CZ/C1","AZ Cup 2016 - Klub","CZ",31,1548,2540,0.94500000000000006,5568,5262,2016,null,null,"Std. Cirrus","W1","M",""]
["Anna Hajkova",1989,"Mladá Boleslav","CZ/C1","AZ Cup 2016 - Klub","CZ",32,1528,2540,0.94500000000000006,5456,5156,2016,null,null,"Std. Cirrus","BB","F",""]
["Jiri Hula",{"$f":"VLOOKUP(A39,Pilot,2,0)","v":1973},{"$f":"VLOOKUP(A39,Pilot,3,0)","v":"Slaný"},{"$f":"VLOOKUP(A39,Pilot,4,0)","v":"CZ/C1"},"AZ Cup 2016 - Klub","CZ",33,1515,2540,0.94500000000000006,5364,5069,2016,"x",null,"Std. Cirrus","CON",{"$f":"VLOOKUP(A39,Pilot,5,0)","v":"M"},{"$f":"IF(ISERROR(VLOOKUP(A39,Pilot,6,0)),\"Není v databázi\",VLOOKUP(A39,Pilot,6,0))","v":""}]
["Matej Krestes",1986,"Slaný","CZ/C1","AZ Cup 2016 - Klub","CZ",34,1497,2540,0.94500000000000006,5258,4969,2016,"x",null,"ASW-15B","A24","M",""]
["Lukas Koukal",1991,"Letkov","CZ/C1","AZ Cup 2016 - Klub","CZ",35,1482,2540,0.94500000000000006,5160,4876,2016,null,null,"ASW-15B","T1","M",""]
["Vojtech Kostejn",1974,"Hodkovice","CZ/C2","AZ Cup 2016 - Klub","CZ",36,1479,2540,0.94500000000000006,5095,4815,2016,"x",null,"Std. Cirrus","AC","M",""]
["Ladislav Jozsa",1981,"Medlánky","CZ/M","AZ Cup 2016 - Klub","CZ",37,1477,2540,0.94500000000000006,5033,4756,2016,null,null,"Std. Cirrus","LJ","M",""]
["David Sachl",1978,"Kralupy","CZ/C1","AZ Cup 2016 - Klub","CZ",38,1353,2540,0.94500000000000006,4634,4379,2016,"x",null,"DG-200 15m","RZ","M",""]
["Jiri Koudela",1974,"Vyškov","CZ/M","AZ Cup 2016 - Klub","CZ",39,1239,2540,0.94500000000000006,4264,4029,2016,"x",null,"VSO-10","J9","M",""]
["Oldrich Houzvicka",1975,"Frýdlant","CZ/M","AZ Cup 2016 - Klub","CZ",40,1231,2540,0.94500000000000006,4185,3955,2016,"x",null,"LS-4","FP","M",""]
["Tomas Prikryl",1973,"Vyškov","CZ/M","AZ Cup 2016 - Klub","CZ",41,1221,2540,0.94500000000000006,4101,3875,2016,"x",null,"DG-100","JR","M",""]
["Katerina Vojtova",1983,"Slaný","CZ/C1","AZ Cup 2016 - Klub","CZ",42,1131,2540,0.94500000000000006,3796,3587,2016,"x","x","Std. Cirrus","SNI","F",""]
["Frantisek Pycha",1972,"Chrudim","CZ/C2","AZ Cup 2016 - Klub","CZ",43,1069,2540,0.94500000000000006,3569,3373,2016,"x",null,"Std. Cirrus","FF","M",""]
["Eduard Svoboda",1957,"Raná","CZ/C2","AZ Cup 2016 - Klub","CZ",44,1004,2540,0.94500000000000006,3333,3150,2016,null,null,"ASW-15B","HL","M",""]
["Jindrich Hala",1989,"Rakovník","CZ/C1","AZ Cup 2016 - Klub","CZ",45,975,2540,0.94500000000000006,3196,3020,2016,"x",null,"Std. Cirrus","OG","M",""]
["Antonin Kutalek",1943,"Zábřeh","CZ/M","AZ Cup 2016 - Klub","CZ",46,926,2540,0.94500000000000006,3005,2840,2016,"x",null,"Mini Nimbus C","GL","M",""]
["Martin Fric",1967,"Raná","CZ/C2","AZ Cup 2016 - Klub","CZ",47,897,2540,0.94500000000000006,2868,2710,2016,"x",null,"ASW-19B","FR","M",""]
["Jiri Hodan",1959,"Zbraslavice","CZ/C1","AZ Cup 2016 - Klub","CZ",48,619,2540,0.94500000000000006,2046,1933,2016,"x",null,"G-103 Twin Astir","RB","M",""]
["Petr Kubik 75",1975,"Moravská Třebová","CZ/M","AZ Cup 2016 - Klub","CZ",49,603,2540,0.94500000000000006,1945,1838,2016,"x",null,"ASW-19B","NO","M",""]
["Rudolf Jung",1954,"Zbraslavice","CZ/C1","AZ Cup 2016 - Klub","CZ",50,583,2540,0.94500000000000006,1833,1732,2016,"x",null,"Std. Cirrus","C1","M",""]
["Tomas Jung",1950,"Zbraslavice","CZ/C1","AZ Cup 2016 - Klub","CZ",51,578,2540,0.94500000000000006,1763,1666,2016,"x",null,"ASW-19B","O2","M",""]
["Petr Lonsky",1965,"Toužim","CZ/C1","AZ Cup 2016 - Klub","CZ",52,523,2540,0.94500000000000006,1555,1469,2016,null,null,"LS-1d","CL","M",""]
["Roman Michalek",1974,"Toužim","CZ/C1","AZ Cup 2016 - Klub","CZ",53,420,2540,0.94500000000000006,{"$f":"ROUND(H59/I59*10000*0.7+(MAX($G$7:$G$61)-G59)/(MAX($G$7:$G$61)-1)*10000*0.3,0)","v":1214},1147,2016,"x",null,"LS-3 15m","Y1","M",""]
["Viktor Becan",1979,"GAC Benešov","CZ/C1","AZ Cup 2016 - Klub","CZ",54,0,2540,0.94500000000000006,0,0,2016,null,null,"LS-1d","VB","M",""]
["Pavel Svrcek",1972,"Frýdlant","CZ/M","AZ Cup 2016 - Klub","CZ",54,0,2540,0.94500000000000006,{"$f":"ROUND(H61/I61*10000*0.7+(MAX($G$7:$G$61)-G61)/(MAX($G$7:$G$61)-1)*10000*0.3,0)","v":0},0,2016,null,null,"DG-200 15m","AK","M",""]
["Petr Tichy",1973,"Zbraslavice","CZ/C1","AZ Cup 2016 - Kombi","CZ",1,2052,2052,0,{"$f":"ROUND(H62/I62*10000*0.7+(MAX($G$62:$G$83)-G62)/(MAX($G$62:$G$83)-1)*10000*0.3,0)","v":10000},{"$f":"ROUND(J62*K62,0)","v":0},2016,null,null,"ASG-29E 18m 600kg","AJ","M",""]
["Petr Starek",1974,"Zbraslavice","CZ/C1","AZ Cup 2016 - Kombi","CZ",2,1989,2052,0,{"$f":"ROUND(H63/I63*10000*0.7+(MAX($G$62:$G$83)-G63)/(MAX($G$62:$G$83)-1)*10000*0.3,0)","v":9642},{"$f":"ROUND(J63*K63,0)","v":0},2016,null,null,"HPH 304SJ 18m 573kg",66,"M",""]
["Radek Kucirek",1973,"Havlíčkův Brod","CZ/C2","AZ Cup 2016 - Kombi","CZ",3,1925,2052,0,9281,0,2016,null,null,"Ventus 2b 15m","YA","M",""]
["Martin Hrivna",1978,"Zbraslavice","CZ/C1","AZ Cup 2016 - Kombi","CZ",4,1901,2052,0,9056,0,2016,null,null,"ASG-29E 18m 600kg","NX","M",""]
["Jan Kantor",1983,"Letňany","CZ/C1","AZ Cup 2016 - Kombi","CZ",5,1787,2052,0,8525,0,2016,null,null,"Ventus c 17,6m","UC","M",""]
["Alena Netusilova",1970,"Zbraslavice","CZ/C1","AZ Cup 2016 - Kombi","CZ",6,1768,2052,0,8317,0,2016,null,null,"JS-1 CTJ 21m","JX","F",""]
["Tomas Rendla",1973,"Zbraslavice","CZ/C1","AZ Cup 2016 - Kombi","CZ",7,1764,2052,0,8160,0,2016,null,null,"Arcus M","EY","M",""]
["Martin Vnoucek",1972,"Vlašim","CZ/C1","AZ Cup 2016 - Kombi","CZ",8,1756,2052,0,7990,0,2016,null,null,"Ventus 2cxt 18m 600kg","PX","M",""]
["Tomas Malik",1972,"Letňany","CZ/C1","AZ Cup 2016 - Kombi","CZ",9,1689,2052,0,7619,0,2016,null,null,"Ventus 2c 18m 525kg","JT","M",""]
["David Zapletal",{"$f":"VLOOKUP(A71,Pilot,2,0)","v":1970},{"$f":"VLOOKUP(A71,Pilot,3,0)","v":"Mladá Boleslav"},{"$f":"VLOOKUP(A71,Pilot,4,0)","v":"CZ/C1"},"AZ Cup 2016 - Kombi","CZ",10,1630,2052,0,7275,0,2016,null,null,"Ventus c 17.6m","PUP",{"$f":"VLOOKUP(A71,Pilot,5,0)","v":"M"},{"$f":"IF(ISERROR(VLOOKUP(A71,Pilot,6,0)),\"Není v databázi\",VLOOKUP(A71,Pilot,6,0))","v":""}]
["Zdenek Schenk",1972,"Hranice","CZ/M","AZ Cup 2016 - Kombi","CZ",11,1585,2052,0,6978,0,2016,null,null,"Ventus ct 17.6m","SNK","M",""]
["Petr Malcek",1965,"Letňany","CZ/C1","AZ Cup 2016 - Kombi","CZ",12,1554,2052,0,6730,0,2016,null,null,"LS-6c 18m+W","F5","M",""]
["Jan Dersak 69",1969,"Kralupy","CZ/C1","AZ Cup 2016 - Kombi","CZ",13,1551,2052,0,6577,0,2016,null,null,"HPH 304CZ 17,4m","DJ","M",""]
["Jan Simon",1970,"Kralupy","CZ/C1","AZ Cup 2016 - Kombi","CZ",14,1470,2052,0,6157,0,2016,null,null,"Nimbus 3 22.9m 750 kg WL","HS","M",""]
["Zdenek Boruvka 54",1954,"Jičín","CZ/C2","AZ Cup 2016 - Kombi","CZ",15,1101,2052,0,4756,0,2016,null,null,"LS-8-18 18m","ZB","M",""]
["Karel Benisek 76",1976,"Toužim","CZ/C1","AZ Cup 2016 - Kombi","CZ",16,1019,2052,0,4333,0,2016,null,null,"Ventus ct 17,6m","KB","M",""]
["Tomas Charvat",1981,"Vysoké Mýto","CZ/C2","AZ Cup 2016 - Kombi","CZ",17,974,2052,0,4037,0,2016,null,null,"DuoDiscus 700kg",777,"M",""]
["Roman Lanzendorf",1964,"Letkov","CZ/C1","AZ Cup 2016 - Kombi","CZ",18,941,2052,0,3781,0,2016,null,null,"Ventus ct 17.6m","AS","M",""]
["Petr Jiranek 63",1962,"Toužim","CZ/C1","AZ Cup 2016 - Kombi","CZ",19,491,2052,0,{"$f":"ROUND(H80/I80*10000*0.7+(MAX($G$62:$G$83)-G80)/(MAX($G$62:$G$83)-1)*10000*0.3,0)","v":2104},0,2016,null,null,"Ventus ct 17.6m","EB","M",""]
["Ondrej Dupal",1966,"GAC Benešov","CZ/C1","AZ Cup 2016 - Kombi","CZ",20,455,2052,0,1838,0,2016,null,null,"ASG-29E 18m 600kg","GO","M",""]
["Vladimir Spilka",1940,"Hranice","CZ/M","AZ Cup 2016 - Kombi","CZ",21,305,2052,0,1183,0,2016,null,null,"Nimbus 2b","AY","M",""]
["Lenka Kuthanova",1960,"LK Břeclav","CZ/M","AZ Cup 2016 - Kombi","CZ",22,244,2052,0,832,0,2016,null,null,"LS-8b 18m","JB","F",""]
["Michal Lesinger",1966,"Moravská Třebová","CZ/M","12. JPJ 2016 - Klub","CZ",1,4336,4336,0.60499999999999998,{"$f":"ROUND(H84/I84*10000*0.7+(MAX($G$84:$G$108)-G84)/(MAX($G$84:$G$108)-1)*10000*0.3,0)","v":10000},{"$f":"ROUND(J84*K84,0)","v":6050},2016,null,null,"ASW-19B","LL","M",""]
["Petr Vodicka",1965,"Jaroměř","CZ/C2","12. JPJ 2016 - Klub","CZ",2,4152,4336,{"$f":"VLOOKUP(E85,Soutez,8,0)","v":0.60499999999999998},{"$f":"ROUND(H85/I85*10000*0.7+(MAX($G$84:$G$108)-G85)/(MAX($G$84:$G$108)-1)*10000*0.3,0)","v":9578},{"$f":"ROUND(J85*K85,0)","v":5795},2016,"x",null,"Discus b","JA","M",""]
["Radek Hybl",1980,"Šumperk","CZ/M","12. JPJ 2016 - Klub","CZ",3,3822,4336,0.60499999999999998,8920,5397,2016,"x",null,"Std. Cirrus","AYz","M",""]
["Martin Ficnar",1971,"Šumperk","CZ/M","12. JPJ 2016 - Klub","CZ",4,3783,4336,0.60499999999999998,8732,5283,2016,"x",null,"LS 3a","S20","M",""]
["Josef Novak",1981,"Kunovice","CZ/M","12. JPJ 2016 - Klub","CZ",5,3639,4336,0.60499999999999998,8375,5067,2016,"x",null,"LS-1f","JT","M",""]
["Roman Schotli",1970,"Hranice","CZ/M","12. JPJ 2016 - Klub","CZ",6,3383,4336,0.60499999999999998,7836,4741,2016,"x",null,"ASW-19B",19,"M",""]
["Petr Lonsky",1965,"Toužim","CZ/C1","12. JPJ 2016 - Klub","CZ",7,3245,4336,0.60499999999999998,7489,4531,2016,"x",null,"LS-1d","CL","M",""]
["Libor Bednarik",1972,"Kunovice","CZ/M","12. JPJ 2016 - Klub","CZ",8,3168,4336,0.60499999999999998,7239,4380,2016,"x",null,"Std. Cirrus","PIF","M",""]
["Jan Zahradka",1981,"Hodkovice","CZ/C2","12. JPJ 2016 - Klub","CZ",9,2970,4336,0.60499999999999998,6795,4111,2016,null,null,"Std. Cirrus","UB","M",""]
["Jan Matejovsky",1972,"Hranice","CZ/M","12. JPJ 2016 - Klub","CZ",10,2941,4336,0.60499999999999998,6623,4007,2016,null,null,"LS 3","BT","M",""]
["Michal Cechmanek",1978,"Luhačovice","CZ/M","12. JPJ 2016 - Klub","CZ",11,2903,4336,0.60499999999999998,6437,3894,2016,"x",null,"Phobus","P1","M",""]
["Eduard Svoboda",1957,"Raná","CZ/C2","12. JPJ 2016 - Klub","CZ",12,2887,4336,0.60499999999999998,6286,3803,2016,null,null,"ASW-15B","HL","M",""]
["Martin Urner",1974,"Letňany","CZ/C1","12. JPJ 2016 - Klub","CZ",13,2881,4336,0.60499999999999998,6151,3721,2016,null,null,"ASW-15B","JJ","M",""]
["Matous Schmidt",1981,"Letňany","CZ/C1","12. JPJ 2016 - Klub","CZ",14,2759,4336,0.60499999999999998,5829,3527,2016,null,null,"Std. Cirrus","IMI","M",""]
["Martin Kriz",1968,"Přibyslav","CZ/C2","12. JPJ 2016 - Klub","CZ",15,2712,4336,0.60499999999999998,5628,3405,2016,null,null,"ASW-15B","BE","M",""]
["Martin Svarc",1981,"Olomouc","CZ/M","12. JPJ 2016 - Klub","CZ",16,2693,4336,0.60499999999999998,5473,3311,2016,"x",null,"DG-101G","HE","M",""]
["Martin Hejny",1984,"Šumperk","CZ/M","12. JPJ 2016 - Klub","CZ",17,2657,4336,0.60499999999999998,5289,3200,2016,"x",null,"ASW 15B","EZ","M",""]
["Tomas Prokop",1972,"Šumperk","CZ/M","12. JPJ 2016 - Klub","CZ",18,2597,4336,0.60499999999999998,5068,3066,2016,"x",null,"ASW-15","UP","M",""]
["Petr Havrlant",1965,"Šumperk","CZ/M","12. JPJ 2016 - Klub","CZ",19,2431,4336,0.60499999999999998,4675,2828,2016,"x",null,"ASW15B","R5","M",""]
["Lubomir Papezik",{"$f":"VLOOKUP(A103,Pilot,2,0)","v":1951},{"$f":"VLOOKUP(A103,Pilot,3,0)","v":"Luhačovice"},{"$f":"VLOOKUP(A103,Pilot,4,0)","v":"CZ/M"},"12. JPJ 2016 - Klub","CZ",20,2353,4336,0.60499999999999998,4424,2677,2016,null,null,"LS-4","FP",{"$f":"VLOOKUP(A103,Pilot,5,0)","v":"M"},{"$f":"IF(ISERROR(VLOOKUP(A103,Pilot,6,0)),\"Není v databázi\",VLOOKUP(A103,Pilot,6,0))","v":""}]
["Petr Kolomaznik",1981,"Šumperk","CZ/M","12. JPJ 2016 - Klub","CZ",21,1804,4336,0.60499999999999998,3412,2064,2016,"x",null,"Jantar std. 2","SU","M",""]
["Jaromir Vlk",1959,"Šumperk","CZ/M","12. JPJ 2016 - Klub","CZ",22,1767,4336,0.60499999999999998,3228,1953,2016,null,null,"VSO-10",4,"M",""]
["Antonin Kutalek",1943,"Zábřeh","CZ/M","12. JPJ 2016 - Klub","CZ",23,1744,4336,0.60499999999999998,3065,1854,2016,null,null,"Mini-Nimbus","GL","M",""]
["Yvona Vyhnankova",1963,"Olomouc","CZ/M","12. JPJ 2016 - Klub","CZ",24,1500,4336,0.60499999999999998,2547,1541,2016,null,null,"ASW-15","YZ","F",""]
["Jan Pokluda",1973,"Šumperk","CZ/M","12. JPJ 2016 - Klub","CZ",25,1254,4336,0.60499999999999998,{"$f":"ROUND(H108/I108*10000*0.7+(MAX($G$84:$G$108)-G108)/(MAX($G$84:$G$108)-1)*10000*0.3,0)","v":2024},1225,2016,"x",null,"ASW-15B WL","JG","M",""]
["Danes Grula",1961,"Medlánky","CZ/M","12. JPJ 2016 - Kombi","CZ",1,4522,4522,0.6,{"$f":"ROUND(H109/I109*10000*0.7+(MAX($G$109:$G$125)-G109)/(MAX($G$109:$G$125)-1)*10000*0.3,0)","v":10000},{"$f":"ROUND(J109*K109,0)","v":6000},2016,null,null,"ASG 29E 18m","DX","M",""]
["Frantisek Vancura",1966,"Hranice","CZ/M","12. JPJ 2016 - Kombi","CZ",2,3862,4522,0.6,{"$f":"ROUND(H110/I110*10000*0.7+(MAX($G$109:$G$125)-G110)/(MAX($G$109:$G$125)-1)*10000*0.3,0)","v":8791},{"$f":"ROUND(J110*K110,0)","v":5275},2016,null,null,"Nimbus 3T 24,5m","A1","M",""]
["Marek Blatak",1969,"Šumperk","CZ/M","12. JPJ 2016 - Kombi","CZ",3,3824,4522,0.6,8545,5127,2016,null,null,"Ventus c 17.6m","EB","M",""]
["Miroslav Koci",1961,"Žamberk","CZ/C2","12. JPJ 2016 - Kombi","CZ",4,3696,4522,0.6,8159,4895,2016,"x",null,"Ventus 2cxM/18m","E8","M",""]
["Jan Simon",1970,"Kralupy","CZ/C1","12. JPJ 2016 - Kombi","CZ",5,3689,4522,0.6,7961,4777,2016,"x",null,"Nimbus 3 22,9m WL","HS","M",""]
["Zdenek Schenk",1972,"Hranice","CZ/M","12. JPJ 2016 - Kombi","CZ",6,3524,4522,0.6,7518,4511,2016,null,null,"Ventus ct 17.6m","SNK","M",""]
["Jiri Steiger",1969,"Olomouc","CZ/M","12. JPJ 2016 - Kombi","CZ",7,3489,4522,0.6,7276,4366,2016,null,null,"Ventus 2cxT/18m","JS","M",""]
["Kamil Sohr",1973,"Šumperk","CZ/M","12. JPJ 2016 - Kombi","CZ",8,3297,4522,0.6,6791,4075,2016,"x",null,"SZD 55","BC","M",""]
["Miroslav Sklenar",1964,"Žamberk","CZ/C2","12. JPJ 2016 - Kombi","CZ",9,3200,4522,0.6,6454,3872,2016,"x",null,"Duo Discus","VP","M",""]
["Roman Petro",null,"Nitra","SK","12. JPJ 2016 - Kombi","CZ",10,2920,4522,0.6,5833,3500,2016,null,null,"DG 1000S","NIT","M"]
["Albrecht Beat",{"$f":"VLOOKUP(A119,Pilot,2,0)","v":1953},{"$f":"VLOOKUP(A119,Pilot,3,0)","v":"Šumperk"},{"$f":"VLOOKUP(A119,Pilot,4,0)","v":"CZ/M"},"12. JPJ 2016 - Kombi","CZ",11,2727,4522,0.6,5346,3208,2016,"x",null,"LS 8","GL",{"$f":"VLOOKUP(A119,Pilot,5,0)","v":"M"},{"$f":"IF(ISERROR(VLOOKUP(A119,Pilot,6,0)),\"Není v databázi\",VLOOKUP(A119,Pilot,6,0))","v":""}]
["Tomas Fiala 77",{"$f":"VLOOKUP(A120,Pilot,2,0)","v":1977},{"$f":"VLOOKUP(A120,Pilot,3,0)","v":"Luhačovice"},{"$f":"VLOOKUP(A120,Pilot,4,0)","v":"CZ/M"},"12. JPJ 2016 - Kombi","CZ",12,2181,4522,0.6,4314,2588,2016,"x",null,"Arcus M","AR",{"$f":"VLOOKUP(A120,Pilot,5,0)","v":"M"},{"$f":"IF(ISERROR(VLOOKUP(A120,Pilot,6,0)),\"Není v databázi\",VLOOKUP(A120,Pilot,6,0))","v":""}]
["Christof Madoery",null,null,null,"12. JPJ 2016 - Kombi","CZ",13,2039,4522,0.6,3906,2344,2016,null,null,"ASH 25","IQ","M"]
["Vladimir Spilka",{"$f":"VLOOKUP(A122,Pilot,2,0)","v":1940},{"$f":"VLOOKUP(A122,Pilot,3,0)","v":"Hranice"},{"$f":"VLOOKUP(A122,Pilot,4,0)","v":"CZ/M"},"12. JPJ 2016 - Kombi","CZ",14,1727,4522,0.6,3236,1942,2016,null,null,"Nimbus 2b","AY",{"$f":"VLOOKUP(A122,Pilot,5,0)","v":"M"},{"$f":"IF(ISERROR(VLOOKUP(A122,Pilot,6,0)),\"Není v databázi\",VLOOKUP(A122,Pilot,6,0))","v":""}]
["Dusan Sys",1977,"Šumperk","CZ/M","12. JPJ 2016 - Kombi","CZ",15,1309,4522,0.6,{"$f":"ROUND(H123/I123*10000*0.7+(MAX($G$109:$G$125)-G123)/(MAX($G$109:$G$125)-1)*10000*0.3,0)","v":2401},1441,2016,"x",null,"DG 808C/18m WL","MS","M",""]
["Roman Cerny",1971,"Hranice","CZ/M","12. JPJ 2016 - Kombi","CZ",16,1197,4522,0.6,2040,1224,2016,"x",null,"ASW 20",67,"M",""]
["Marek Sild",1976,"Kunovice","CZ/M","12. JPJ 2016 - Kombi","CZ",17,0,4522,0.6,0,0,2016,null,null,"DG-400 17m","VZ","M",""]
["Jiri Klicnar",1965,"Medlánky","CZ/M","Závody Šohajů 2016 - Klub","CZ",1,44,44,0,{"$f":"ROUND(H126/I126*10000*0.7+(MAX($G$126:$G$134)-G126)/(MAX($G$126:$G$134)-1)*10000*0.3,0)","v":10000},{"$f":"ROUND(J126*K126,0)","v":0},2016,null,null,"VT-125 Sohaj","Š","M",""]
["Miroslav Burdych",1973,"Nové Město nad Metují","CZ/C2","Závody Šohajů 2016 - Klub","CZ",2,32,44,0,{"$f":"ROUND(H127/I127*10000*0.7+(MAX($G$126:$G$134)-G127)/(MAX($G$126:$G$134)-1)*10000*0.3,0)","v":7716},{"$f":"ROUND(J127*K127,0)","v":0},2016,null,null,"Bergfalke III","R","M",""]
["Vladimir Abraham",1962,"Raná","CZ/C2","Závody Šohajů 2016 - Klub","CZ",3,28,44,0,6705,0,2016,null,null,"Ka 6","YZ","M",""]
["Miroslav Major",1968,"GAC Benešov","CZ/C1","Závody Šohajů 2016 - Klub","CZ",3,28,44,0,6705,0,2016,null,null,"VT-125 Sohaj","F","M",""]
["Vaclav Cerny",1949,"Plasy","CZ/C1","Závody Šohajů 2016 - Klub","CZ",5,27,44,0,5795,0,2016,null,null,"VT-125 Sohaj","V","M",""]
["Tomas Mezera",1973,"Raná","CZ/C2","Závody Šohajů 2016 - Klub","CZ",5,27,44,0,5795,0,2016,null,null,"VT-425 Sohaj","T","M",""]
["Jiri Lenik",1947,"Raná","CZ/C2","Závody Šohajů 2016 - Klub","CZ",7,21,44,0,4091,0,2016,null,null,"Olympia 2","BKK","M",""]
["Jiri Slouka",1967,"Medlánky","CZ/M","Závody Šohajů 2016 - Klub","CZ",8,16,44,0,{"$f":"ROUND(H133/I133*10000*0.7+(MAX($G$126:$G$134)-G133)/(MAX($G$126:$G$134)-1)*10000*0.3,0)","v":2920},0,2016,null,null,"Vt-125 Sohaj","I","M",""]
["Ulf Kern",1958,"Raná","CZ/C2","Závody Šohajů 2016 - Klub","CZ",9,11,44,0,1750,0,2016,null,null,"VT-125 Sohaj","L","M",""]
["Ondrej Dvorak 87",1987,"Raná","CZ/C2","PMČR 2016 - Klub","CZ",1,4331,4331,1.0900000000000001,{"$f":"ROUND(H135/I135*10000*0.7+(MAX($G$135:$G$180)-G135)/(MAX($G$135:$G$180)-1)*10000*0.3,0)","v":10000},{"$f":"ROUND(J135*K135,0)","v":10900},2016,"x",null,"Std. Cirrus","FW","M",""]
["Tomas Suchanek",1964,"GAC Benešov","CZ/C1","PMČR 2016 - Klub","CZ",2,4272,4331,1.0900000000000001,{"$f":"ROUND(H136/I136*10000*0.7+(MAX($G$135:$G$180)-G136)/(MAX($G$135:$G$180)-1)*10000*0.3,0)","v":9838},{"$f":"ROUND(J136*K136,0)","v":10723},2016,"x",null,"Std. Cirrus","ST","M",""]
["Marek Pechanec",1970,"Luhačovice","CZ/M","PMČR 2016 - Klub","CZ",3,4230,4331,1.0900000000000001,9703,10576,2016,"x",null,"Std. Cirrus","SJ","M",""]
["David Mach",1994,"Hronov","CZ/C2","PMČR 2016 - Klub","CZ",4,4212,4331,1.0900000000000001,9608,10473,2016,"x",null,"Cirrus VTC","1W","M","Junior v roce 2019"]
["Lubomir Motl",1959,"Kyjov","CZ/M","PMČR 2016 - Klub","CZ",5,4160,4331,1.0900000000000001,9457,10308,2016,"x",null,"LS 1f","G2","M",""]
["Ondrej Bordovsky",1983,"Krnov","CZ/M","PMČR 2016 - Klub","CZ",6,4121,4331,1.0900000000000001,9327,10166,2016,"x",null,"Std. Cirrus","BW","M",""]
["Jan Louda",1986,"Mladá Boleslav","CZ/C1","PMČR 2016 - Klub","CZ",7,3989,4331,1.0900000000000001,9047,9861,2016,"x",null,"Std. Cirrus","CX","M",""]
["Gunnar Axelsson",null,"Boraas Segelflygklubb","SE","PMČR 2016 - Klub","CZ",8,3976,4331,1.0900000000000001,8960,9766,2016,null,null,"Std. Cirrus","XII","M","Není v databázi"]
["Michal Lesinger",{"$f":"VLOOKUP(A143,Pilot,2,0)","v":1966},{"$f":"VLOOKUP(A143,Pilot,3,0)","v":"Moravská Třebová"},{"$f":"VLOOKUP(A143,Pilot,4,0)","v":"CZ/M"},"PMČR 2016 - Klub","CZ",9,3955,4331,1.0900000000000001,8859,9656,2016,"x",null,"ASW-19B","LL",{"$f":"VLOOKUP(A143,Pilot,5,0)","v":"M"},""]
["Eric Bernard",null,"Bordeaux","FR","PMČR 2016 - Klub","CZ",10,3919,4331,1.0900000000000001,8734,9520,2016,null,null,"Std. Cirrus","C11","M","Není v databázi"]
["Fabian Peitz",null,"LSV-Schneverdingen e.V.","DE","PMČR 2016 - Klub","CZ",11,3896,4331,1.0900000000000001,8630,9407,2016,null,null,"H-201b Std. Libelle","FH","M","Není v databázi"]
["Ivan Novak",{"$f":"VLOOKUP(A146,Pilot,2,0)","v":1962},{"$f":"VLOOKUP(A146,Pilot,3,0)","v":"Mladá Boleslav"},{"$f":"VLOOKUP(A146,Pilot,4,0)","v":"CZ/C1"},"PMČR 2016 - Klub","CZ",12,3876,4331,1.0900000000000001,8531,9299,2016,null,null,"Std. Cirrus","DI",{"$f":"VLOOKUP(A146,Pilot,5,0)","v":"M"},""]
["Jan Pavlik",1987,"Křižanov","CZ/M","PMČR 2016 - Klub","CZ",13,3872,4331,1.0900000000000001,8458,9219,2016,"x",null,"Std. Cirrus","ICQ","M",""]
["Jakub Hlavacek",1991,"Letkov","CZ/C1","PMČR 2016 - Klub","CZ",14,3818,4331,1.0900000000000001,8304,9051,2016,"x",null,"Std. Cirrus","AL","M",""]
["Klara Teichmannova",1993,"Hronov","CZ/C2","PMČR 2016 - Klub","CZ",15,3706,4331,{"$f":"VLOOKUP(E149,Soutez,8,0)","v":1.0900000000000001},8057,8782,2016,"x","x","Std. Cirrus","LY","F",""]
["Josef Bostik",1963,"GAC Benešov","CZ/C1","PMČR 2016 - Klub","CZ",16,3675,4331,1.0900000000000001,7940,8655,2016,"x",null,"Std. Cirrus","I","M",""]
["Zdenek Boruvka 86",1986,"Jičín","CZ/C2","PMČR 2016 - Klub","CZ",17,3670,4331,1.0900000000000001,7865,8573,2016,null,null,"Std. Cirrus","BJ","M",""]
["Jan Kotan",1982,"Letňany","CZ/C1","PMČR 2016 - Klub","CZ",18,3593,4331,1.0900000000000001,7674,8365,2016,null,null,"ASW-19B","WT","M",""]
["Vaclav Marel",1974,"Jaroměř","CZ/C2","PMČR 2016 - Klub","CZ",19,3463,4331,1.0900000000000001,7397,8063,2016,"x",null,"Std. Cirrus","IF","M",""]
["Martin Jurovic",null,"Bratislava","SK","PMČR 2016 - Klub","CZ",20,3460,4331,1.0900000000000001,7326,7985,2016,null,null,"Centrair C-101B Pegas","J2","M","Není v databázi"]
["Jan Obrucnik",{"$f":"VLOOKUP(A155,Pilot,2,0)","v":1991},{"$f":"VLOOKUP(A155,Pilot,3,0)","v":"Kralupy"},{"$f":"VLOOKUP(A155,Pilot,4,0)","v":"CZ/C1"},"PMČR 2016 - Klub","CZ",21,3369,4331,1.0900000000000001,7112,7752,2016,"x",null,"LS 1f","EF",{"$f":"VLOOKUP(A155,Pilot,5,0)","v":"M"},""]
["Martin Piskacek",{"$f":"VLOOKUP(A156,Pilot,2,0)","v":1991},{"$f":"VLOOKUP(A156,Pilot,3,0)","v":"Beroun"},{"$f":"VLOOKUP(A156,Pilot,4,0)","v":"CZ/C1"},"PMČR 2016 - Klub","CZ",22,3278,4331,1.0900000000000001,6898,7519,2016,"x",null,"Std. Cirrus",75,{"$f":"VLOOKUP(A156,Pilot,5,0)","v":"M"},""]
["Petr Panek",{"$f":"VLOOKUP(A157,Pilot,2,0)","v":1975},{"$f":"VLOOKUP(A157,Pilot,3,0)","v":"Dvůr Králové"},{"$f":"VLOOKUP(A157,Pilot,4,0)","v":"CZ/C2"},"PMČR 2016 - Klub","CZ",23,3216,4331,1.0900000000000001,6731,7337,2016,null,null,"Std. Cirrus","YU",{"$f":"VLOOKUP(A157,Pilot,5,0)","v":"M"},""]
["Martin Stepanek",{"$f":"VLOOKUP(A158,Pilot,2,0)","v":1987},{"$f":"VLOOKUP(A158,Pilot,3,0)","v":"Moravská Třebová"},{"$f":"VLOOKUP(A158,Pilot,4,0)","v":"CZ/M"},"PMČR 2016 - Klub","CZ",24,3166,4331,1.0900000000000001,6584,7177,2016,"x",null,"ASW-15B","LE",{"$f":"VLOOKUP(A158,Pilot,5,0)","v":"M"},""]
["Amelie Audier",null,"Beynes","FR","PMČR 2016 - Klub","CZ",25,3085,4331,1.0900000000000001,6386,6961,2016,null,null,"Std. Cirrus","EA","F","Není v databázi"]
["Jan Viskot",{"$f":"VLOOKUP(A160,Pilot,2,0)","v":1995},{"$f":"VLOOKUP(A160,Pilot,3,0)","v":"Břeclav"},{"$f":"VLOOKUP(A160,Pilot,4,0)","v":"CZ/M"},"PMČR 2016 - Klub","CZ",26,3084,4331,1.0900000000000001,6318,6887,2016,null,null,"G-102 Astir cs","AY",{"$f":"VLOOKUP(A160,Pilot,5,0)","v":"M"},"Junior v roce 2019"]
["Tomas Frinta",{"$f":"VLOOKUP(A161,Pilot,2,0)","v":1970},{"$f":"VLOOKUP(A161,Pilot,3,0)","v":"Hodkovice"},{"$f":"VLOOKUP(A161,Pilot,4,0)","v":"CZ/C2"},"PMČR 2016 - Klub","CZ",27,3079,4331,1.0900000000000001,6243,6805,2016,"x",null,"ASW-19B","CF",{"$f":"VLOOKUP(A161,Pilot,5,0)","v":"M"},""]
["Viktor Hnata",null,"Holic","SK","PMČR 2016 - Klub","CZ",28,3060,4331,1.0900000000000001,6146,6699,2016,null,null,"Std. Cirrus","V1","M","Není v databázi"]
["Pavlina Horackova",{"$f":"VLOOKUP(A163,Pilot,2,0)","v":1965},{"$f":"VLOOKUP(A163,Pilot,3,0)","v":"Šumperk"},{"$f":"VLOOKUP(A163,Pilot,4,0)","v":"CZ/M"},"PMČR 2016 - Klub","CZ",29,3047,4331,1.0900000000000001,6058,6603,2016,"x","x","SZD-48 Jantar Std.2","SU",{"$f":"VLOOKUP(A163,Pilot,5,0)","v":"F"},""]
["Niklas Lofgren",null,"Karlstad SFK","DE","PMČR 2016 - Klub","CZ",30,3022,4331,1.0900000000000001,5951,6487,2016,null,null,"Std. Cirrus","A1","M","Není v databázi"]
["Petr Stepanek",{"$f":"VLOOKUP(A165,Pilot,2,0)","v":1989},{"$f":"VLOOKUP(A165,Pilot,3,0)","v":"Moravská Třebová"},{"$f":"VLOOKUP(A165,Pilot,4,0)","v":"CZ/M"},"PMČR 2016 - Klub","CZ",31,3014,4331,1.0900000000000001,5871,6399,2016,"x",null,"ASW-19B","AE",{"$f":"VLOOKUP(A165,Pilot,5,0)","v":"M"},""]
["Dennis van Deest-Behnke",null,"LSV Schneverdingen","DE","PMČR 2016 - Klub","CZ",32,2952,4331,1.0900000000000001,5705,6218,2016,null,null,"H-201b Std. Libelle","Y6","M","Není v databázi"]
["Jan Horak",{"$f":"VLOOKUP(A167,Pilot,2,0)","v":1971},{"$f":"VLOOKUP(A167,Pilot,3,0)","v":"Zbraslavice"},{"$f":"VLOOKUP(A167,Pilot,4,0)","v":"CZ/C1"},"PMČR 2016 - Klub","CZ",33,2927,4331,1.0900000000000001,5597,6101,2016,null,null,"ASW-15B","TX",{"$f":"VLOOKUP(A167,Pilot,5,0)","v":"M"},""]
["Pavel Jiranek",{"$f":"VLOOKUP(A168,Pilot,2,0)","v":1993},{"$f":"VLOOKUP(A168,Pilot,3,0)","v":"Toužim"},{"$f":"VLOOKUP(A168,Pilot,4,0)","v":"CZ/C1"},"PMČR 2016 - Klub","CZ",34,2896,4331,1.0900000000000001,5481,5974,2016,"x",null,"Std. Cirrus","IYD",{"$f":"VLOOKUP(A168,Pilot,5,0)","v":"M"},""]
["Leos Strnadek",{"$f":"VLOOKUP(A169,Pilot,2,0)","v":1983},{"$f":"VLOOKUP(A169,Pilot,3,0)","v":"Hodkovice"},{"$f":"VLOOKUP(A169,Pilot,4,0)","v":"CZ/C2"},"PMČR 2016 - Klub","CZ",35,2848,4331,1.0900000000000001,5336,5816,2016,null,null,"ASW-19B","AFK",{"$f":"VLOOKUP(A169,Pilot,5,0)","v":"M"},""]
["Marek Straka",null,"Trencin","SK","PMČR 2016 - Klub","CZ",36,2840,4331,1.0900000000000001,5257,5730,2016,null,null,"ASW-19","AI","M","Není v databázi"]
["Zdenek Balcarek",{"$f":"VLOOKUP(A171,Pilot,2,0)","v":1967},{"$f":"VLOOKUP(A171,Pilot,3,0)","v":"Kroměříž"},{"$f":"VLOOKUP(A171,Pilot,4,0)","v":"CZ/M"},"PMČR 2016 - Klub","CZ",37,2788,4331,1.0900000000000001,5106,5566,2016,null,null,"Std. Cirrus","ZL",{"$f":"VLOOKUP(A171,Pilot,5,0)","v":"M"},""]
["Barbora Moravcova",{"$f":"VLOOKUP(A172,Pilot,2,0)","v":1994},{"$f":"VLOOKUP(A172,Pilot,3,0)","v":"Zbraslavice"},{"$f":"VLOOKUP(A172,Pilot,4,0)","v":"CZ/C1"},"PMČR 2016 - Klub","CZ",38,2776,4331,1.0900000000000001,5020,5472,2016,null,null,"ASW-15B","JJ",{"$f":"VLOOKUP(A172,Pilot,5,0)","v":"F"},"Junior v roce 2019"]
["Richard Vlcek",{"$f":"VLOOKUP(A173,Pilot,2,0)","v":1993},{"$f":"VLOOKUP(A173,Pilot,3,0)","v":"Kunovice"},{"$f":"VLOOKUP(A173,Pilot,4,0)","v":"CZ/M"},"PMČR 2016 - Klub","CZ",39,2651,4331,1.0900000000000001,4751,5179,2016,null,null,"Std. Cirrus","WO",{"$f":"VLOOKUP(A173,Pilot,5,0)","v":"M"},""]
["Frantisek Filandr",{"$f":"VLOOKUP(A174,Pilot,2,0)","v":1956},{"$f":"VLOOKUP(A174,Pilot,3,0)","v":"Most"},{"$f":"VLOOKUP(A174,Pilot,4,0)","v":"CZ/C2"},"PMČR 2016 - Klub","CZ",40,2618,4331,1.0900000000000001,4631,5048,2016,null,null,"Std. Cirrus","FF",{"$f":"VLOOKUP(A174,Pilot,5,0)","v":"M"},""]
["Christophe Cousseau",null,"FAFP","FR","PMČR 2016 - Klub","CZ",41,2277,4331,1.0900000000000001,4014,4375,2016,null,null,"H 206 Hornet","H1","M","Není v databázi"]
["Ionut Tanana",null,"Romania","RU","PMČR 2016 - Klub","CZ",42,2272,4331,1.0900000000000001,3939,4294,2016,null,null,"SZD-48 Jantar Std.2","YC","M","Není v databázi"]
["Antoine Havet",null,"Centre de Planeurs du Senonais","FR","PMČR 2016 - Klub","CZ",43,2084,4331,1.0900000000000001,3568,3889,2016,null,null,"Std. Cirrus","C12","M","Není v databázi"]
["Octavian Mihalcea",null,"Romanian","RU","PMČR 2016 - Klub","CZ",44,2054,4331,1.0900000000000001,3453,3764,2016,null,null,"SZD-48 Jantar Std.2","YD","M","Není v databázi"]
["Eduard Svoboda",{"$f":"VLOOKUP(A179,Pilot,2,0)","v":1957},{"$f":"VLOOKUP(A179,Pilot,3,0)","v":"Raná"},{"$f":"VLOOKUP(A179,Pilot,4,0)","v":"CZ/C2"},"PMČR 2016 - Klub","CZ",45,1131,4331,1.0900000000000001,{"$f":"ROUND(H179/I179*10000*0.7+(MAX($G$135:$G$180)-G179)/(MAX($G$135:$G$180)-1)*10000*0.3,0)","v":1895},{"$f":"ROUND(J179*K179,0)","v":2066},2016,null,null,"ASW-15B","HL",{"$f":"VLOOKUP(A179,Pilot,5,0)","v":"M"},""]
["Petr Lonsky",{"$f":"VLOOKUP(A180,Pilot,2,0)","v":1965},{"$f":"VLOOKUP(A180,Pilot,3,0)","v":"Toužim"},{"$f":"VLOOKUP(A180,Pilot,4,0)","v":"CZ/C1"},"PMČR 2016 - Klub","CZ",46,0,4331,1.0900000000000001,{"$f":"ROUND(H180/I180*10000*0.7+(MAX($G$135:$G$180)-G180)/(MAX($G$135:$G$180)-1)*10000*0.3,0)","v":0},0,2016,null,null,"LS 1d","CL",{"$f":"VLOOKUP(A180,Pilot,5,0)","v":"M"},""]
["Roman Mracek",{"$f":"VLOOKUP(A181,Pilot,2,0)","v":1980},{"$f":"VLOOKUP(A181,Pilot,3,0)","v":"Letkov"},{"$f":"VLOOKUP(A181,Pilot,4,0)","v":"CZ/C1"},"PMČR 2016 - Kombi Open","CZ",1,4346,4346,1.06,{"$f":"ROUND(H181/I181*10000*0.7+(MAX($G$181:$G$203)-G181)/(MAX($G$181:$G$203)-1)*10000*0.3,0)","v":10000},{"$f":"ROUND(J181*K181,0)","v":10600},2016,"x",null,"ASG-29E 18m 600kg","QX",{"$f":"VLOOKUP(A181,Pilot,5,0)","v":"M"},""]
["Petr Krejcirik",{"$f":"VLOOKUP(A182,Pilot,2,0)","v":1960},{"$f":"VLOOKUP(A182,Pilot,3,0)","v":"Hranice"},{"$f":"VLOOKUP(A182,Pilot,4,0)","v":"CZ/M"},"PMČR 2016 - Kombi Open","CZ",2,4001,4346,1.06,{"$f":"ROUND(H182/I182*10000*0.7+(MAX($G$181:$G$203)-G182)/(MAX($G$181:$G$203)-1)*10000*0.3,0)","v":9308},{"$f":"ROUND(J182*K182,0)","v":9866},2016,"x",null,"ASW-22 BLE 27m 850kg","RX",{"$f":"VLOOKUP(A182,Pilot,5,0)","v":"M"},""]
["Martin Hrivna",{"$f":"VLOOKUP(A183,Pilot,2,0)","v":1978},{"$f":"VLOOKUP(A183,Pilot,3,0)","v":"Zbraslavice"},{"$f":"VLOOKUP(A183,Pilot,4,0)","v":"CZ/C1"},"PMČR 2016 - Kombi Open","CZ",3,3927,4346,1.06,9052,9595,2016,"x",null,"ASG-29E 18m 600kg","NX",{"$f":"VLOOKUP(A183,Pilot,5,0)","v":"M"},""]
["Lucas Delobel",null,"Pole France","FR","PMČR 2016 - Kombi Open","CZ",4,3717,4346,1.06,8578,9093,2016,null,null,"JS-1C EVO 18m","FC","M","Není v databázi"]
["Danes Grula",{"$f":"VLOOKUP(A185,Pilot,2,0)","v":1961},{"$f":"VLOOKUP(A185,Pilot,3,0)","v":"Medlánky"},{"$f":"VLOOKUP(A185,Pilot,4,0)","v":"CZ/M"},"PMČR 2016 - Kombi Open","CZ",5,3648,4346,1.06,8330,8830,2016,"x",null,"ASG-29 18m 600kg","DX",{"$f":"VLOOKUP(A185,Pilot,5,0)","v":"M"},""]
["Eric Napoleon",null,"Fédération Française de Vol à Voile","FR","PMČR 2016 - Kombi Open","CZ",6,3638,4346,1.06,8178,8669,2016,null,null,"Arcus S","FP","M",{"$f":"IF(ISERROR(VLOOKUP(A186,Pilot,6,0)),\"Není v databázi\",VLOOKUP(A186,Pilot,6,0))","v":"Není v databázi"}]
["Anne Ducarouge",null,"Nogaro","FR","PMČR 2016 - Kombi Open","CZ",7,3505,4346,1.06,7827,8297,2016,null,null,"ASG-29 18m","FB","F","Není v databázi"]
["Norbert Sommer",null,null,"DE","PMČR 2016 - Kombi Open","CZ",8,3494,4346,1.06,7673,8133,2016,null,null,"Ventus 2cxt 18m 600kg","7L","M","Není v databázi"]
["Jana Treslova",{"$f":"VLOOKUP(A189,Pilot,2,0)","v":1963},{"$f":"VLOOKUP(A189,Pilot,3,0)","v":"Raná"},{"$f":"VLOOKUP(A189,Pilot,4,0)","v":"CZ/C2"},"PMČR 2016 - Kombi Open","CZ",9,3462,4346,1.06,7485,7934,2016,"x","x","ASG-29 18m 600kg","QZ",{"$f":"VLOOKUP(A189,Pilot,5,0)","v":"F"},""]
["Takeshi Maruyama",null,"Japan Soaring Club","JP","PMČR 2016 - Kombi Open","CZ",10,3435,4346,1.06,7305,7743,2016,null,null,"ASG-29E 18m 600kg","RI","M","Není v databázi"]
["Jiri Steiger",{"$f":"VLOOKUP(A191,Pilot,2,0)","v":1969},{"$f":"VLOOKUP(A191,Pilot,3,0)","v":"Olomouc"},{"$f":"VLOOKUP(A191,Pilot,4,0)","v":"CZ/M"},"PMČR 2016 - Kombi Open","CZ",11,3221,4346,1.06,6824,7233,2016,"x",null,"Ventus 2cxt 18m 600kg","JS",{"$f":"VLOOKUP(A191,Pilot,5,0)","v":"M"},""]
["Jiri Stepanek",{"$f":"VLOOKUP(A192,Pilot,2,0)","v":1956},{"$f":"VLOOKUP(A192,Pilot,3,0)","v":"Moravská Třebová"},{"$f":"VLOOKUP(A192,Pilot,4,0)","v":"CZ/M"},"PMČR 2016 - Kombi Open","CZ",12,3156,4346,1.06,6583,6978,2016,"x",null,"Nimbus 2b","MT",{"$f":"VLOOKUP(A192,Pilot,5,0)","v":"M"},""]
["Thomas Viehmann",null,"LSV Henschel Flugzeug Werke","DE","PMČR 2016 - Kombi Open","CZ",13,3084,4346,1.06,6331,6711,2016,null,null,"Arcus T","HLB","M","Není v databázi"]
["Jan Boruvka",{"$f":"VLOOKUP(A194,Pilot,2,0)","v":1984},{"$f":"VLOOKUP(A194,Pilot,3,0)","v":"Jičín"},{"$f":"VLOOKUP(A194,Pilot,4,0)","v":"CZ/C2"},"PMČR 2016 - Kombi Open","CZ",14,2891,4346,1.06,5884,6237,2016,null,null,"Ventus c 17,6m","EG",{"$f":"VLOOKUP(A194,Pilot,5,0)","v":"M"},""]
["Petr Hotovy",1958,"Česká Lípa","CZ/C2","PMČR 2016 - Kombi Open","CZ",15,2810,4346,1.06,5617,5954,2016,null,null,"HpH 304M Shark 18m","MH","M",""]
["Karel Mares",1974,"Slaný","CZ/C1","PMČR 2016 - Kombi Open","CZ",16,2771,4346,1.06,5418,5743,2016,null,null,"LAK 17 AT 18m","YF","M",""]
["Alena Netusilova",1970,"Zbraslavice","CZ/C1","PMČR 2016 - Kombi Open","CZ",17,1880,4346,1.06,3846,4077,2016,null,null,"JS-1CTJ 21m","JX","F",""]
["Petr Starek",1974,"Zbraslavice","CZ/C1","PMČR 2016 - Kombi Open","CZ",18,1877,4346,1.06,{"$f":"ROUND(H198/I198*10000*0.7+(MAX($G$181:$G$203)-G198)/(MAX($G$181:$G$203)-1)*10000*0.3,0)","v":3705},3927,2016,"x",null,"HpH 304SJ 18m 573kg",66,"M",""]
["Jan Kantor",1983,"Letňany","CZ/C1","PMČR 2016 - Kombi Open","CZ",19,1567,4346,1.06,3069,3253,2016,"x",null,"Ventus c 17,6m","UC","M",""]
["Petr Tichy",1973,"Zbraslavice","CZ/C1","PMČR 2016 - Kombi Open","CZ",20,1487,4346,1.06,2804,2972,2016,null,null,"ASG-29E 18m 600kg","AJ","M",""]
["Lenka Kuthanova",1960,"LK Břeclav","CZ/M","PMČR 2016 - Kombi Open","CZ",21,1139,4346,1.06,2107,2233,2016,null,null,"Arcus M","EY","F",""]
["Zdislaw Bednarczuk",null,"Bielsko Biala","PL","PMČR 2016 - Kombi Open","CZ",22,1086,4346,1.06,1886,1999,2016,null,null,"ASG-29E 18m 600kg","ZB","M","Není v databázi"]
["Tomas Rendla",{"$f":"VLOOKUP(A203,Pilot,2,0)","v":1973},{"$f":"VLOOKUP(A203,Pilot,3,0)","v":"Zbraslavice"},{"$f":"VLOOKUP(A203,Pilot,4,0)","v":"CZ/C1"},"PMČR 2016 - Kombi Open","CZ",23,564,4346,1.06,908,962,2016,null,null,"EB-29 28,3m 850kg","EX",{"$f":"VLOOKUP(A203,Pilot,5,0)","v":"M"},""]
["Miloslav Cink",{"$f":"VLOOKUP(A204,Pilot,2,0)","v":1987},{"$f":"VLOOKUP(A204,Pilot,3,0)","v":"Letkov"},{"$f":"VLOOKUP(A204,Pilot,4,0)","v":"CZ/C1"},"PMČR 2016 - Kombi 15m","CZ",1,3727,3727,1.0449999999999999,{"$f":"ROUND(H204/I204*10000*0.7+(MAX($G$204:$G$222)-G204)/(MAX($G$204:$G$222)-1)*10000*0.3,0)","v":10000},{"$f":"ROUND(J204*K204,0)","v":10450},2016,"x",null,"LS-8b 15m","EU",{"$f":"VLOOKUP(A204,Pilot,5,0)","v":"M"},""]
["Pavel Louzecky",{"$f":"VLOOKUP(A205,Pilot,2,0)","v":1957},{"$f":"VLOOKUP(A205,Pilot,3,0)","v":"Přibyslav"},{"$f":"VLOOKUP(A205,Pilot,4,0)","v":"CZ/C2"},"PMČR 2016 - Kombi 15m","CZ",2,3629,3727,1.0449999999999999,{"$f":"ROUND(H205/I205*10000*0.7+(MAX($G$204:$G$222)-G205)/(MAX($G$204:$G$222)-1)*10000*0.3,0)","v":9649},{"$f":"ROUND(J205*K205,0)","v":10083},2016,"x",null,"LS-8b","AU",{"$f":"VLOOKUP(A205,Pilot,5,0)","v":"M"},""]
["Jana Veprekova",{"$f":"VLOOKUP(A206,Pilot,2,0)","v":1961},{"$f":"VLOOKUP(A206,Pilot,3,0)","v":"Dvůr Králové"},{"$f":"VLOOKUP(A206,Pilot,4,0)","v":"CZ/C2"},"PMČR 2016 - Kombi 15m","CZ",3,3513,3727,1.0449999999999999,9265,9682,2016,"x","x","LS-8b 15m","W8",{"$f":"VLOOKUP(A206,Pilot,5,0)","v":"F"},""]
["Dana Novakova",{"$f":"VLOOKUP(A207,Pilot,2,0)","v":1965},{"$f":"VLOOKUP(A207,Pilot,3,0)","v":"Mladá Boleslav"},{"$f":"VLOOKUP(A207,Pilot,4,0)","v":"CZ/C1"},"PMČR 2016 - Kombi 15m","CZ",4,3467,3727,1.0449999999999999,9012,9418,2016,"x","x","LS-8b 15m","FX",{"$f":"VLOOKUP(A207,Pilot,5,0)","v":"F"},""]
["Marko Zettier",null,"LV Aachen","DE","PMČR 2016 - Kombi 15m","CZ",5,3441,3727,1.0449999999999999,8796,9192,2016,null,null,"Discus 2a 15m","MK","M","Není v databázi"]
["Andreas Belz",null,"Flg. Dettingen/ Teck","DE","PMČR 2016 - Kombi 15m","CZ",6,3338,3727,1.0449999999999999,8436,8816,2016,null,null,"Discus 2a 15m","AB","M","Není v databázi"]
["Jiri Kusbach",{"$f":"VLOOKUP(A210,Pilot,2,0)","v":1959},{"$f":"VLOOKUP(A210,Pilot,3,0)","v":"Luhačovice"},{"$f":"VLOOKUP(A210,Pilot,4,0)","v":"CZ/M"},"PMČR 2016 - Kombi 15m","CZ",7,3043,3727,1.0449999999999999,7715,8062,2016,null,null,"KKB-15E FES","B",{"$f":"VLOOKUP(A210,Pilot,5,0)","v":"M"},""]
["Guillaume Girard",null,"CVVE Bailleau","FR","PMČR 2016 - Kombi 15m","CZ",8,3027,3727,1.0449999999999999,7519,7857,2016,null,null,"Discus 2a 15m","CFM","M","Není v databázi"]
["Karel Novak",{"$f":"VLOOKUP(A212,Pilot,2,0)","v":1993},{"$f":"VLOOKUP(A212,Pilot,3,0)","v":"Mladá Boleslav"},{"$f":"VLOOKUP(A212,Pilot,4,0)","v":"CZ/C1"},"PMČR 2016 - Kombi 15m","CZ",9,2951,3727,1.0449999999999999,7209,7533,2016,null,null,"LS-8b","JB",{"$f":"VLOOKUP(A212,Pilot,5,0)","v":"M"},""]
["Hana Treslova",{"$f":"VLOOKUP(A213,Pilot,2,0)","v":1991},{"$f":"VLOOKUP(A213,Pilot,3,0)","v":"Raná"},{"$f":"VLOOKUP(A213,Pilot,4,0)","v":"CZ/C2"},"PMČR 2016 - Kombi 15m","CZ",10,2915,3727,{"$f":"VLOOKUP(E213,Soutez,8,0)","v":1.0449999999999999},6975,7289,2016,null,null,"Discus 2a 15m","GX",{"$f":"VLOOKUP(A213,Pilot,5,0)","v":"F"},""]
["Petr Koutny",{"$f":"VLOOKUP(A214,Pilot,2,0)","v":1971},{"$f":"VLOOKUP(A214,Pilot,3,0)","v":"Křižanov"},{"$f":"VLOOKUP(A214,Pilot,4,0)","v":"CZ/M"},"PMČR 2016 - Kombi 15m","CZ",11,2801,3727,1.0449999999999999,6594,6891,2016,null,null,"LS-8b","SK",{"$f":"VLOOKUP(A214,Pilot,5,0)","v":"M"},""]
["Alex Pop",null,"Romania","RO","PMČR 2016 - Kombi 15m","CZ",12,2673,3727,1.0449999999999999,6187,6465,2016,null,null,"Discus 2a 15m","YAI","M","Není v databázi"]
["Radek Kucirek",{"$f":"VLOOKUP(A216,Pilot,2,0)","v":1973},{"$f":"VLOOKUP(A216,Pilot,3,0)","v":"Havlíčkův Brod"},{"$f":"VLOOKUP(A216,Pilot,4,0)","v":"CZ/C2"},"PMČR 2016 - Kombi 15m","CZ",13,2582,3727,1.0449999999999999,5849,6112,2016,"x",null,"Ventus 2b 15m","YA",{"$f":"VLOOKUP(A216,Pilot,5,0)","v":"M"},""]
["Lukas Capek",{"$f":"VLOOKUP(A217,Pilot,2,0)","v":1992},{"$f":"VLOOKUP(A217,Pilot,3,0)","v":"Letňany"},{"$f":"VLOOKUP(A217,Pilot,4,0)","v":"CZ/C1"},"PMČR 2016 - Kombi 15m","CZ",14,2376,3727,1.0449999999999999,5296,5534,2016,null,null,"303 Mosquito","LC",{"$f":"VLOOKUP(A217,Pilot,5,0)","v":"M"},""]
["Oldrich Bartonik",{"$f":"VLOOKUP(A218,Pilot,2,0)","v":1961},{"$f":"VLOOKUP(A218,Pilot,3,0)","v":"Luhačovice"},{"$f":"VLOOKUP(A218,Pilot,4,0)","v":"CZ/M"},"PMČR 2016 - Kombi 15m","CZ",15,2267,3727,1.0449999999999999,4925,5147,2016,null,null,"KKB-15","N1",{"$f":"VLOOKUP(A218,Pilot,5,0)","v":"M"},""]
["Karel Benisek 76",{"$f":"VLOOKUP(A219,Pilot,2,0)","v":1976},{"$f":"VLOOKUP(A219,Pilot,3,0)","v":"Toužim"},{"$f":"VLOOKUP(A219,Pilot,4,0)","v":"CZ/C1"},"PMČR 2016 - Kombi 15m","CZ",16,1936,3727,1.0449999999999999,4136,4322,2016,null,null,"Ventus ct 15m+W","KB",{"$f":"VLOOKUP(A219,Pilot,5,0)","v":"M"},""]
["Radek Zima 78",{"$f":"VLOOKUP(A220,Pilot,2,0)","v":1978},{"$f":"VLOOKUP(A220,Pilot,3,0)","v":"Hodkovice"},{"$f":"VLOOKUP(A220,Pilot,4,0)","v":"CZ/C2"},"PMČR 2016 - Kombi 15m","CZ",17,1550,3727,1.0449999999999999,3245,3391,2016,null,null,"Ventus b 15m","7F",{"$f":"VLOOKUP(A220,Pilot,5,0)","v":"M"},""]
["Aude Grangeray",null,"Chateu Arnoux-St.Auban","FR","PMČR 2016 - Kombi 15m","CZ",18,1445,3727,1.0449999999999999,2881,3011,2016,null,null,"Ventus 2a 15m","EQ","F","Není v databázi"]
["Milos Mach",null,"Nove Zamky","SK","PMČR 2016 - Kombi 15m","CZ",19,258,3727,1.0449999999999999,485,507,2016,null,null,"Discus 2T 15m","JH","M","Není v databázi"]
["Jan Ratz",{"$f":"VLOOKUP(A223,Pilot,2,0)","v":1987},{"$f":"VLOOKUP(A223,Pilot,3,0)","v":"Plasy"},{"$f":"VLOOKUP(A223,Pilot,4,0)","v":"CZ/C1"},"Adrenalin GP 2016 - Klub GP","CZ",1,42,null,0.6,{"$f":"ROUND((MAX($G$223:$G$236)-G223)/(MAX($G$223:$G$236)-1)*10000,0)","v":10000},{"$f":"ROUND(J223*K223,0)","v":6000},2016,"x",null,"Std. Cirrus","YF",{"$f":"VLOOKUP(A223,Pilot,5,0)","v":"M"},""]
["Zdenek Balcarek",1967,"Kroměříž","CZ/M","Adrenalin GP 2016 - Klub GP","CZ",2,39,null,0.6,{"$f":"ROUND((MAX($G$223:$G$236)-G224)/(MAX($G$223:$G$236)-1)*10000,0)","v":9231},{"$f":"ROUND(J224*K224,0)","v":5539},2016,null,null,"Std. Cirrus","ZL","M",""]
["David Cisar",1987,"Křižanov","CZ/M","Adrenalin GP 2016 - Klub GP","CZ",3,30,null,0.6,8462,5077,2016,"x",null,"Std. Cirrus",75,"M",""]
["Rostislav Stryk",1972,"Frýdlant","CZ/M","Adrenalin GP 2016 - Klub GP","CZ",4,28,null,0.6,7692,4615,2016,"x",null,"Std. Cirrus",22,"M",""]
["Roman Stoklasa",1984,"Medlánky","CZ/M","Adrenalin GP 2016 - Klub GP","CZ",5,23,null,0.6,6923,4154,2016,"x",null,"Std. Cirrus","MS","M",""]
["Jan Sponer",1988,"Medlánky","CZ/M","Adrenalin GP 2016 - Klub GP","CZ",6,21,null,0.6,6154,3692,2016,"x",null,"Std. Cirrus","MI","M",""]
["Jan Mareth",1979,"Frýdlant","CZ/M","Adrenalin GP 2016 - Klub GP","CZ",7,13,null,0.6,5385,3231,2016,"x",null,"G-102 Astir cs","W7","M",""]
["Jiri Pelucha",1984,"Frýdlant","CZ/M","Adrenalin GP 2016 - Klub GP","CZ",8,9,null,0.6,4615,2769,2016,"x",null,"Std. Cirrus","IJ","M",""]
["Pavel Foldyna",1976,"Frýdlant","CZ/M","Adrenalin GP 2016 - Klub GP","CZ",8,9,null,0.6,4615,2769,2016,"x",null,"G-102 Astir cs","BH","M",""]
["Rene Hudak",1972,"Kunovice","CZ/M","Adrenalin GP 2016 - Klub GP","CZ",10,8,null,0.6,3077,1846,2016,null,null,"Std. Cirrus","SNK","M",""]
["Martin Svacina",1965,"Frýdlant","CZ/M","Adrenalin GP 2016 - Klub GP","CZ",11,7,null,0.6,2308,1385,2016,"x",null,"Std. Cirrus","E","M",""]
["Milan Svoboda 34",1934,"Letkov","CZ/C1","Adrenalin GP 2016 - Klub GP","CZ",12,2,null,0.6,1538,923,2016,null,null,"Phoebus A1","VI","M",""]
["Vit Prokop",1987,"Medlánky","CZ/M","Adrenalin GP 2016 - Klub GP","CZ",12,2,null,0.6,1538,923,2016,null,null,"Std. Cirrus","MP","M",""]
["Lubor Sobek",1979,"Frýdlant","CZ/M","Adrenalin GP 2016 - Klub GP","CZ",14,1,null,0.6,{"$f":"ROUND((MAX($G$223:$G$236)-G236)/(MAX($G$223:$G$236)-1)*10000,0)","v":0},0,2016,null,null,"LS 1f","EM","M",""]
["Frantisek Vancura",1966,"Hranice","CZ/M","FL 2016 - Kombi","CZ",1,4685,4685,0.6,{"$f":"ROUND(H237/I237*10000*0.7+(MAX($G$237:$G$253)-G237)/(MAX($G$237:$G$253)-1)*10000*0.3,0)","v":10000},{"$f":"ROUND(J237*K237,0)","v":6000},2016,"x",null,"Nimbus 3T 24,5m","A1","M",""]
["Zdenek Schenk",1972,"Hranice","CZ/M","FL 2016 - Kombi","CZ",2,4329,4685,0.6,{"$f":"ROUND(H238/I238*10000*0.7+(MAX($G$237:$G$253)-G238)/(MAX($G$237:$G$253)-1)*10000*0.3,0)","v":9281},{"$f":"ROUND(J238*K238,0)","v":5569},2016,null,null,"Ventus ct 17,6m","ŠNeK","M",""]
["Jaroslav Buryan",1953,"Zábřeh","CZ/M","FL 2016 - Kombi","CZ",3,4219,4685,0.6,8929,5357,2016,null,null,"ASW-20(A)+F 15m+W","NS","M",""]
["Lumir Motyka",1955,"Frýdlant","CZ/M","FL 2016 - Kombi","CZ",4,3811,4685,0.6,8132,4879,2016,null,null,"LAK 12","DE","M",""]
["Roman Konarik",1976,"Luhačovice","CZ/M","FL 2016 - Kombi","CZ",5,3748,4685,0.6,7850,4710,2016,"x",null,"Arcus M","AR","M",""]
["Milos Matejka",1956,"Beroun","CZ/C1","FL 2016 - Kombi","CZ",6,3689,4685,0.6,7574,4544,2016,"x",null,"Discus b +W","SH","M",""]
["Vladimir Jirka",1965,"Zábřeh","CZ/M","FL 2016 - Kombi","CZ",7,3649,4685,0.6,7327,4396,2016,"x",null,"Ventus 2cm 18m","VJ","M",""]
["Jan Matejovsky",1972,"Hranice","CZ/M","FL 2016 - Kombi","CZ",8,3408,4685,0.6,6779,4067,2016,"x",null,"DuoDiscus","OK","M",""]
["Dusan Gadas",1960,"Hranice","CZ/M","FL 2016 - Kombi","CZ",9,3395,4685,0.6,6573,3944,2016,"x",null,"LAK 17B FES 18m","TF","M",""]
["Oldrich Houzvicka",1975,"Frýdlant","CZ/M","FL 2016 - Kombi","CZ",10,3313,4685,0.6,6263,3758,2016,null,null,"LS 4","FP","M",""]
["Vratislav Sram",1966,"Broumov","CZ/C2","FL 2016 - Kombi","CZ",11,2856,4685,0.6,5392,3235,2016,null,null,"Nimbus 2M","NB","M",""]
["Martin Suchy",1969,"Hranice","CZ/M","FL 2016 - Kombi","CZ",12,2722,4685,0.6,5005,3003,2016,"x",null,"G-103 Twin Astir dvoji","EH","M",""]
["Jan Kristof",1962,"Frýdlant","CZ/M","FL 2016 - Kombi","CZ",13,2296,4685,0.6,4181,2509,2016,"x",null,"LS 3 15m","TX","M",""]
["Radim Zielinski",1969,"Frýdlant","CZ/M","FL 2016 - Kombi","CZ",14,2182,4685,0.6,3823,2294,2016,"x",null,"Discus b","SJ","M",{"$f":"IF(ISERROR(VLOOKUP(A250,Pilot,6,0)),\"Není v databázi\",VLOOKUP(A250,Pilot,6,0))","v":""}]
["Jan Rott",1962,"Plasy","CZ/C1","FL 2016 - Kombi","CZ",15,2015,4685,0.6,3386,2032,2016,null,null,"Nimbus 2, 2b","WM","M",""]
["Antonin Kutalek",1943,"Zábřeh","CZ/M","FL 2016 - Kombi","CZ",16,1868,4685,0.6,2979,1787,2016,null,null,"Mini-Nimbus c","GL","M",""]
["Pavel Svrcek",1972,"Frýdlant","CZ/M","FL 2016 - Kombi","CZ",17,720,4685,0.6,{"$f":"ROUND(H253/I253*10000*0.7+(MAX($G$237:$G$253)-G253)/(MAX($G$237:$G$253)-1)*10000*0.3,0)","v":1076},646,2016,"x",null,"DG-200 15m","AK","M",""]
["Petr Hotovy",1958,"Česká Lípa","CZ/C2","Safari 2016 - Kombi","CZ",1,3769,3769,0.6,{"$f":"ROUND(H254/I254*10000*0.7+(MAX($G$254:$G$289)-G254)/(MAX($G$254:$G$289)-1)*10000*0.3,0)","v":10000},{"$f":"ROUND(J254*K254,0)","v":6000},2016,null,null,"HpH 304M Shark 18 m","MH","M",""]
["Zdenek Boruvka 54",1954,"Jičín","CZ/C2","Safari 2016 - Kombi","CZ",2,3396,3769,0.6,{"$f":"ROUND(H255/I255*10000*0.7+(MAX($G$254:$G$289)-G255)/(MAX($G$254:$G$289)-1)*10000*0.3,0)","v":9222},{"$f":"ROUND(J255*K255,0)","v":5533},2016,null,null,"LS 8b,t, 15m (voda)","ZB","M",""]
["Lukas Hynek",1979,"Dvůr Králové","CZ/C2","Safari 2016 - Kombi","CZ",3,3319,3769,0.6,8993,5396,2016,"x",null,"DG 200 17m (voda)","IQ","M",""]
["Jan Dersak 69",1969,"Kralupy","CZ/C1","Safari 2016 - Kombi","CZ",4,3299,3769,0.6,8870,5322,2016,"x",null,"HpH 304cz 17,4m (voda)","DJ","M",""]
["Jiri Pesta",1973,"Dvůr Králové","CZ/C2","Safari 2016 - Kombi","CZ",5,3183,3769,0.6,8569,5141,2016,"x",null,"ASW-20L+FL 16,6m","R","M",""]
["Wolfgang Sluka",1942,"Liberec","CZ/C2","Safari 2016 - Kombi","CZ",6,2904,3769,0.6,7965,4779,2016,null,null,"Std. Cirrus","KA","M",""]
["Milan Meisner",1961,"Dvůr Králové","CZ/C2","Safari 2016 - Kombi","CZ",7,2774,3769,0.6,7638,4583,2016,"x",null,"Ventus c 15m WL (voda)","VV","M",""]
["David Tejnora",1982,"Kolín","CZ/C1","Safari 2016 - Kombi","CZ",8,2691,3769,0.6,7398,4439,2016,"x",null,"VSO-10",94,"M",""]
["Jan Hybner",1977,"Liberec","CZ/C2","Safari 2016 - Kombi","CZ",9,2596,3769,0.6,7136,4282,2016,"x",null,"HpH 304cz /15 m bez vody","LB","M",""]
["Jaroslav Sima",1972,"Chomutov","CZ/C2","Safari 2016 - Kombi","CZ",10,2547,3769,0.6,6959,4175,2016,"x",null,"G-104 Speed Astir II","V2","M",""]
["Milan Dvorak",1965,"Liberec","CZ/C2","Safari 2016 - Kombi","CZ",11,2519,3769,0.6,6821,4093,2016,"x",null,"VSO-10",78,"M",""]
["Pawel Bahyrycz",null,"Aeroklub Krakowski","PL","Safari 2016 - Kombi","CZ",12,2496,3769,0.6,6693,4016,2016,null,null,"SZD-48 Jantar Std. 2(3)","HL","M","Není v databázi"]
["Pavel Derda",{"$f":"VLOOKUP(A266,Pilot,2,0)","v":1952},{"$f":"VLOOKUP(A266,Pilot,3,0)","v":"Dvůr Králové"},{"$f":"VLOOKUP(A266,Pilot,4,0)","v":"CZ/C2"},"Safari 2016 - Kombi","CZ",13,2404,3769,0.6,6436,3862,2016,null,null,"Cirrus VTC","VE",{"$f":"VLOOKUP(A266,Pilot,5,0)","v":"M"},""]
["Zbigniew Oborowski",null,null,"PL","Safari 2016 - Kombi","CZ",14,2399,3769,0.6,6341,3805,2016,null,null,"SZD-48 Jantar Std. 2(3)","Fili","M","Není v databázi"]
["Martin Cicvarek",{"$f":"VLOOKUP(A268,Pilot,2,0)","v":1966},{"$f":"VLOOKUP(A268,Pilot,3,0)","v":"Liberec"},{"$f":"VLOOKUP(A268,Pilot,4,0)","v":"CZ/C2"},"Safari 2016 - Kombi","CZ",15,2238,3769,0.6,5957,3574,2016,"x",null,"DG-400 (17m)","AC",{"$f":"VLOOKUP(A268,Pilot,5,0)","v":"M"},""]
["Petr Hybner",{"$f":"VLOOKUP(A269,Pilot,2,0)","v":1951},{"$f":"VLOOKUP(A269,Pilot,3,0)","v":"Liberec"},{"$f":"VLOOKUP(A269,Pilot,4,0)","v":"CZ/C2"},"Safari 2016 - Kombi","CZ",16,2235,3769,0.6,5865,3519,2016,"x",null,"HpH 304 cz 17,4m","IH",{"$f":"VLOOKUP(A269,Pilot,5,0)","v":"M"},""]
["Pavel Svoboda",{"$f":"VLOOKUP(A270,Pilot,2,0)","v":1938},{"$f":"VLOOKUP(A270,Pilot,3,0)","v":"Letňany"},{"$f":"VLOOKUP(A270,Pilot,4,0)","v":"CZ/C1"},"Safari 2016 - Kombi","CZ",17,2096,3769,0.6,5521,3313,2016,"x",null,"Discus b","LH",{"$f":"VLOOKUP(A270,Pilot,5,0)","v":"M"},""]
["Pawel Kusmierski",null,"Aeroklub Krakowski","PL","Safari 2016 - Kombi","CZ",18,2079,3769,0.6,5404,3242,2016,null,null,"SZD-48 Jantar std. 2 (3)","ZAR","M","Není v databázi"]
["Andrzej Sznajder",null,null,"PL","Safari 2016 - Kombi","CZ",19,1991,3769,0.6,5155,3093,2016,null,null,"Centrair C-101A Pegase","GP","M","Není v databázi"]
["Jaroslav Potmesil",{"$f":"VLOOKUP(A273,Pilot,2,0)","v":1964},{"$f":"VLOOKUP(A273,Pilot,3,0)","v":"Zbraslavice"},{"$f":"VLOOKUP(A273,Pilot,4,0)","v":"CZ/C1"},"Safari 2016 - Kombi","CZ",20,1988,3769,0.6,5064,3038,2016,"x",null,"HpH 304M Shark 18m","QS",{"$f":"VLOOKUP(A273,Pilot,5,0)","v":"M"},""]
["Radmila Horacek Filakovska",{"$f":"VLOOKUP(A274,Pilot,2,0)","v":1963},{"$f":"VLOOKUP(A274,Pilot,3,0)","v":"Dvůr Králové"},{"$f":"VLOOKUP(A274,Pilot,4,0)","v":"CZ/C2"},"Safari 2016 - Kombi","CZ",21,1941,3769,0.6,4891,2935,2016,"x","x","Cirrus VTC","2W",{"$f":"VLOOKUP(A274,Pilot,5,0)","v":"F"},""]
["Slavomir Tanglmajer",{"$f":"VLOOKUP(A275,Pilot,2,0)","v":1966},{"$f":"VLOOKUP(A275,Pilot,3,0)","v":"Chomutov"},{"$f":"VLOOKUP(A275,Pilot,4,0)","v":"CZ/C2"},"Safari 2016 - Kombi","CZ",22,1842,3769,0.6,4621,2773,2016,"x",null,"DG-400 17 m","ST",{"$f":"VLOOKUP(A275,Pilot,5,0)","v":"M"},""]
["Aleksander Jedrosz",null,"Jelenia Góra","PL","Safari 2016 - Kombi","CZ",23,1580,3769,0.6,4049,2429,2016,null,null,"Centrair C-101A Pegase","AJ","M","Není v databázi"]
["Petr Doubek",{"$f":"VLOOKUP(A277,Pilot,2,0)","v":1974},{"$f":"VLOOKUP(A277,Pilot,3,0)","v":"Kralupy"},{"$f":"VLOOKUP(A277,Pilot,4,0)","v":"CZ/C1"},"Safari 2016 - Kombi","CZ",24,1544,3769,{"$f":"VLOOKUP(E277,Soutez,8,0)","v":0.6},3896,2338,2016,"x",null,"ASW-20 (A)+F /15m","Y5",{"$f":"VLOOKUP(A277,Pilot,5,0)","v":"M"},""]
["Renata Dabrowska",null,"Częstochowa/ KSS","PL","Safari 2016 - Kombi","CZ",25,1493,3769,0.6,3716,2230,2016,null,null,"SZD 41A Jantar std","ZS","F","Není v databázi"]
["Ladislav Krecbach",{"$f":"VLOOKUP(A279,Pilot,2,0)","v":1985},{"$f":"VLOOKUP(A279,Pilot,3,0)","v":"Jaroměř"},{"$f":"VLOOKUP(A279,Pilot,4,0)","v":"CZ/C2"},"Safari 2016 - Kombi","CZ",26,1433,3769,0.6,3519,2111,2016,"x",null,"Discus b","JA",{"$f":"VLOOKUP(A279,Pilot,5,0)","v":"M"},""]
["Leszek Wolosowicz",null,"Lubelski/KSS","PL","Safari 2016 - Kombi","CZ",27,1241,3769,0.6,3076,1846,2016,null,null,"PW-5","CU","M","Není v databázi"]
["Krzystof Kostka",null,"Jelenia Góra","PL","Safari 2016 - Kombi","CZ",28,1185,3769,0.6,2887,1732,2016,null,null,"SZD-41A Jantar Std.","RD","M","Není v databázi"]
["Zdenek Bohm",{"$f":"VLOOKUP(A282,Pilot,2,0)","v":1963},{"$f":"VLOOKUP(A282,Pilot,3,0)","v":"Kolín"},{"$f":"VLOOKUP(A282,Pilot,4,0)","v":"CZ/C1"},"Safari 2016 - Kombi","CZ",29,1014,3769,0.6,2483,1490,2016,"x",null,"G-102 Astir cs","VI",{"$f":"VLOOKUP(A282,Pilot,5,0)","v":"M"},""]
["Jarmila Zatykova",1959,"Kralupy","CZ/C1","Safari 2016 - Kombi","CZ",30,994,3769,0.6,2360,1416,2016,"x","x","G-102 Astir cs","IZZ","F",""]
["Jan Horky",1968,"Medlánky","CZ/M","Safari 2016 - Kombi","CZ",31,909,3769,0.6,2117,1270,2016,"x",null,"ASW-15","SW","M",""]
["Petr Lonsky",1965,"Toužim","CZ/C1","Safari 2016 - Kombi","CZ",32,790,3769,0.6,1810,1086,2016,null,null,"Std. Cirrus WL","YU","M",""]
["Jan Terrich",1978,"Liberec","CZ/C2","Safari 2016 - Kombi","CZ",33,720,3769,0.6,1594,956,2016,"x",null,"VSO-10","L0","M",""]
["Vladimir Hampl",1970,"Dvůr Králové","CZ/C2","Safari 2016 - Kombi","CZ",34,589,3769,0.6,1265,759,2016,"x",null,"G-102 Astir cs77",77,"M",""]
["Jan Repka",1959,"Liberec","CZ/C2","Safari 2016 - Kombi","CZ",35,472,3769,0.6,{"$f":"ROUND(H288/I288*10000*0.7+(MAX($G$254:$G$289)-G288)/(MAX($G$254:$G$289)-1)*10000*0.3,0)","v":962},577,2016,"x",null,"ASW-15B","BT","M",""]
["Petr Zajic",1962,"Liberec","CZ/C2","Safari 2016 - Kombi","CZ",36,328,3769,0.6,609,365,2016,"x",null,"LS 3 15m","R9","M",""]
["Marek Kornec",1957,"Dvůr Králové","CZ/C2","Safari 2016 - Duo Kombi","CZ",1,2253,2253,0.6,{"$f":"ROUND(H290/I290*10000*0.7+(MAX($G$290:$G$304)-G290)/(MAX($G$290:$G$304)-1)*10000*0.3,0)","v":10000},{"$f":"ROUND(J290*K290,0)","v":6000},2016,"x",null,"SZD-50-3 Puchacz dvojí","KSS","M",""]
["Jan Sindelar",1946,"Kunovice","CZ/M","Safari 2016 - Duo Kombi","CZ",2,2092,2253,0.6,{"$f":"ROUND(H291/I291*10000*0.7+(MAX($G$290:$G$304)-G291)/(MAX($G$290:$G$304)-1)*10000*0.3,0)","v":9285},{"$f":"ROUND(J291*K291,0)","v":5571},2016,null,null,"L-13 Blaník dvojí","Z",{"$f":"VLOOKUP(A291,Pilot,5,0)","v":"M"},""]
["Vladimir Prihoda",1953,"Kralupy","CZ/C1","Safari 2016 - Duo Kombi","CZ",3,1994,2253,0.6,8767,5260,2016,"x",null,"L-23 Super Blaník /18,2 m dvojí","X","M",""]
["Vojtech Pivonka",1976,"Vrchlabí","CZ/C2","Safari 2016 - Duo Kombi","CZ",4,1685,2253,0.6,7592,4555,2016,"x",null,"L-13 Blaník dvojí","V","M",""]
["Josef Andrasovsky",1954,"Jaroměř","CZ/C2","Safari 2016 - Duo Kombi","CZ",5,1666,2253,0.6,7319,4391,2016,"x",null,"Janus b dvojí","BV","M",""]
["Jaroslav Rapac",1977,"Dvůr Králové","CZ/C2","Safari 2016 - Duo Kombi","CZ",6,1449,2253,0.6,6431,3859,2016,"x",null,"L-23 Super Blaník dvojí",23,"M",""]
["Martin Markl",1960,"Kolín","CZ/C1","Safari 2016 - Duo Kombi","CZ",7,1407,2253,0.6,6086,3652,2016,"x",null,"L-13 Blaník dvojí","FL","M",""]
["Vaclav Sehnal",1962,"Kolín","CZ/C1","Safari 2016 - Duo Kombi","CZ",8,1301,2253,0.6,5542,3325,2016,"x",null,"ASK-21 dvojí","KX","M",""]
["Karel Policky",1950,"Kolín","CZ/C1","Safari 2016 - Duo Kombi","CZ",9,1134,2253,0.6,4809,2885,2016,null,null,"DuoDiscus XL",777,"M",""]
["Vojtech Hajek",1987,"Mladá Boleslav","CZ/C1","Safari 2016 - Duo Kombi","CZ",10,973,2253,0.6,4095,2457,2016,null,null,"PW-6U dvojí","PW","M",""]
["Zuzana Kutilkova",1993,"Křižanov","CZ/M","Safari 2016 - Duo Kombi","CZ",11,920,2253,0.6,3716,2230,2016,"x","x","L-23 Super Blaník dvojí","ZK","F",""]
["Jiri Tomicek",1947,"Dvůr Králové","CZ/C2","Safari 2016 - Duo Kombi","CZ",12,899,2253,0.6,3436,2062,2016,"x",null,"G 103 Twin Astir dvojí (zatahovací podvozek)",5,"M",""]
["Ivan Ladr",1940,"Dvůr Králové","CZ/C2","Safari 2016 - Duo Kombi","CZ",13,874,2253,0.6,3144,1886,2016,"x",null,"L-13 Blaník dvojí","ET","M",""]
["David Londa",1973,"Mladá Boleslav","CZ/C1","Safari 2016 - Duo Kombi","CZ",14,250,2253,0.6,991,595,2016,"x",null,"PW 6U dvojí","PW","M",""]
["Josef Rydl",1940,"Turnov","CZ/C2","Safari 2016 - Duo Kombi","CZ",15,0,2253,0.6,{"$f":"ROUND(H304/I304*10000*0.7+(MAX($G$290:$G$304)-G304)/(MAX($G$290:$G$304)-1)*10000*0.3,0)","v":0},{"$f":"ROUND(J304*K304,0)","v":0},2016,null,null,"PW 6U dvojí","PW","M",""]
["Martin Zahalka",1987,"Staňkov","CZ/C1","Toužim Cup 2016 - Klub","CZ",1,1763,1763,0,{"$f":"ROUND(H305/I305*10000*0.7+(MAX($G$305:$G$330)-G305)/(MAX($G$305:$G$330)-1)*10000*0.3,0)","v":10000},{"$f":"ROUND(J305*K305,0)","v":0},2016,null,null,"DG 100","8B","M",""]
["Radek Chmela",1984,"Luhačovice","CZ/M","Toužim Cup 2016 - Klub","CZ",2,1737,1763,0,{"$f":"ROUND(H306/I306*10000*0.7+(MAX($G$305:$G$330)-G306)/(MAX($G$305:$G$330)-1)*10000*0.3,0)","v":9766},{"$f":"ROUND(J306*K306,0)","v":0},2016,null,null,"Std. Libelle",201,"M",""]
["Uwe Szobb",null,"VSS Roitzschjora","DE","Toužim Cup 2016 - Klub","CZ",3,1667,1763,0,9358,0,2016,null,null,"ASW 24E","MI","M","Není v databázi"]
["Pavel Jiranek",{"$f":"VLOOKUP(A308,Pilot,2,0)","v":1993},{"$f":"VLOOKUP(A308,Pilot,3,0)","v":"Toužim"},{"$f":"VLOOKUP(A308,Pilot,4,0)","v":"CZ/C1"},"Toužim Cup 2016 - Klub","CZ",4,1652,1763,0,9168,0,2016,null,null,"Std. Cirrus","IYD",{"$f":"VLOOKUP(A308,Pilot,5,0)","v":"M"},""]
["Daniel Dvorak",1980,"Letkov","CZ/C1","Toužim Cup 2016 - Klub","CZ",5,1580,1763,0,8752,0,2016,null,null,"Std. Cirrus","LD","M",""]
["Petr Jiranek 91",1991,"Toužim","CZ/C1","Toužim Cup 2016 - Klub","CZ",6,1579,1763,0,8617,0,2016,null,null,"G-102 Astir CS","PJ","M",""]
["Martin Fric",1967,"Raná","CZ/C2","Toužim Cup 2016 - Klub","CZ",7,1532,1763,0,8300,0,2016,null,null,"ASW 19B","FR","M",""]
["Michal Drab",1969,"Letkov","CZ/C1","Toužim Cup 2016 - Klub","CZ",8,1461,1763,0,7888,0,2016,null,null,"LS 1-d","S3","M",""]
["Eduard Svoboda",1957,"Raná","CZ/C2","Toužim Cup 2016 - Klub","CZ",9,1343,1763,0,7289,0,2016,null,null,"ASW 15B","HL","M",""]
["Martin Valenta",1969,"Toužim","CZ/C1","Toužim Cup 2016 - Klub","CZ",10,1336,1763,0,7131,0,2016,null,null,"LS 1-c","T2","M",{"$f":"IF(ISERROR(VLOOKUP(A314,Pilot,6,0)),\"Není v databázi\",VLOOKUP(A314,Pilot,6,0))","v":""}]
["Antonin Kutalek",1943,"Zábřeh","CZ/M","Toužim Cup 2016 - Klub","CZ",11,1179,1763,0,6377,0,2016,null,null,"Mini Nimbus","GL","M",""]
["Rudolf Jung",1954,"Zbraslavice","CZ/C1","Toužim Cup 2016 - Klub","CZ",12,1131,1763,0,6056,0,2016,null,null,"G 103 Twin III","TO","M",""]
["Roman Jokl",1979,"Letkov","CZ/C1","Toužim Cup 2016 - Klub","CZ",13,988,1763,0,5358,0,2016,null,null,"ASW 19","JL","M",""]
["Jan Ratz",1987,"Plasy","CZ/C1","Toužim Cup 2016 - Klub","CZ",14,952,1763,0,5084,0,2016,null,null,"Mosquito","MQ","M",""]
["Tomas Jung",1950,"Zbraslavice","CZ/C1","Toužim Cup 2016 - Klub","CZ",15,927,1763,0,4855,0,2016,null,null,"ASW 19B","O2","M",""]
["Roman Michalek",1974,"Toužim","CZ/C1","Toužim Cup 2016 - Klub","CZ",16,849,1763,0,4414,0,2016,null,null,"LS 3","Y1","M",""]
["Jaroslav Hot",1965,"Toužim","CZ/C1","Toužim Cup 2016 - Klub","CZ",17,839,1763,0,4244,0,2016,null,null,"tst-10 Atlas","ST","M",""]
["Martin Nejezchleb",1979,"Plzeň Bory","CZ/C1","Toužim Cup 2016 - Klub","CZ",18,640,1763,0,3324,0,2016,null,null,"ASW 15B",90,"M",""]
["Josef Kreutzer",1992,"Letkov","CZ/C1","Toužim Cup 2016 - Klub","CZ",19,496,1763,0,2622,0,2016,null,null,"ASW 15B","LA","M",""]
["Lubomir Motl",1959,"Kyjov","CZ/M","Toužim Cup 2016 - Klub","CZ",20,425,1763,0,2209,0,2016,null,null,"LS 1 f","G2","M",""]
["Jan Pubec",1979,"Plzeň Bory","CZ/C1","Toužim Cup 2016 - Klub","CZ",21,390,1763,0,1940,0,2016,null,null,"Std. Cirrus","LM","M",""]
["Jiri Cincera",1966,"Toužim","CZ/C1","Toužim Cup 2016 - Klub","CZ",22,139,1763,0,813,0,2016,null,null,"Astir CS","PB","M",""]
["Michal Trylc",1987,"Plasy","CZ/C1","Toužim Cup 2016 - Klub","CZ",23,47,1763,0,{"$f":"ROUND(H327/I327*10000*0.7+(MAX($G$305:$G$330)-G327)/(MAX($G$305:$G$330)-1)*10000*0.3,0)","v":317},0,2016,null,null,"VSO-10",58,"M",""]
["Karel Grotz",1934,"Toužim","CZ/C1","Toužim Cup 2016 - Klub","CZ",24,10,1763,0,40,0,2016,null,null,"VT-16 Orlik",16,"M",""]
["Ivan Harasta 65",1965,"Toužim","CZ/C1","Toužim Cup 2016 - Klub","CZ","HC",0,1763,0,null,null,2016,null,null,"ASW 15B","HI","M",""]
["Ivan Harasta 98",1998,"Toužim","CZ/C1","Toužim Cup 2016 - Klub","CZ","HC",0,1763,0,null,null,2016,null,null,"ASW 15B","HI","M","Junior v roce 2019"]
["Tomas Rendla",1973,"Zbraslavice","CZ/C1","Toužim Cup 2016 - Kombi","CZ",1,2527,2527,0.60499999999999998,{"$f":"ROUND(H331/I331*10000*0.7+(MAX($G$331:$G$346)-G331)/(MAX($G$331:$G$346)-1)*10000*0.3,0)","v":10000},{"$f":"ROUND(J331*K331,0)","v":6050},2016,"x",null,"Arcus M","EY","M",""]
["Vratislav Sram",1966,"Broumov","CZ/C2","Toužim Cup 2016 - Kombi","CZ",2,2180,2527,0.60499999999999998,{"$f":"ROUND(H332/I332*10000*0.7+(MAX($G$331:$G$346)-G332)/(MAX($G$331:$G$346)-1)*10000*0.3,0)","v":8839},{"$f":"ROUND(J332*K332,0)","v":5348},2016,null,null,"Nimbus 2M","NB","M",""]
["Karel Benisek 76",1976,"Toužim","CZ/C1","Toužim Cup 2016 - Kombi","CZ",3,2176,2527,0.60499999999999998,8628,5220,2016,"x",null,"Ventus cT 17.6m","KB","M",""]
["Antonin Konicek",1973,"Kunovice","CZ/M","Toužim Cup 2016 - Kombi","CZ",4,2090,2527,0.60499999999999998,8189,4954,2016,"x",null,"HPH 304S Shark","KK","M",""]
["Roman Lanzendorf",1964,"Letkov","CZ/C1","Toužim Cup 2016 - Kombi","CZ",5,1792,2527,0.60499999999999998,7164,4334,2016,"x",null,"Ventus cT 17.6m","AS","M",""]
["Matthias Renner",null,"LSV Ruhr-Lenne-Iserlohn","DE","Toužim Cup 2016 - Kombi","CZ",6,1790,2527,0.60499999999999998,6958,4210,2016,null,null,"Arcus M","MR","M","Není v databázi"]
["Zdenek Schenk",{"$f":"VLOOKUP(A337,Pilot,2,0)","v":1972},{"$f":"VLOOKUP(A337,Pilot,3,0)","v":"Hranice"},{"$f":"VLOOKUP(A337,Pilot,4,0)","v":"CZ/M"},"Toužim Cup 2016 - Kombi","CZ",7,1783,2527,0.60499999999999998,6739,4077,2016,null,null,"Ventus cT 17.6m","SNK",{"$f":"VLOOKUP(A337,Pilot,5,0)","v":"M"},""]
["Petr Jiranek 63",1962,"Toužim","CZ/C1","Toužim Cup 2016 - Kombi","CZ",8,1705,2527,0.60499999999999998,6323,3825,2016,"x",null,"Ventus cT 17.6m","EB","M",""]
["Pavel Zima",1979,"Břeclav","CZ/M","Toužim Cup 2016 - Kombi","CZ",9,1663,2527,0.60499999999999998,6007,3634,2016,"x",null,"Ventus cM 17.6m","RK","M",""]
["Daniel Novak",1971,"Letkov","CZ/C1","Toužim Cup 2016 - Kombi","CZ",10,1644,2527,0.60499999999999998,5754,3481,2016,"x",null,"Duo Discus","DL","M",""]
["Jiri Prochazka",1971,"Toužim","CZ/C1","Toužim Cup 2016 - Kombi","CZ",11,1440,2527,{"$f":"VLOOKUP(E341,Soutez,8,0)","v":0.60499999999999998},4989,3018,2016,"x",null,"DG 500M 22m","SR","M",""]
["Frantisek Myska",1968,"Most","CZ/C2","Toužim Cup 2016 - Kombi","CZ",12,1373,2527,0.60499999999999998,4603,2785,2016,"x",null,"Ventus bT 16.6m","SK","M",""]
["Uwe Tolkmitt",null,"LSV Greiz","DE","Toužim Cup 2016 - Kombi","CZ",13,1257,2527,0.60499999999999998,{"$f":"ROUND(H343/I343*10000*0.7+(MAX($G$331:$G$346)-G343)/(MAX($G$331:$G$346)-1)*10000*0.3,0)","v":4082},{"$f":"ROUND(J343*K343,0)","v":2470},2016,null,null,"DG 400/17","JO","M","Není v databázi"]
["Marek Blatak",{"$f":"VLOOKUP(A344,Pilot,2,0)","v":1969},{"$f":"VLOOKUP(A344,Pilot,3,0)","v":"Šumperk"},{"$f":"VLOOKUP(A344,Pilot,4,0)","v":"CZ/M"},"Toužim Cup 2016 - Kombi","CZ",14,1013,2527,0.60499999999999998,3206,1940,2016,null,null,"Ventus 17.6m","FB",{"$f":"VLOOKUP(A344,Pilot,5,0)","v":"M"},""]
["Roman Konarik",1976,"Luhačovice","CZ/M","Toužim Cup 2016 - Kombi","CZ",15,869,2527,0.60499999999999998,2607,1577,2016,null,null,"Arcus M","AR","M",""]
["Matej Plch",1987,"Letkov","CZ/C1","Toužim Cup 2016 - Kombi","CZ",16,0,2527,0.60499999999999998,0,0,2016,null,null,"LS 8/18m","EJ","M",""]
["Pavel Trybenekr",1990,"Hořice","CZ/C2","PMRg 2016 - Klub","CZ",1,5330,5330,0.96,{"$f":"ROUND(H347/I347*10000*0.7+(MAX($G$347:$G$385)-G347)/(MAX($G$347:$G$385)-1)*10000*0.3,0)","v":10000},{"$f":"ROUND(J347*K347,0)","v":9600},2016,"x",null,"LS 4","PF","M",""]
["Jaroslav Tomana",1975,"Zbraslavice","CZ/C1","PMRg 2016 - Klub","CZ",2,5183,5330,0.96,{"$f":"ROUND(H348/I348*10000*0.7+(MAX($G$347:$G$385)-G348)/(MAX($G$347:$G$385)-1)*10000*0.3,0)","v":9728},{"$f":"ROUND(J348*K348,0)","v":9339},2016,null,null,"Std. Cirrus","SN","M",""]
["Jan Kotan",1982,"Letňany","CZ/C1","PMRg 2016 - Klub","CZ",3,5084,5330,0.96,9519,9138,2016,"x",null,"ASW-19B","WT","M",""]
["Jan Horak",1971,"Zbraslavice","CZ/C1","PMRg 2016 - Klub","CZ",4,4920,5330,0.96,9225,8856,2016,null,null,"ASW-15B","TX","M",""]
["Ondrej Sindelar",1979,"Mladá Boleslav","CZ/C1","PMRg 2016 - Klub","CZ",5,4904,5330,0.96,9125,8760,2016,"x",null,"ASW-19B","OI","M",""]
["Lukas Plocek",1990,"Mladá Boleslav","CZ/C1","PMRg 2016 - Klub","CZ",6,4651,5330,0.96,8714,8365,2016,"x",null,"ASW-15B","MB","M",""]
["Jan Viskot",1995,"Břeclav","CZ/M","PMRg 2016 - Klub","CZ",7,4640,5330,0.96,8620,8275,2016,null,null,"Std. Cirrus","W","M","Junior v roce 2019"]
["Marek Svancara",1976,"GAC Benešov","CZ/C1","PMRg 2016 - Klub","CZ",8,4606,5330,0.96,8497,8157,2016,"x",null,"Std. Cirrus","GT","M",""]
["Richard Vlcek",1993,"Kunovice","CZ/M","PMRg 2016 - Klub","CZ",9,4598,5330,0.96,8407,8071,2016,null,null,"Std. Cirrus","OK","M",""]
["Jakub Hlavacek",1991,"Letkov","CZ/C1","PMRg 2016 - Klub","CZ",10,4462,5330,0.96,8150,7824,2016,null,null,"Std. Cirrus",75,"M",""]
["Frantisek Filandr",1956,"Most","CZ/C2","PMRg 2016 - Klub","CZ",11,4123,5330,0.96,7625,7320,2016,"x",null,"Std. Cirrus","FF","M",""]
["Michal Krupicka",1975,"Most","CZ/C2","PMRg 2016 - Klub","CZ",12,4049,5330,0.96,7449,7151,2016,"x",null,"Std. Cirrus","K","M",""]
["Karel Knotek",1961,"Soběslav","CZ/C1","PMRg 2016 - Klub","CZ",13,4028,5330,0.96,7343,7049,2016,"x",null,"ASW-19B","SO","M",""]
["Nina Shalneva",null,"Novosibirsk Aviaclub","RU","PMRg 2016 - Klub","CZ",14,3967,5330,0.96,7184,6897,2016,null,null,"Std. Cirrus","XC","F","Není v databázi"]
["Jan Smaha",{"$f":"VLOOKUP(A361,Pilot,2,0)","v":1958},{"$f":"VLOOKUP(A361,Pilot,3,0)","v":"Česká Lípa"},{"$f":"VLOOKUP(A361,Pilot,4,0)","v":"CZ/C2"},"PMRg 2016 - Klub","CZ",15,3749,5330,0.96,6818,6545,2016,"x",null,"ASW -15B","CW",{"$f":"VLOOKUP(A361,Pilot,5,0)","v":"M"},""]
["Jan Cerveny",{"$f":"VLOOKUP(A362,Pilot,2,0)","v":1984},{"$f":"VLOOKUP(A362,Pilot,3,0)","v":"Jaroměř"},{"$f":"VLOOKUP(A362,Pilot,4,0)","v":"CZ/C2"},"PMRg 2016 - Klub","CZ",16,3729,5330,0.96,6713,6444,2016,"x",null,"LS 3a 15m","EI",{"$f":"VLOOKUP(A362,Pilot,5,0)","v":"M"},""]
["Jiri Fousek",{"$f":"VLOOKUP(A363,Pilot,2,0)","v":1990},{"$f":"VLOOKUP(A363,Pilot,3,0)","v":"Raná"},{"$f":"VLOOKUP(A363,Pilot,4,0)","v":"CZ/C2"},"PMRg 2016 - Klub","CZ",17,3634,5330,0.96,6509,6249,2016,null,null,"Std. Cirrus","LW",{"$f":"VLOOKUP(A363,Pilot,5,0)","v":"M"},""]
["Irina Gajnulova",null,"Kazan Avioclub","RU","PMRg 2016 - Klub","CZ",18,3622,5330,0.96,6415,6158,2016,null,null,"SZD-48 Jantar Std.2","SP","F","Není v databázi"]
["Ladislav Jozsa",{"$f":"VLOOKUP(A365,Pilot,2,0)","v":1981},{"$f":"VLOOKUP(A365,Pilot,3,0)","v":"Medlánky"},{"$f":"VLOOKUP(A365,Pilot,4,0)","v":"CZ/M"},"PMRg 2016 - Klub","CZ",19,3615,5330,0.96,6327,6074,2016,"x",null,"Std. Cirrus","LJ",{"$f":"VLOOKUP(A365,Pilot,5,0)","v":"M"},""]
["Pavlina Horackova",1965,"Šumperk","CZ/M","PMRg 2016 - Klub","CZ",20,3608,5330,0.96,6238,5988,2016,null,null,"SZD-48 Jantar Std 2","SU","F",""]
["Barbora Moravcova",1994,"Zbraslavice","CZ/C1","PMRg 2016 - Klub","CZ",21,3570,5330,0.96,6110,5866,2016,null,null,"ASW-15B","JJ","F","Junior v roce 2019"]
["Linda Vasatova",1990,"Mladá Boleslav","CZ/C1","PMRg 2016 - Klub","CZ",22,3566,5330,0.96,6025,5784,2016,null,null,"ASW-19B","AH","F",""]
["Daniel Ryba",1994,"Dvůr Králové","CZ/C2","PMRg 2016 - Klub","CZ",23,3553,5330,0.96,5929,5692,2016,null,null,"Cirrus VTC","VE","M","Junior v roce 2019"]
["Klara Teichmannova",1993,"Hronov","CZ/C2","PMRg 2016 - Klub","CZ",24,3271,5330,0.96,5480,5261,2016,null,null,"Std. Cirrus","LY","F",""]
["Lukas Koukal",1991,"Letkov","CZ/C1","PMRg 2016 - Klub","CZ",25,3179,5330,0.96,5280,5069,2016,null,null,"ASW-15B","T1","M",""]
["Lubor Zeleny",1957,"Přibyslav","CZ/C2","PMRg 2016 - Klub","CZ",26,3169,5330,0.96,5188,4980,2016,"x",null,"Std. Cirrus","AW","M",""]
["Jan Florian",1992,"Zbraslavice","CZ/C1","PMRg 2016 - Klub","CZ",27,3135,5330,0.96,5065,4862,2016,"x",null,"Std. Cirrus","C1","M",""]
["Tomas Frinta",1970,"Hodkovice","CZ/C2","PMRg 2016 - Klub","CZ",28,3084,5330,0.96,4919,4722,2016,null,null,"ASW-19B","CF","M",""]
["Martin Kriz",1968,"Přibyslav","CZ/C2","PMRg 2016 - Klub","CZ",29,2738,5330,0.96,4385,4210,2016,"x",null,"ASW-15B","BE","M",""]
["Jindrich Hruska",1986,"Soběslav","CZ/C1","PMRg 2016 - Klub","CZ",30,2606,5330,0.96,4133,3968,2016,"x",null,"303 Mosquito","UFO","M",""]
["Lukas Capek",1992,"Letňany","CZ/C1","PMRg 2016 - Klub","CZ",31,2515,5330,0.96,3935,3778,2016,null,null,"303 Mosquito","LC","M",""]
["Veronika Ambrozova",1984,"Křižanov","CZ/M","PMRg 2016 - Klub","CZ",32,2391,5330,0.96,3693,3545,2016,"x","x","ASW-15B",17,"F",{"$f":"IF(ISERROR(VLOOKUP(A378,Pilot,6,0)),\"Není v databázi\",VLOOKUP(A378,Pilot,6,0))","v":""}]
["Leos Strnadek",1983,"Hodkovice","CZ/C2","PMRg 2016 - Klub","CZ",33,2311,5330,0.96,3509,3369,2016,null,null,"ASW-19B","AFK","M",""]
["Radim Vadasz",1989,"Soběslav","CZ/C1","PMRg 2016 - Klub","CZ",34,2305,5330,0.96,3422,3285,2016,"x",null,"ASW-15A","ASW","M",""]
["Jan Vozeh",1995,"Rakovník","CZ/C1","PMRg 2016 - Klub","CZ",35,1959,5330,0.96,2889,2773,2016,null,null,"Std. Cirrus","OG","M","Junior v roce 2019"]
["Pavel Liska",1965,"Roudnice","CZ/C2","PMRg 2016 - Klub","CZ",36,1434,5330,0.96,2120,2035,2016,"x",null,"ASW-19B","RCE","M",""]
["Petr Filip",1982,"Zbraslavice","CZ/C1","PMRg 2016 - Klub","CZ",37,940,5330,0.96,1392,1336,2016,"x",null,"G-102 Astir CS","MV","M",""]
["Vilem Riha",1990,"Letňany","CZ/C1","PMRg 2016 - Klub","CZ",38,778,5330,0.96,{"$f":"ROUND(H384/I384*10000*0.7+(MAX($G$347:$G$385)-G384)/(MAX($G$347:$G$385)-1)*10000*0.3,0)","v":1101},1057,2016,null,null,"VSO-10","G8","M",""]
["Jaroslav Palicka",1992,"Frýdlant","CZ/M","PMRg 2016 - Klub","CZ",39,288,5330,0.96,378,363,2016,null,null,"G-102 Astir CS","W7","M",""]
["Petr Tichy",1973,"Zbraslavice","CZ/C1","PMRg 2016 - Kombi","CZ",1,5070,5070,0.98499999999999999,{"$f":"ROUND(H386/I386*10000*0.7+(MAX($G$386:$G$398)-G386)/(MAX($G$386:$G$398)-1)*10000*0.3,0)","v":10000},{"$f":"ROUND(J386*K386,0)","v":9850},2016,"x",null,"ASG-29E 18m 600kg","AJ","M",""]
["Petr Krejcirik",1960,"Hranice","CZ/M","PMRg 2016 - Kombi","CZ",2,4876,5070,0.98499999999999999,{"$f":"ROUND(H387/I387*10000*0.7+(MAX($G$386:$G$398)-G387)/(MAX($G$386:$G$398)-1)*10000*0.3,0)","v":9482},{"$f":"ROUND(J387*K387,0)","v":9340},2016,null,null,"JS-1C EVO 18m","AX","M",""]
["Jana Veprekova",1961,"Dvůr Králové","CZ/C2","PMRg 2016 - Kombi","CZ",3,4549,5070,0.98499999999999999,8781,8649,2016,null,null,"LS-8b 15m","W8","F",""]
["Dana Novakova",1965,"Mladá Boleslav","CZ/C1","PMRg 2016 - Kombi","CZ",4,4418,5070,0.98499999999999999,8350,8225,2016,null,null,"LS-8b 15m","FX","F",""]
["Hana Treslova",1991,"Raná","CZ/C2","PMRg 2016 - Kombi","CZ",5,4233,5070,0.98499999999999999,7844,7726,2016,null,null,"Discus 2a 15m","GX","F",""]
["Karel Novak",1993,"Mladá Boleslav","CZ/C1","PMRg 2016 - Kombi","CZ",6,4039,5070,0.98499999999999999,7327,7217,2016,null,null,"LS-8b 15m","JB","M",""]
["Lenka Kuthanova",1960,"LK Břeclav","CZ/M","PMRg 2016 - Kombi","CZ",7,3552,5070,0.98499999999999999,6404,6308,2016,null,null,"ASG 29E 18m 600kg","QX","F",""]
["Martin Pekar",1973,"Šumperk","CZ/M","PMRg 2016 - Kombi","CZ",8,3459,5070,0.98499999999999999,6026,5936,2016,null,null,"HpH 304e Shark 18m 573kg","ES","M",""]
["Eva Cerna",1964,"Příbram","CZ/C1","PMRg 2016 - Kombi","CZ",9,3378,5070,0.98499999999999999,5664,5579,2016,"x","x","Ventus 2cxt 18m 600kg","EK","F",""]
["Jana Treslova",1963,"Raná","CZ/C2","PMRg 2016 - Kombi","CZ",10,3263,5070,0.98499999999999999,5255,5176,2016,null,null,"ASG-29E 18m 600kg","QZ","F",""]
["Alena Netusilova",1970,"Zbraslavice","CZ/C1","PMRg 2016 - Kombi","CZ",11,2869,5070,0.98499999999999999,4461,4394,2016,null,null,"JS-1 CTJ 18m","JX","F",""]
["Olga Mokosova",{"$f":"VLOOKUP(A397,Pilot,2,0)","v":1970},{"$f":"VLOOKUP(A397,Pilot,3,0)","v":"Jihlava"},{"$f":"VLOOKUP(A397,Pilot,4,0)","v":"CZ/M"},"PMRg 2016 - Kombi","CZ",12,2156,5070,0.98499999999999999,3227,3179,2016,"x","x","LS-6c 18m+W","MM",{"$f":"VLOOKUP(A397,Pilot,5,0)","v":"F"},""]
["Petr Frycek",1960,"Most","CZ/C2","PMRg 2016 - Kombi","CZ",13,2148,5070,0.98499999999999999,{"$f":"ROUND(H398/I398*10000*0.7+(MAX($G$386:$G$398)-G398)/(MAX($G$386:$G$398)-1)*10000*0.3,0)","v":2966},2922,2016,"x",null,"Nimbus 3/25.5m 700kg","F","M",""]
["Petr Hofman",1984,"Letňany","CZ/C1","Pohár Vysočiny 2016 - Klub","CZ",1,2961,2961,0.6,{"$f":"ROUND(H399/I399*10000*0.7+(MAX($G$399:$G$444)-G399)/(MAX($G$399:$G$444)-1)*10000*0.3,0)","v":10000},{"$f":"ROUND(J399*K399,0)","v":6000},2016,"x",null,"ASW-15B","MA","M",""]
["Anna Hajkova",1989,"Mladá Boleslav","CZ/C1","Pohár Vysočiny 2016 - Klub","CZ",2,2862,2961,0.6,{"$f":"ROUND(H400/I400*10000*0.7+(MAX($G$399:$G$444)-G400)/(MAX($G$399:$G$444)-1)*10000*0.3,0)","v":9699},{"$f":"ROUND(J400*K400,0)","v":5819},2016,"x","x","Std. Cirrus","BB","F",""]
["Petr Vodicka",1965,"Jaroměř","CZ/C2","Pohár Vysočiny 2016 - Klub","CZ",3,2772,2961,0.6,9420,5652,2016,null,null,"Janus b","BV","M",""]
["Petr Stepanek",1989,"Moravská Třebová","CZ/M","Pohár Vysočiny 2016 - Klub","CZ",4,2669,2961,0.6,9110,5466,2016,null,null,"ASW-19B","AE","M",""]
["Tomas Jiricny",1981,"Hodkovice","CZ/C2","Pohár Vysočiny 2016 - Klub","CZ",5,2630,2961,0.6,8951,5371,2016,"x",null,"Std. Cirrus","AC","M",""]
["Martin Urner",1974,"Letňany","CZ/C1","Pohár Vysočiny 2016 - Klub","CZ",6,2617,2961,0.6,8853,5312,2016,"x",null,"ASW-15B","JJ","M",""]
["Josef Kolman",1983,"Letňany","CZ/C1","Pohár Vysočiny 2016 - Klub","CZ",7,2588,2961,{"$f":"VLOOKUP(E405,Soutez,8,0)","v":0.6},8718,5231,2016,"x",null,"VSO-10",null,"M",""]
["Jaromir Pauer",1974,"Hosín","CZ/C1","Pohár Vysočiny 2016 - Klub","CZ",8,2586,2961,0.6,8647,5188,2016,"x",null,"DG-101 G",78,"M",""]
["Jan Zahradka",1981,"Hodkovice","CZ/C2","Pohár Vysočiny 2016 - Klub","CZ",9,2557,2961,0.6,8512,5107,2016,null,null,"Std. Cirrus","UB","M",""]
["Nikola Zizkovsky",1980,"Kralupy","CZ/C1","Pohár Vysočiny 2016 - Klub","CZ",10,2517,2961,0.6,8350,5010,2016,"x",null,"G 104 Speed Astir IIb","NZ","M",""]
["Vojtech Hajek",1987,"Mladá Boleslav","CZ/C1","Pohár Vysočiny 2016 - Klub","CZ",11,2474,2961,0.6,8182,4909,2016,"x",null,"Std. Cirrus","BW","M",""]
["Petr Jiranek 91",1991,"Toužim","CZ/C1","Pohár Vysočiny 2016 - Klub","CZ",12,2456,2961,0.6,8073,4844,2016,"x",null,"G 102 Astir cs","PJ","M",""]
["Pavel Jiranek",1993,"Toužim","CZ/C1","Pohár Vysočiny 2016 - Klub","CZ",13,2311,2961,0.6,7663,4598,2016,null,null,"Std. Cirrus","IYD","M",""]
["Matous Schmidt",1981,"Letňany","CZ/C1","Pohár Vysočiny 2016 - Klub","CZ",14,2250,2961,0.6,7452,4471,2016,"x",null,"Std. Cirrus","IMI","M",""]
["Ondrej Blaha",1976,"Letňany","CZ/C1","Pohár Vysočiny 2016 - Klub","CZ",15,2234,2961,0.6,7348,4409,2016,null,null,"VT-116 Orlik 2",44,"M",""]
["Martin Valenta",1969,"Toužim","CZ/C1","Pohár Vysočiny 2016 - Klub","CZ",16,2228,2961,0.6,7267,4360,2016,"x",null,"LS 1-c","CL","M",""]
["Jan Hruska",1988,"Tábor","CZ/C1","Pohár Vysočiny 2016 - Klub","CZ",17,2197,2961,0.6,7127,4276,2016,null,null,"ASW-15B","LF","M",""]
["Ivan Tvrdik",1997,"Letňany","CZ/C1","Pohár Vysočiny 2016 - Klub","CZ",18,2127,2961,0.6,6895,4137,2016,null,null,"VSO-10",53,"M","Junior v roce 2019"]
["Juraj Sidor",null,"Holíč","SK","Pohár Vysočiny 2016 - Klub","CZ",19,2067,2961,0.6,6687,4012,2016,null,null,"G-103 Twin Astir","JC","M","Není v databázi"]
["Jiri Janda",{"$f":"VLOOKUP(A418,Pilot,2,0)","v":1966},{"$f":"VLOOKUP(A418,Pilot,3,0)","v":"Letňany"},{"$f":"VLOOKUP(A418,Pilot,4,0)","v":"CZ/C1"},"Pohár Vysočiny 2016 - Klub","CZ",20,2022,2961,0.6,6513,3908,2016,"x",null,"Std. Cirrus","ZT",{"$f":"VLOOKUP(A418,Pilot,5,0)","v":"M"},""]
["Petr Lonsky",1965,"Toužim","CZ/C1","Pohár Vysočiny 2016 - Klub","CZ",21,1989,2961,0.6,6369,3821,2016,null,null,"Std. Cirrus WL","FD","M",""]
["Vilem Riha",1990,"Letňany","CZ/C1","Pohár Vysočiny 2016 - Klub","CZ",22,1955,2961,0.6,6222,3733,2016,"x",null,"Std. Cirrus",77,"M",""]
["Jiri Holcman",1976,"Hosín","CZ/C1","Pohár Vysočiny 2016 - Klub","CZ",23,1889,2961,0.6,5999,3599,2016,"x",null,"ASW-19B","BO","M",""]
["Tomas Ohera",1977,"Letňany","CZ/C1","Pohár Vysočiny 2016 - Klub","CZ",24,1831,2961,0.6,5795,3477,2016,"x",null,"ASK-21","E7","M",""]
["Karel Policky",1950,"Kolín","CZ/C1","Pohár Vysočiny 2016 - Klub","CZ",25,1825,2961,0.6,5714,3428,2016,"x",null,"VSO-10",94,"M",""]
["Jiri Vavrina",1958,"Kyjov","CZ/M","Pohár Vysočiny 2016 - Klub","CZ",26,1785,2961,0.6,5553,3332,2016,"x",null,"LS 1f","BS","M",""]
["Ales Vyhnal",1989,"Kralupy","CZ/C1","Pohár Vysočiny 2016 - Klub","CZ",27,1776,2961,0.6,5465,3279,2016,"x",null,"G 104 Speed Astir IIb","YF","M",""]
["Jan Zezula",1979,"Letňany","CZ/C1","Pohár Vysočiny 2016 - Klub","CZ",28,1771,2961,0.6,5387,3232,2016,"x",null,"Std. Cirrus","IJ","M",""]
["Jiri Dockal",1982,"Letňany","CZ/C1","Pohár Vysočiny 2016 - Klub","CZ",29,1721,2961,0.6,5202,3121,2016,"x",null,"VSO-10",3,"M",""]
["Milan Svoboda 80",1980,"Havlíčkův Brod","CZ/C2","Pohár Vysočiny 2016 - Klub","CZ",30,1714,2961,0.6,5119,3071,2016,null,null,"VT 116 OrlikII",null,"M",""]
["Yvona Vyhnankova",1963,"Olomouc","CZ/M","Pohár Vysočiny 2016 - Klub","CZ",31,1631,2961,0.6,4856,2914,2016,"x","x","ASW-15","YZ","F",""]
["Tomas Flegl",1987,"Hodkovice","CZ/C2","Pohár Vysočiny 2016 - Klub","CZ",31,1631,2961,0.6,4856,2914,2016,"x",null,"Std. Cirrus","XF","M",""]
["Lubomir Papezik",1951,"Luhačovice","CZ/M","Pohár Vysočiny 2016 - Klub","CZ",33,1592,2961,0.6,4630,2778,2016,"x",null,"LS 4","FP","M",""]
["Ivan Kuzelka",1945,"Havlíčkův Brod","CZ/C2","Pohár Vysočiny 2016 - Klub","CZ",34,1588,2961,0.6,4554,2732,2016,null,null,"VT 116 Orlik2","I","M",""]
["Lukas Kotek",1994,"Frýdlant","CZ/M","Pohár Vysočiny 2016 - Klub","CZ",35,1419,2961,0.6,4088,2453,2016,null,null,"DG-200 15m","AK","M","Junior v roce 2019"]
["Pavel Laznicka",1955,"Letňany","CZ/C1","Pohár Vysočiny 2016 - Klub","CZ",36,1215,2961,0.6,3539,2123,2016,"x",null,"Discus cs","LH","M",""]
["Jan Kotan",1982,"Letňany","CZ/C1","Pohár Vysočiny 2016 - Klub","CZ",37,1206,2961,0.6,3451,2071,2016,null,null,"ASW-19B","WT","M",""]
["Vaclav Petru",1974,"Letňany","CZ/C1","Pohár Vysočiny 2016 - Klub","CZ",38,1197,2961,0.6,3363,2018,2016,"x",null,"TST-3 Alpin T","AI","M",""]
["Miloslav Hulmak",1963,"Hosín","CZ/C1","Pohár Vysočiny 2016 - Klub","CZ",39,1135,2961,0.6,3150,1890,2016,"x",null,"G-103 Twin Trainer","TW","M",""]
["Petr Brezina",1963,"Frýdlant","CZ/M","Pohár Vysočiny 2016 - Klub","CZ",40,1129,2961,0.6,3069,1841,2016,"x",null,"G 102 Astir cs","BH","M",""]
["Karel Stach",1963,"Letňany","CZ/C1","Pohár Vysočiny 2016 - Klub","CZ",41,1116,2961,0.6,2972,1783,2016,"x",null,"VSO-10","G8","M",""]
["Michal Richter",1983,"Kolín","CZ/C1","Pohár Vysočiny 2016 - Klub","CZ",42,1010,2961,0.6,2654,1592,2016,"x",null,"SZD-48 Jantar std. 2 (3) WL","VS","M",""]
["Radim Hauptmann",1963,"Jičín","CZ/C2","Pohár Vysočiny 2016 - Klub","CZ",43,855,2961,0.6,2221,1333,2016,"x",null,"Std. Cirrus","SC","M",""]
["Radoslav Pur",1973,"Hosín","CZ/C1","Pohár Vysočiny 2016 - Klub","CZ",44,830,2961,0.6,2096,1258,2016,"x",null,"DG 100","EZ","M",{"$f":"IF(ISERROR(VLOOKUP(A442,Pilot,6,0)),\"Není v databázi\",VLOOKUP(A442,Pilot,6,0))","v":""}]
["Ondrej Dvorak 98",1998,"Mladá Boleslav","CZ/C1","Pohár Vysočiny 2016 - Klub","CZ",45,776,2961,0.6,1901,1141,2016,null,null,"G 102 Astir Jeans","VI","M","Junior v roce 2019"]
["Filip Sirc",1993,"Letňany","CZ/C1","Pohár Vysočiny 2016 - Klub","CZ",46,706,2961,0.6,{"$f":"ROUND(H444/I444*10000*0.7+(MAX($G$399:$G$444)-G444)/(MAX($G$399:$G$444)-1)*10000*0.3,0)","v":1669},1001,2016,null,null,"VSO-10","L2","M",""]
["Radek Krejcirik",1991,"Hranice","CZ/M","Pohár Vysočiny 2016 - Kombi","CZ",1,3289,3289,0.61499999999999999,{"$f":"ROUND(H445/I445*10000*0.7+(MAX($G$445:$G$465)-G445)/(MAX($G$445:$G$465)-1)*10000*0.3,0)","v":10000},{"$f":"ROUND(J445*K445,0)","v":6150},2016,null,null,"Ventus 2a 15m","AX","M",""]
["Jan Boruvka",1984,"Jičín","CZ/C2","Pohár Vysočiny 2016 - Kombi","CZ",2,3178,3289,0.61499999999999999,{"$f":"ROUND(H446/I446*10000*0.7+(MAX($G$445:$G$465)-G446)/(MAX($G$445:$G$465)-1)*10000*0.3,0)","v":9614},{"$f":"ROUND(J446*K446,0)","v":5913},2016,null,null,"Ventus c 17,6m","EG","M",""]
["Ondrej Bordovsky",1983,"Krnov","CZ/M","Pohár Vysočiny 2016 - Kombi","CZ",3,3097,3289,0.61499999999999999,9291,5714,2016,null,null,"ASW-22 BLE 27m 850kg","RX","M",""]
["David Darnady",null,"Nitra","SK","Pohár Vysočiny 2016 - Kombi","CZ",4,2835,3289,0.61499999999999999,8584,5279,2016,null,null,"DG-1000S 20m","NIT","M","Není v databázi"]
["Tomas Bobok",null,"Prievidza","SK","Pohár Vysočiny 2016 - Kombi","CZ",5,2827,3289,0.61499999999999999,8417,5176,2016,null,null,"Duo Discus XLT","DUO","M","Není v databázi"]
["David Zapletal",{"$f":"VLOOKUP(A450,Pilot,2,0)","v":1970},{"$f":"VLOOKUP(A450,Pilot,3,0)","v":"Mladá Boleslav"},{"$f":"VLOOKUP(A450,Pilot,4,0)","v":"CZ/C1"},"Pohár Vysočiny 2016 - Kombi","CZ",6,2764,3289,0.61499999999999999,8133,5002,2016,"x",null,"Ventus c 17,6m","PUP",{"$f":"VLOOKUP(A450,Pilot,5,0)","v":"M"},""]
["Jan Dersak 69",{"$f":"VLOOKUP(A451,Pilot,2,0)","v":1969},{"$f":"VLOOKUP(A451,Pilot,3,0)","v":"Kralupy"},{"$f":"VLOOKUP(A451,Pilot,4,0)","v":"CZ/C1"},"Pohár Vysočiny 2016 - Kombi","CZ",7,2721,3289,0.61499999999999999,7891,4853,2016,null,null,"HPH 304CZ 17,4m","DJ",{"$f":"VLOOKUP(A451,Pilot,5,0)","v":"M"},""]
["Jan Simon",{"$f":"VLOOKUP(A452,Pilot,2,0)","v":1970},{"$f":"VLOOKUP(A452,Pilot,3,0)","v":"Kralupy"},{"$f":"VLOOKUP(A452,Pilot,4,0)","v":"CZ/C1"},"Pohár Vysočiny 2016 - Kombi","CZ",8,2691,3289,0.61499999999999999,7677,4721,2016,null,null,"Nimbus 3/22.9m 750kg","HS",{"$f":"VLOOKUP(A452,Pilot,5,0)","v":"M"},""]
["Zdenek Boruvka 54",{"$f":"VLOOKUP(A453,Pilot,2,0)","v":1954},{"$f":"VLOOKUP(A453,Pilot,3,0)","v":"Jičín"},{"$f":"VLOOKUP(A453,Pilot,4,0)","v":"CZ/C2"},"Pohár Vysočiny 2016 - Kombi","CZ",9,2629,3289,0.61499999999999999,7395,4548,2016,null,null,"LS 8-18 18m","ZB",{"$f":"VLOOKUP(A453,Pilot,5,0)","v":"M"},""]
["Oldrich Bartonik",{"$f":"VLOOKUP(A454,Pilot,2,0)","v":1961},{"$f":"VLOOKUP(A454,Pilot,3,0)","v":"Luhačovice"},{"$f":"VLOOKUP(A454,Pilot,4,0)","v":"CZ/M"},"Pohár Vysočiny 2016 - Kombi","CZ",10,2580,3289,0.61499999999999999,7141,4392,2016,null,null,"Arcus M","AR",{"$f":"VLOOKUP(A454,Pilot,5,0)","v":"M"},""]
["Lukas Benedikt",null,"Trnava","SK","Pohár Vysočiny 2016 - Kombi","CZ",11,2408,3289,0.61499999999999999,6625,4074,2016,null,null,"LAK 17b FES","LB","M","Není v databázi"]
["Michal Navratil",{"$f":"VLOOKUP(A456,Pilot,2,0)","v":1985},{"$f":"VLOOKUP(A456,Pilot,3,0)","v":"Křižanov"},{"$f":"VLOOKUP(A456,Pilot,4,0)","v":"CZ/M"},"Pohár Vysočiny 2016 - Kombi","CZ",12,2286,3289,0.61499999999999999,6215,3822,2016,"x",null,"Duo Discus 700kg",777,{"$f":"VLOOKUP(A456,Pilot,5,0)","v":"M"},""]
["Eduard Niko",null,"Prievidza","SK","Pohár Vysočiny 2016 - Kombi","CZ",13,2281,3289,0.61499999999999999,6055,3724,2016,null,null,"Duo DiscusT 700kg","NL","M","Není v databázi"]
["Radek Kucirek",{"$f":"VLOOKUP(A458,Pilot,2,0)","v":1973},{"$f":"VLOOKUP(A458,Pilot,3,0)","v":"Havlíčkův Brod"},{"$f":"VLOOKUP(A458,Pilot,4,0)","v":"CZ/C2"},"Pohár Vysočiny 2016 - Kombi","CZ",14,2164,3289,0.61499999999999999,5656,3478,2016,null,null,"Ventus 2b 15m","YA",{"$f":"VLOOKUP(A458,Pilot,5,0)","v":"M"},""]
["Vladimir Kamensky",1983,"Břeclav","CZ/M","Pohár Vysočiny 2016 - Kombi","CZ",14,2164,3289,0.61499999999999999,5656,3478,2016,"x",null,"Nimbus 2b","IK","M",""]
["Boris Bachraty",1974,"Břeclav","CZ/M","Pohár Vysočiny 2016 - Kombi","CZ",16,2155,3289,0.61499999999999999,5337,3282,2016,"x",null,"SZD-42 Jantar 2b",25,"M",""]
["Josef Busek",1967,"Hosín","CZ/C1","Pohár Vysočiny 2016 - Kombi","CZ",17,2135,3289,0.61499999999999999,5144,3164,2016,"x",null,"Duo Discus XLT","BB","M",""]
["Petr Hrebec",1972,"Točná","CZ/C1","Pohár Vysočiny 2016 - Kombi","CZ",18,1621,3289,0.61499999999999999,3900,2399,2016,"x",null,"Ventus b 16,6m","TB","M",""]
["Tomas Profeld",1964,"Jičín","CZ/C2","Pohár Vysočiny 2016 - Kombi","CZ",19,1595,3289,0.61499999999999999,3695,2272,2016,"x",null,"Ventus 2cm 18m","OZ","M",""]
["Jiri Prochazka",1971,"Toužim","CZ/C1","Pohár Vysočiny 2016 - Kombi","CZ",20,1330,3289,0.61499999999999999,{"$f":"ROUND(H464/I464*10000*0.7+(MAX($G$445:$G$465)-G464)/(MAX($G$445:$G$465)-1)*10000*0.3,0)","v":2981},1833,2016,null,null,"DG-500 22m","SR","M",""]
["Vaclav Hruza",1965,"Břeclav","CZ/M","Pohár Vysočiny 2016 - Kombi","CZ",21,1270,3289,0.61499999999999999,2703,1662,2016,"x",null,"HPH 304SJ 18m 573kg","TH","M",""]
["Jana Mezerova",1975,"Raná","CZ/C2","Ranský Pohár 2016 - Klub","CZ",1,143,143,0,{"$f":"ROUND(H466/I466*10000*0.7+(MAX($G$466:$G$470)-G466)/(MAX($G$466:$G$470)-1)*10000*0.3,0)","v":10000},{"$f":"ROUND(J466*K466,0)","v":0},2016,null,null,"VT-116 Orlik 2",6,"F",""]
["Tomas Mezera",1973,"Raná","CZ/C2","Ranský Pohár 2016 - Klub","CZ",2,87,143,0,{"$f":"ROUND(H467/I467*10000*0.7+(MAX($G$466:$G$470)-G467)/(MAX($G$466:$G$470)-1)*10000*0.3,0)","v":6509},0,2016,null,null,"VT-116 Orlik 2",3,"M",""]
["Jiri Hendrych",1943,"Točná","CZ/C1","Ranský Pohár 2016 - Klub","CZ",3,53,143,0,{"$f":"ROUND(H468/I468*10000*0.7+(MAX($G$466:$G$470)-G468)/(MAX($G$466:$G$470)-1)*10000*0.3,0)","v":4094},0,2016,null,null,"VT-16 Orlik","TD","M",""]
["Miroslav Major",1968,"GAC Benešov","CZ/C1","Ranský Pohár 2016 - Klub","CZ",4,33,143,{"$f":"VLOOKUP(E469,Soutez,8,0)","v":0},{"$f":"ROUND(H469/I469*10000*0.7+(MAX($G$466:$G$470)-G469)/(MAX($G$466:$G$470)-1)*10000*0.3,0)","v":2365},0,2016,null,null,"VT-116 Orlik 2","M","M",""]
["Jaroslav Hendrych",1946,"Příbram","CZ/C1","Ranský Pohár 2016 - Klub","CZ",5,32,143,0,{"$f":"ROUND(H470/I470*10000*0.7+(MAX($G$466:$G$470)-G470)/(MAX($G$466:$G$470)-1)*10000*0.3,0)","v":1566},0,2016,null,null,"VT-116 Orlik 2","I","M",""]
["Eduard Svoboda",1957,"Raná","CZ/C2","Ranský Pohár 2016 - Kombi","CZ",1,1653,1653,0.6,{"$f":"ROUND(H471/I471*10000*0.7+(MAX($G$471:$G$489)-G471)/(MAX($G$471:$G$489)-1)*10000*0.3,0)","v":10000},6000,2016,"x",null,"ASW 15B","HL","M",""]
["Jiri Maier 66",1966,"Raná","CZ/C2","Ranský Pohár 2016 - Kombi","CZ",2,1597,1653,0.6,{"$f":"ROUND(H472/I472*10000*0.7+(MAX($G$471:$G$489)-G472)/(MAX($G$471:$G$489)-1)*10000*0.3,0)","v":9596},{"$f":"ROUND(J472*K472,0)","v":5758},2016,"x",null,"ASW 15","TZ","M",""]
["Martin Zvonicek",1972,"Raná","CZ/C2","Ranský Pohár 2016 - Kombi","CZ",3,1458,1653,0.6,8841,5305,2016,"x",null,"ASW 15","ET","M",""]
["Radovan Otto",1968,"Ústí nad Labem","CZ/C2","Ranský Pohár 2016 - Kombi","CZ",4,1426,1653,0.6,8539,5123,2016,"x",null,"TST-10 Atlas M",7,"M",""]
["Pavel Derda",1952,"Dvůr Králové","CZ/C2","Ranský Pohár 2016 - Kombi","CZ",5,1320,1653,0.6,7923,4754,2016,null,null,"Cirrus/Cirrus VTC 17.74",5,"M",""]
["Rostislav Fric",1973,"Raná","CZ/C2","Ranský Pohár 2016 - Kombi","CZ",6,1185,1653,0.6,7185,4311,2016,"x",null,"ASW 19","FR","M",""]
["Dalibor Pek",1968,"Raná","CZ/C2","Ranský Pohár 2016 - Kombi","CZ",7,1133,1653,0.6,6798,4079,2016,"x",null,"VSO-10",59,"M",""]
["Jaroslav Kacer",1978,"Raná","CZ/C2","Ranský Pohár 2016 - Kombi","CZ",8,1061,1653,0.6,6326,3796,2016,"x",null,"VSO-10","I9","M",""]
["Sarka Lochova",1966,"Šumperk","CZ/M","Ranský Pohár 2016 - Kombi","CZ",9,1025,1653,0.6,6007,3604,2016,"x","x","ASW 15","UP","F",""]
["Tomas Jilek",1995,"Raná","CZ/C2","Ranský Pohár 2016 - Kombi","CZ",10,993,1653,0.6,5705,3423,2016,null,null,"Cobra 15",10,"M","Junior v roce 2019"]
["Jiri Vokrinek",1965,"Hodkovice","CZ/C2","Ranský Pohár 2016 - Kombi","CZ",11,894,1653,0.6,5119,3071,2016,"x",null,"G 103 Twin II","BL","M",""]
["Jaromir Vlk",1959,"Šumperk","CZ/M","Ranský Pohár 2016 - Kombi","CZ",12,870,1653,0.6,4851,2911,2016,null,null,"VSO-10",4,"M",""]
["Jaromir Hendrych",1954,"Raná","CZ/C2","Ranský Pohár 2016 - Kombi","CZ",13,786,1653,0.6,4328,2597,2016,null,null,"M-35",36,"M",""]
["Zbynek Bican",1961,"Raná","CZ/C2","Ranský Pohár 2016 - Kombi","CZ",14,592,1653,0.6,3340,2004,2016,"x",null,"VSO-10 C","C8","M",""]
["Petr Kohr",1970,"Raná","CZ/C2","Ranský Pohár 2016 - Kombi","CZ",15,572,1653,0.6,3089,1853,2016,"x",null,"Std. Cirrus","YF","M",""]
["Vladimir Fousek",1964,"Raná","CZ/C2","Ranský Pohár 2016 - Kombi","CZ",16,527,1653,0.6,2732,1639,2016,"x",null,"Std. Cirrus","LW","M",""]
["Ulf Kern",1958,"Raná","CZ/C2","Ranský Pohár 2016 - Kombi","CZ",17,434,1653,0.6,2171,1303,2016,null,null,"LAK 17/18m","ZZ","M",""]
["Jan Sustr 76",1976,"Raná","CZ/C2","Ranský Pohár 2016 - Kombi","CZ",18,137,1653,0.6,{"$f":"ROUND(H488/I488*10000*0.7+(MAX($G$471:$G$489)-G488)/(MAX($G$471:$G$489)-1)*10000*0.3,0)","v":747},448,2016,"x",null,"DG 300","WL","M",""]
["Edgar Kraus",null,"Ťauberbischofsheim","DE","Ranský Pohár 2016 - Kombi","CZ",19,0,1653,0.6,0,0,2016,null,null,"Mosquito",null,"M","Není v databázi"]
["Petr Rygl",{"$f":"VLOOKUP(A490,Pilot,2,0)","v":1966},{"$f":"VLOOKUP(A490,Pilot,3,0)","v":"Jičín"},{"$f":"VLOOKUP(A490,Pilot,4,0)","v":"CZ/C2"},"Pohár Českého Ráje 2016 - Kombi","CZ",1,1688,1688,0,{"$f":"ROUND(H490/I490*10000*0.7+(MAX($G$490:$G$496)-G490)/(MAX($G$490:$G$496)-1)*10000*0.3,0)","v":10000},{"$f":"ROUND(J490*K490,0)","v":0},2016,null,null,"ASW 15","A18",{"$f":"VLOOKUP(A490,Pilot,5,0)","v":"M"},""]
["Radek Tobolka",1977,"Jičín","CZ/C2","Pohár Českého Ráje 2016 - Kombi","CZ",2,1524,1688,0,{"$f":"ROUND(H491/I491*10000*0.7+(MAX($G$490:$G$496)-G491)/(MAX($G$490:$G$496)-1)*10000*0.3,0)","v":8820},{"$f":"ROUND(J491*K491,0)","v":0},2016,null,null,"Std. Cirrus","XL","M",""]
["Petr Kyzivat",1970,"Jičín","CZ/C2","Pohár Českého Ráje 2016 - Kombi","CZ",3,1402,1688,0,7814,0,2016,null,null,"Std. Cirrus","FS","M",""]
["Ales Holoubek",1966,"Jičín","CZ/C2","Pohár Českého Ráje 2016 - Kombi","CZ",4,1381,1688,0,7227,0,2016,null,null,"ASW 15b","T","M",""]
["Lukas Jezek",1975,"Jičín","CZ/C2","Pohár Českého Ráje 2016 - Kombi","CZ",5,857,1688,0,{"$f":"ROUND(H494/I494*10000*0.7+(MAX($G$490:$G$496)-G494)/(MAX($G$490:$G$496)-1)*10000*0.3,0)","v":4554},0,2016,null,null,"Janus 18.2m","JC","M",""]
["Jiri Vokrinek",1965,"Hodkovice","CZ/C2","Pohár Českého Ráje 2016 - Kombi","CZ",6,694,1688,0,3378,0,2016,null,null,"ASW 19","XP","M",""]
["Miroslav Trybucek",1965,"Jičín","CZ/C2","Pohár Českého Ráje 2016 - Kombi","CZ",7,0,1688,0,0,0,2016,null,null,"Ventus 2cM/18m","OZ","M",""]
["Radek Krejcirik",1991,"Hranice","CZ/M","PMČRj 2016 - Klub","CZ",1,5272,5272,0.91500000000000004,{"$f":"ROUND(H497/I497*10000*0.7+(MAX($G$497:$G$528)-G497)/(MAX($G$497:$G$528)-1)*10000*0.3,0)","v":10000},{"$f":"ROUND(J497*K497,0)","v":9150},2016,"x",null,"Std. Cirrus","BW","M",""]
["Jakub Hlavacek",1991,"Letkov","CZ/C1","PMČRj 2016 - Klub","CZ",2,5116,5272,0.91500000000000004,{"$f":"ROUND(H498/I498*10000*0.7+(MAX($G$497:$G$528)-G498)/(MAX($G$497:$G$528)-1)*10000*0.3,0)","v":9696},{"$f":"ROUND(J498*K498,0)","v":8872},2016,null,null,"Std. Cirrus","XC","M",""]
["Karel Novak",1993,"Mladá Boleslav","CZ/C1","PMČRj 2016 - Klub","CZ",3,5077,5272,0.91500000000000004,9548,8736,2016,null,null,"Std. Cirrus","DI","M",""]
["David Mach",1994,"Hronov","CZ/C2","PMČRj 2016 - Klub","CZ",4,4848,5272,0.91500000000000004,9147,8370,2016,null,null,"Cirrus VTC","G7","M","Junior v roce 2019"]
["Lukas Koukal",1991,"Letkov","CZ/C1","PMČRj 2016 - Klub","CZ",5,4589,5272,0.91500000000000004,8706,7966,2016,"x",null,"ASW-15B","T1","M",""]
["Richard Vlcek",1993,"Kunovice","CZ/M","PMČRj 2016 - Klub","CZ",6,4573,5272,0.91500000000000004,8588,7858,2016,null,null,"Std. Cirrus","OK","M",""]
["Lukas Capek",1992,"Letňany","CZ/C1","PMČRj 2016 - Klub","CZ",7,4320,5272,0.91500000000000004,8155,7462,2016,"x",null,"303 Mosquito","LC","M",""]
["Hana Treslova",1991,"Raná","CZ/C2","PMČRj 2016 - Klub","CZ",8,4224,5272,0.91500000000000004,7931,7257,2016,null,null,"Std. Cirrus","CI","F",""]
["Vojtech Novotny",1992,"Kralupy","CZ/C1","PMČRj 2016 - Klub","CZ",9,4218,5272,0.91500000000000004,7826,7161,2016,"x",null,"SZD-48 Jantar Std.3","SZ","M",""]
["Daniel Ryba",1994,"Dvůr Králové","CZ/C2","PMČRj 2016 - Klub","CZ",10,4160,5272,0.91500000000000004,7653,7002,2016,null,null,"Cirrus VTC","VE","M",{"$f":"IF(ISERROR(VLOOKUP(A506,Pilot,6,0)),\"Není v databázi\",VLOOKUP(A506,Pilot,6,0))","v":"Junior v roce 2019"}]
["Jan Zapletal",1997,"Kroměříž","CZ/M","PMČRj 2016 - Klub","CZ",11,4143,5272,0.91500000000000004,7533,6893,2016,null,null,"HPH 304C Wasp","LU","M","Junior v roce 2019"]
["Jaromir Macoun",1999,"Jičín","CZ/C2","PMČRj 2016 - Klub","CZ",12,3941,5272,0.91500000000000004,7168,6559,2016,null,null,"Std. Cirrus","SC","M","Junior v roce 2019"]
["Barbora Moravcova",1994,"Zbraslavice","CZ/C1","PMČRj 2016 - Klub","CZ",13,3873,5272,0.91500000000000004,6981,6388,2016,null,null,"ASW-19B","CF","F","Junior v roce 2019"]
["Josef Hlusek",1993,"Kunovice","CZ/M","PMČRj 2016 - Klub","CZ",14,3678,5272,0.91500000000000004,6625,6062,2016,"x",null,"Std. Cirrus","WO","M",""]
["Pavel Jiranek",1993,"Toužim","CZ/C1","PMČRj 2016 - Klub","CZ",15,3547,5272,0.91500000000000004,6355,5815,2016,null,null,"Std. Cirrus","IYD","M",""]
["Tomas Jilek",1995,"Raná","CZ/C2","PMČRj 2016 - Klub","CZ",16,3524,5272,0.91500000000000004,6227,5698,2016,"x",null,"SZD-36 Cobra 15",10,"M","Junior v roce 2019"]
["Klara Teichmannova",1993,"Hronov","CZ/C2","PMČRj 2016 - Klub","CZ",17,3305,5272,0.91500000000000004,5840,5344,2016,null,null,"Std. Cirrus","LY","F",""]
["Michal Cupak",1991,"Medlánky","CZ/M","PMČRj 2016 - Klub","CZ",18,3154,5272,0.91500000000000004,5543,5072,2016,"x",null,"Std. Cirrus","MP","M",""]
["Jan Vozeh",1995,"Rakovník","CZ/C1","PMČRj 2016 - Klub","CZ",19,3107,5272,0.91500000000000004,5383,4925,2016,null,null,"Std. Cirrus","OG","M","Junior v roce 2019"]
["Jan Kostka",1996,"Kladno","CZ/C1","PMČRj 2016 - Klub","CZ",20,2740,5272,0.91500000000000004,4799,4391,2016,"x",null,"VSO-10","F8","M","Junior v roce 2019"]
["Jakub Kohn",1992,"Prostějov","CZ/M","PMČRj 2016 - Klub","CZ",21,2721,5272,0.91500000000000004,4677,4279,2016,"x",null,"VSO-10","VI","M",""]
["Lukas Kotek",1994,"Frýdlant","CZ/M","PMČRj 2016 - Klub","CZ",22,2400,5272,0.91500000000000004,4154,3801,2016,"x",null,"DG-200 15m","AK","M","Junior v roce 2019"]
["Tomas Ondrusek",1994,"Letkov","CZ/C1","PMČRj 2016 - Klub","CZ",23,2370,5272,0.91500000000000004,4018,3676,2016,"x",null,"Discus b","SJ","M","Junior v roce 2019"]
["Ivan Tvrdik",1997,"Letňany","CZ/C1","PMČRj 2016 - Klub","CZ",24,2234,5272,0.91500000000000004,3740,3422,2016,null,null,"VSO-10",53,"M","Junior v roce 2019"]
["Marek Pechar",1995,"Chrudim","CZ/C2","PMČRj 2016 - Klub","CZ",25,2212,5272,0.91500000000000004,3614,3307,2016,"x",null,"Std. Cirrus","FF","M","Junior v roce 2019"]
["Lukas Maly",{"$f":"VLOOKUP(A522,Pilot,2,0)","v":1998},{"$f":"VLOOKUP(A522,Pilot,3,0)","v":"Vysoké Mýto"},{"$f":"VLOOKUP(A522,Pilot,4,0)","v":"CZ/C2"},"PMČRj 2016 - Klub","CZ",26,2195,5272,0.91500000000000004,3495,3198,2016,null,null,"VSO-10","VM",{"$f":"VLOOKUP(A522,Pilot,5,0)","v":"M"},"Junior v roce 2019"]
["Filip Sirc",1993,"Letňany","CZ/C1","PMČRj 2016 - Klub","CZ",27,2122,5272,0.91500000000000004,3301,3020,2016,null,null,"Std. Cirrus","LTN","M",""]
["Milada Moudra",1991,"Hodkovice","CZ/C2","PMČRj 2016 - Klub","CZ",28,1811,5272,0.91500000000000004,2792,2555,2016,"x","x","ASW-19B","AFK","F",""]
["Barbora Kubickova",1993,"Medlánky","CZ/M","PMČRj 2016 - Klub","CZ",29,1479,5272,0.91500000000000004,2254,2062,2016,"x","x","ASW-15B","Y","F",""]
["Michal Sebek",1998,"Letňany","CZ/C1","PMČRj 2016 - Klub","CZ",30,1174,5272,0.91500000000000004,1752,1603,2016,"x",null,"VSO-10","M4","M","Junior v roce 2019"]
["Jaroslav Palicka",1992,"Frýdlant","CZ/M","PMČRj 2016 - Klub","CZ",31,768,5272,0.91500000000000004,1117,1022,2016,"x",null,"G-102 Astir cs","W7","M",""]
["Sabina Vitova",1998,"Kroměříž","CZ/M","PMČRj 2016 - Klub","CZ",32,611,5272,0.91500000000000004,{"$f":"ROUND(H528/I528*10000*0.7+(MAX($G$497:$G$528)-G528)/(MAX($G$497:$G$528)-1)*10000*0.3,0)","v":811},742,2016,"x","x","G-102 Astir Jeans","2Y","F","Junior v roce 2019"]
["Petr Tichy",1973,"Zbraslavice","CZ/C1","Šumava Glide 2016 - Kombi","CZ",1,2532,2532,0,{"$f":"ROUND(H529/I529*10000*0.7+(MAX($G$529:$G$536)-G529)/(MAX($G$529:$G$536)-1)*10000*0.3,0)","v":10000},{"$f":"ROUND(J529*K529,0)","v":0},2016,null,null,"ASG 29/18m","AJ","M",""]
["Alena Netusilova",1970,"Zbraslavice","CZ/C1","Šumava Glide 2016 - Kombi","CZ",2,2500,2532,0,{"$f":"ROUND(H530/I530*10000*0.7+(MAX($G$529:$G$536)-G530)/(MAX($G$529:$G$536)-1)*10000*0.3,0)","v":9483},{"$f":"ROUND(J530*K530,0)","v":0},2016,null,null,"JS 1 Revelation","JX","F",""]
["Danes Grula",1961,"Medlánky","CZ/M","Šumava Glide 2016 - Kombi","CZ",3,2293,2532,0,8482,0,2016,null,null,"ASG 29/18m","DX","M",""]
["Martin Hrivna",1978,"Zbraslavice","CZ/C1","Šumava Glide 2016 - Kombi","CZ",4,1898,2532,0,6962,0,2016,null,null,"ASG 29/18m","NX","M",""]
["Lenka Kuthanova",1960,"LK Břeclav","CZ/M","Šumava Glide 2016 - Kombi","CZ",5,1882,2532,{"$f":"VLOOKUP(E533,Soutez,8,0)","v":0},6489,0,2016,null,null,"JS 1 Revelation","LX","F",""]
["Ondrej Dupal",1966,"GAC Benešov","CZ/C1","Šumava Glide 2016 - Kombi","CZ",6,1881,2532,0,6057,0,2016,null,null,"ASG 29/18m","GO","M",""]
["Jiri Kusbach",1959,"Luhačovice","CZ/M","Šumava Glide 2016 - Kombi","CZ",7,1146,2532,0,3597,0,2016,null,null,"KKB-15/18E","B","M",""]
["Tomas Rendla",1973,"Zbraslavice","CZ/C1","Šumava Glide 2016 - Kombi","CZ",8,669,2532,0,{"$f":"ROUND(H536/I536*10000*0.7+(MAX($G$529:$G$536)-G536)/(MAX($G$529:$G$536)-1)*10000*0.3,0)","v":1850},{"$f":"ROUND(J536*K536,0)","v":0},2016,null,null,"JS 1 Revelation","VX","M",""]
["Klara Teichmannova",1993,"Hronov","CZ/C2","15. HOP 2016 - Klub","CZ",1,2981,2981,0.6,{"$f":"ROUND(H537/I537*10000*0.7+(MAX($G$537:$G$561)-G537)/(MAX($G$537:$G$561)-1)*10000*0.3,0)","v":10000},{"$f":"ROUND(J537*K537,0)","v":6000},2016,null,null,"VT-16 Orlik",2909,"F",""]
["Jan Sindelar",1946,"Kunovice","CZ/M","15. HOP 2016 - Klub","CZ",2,2928,2981,0.6,{"$f":"ROUND(H538/I538*10000*0.7+(MAX($G$537:$G$561)-G538)/(MAX($G$537:$G$561)-1)*10000*0.3,0)","v":9751},{"$f":"ROUND(J538*K538,0)","v":5851},2016,"x",null,"VT-116 Orlik 2",7410,"M",""]
["Wolfgang Sluka",1942,"Liberec","CZ/C2","15. HOP 2016 - Klub","CZ",3,2881,2981,0.6,9515,5709,2016,"x",null,"VT-116 Orlik 2",8425,"M",""]
["Miroslav Stepan",1955,"Žamberk","CZ/C2","15. HOP 2016 - Klub","CZ",4,2861,2981,0.6,9343,5606,2016,"x",null,"VT-116 Orlik 2",8412,"M",""]
["Oldrich Slavicek",1959,"Hronov","CZ/C2","15. HOP 2016 - Klub","CZ",5,2779,2981,0.6,9026,5416,2016,"x",null,"VT-116 Orlik 2",4310,"M",""]
["Michal Janda",1972,"Broumov","CZ/C2","15. HOP 2016 - Klub","CZ",6,2727,2981,0.6,8779,5267,2016,"x",null,"VT-116 Orlik 2",7402,"M",""]
["Ondrej Teichman",1984,"Dvůr Králové","CZ/C2","15. HOP 2016 - Klub","CZ",7,2543,2981,0.6,8221,4933,2016,"x",null,"VT-116 Orlik 2",6445,"M",""]
["Ondrej Blaha",1976,"Letňany","CZ/C1","15. HOP 2016 - Klub","CZ",8,2516,2981,0.6,8033,4820,2016,"x",null,"VT-116 Orlik 2",6444,"M",""]
["Jaromir Vlk",1959,"Šumperk","CZ/M","15. HOP 2016 - Klub","CZ",9,2429,2981,0.6,7704,4622,2016,"x",null,"VT-116 Orlik 2",7445,"M",""]
["Karel Kotlan",1957,"Medlánky","CZ/M","15. HOP 2016 - Klub","CZ",10,2349,2981,0.6,7391,4435,2016,"x",null,"VT-116 Orlik 2",8406,"M",""]
["Tomas Jilek",1995,"Raná","CZ/C2","15. HOP 2016 - Klub","CZ",11,2335,2981,0.6,7233,4340,2016,null,null,"Cobra 15",6610,"M","Junior v roce 2019"]
["Jiri Klicnar",1965,"Medlánky","CZ/M","15. HOP 2016 - Klub","CZ",12,2292,2981,0.6,7007,4204,2016,null,null,"M-28",2903,"M",""]
["Zdenek Mach",1976,"Broumov","CZ/C2","15. HOP 2016 - Klub","CZ",13,2272,2981,0.6,6835,4101,2016,"x",null,"VT-16 Orlik",2412,"M",""]
["Milan Svoboda 80",1980,"Havlíčkův Brod","CZ/C2","15. HOP 2016 - Klub","CZ",14,2219,2981,0.6,6586,3952,2016,null,null,"VT-116 Orlik 2",6446,"M",""]
["Ivan Kuzelka",1945,"Havlíčkův Brod","CZ/C2","15. HOP 2016 - Klub","CZ",15,2207,2981,0.6,6432,3859,2016,null,null,"VT-116 Orlik 2",7403,"M",""]
["Sarka Lochova",1966,"Šumperk","CZ/M","15. HOP 2016 - Klub","CZ",16,2028,2981,0.6,5887,3532,2016,null,null,"VT-116 Orlik 2",8401,"F",""]
["Jaromir Hendrych",1954,"Raná","CZ/C2","15. HOP 2016 - Klub","CZ",17,1783,2981,0.6,5187,3112,2016,null,null,"M-35",2403,"M",""]
["Tomas+Jana Mezerovi",null,null,null,"15. HOP 2016 - Klub","CZ",18,1605,2981,0.6,4644,2786,2016,null,null,"VT-116 Orlik 2",7425,null,"Není v databázi"]
["Vladimir Dostal + Jan Stepan",null,null,null,"15. HOP 2016 - Klub","CZ",19,1588,2981,0.6,4479,2687,2016,null,null,"VT-116 Orlik 2",6922,null,"Není v databázi"]
["Bohumil Rikal",{"$f":"VLOOKUP(A556,Pilot,2,0)","v":1946},{"$f":"VLOOKUP(A556,Pilot,3,0)","v":"Hronov"},{"$f":"VLOOKUP(A556,Pilot,4,0)","v":"CZ/C2"},"15. HOP 2016 - Klub","CZ",20,1502,2981,0.6,4152,2491,2016,"x",null,"VT-16 Orlik",3405,{"$f":"VLOOKUP(A556,Pilot,5,0)","v":"M"},""]
["Jiri Slouka",{"$f":"VLOOKUP(A557,Pilot,2,0)","v":1967},{"$f":"VLOOKUP(A557,Pilot,3,0)","v":"Medlánky"},{"$f":"VLOOKUP(A557,Pilot,4,0)","v":"CZ/M"},"15. HOP 2016 - Klub","CZ",21,1431,2981,0.6,3860,2316,2016,"x",null,"Cobra 15",2902,{"$f":"VLOOKUP(A557,Pilot,5,0)","v":"M"},""]
["Kysilka & Major",null,null,null,"15. HOP 2016 - Klub","CZ",22,1305,2981,0.6,{"$f":"ROUND(H558/I558*10000*0.7+(MAX($G$537:$G$561)-G558)/(MAX($G$537:$G$561)-1)*10000*0.3,0)","v":3439},2063,2016,null,null,"VT-116 Orlik 2",8430,null,"Není v databázi"]
["Petr Vlasak",{"$f":"VLOOKUP(A559,Pilot,2,0)","v":1974},{"$f":"VLOOKUP(A559,Pilot,3,0)","v":"Medlánky"},{"$f":"VLOOKUP(A559,Pilot,4,0)","v":"CZ/M"},"15. HOP 2016 - Klub","CZ",23,1257,2981,0.6,3202,1921,2016,"x",null,"VT-116 Orlik 2",4307,{"$f":"VLOOKUP(A559,Pilot,5,0)","v":"M"},""]
["Jaroslav Tyls",{"$f":"VLOOKUP(A560,Pilot,2,0)","v":1941},{"$f":"VLOOKUP(A560,Pilot,3,0)","v":"Hronov"},{"$f":"VLOOKUP(A560,Pilot,4,0)","v":"CZ/C2"},"15. HOP 2016 - Klub","CZ",24,1241,2981,0.6,3039,1823,2016,"x",null,"VT-116 Orlik 2",4314,{"$f":"VLOOKUP(A560,Pilot,5,0)","v":"M"},""]
["Petr Gryc",{"$f":"VLOOKUP(A561,Pilot,2,0)","v":1949},{"$f":"VLOOKUP(A561,Pilot,3,0)","v":"Medlánky"},{"$f":"VLOOKUP(A561,Pilot,4,0)","v":"CZ/M"},"15. HOP 2016 - Klub","CZ",25,466,2981,0.6,1094,656,2016,"x",null,"VT-116 Orlik 2",8436,{"$f":"VLOOKUP(A561,Pilot,5,0)","v":"M"},""]
["Zdenek Boruvka 54",{"$f":"VLOOKUP(A562,Pilot,2,0)","v":1954},{"$f":"VLOOKUP(A562,Pilot,3,0)","v":"Jičín"},{"$f":"VLOOKUP(A562,Pilot,4,0)","v":"CZ/C2"},"15. HOP 2016 - Kombi","CZ",1,4182,4182,0.6,{"$f":"ROUND(H562/I562*10000*0.7+(MAX($G$562:$G$578)-G562)/(MAX($G$562:$G$578)-1)*10000*0.3,0)","v":10000},{"$f":"ROUND(J562*K562,0)","v":6000},2016,null,null,"LS 8 15m (voda)","ZB",{"$f":"VLOOKUP(A562,Pilot,5,0)","v":"M"},""]
["Carsten Tietz",{"$f":"VLOOKUP(A563,Pilot,2,0)","v":1966},{"$f":"VLOOKUP(A563,Pilot,3,0)","v":"Hronov"},{"$f":"VLOOKUP(A563,Pilot,4,0)","v":"CZ/C2"},"15. HOP 2016 - Kombi","CZ",2,3944,4182,0.6,{"$f":"ROUND(H563/I563*10000*0.7+(MAX($G$562:$G$578)-G563)/(MAX($G$562:$G$578)-1)*10000*0.3,0)","v":9414},{"$f":"ROUND(J563*K563,0)","v":5648},2016,"x",null,"Ventus 2cxm 18m (voda)","WE","M",""]
["Michal Maly",{"$f":"VLOOKUP(A564,Pilot,2,0)","v":1982},{"$f":"VLOOKUP(A564,Pilot,3,0)","v":"Broumov"},{"$f":"VLOOKUP(A564,Pilot,4,0)","v":"CZ/C2"},"15. HOP 2016 - Kombi","CZ",3,3894,4182,0.6,9143,5486,2016,"x",null,"ASW 20 (A)+F/ 15 m WL (voda)","WL",{"$f":"VLOOKUP(A564,Pilot,5,0)","v":"M"},""]
["Vratislav Sram",{"$f":"VLOOKUP(A565,Pilot,2,0)","v":1966},{"$f":"VLOOKUP(A565,Pilot,3,0)","v":"Broumov"},{"$f":"VLOOKUP(A565,Pilot,4,0)","v":"CZ/C2"},"15. HOP 2016 - Kombi","CZ",4,3753,4182,0.6,8719,5231,2016,null,null,"Nimbus 2 M (bez vody)","NB",{"$f":"VLOOKUP(A565,Pilot,5,0)","v":"M"},""]
["Jan Cerveny",{"$f":"VLOOKUP(A566,Pilot,2,0)","v":1984},{"$f":"VLOOKUP(A566,Pilot,3,0)","v":"Jaroměř"},{"$f":"VLOOKUP(A566,Pilot,4,0)","v":"CZ/C2"},"15. HOP 2016 - Kombi","CZ",5,3713,4182,0.6,8465,5079,2016,null,null,"LS 3a (bez vody)","EI",{"$f":"VLOOKUP(A566,Pilot,5,0)","v":"M"},""]
["Miroslav + Josef Plechac",null,null,null,"15. HOP 2016 - Kombi","CZ",6,3389,4182,0.6,7735,4641,2016,null,null,"Std. Jantar WL (voda)","SP",null,"Není v databázi"]
["Georg Jakl",null,null,null,"15. HOP 2016 - Kombi","CZ",7,3353,4182,0.6,7487,4492,2016,null,null,"ASW 22/24m (bez vody)","GJ","M","Není v databázi"]
["Martin Koci",{"$f":"VLOOKUP(A569,Pilot,2,0)","v":1975},{"$f":"VLOOKUP(A569,Pilot,3,0)","v":"Ústí nad Orlicí"},{"$f":"VLOOKUP(A569,Pilot,4,0)","v":"CZ/C2"},"15. HOP 2016 - Kombi","CZ",8,3272,4182,0.6,7164,4298,2016,"x",null,"Ventus c 17.6m (voda)","XE",{"$f":"VLOOKUP(A569,Pilot,5,0)","v":"M"},""]
["Timo Jakl",null,null,null,"15. HOP 2016 - Kombi","CZ",9,3095,4182,0.6,6681,4009,2016,null,null,"ASW 15 B WL (bez vody)","SC","M",{"$f":"IF(ISERROR(VLOOKUP(A570,Pilot,6,0)),\"Není v databázi\",VLOOKUP(A570,Pilot,6,0))","v":"Není v databázi"}]
["Petr Fisar",{"$f":"VLOOKUP(A571,Pilot,2,0)","v":1974},{"$f":"VLOOKUP(A571,Pilot,3,0)","v":"Ústí nad Orlicí"},{"$f":"VLOOKUP(A571,Pilot,4,0)","v":"CZ/C2"},"15. HOP 2016 - Kombi","CZ",10,3025,4182,0.6,6376,3826,2016,"x",null,"Mosquito (voda)","PF",{"$f":"VLOOKUP(A571,Pilot,5,0)","v":"M"},""]
["Koblitz & Rakowski",null,null,null,"15. HOP 2016 - Kombi","CZ",11,2919,4182,0.6,6011,3607,2016,null,null,"Duo Discus X (bez vody)","PK",null,"Není v databázi"]
["Jan Rott",{"$f":"VLOOKUP(A573,Pilot,2,0)","v":1962},{"$f":"VLOOKUP(A573,Pilot,3,0)","v":"Plasy"},{"$f":"VLOOKUP(A573,Pilot,4,0)","v":"CZ/C1"},"15. HOP 2016 - Kombi","CZ",12,2460,4182,0.6,5055,3033,2016,"x",null,"Nimbus 2 b (bez vody)","WM",{"$f":"VLOOKUP(A573,Pilot,5,0)","v":"M"},""]
["Miloslav Cindr",{"$f":"VLOOKUP(A574,Pilot,2,0)","v":1974},{"$f":"VLOOKUP(A574,Pilot,3,0)","v":"Ústí nad Orlicí"},{"$f":"VLOOKUP(A574,Pilot,4,0)","v":"CZ/C2"},"15. HOP 2016 - Kombi","CZ",13,2012,4182,0.6,4118,2471,2016,"x",null,"Speed Astir II b (bez vody)","XM",{"$f":"VLOOKUP(A574,Pilot,5,0)","v":"M"},""]
["Milos Eichler",{"$f":"VLOOKUP(A575,Pilot,2,0)","v":1964},{"$f":"VLOOKUP(A575,Pilot,3,0)","v":"Dvůr Králové"},{"$f":"VLOOKUP(A575,Pilot,4,0)","v":"CZ/C2"},"15. HOP 2016 - Kombi","CZ",14,1985,4182,0.6,3885,2331,2016,"x",null,"Cirrus VTC 17.74 (bez vody)","G7",{"$f":"VLOOKUP(A575,Pilot,5,0)","v":"M"},""]
["Ladislav Krecbach",{"$f":"VLOOKUP(A576,Pilot,2,0)","v":1985},{"$f":"VLOOKUP(A576,Pilot,3,0)","v":"Jaroměř"},{"$f":"VLOOKUP(A576,Pilot,4,0)","v":"CZ/C2"},"15. HOP 2016 - Kombi","CZ",15,1849,4182,0.6,3470,2082,2016,null,null,"Discus b (bez vody)","JA",{"$f":"VLOOKUP(A576,Pilot,5,0)","v":"M"},""]
["Monika Jiraskova + Jan Petera",null,null,null,"15. HOP 2016 - Kombi","CZ",16,1746,4182,0.6,{"$f":"ROUND(H577/I577*10000*0.7+(MAX($G$562:$G$578)-G577)/(MAX($G$562:$G$578)-1)*10000*0.3,0)","v":3110},1866,2016,null,null,"Std. Cirrus (bez vody)","ZF",null,"Není v databázi"]
["Petr Sloupensky",{"$f":"VLOOKUP(A578,Pilot,2,0)","v":1959},{"$f":"VLOOKUP(A578,Pilot,3,0)","v":"Ústí nad Orlicí"},{"$f":"VLOOKUP(A578,Pilot,4,0)","v":"CZ/C2"},"15. HOP 2016 - Kombi","CZ",17,1541,4182,0.6,2579,1547,2016,"x",null,"LS 3 (bez vody)","NK",{"$f":"VLOOKUP(A578,Pilot,5,0)","v":"M"},""]
["Michal Kratochvil",1984,"Slaný","CZ/C1","GGP MB 2016 - Gradient GP","CZ",1,13,null,0,{"$f":"ROUND((MAX($G$579:$G$587)-G579)/(MAX($G$579:$G$587)-1)*10000,0)","v":10000},{"$f":"ROUND(J579*K579,0)","v":0},2016,null,null,"VSO-10",36,"M",""]
["Karel Policky",1950,"Kolín","CZ/C1","GGP MB 2016 - Gradient GP","CZ",2,11,null,0,{"$f":"ROUND((MAX($G$579:$G$587)-G580)/(MAX($G$579:$G$587)-1)*10000,0)","v":8571},{"$f":"ROUND(J580*K580,0)","v":0},2016,null,null,"VSO-10","C5","M",""]
["Karel Mares",1974,"Slaný","CZ/C1","GGP MB 2016 - Gradient GP","CZ",3,8,null,0,7143,0,2016,null,null,"VSO-10","H8","M",""]
["Jiri Hula",1973,"Slaný","CZ/C1","GGP MB 2016 - Gradient GP","CZ",4,7,null,0,5714,0,2016,null,null,"VSO-10",56,"M",""]
["Martin Soucek",1975,"Mladá Boleslav","CZ/C1","GGP MB 2016 - Gradient GP","CZ",4,7,null,0,5714,0,2016,null,null,"VSO-10","C3","M",""]
["Jan Zdvorak",1980,"Roudnice","CZ/C2","GGP MB 2016 - Gradient GP","CZ",6,4,null,0,2857,0,2016,null,null,"VSO-10",6,"M",""]
["Martina Kloubova",1991,"Hodkovice","CZ/C2","GGP MB 2016 - Gradient GP","CZ",7,3,null,0,{"$f":"ROUND((MAX($G$579:$G$587)-G585)/(MAX($G$579:$G$587)-1)*10000,0)","v":1429},0,2016,null,null,"VSO-10",68,"F",""]
["Ondrej Dvorak 98",1998,"Mladá Boleslav","CZ/C1","GGP MB 2016 - Gradient GP","CZ",8,2,null,0,0,0,2016,null,null,"VSO-10",94,"M","Junior v roce 2019"]
["Martin Marek",1967,"Roudnice","CZ/C2","GGP MB 2016 - Gradient GP","CZ",8,2,null,0,0,0,2016,null,null,"VSO-10","H2","M",""]
["Ivan Novak",1962,"Mladá Boleslav","CZ/C1","GGP MB 2016 - Klub GP","CZ",1,32,null,0.60499999999999998,{"$f":"ROUND((MAX($G$588:$G$603)-G588)/(MAX($G$588:$G$603)-1)*10000,0)","v":10000},{"$f":"ROUND(J588*K588,0)","v":6050},2016,null,null,"Std. Cirrus","DI","M",""]
["Leos Strnadek",1983,"Hodkovice","CZ/C2","GGP MB 2016 - Klub GP","CZ",2,21,null,0.60499999999999998,{"$f":"ROUND((MAX($G$588:$G$603)-G589)/(MAX($G$588:$G$603)-1)*10000,0)","v":9333},{"$f":"ROUND(J589*K589,0)","v":5646},2016,null,null,"ASW 19B","AFK","M",""]
["Petr Panek",1975,"Dvůr Králové","CZ/C2","GGP MB 2016 - Klub GP","CZ",2,21,null,0.60499999999999998,9333,5646,2016,null,null,"Std. Cirrus","YU","M",""]
["Anna Hajkova",1989,"Mladá Boleslav","CZ/C1","GGP MB 2016 - Klub GP","CZ",4,20,null,0.60499999999999998,8000,4840,2016,null,null,"Std. Cirrus","BW","F",""]
["Jan Kotan",1982,"Letňany","CZ/C1","GGP MB 2016 - Klub GP","CZ",5,16,null,0.60499999999999998,7333,4436,2016,null,null,"ASW 19B","WT","M",""]
["Vaclav Marel",1974,"Jaroměř","CZ/C2","GGP MB 2016 - Klub GP","CZ",5,16,null,0.60499999999999998,7333,4436,2016,null,null,"Std. Cirrus","IF","M",""]
["Barbora Moravcova",1994,"Zbraslavice","CZ/C1","GGP MB 2016 - Klub GP","CZ",7,13,null,0.60499999999999998,6000,3630,2016,null,null,"ASW 19B","CF","F","Junior v roce 2019"]
["Linda Vasatova",1990,"Mladá Boleslav","CZ/C1","GGP MB 2016 - Klub GP","CZ",8,12,null,0.60499999999999998,5333,3226,2016,null,null,"ASW 19B","OI","F",""]
["Tomas Jiricny",1981,"Hodkovice","CZ/C2","GGP MB 2016 - Klub GP","CZ",9,11,null,0.60499999999999998,4667,2824,2016,null,null,"ASW 19B","XP","M",""]
["Martin Balik",1982,"Kralupy","CZ/C1","GGP MB 2016 - Klub GP","CZ",10,9,null,{"$f":"VLOOKUP(E597,Soutez,8,0)","v":0.60499999999999998},4000,2420,2016,null,null,"LS 1f","EF","M",""]
["Antonin Bordovsky",1951,"Krnov","CZ/M","GGP MB 2016 - Klub GP","CZ",11,4,null,0.60499999999999998,3333,2016,2016,"x",null,"Std. Cirrus","BB","M",""]
["Jan Zahradka",1981,"Hodkovice","CZ/C2","GGP MB 2016 - Klub GP","CZ",11,4,null,0.60499999999999998,3333,2016,2016,null,null,"Std. Cirrus",75,"M",""]
["Vojtech Kostejn",1974,"Hodkovice","CZ/C2","GGP MB 2016 - Klub GP","CZ",13,3,null,0.60499999999999998,2000,1210,2016,null,null,"Std. Cirrus","AC","M",""]
["Katerina Vojtova",1983,"Slaný","CZ/C1","GGP MB 2016 - Klub GP","CZ",14,2,null,0.60499999999999998,1333,806,2016,null,null,"Std. Cirrus","SN","F",""]
["Michal Fortik",1976,"Točná","CZ/C1","GGP MB 2016 - Klub GP","CZ",15,1,null,0.60499999999999998,{"$f":"ROUND((MAX($G$588:$G$603)-G602)/(MAX($G$588:$G$603)-1)*10000,0)","v":667},404,2016,"x",null,"Std. Cirrus","CON","M",""]
["Vojtech Petrovicky",1986,"Mladá Boleslav","CZ/C1","GGP MB 2016 - Klub GP","CZ",16,0,null,0.60499999999999998,0,0,2016,null,null,"PW 6U","PW","M",""]
["Jan Boruvka",1984,"Jičín","CZ/C2","GGP MB 2016 - Pohár MV - Kombi","CZ",1,1856,1856,0,{"$f":"ROUND(H604/I604*10000*0.7+(MAX($G$604:$G$616)-G604)/(MAX($G$604:$G$616)-1)*10000*0.3,0)","v":10000},{"$f":"ROUND(J604*K604,0)","v":0},2016,null,null,"Ventus c/17,6m","EG","M",""]
["Ondrej Bordovsky",1983,"Krnov","CZ/M","GGP MB 2016 - Pohár MV - Kombi","CZ",2,1791,1856,0,{"$f":"ROUND(H605/I605*10000*0.7+(MAX($G$604:$G$616)-G605)/(MAX($G$604:$G$616)-1)*10000*0.3,0)","v":9505},{"$f":"ROUND(J605*K605,0)","v":0},2016,null,null,"ASW 22BLE/26,58 +W","RX","M",""]
["Karel Novak",1993,"Mladá Boleslav","CZ/C1","GGP MB 2016 - Pohár MV - Kombi","CZ",3,1772,1856,0,9183,0,2016,null,null,"LS 8b/15m","FX","M",""]
["Josef Rydl",1940,"Turnov","CZ/C2","GGP MB 2016 - Pohár MV - Kombi","CZ",4,1661,1856,0,8515,0,2016,null,null,"Discus b","TD","M",""]
["Jan Smaha",1958,"Česká Lípa","CZ/C2","GGP MB 2016 - Pohár MV - Kombi","CZ",5,1610,1856,0,8072,0,2016,null,null,"ASW 15B","CW","M",""]
["Zdenek Boruvka 54",1954,"Jičín","CZ/C2","GGP MB 2016 - Pohár MV - Kombi","CZ",6,1342,1856,0,6811,0,2016,null,null,"LS 8/15m","ZB","M",""]
["Michal Kodousek",1983,"Jaroměř","CZ/C2","GGP MB 2016 - Pohár MV - Kombi","CZ",7,1128,1856,0,5754,0,2016,null,null,"LS 3/15m","RI","M",""]
["Miloslav Fiser",1974,"Hodkovice","CZ/C2","GGP MB 2016 - Pohár MV - Kombi","CZ",8,1038,1856,0,5165,0,2016,null,null,"Std. Cirrus","UB","M",""]
["Jan Jindra",1981,"Roudnice","CZ/C2","GGP MB 2016 - Pohár MV - Kombi","CZ",9,1021,1856,0,4851,0,2016,null,null,"Duo Discus XL(T)","RC","M",""]
["Barbora Kubickova",1993,"Medlánky","CZ/M","GGP MB 2016 - Pohár MV - Kombi","CZ",10,866,1856,0,4016,0,2016,null,null,"ASW 15B","Y","F",""]
["Petra Diepoldova",1978,"Vysoké Mýto","CZ/C2","GGP MB 2016 - Pohár MV - Kombi","CZ",11,836,1856,0,3653,0,2016,null,null,"ASW 15B","TX","F",""]
["Jiri Bojko",1959,"Krnov","CZ/M","GGP MB 2016 - Pohár MV - Kombi","CZ",12,625,1856,0,{"$f":"ROUND(H615/I615*10000*0.7+(MAX($G$604:$G$616)-G615)/(MAX($G$604:$G$616)-1)*10000*0.3,0)","v":2607},0,2016,null,null,"Ventus c/17,6m","SX","M",""]
["Martin Piskacek",1991,"Beroun","CZ/C1","GGP MB 2016 - Pohár MV - Kombi","CZ",13,293,1856,0,1105,0,2016,null,null,"LS 8a/15m","AU","M",""]
["Louis Bouderlique",null,"France",null,"34. WGC 2016 - Std","LT",1,5972,5972,1.105,{"$f":"ROUND(H617/I617*10000*0.7+(MAX($G$617:$G$656)-G617)/(MAX($G$617:$G$656)-1)*10000*0.3,0)","v":10000},{"$f":"ROUND(J617*K617,0)","v":11050},2016,null,null,"Discus 2a","ET",null,"Není v databázi"]
["Felipe Levin",null,"Germany",null,"34. WGC 2016 - Std","LT",2,5901,5972,1.105,{"$f":"ROUND(H618/I618*10000*0.7+(MAX($G$617:$G$656)-G618)/(MAX($G$617:$G$656)-1)*10000*0.3,0)","v":9840},{"$f":"ROUND(J618*K618,0)","v":10873},2016,null,null,"Discus 2a","FI",null,"Není v databázi"]
["Guillaume Girard",null,"France",null,"34. WGC 2016 - Std","LT",3,5882,5972,1.105,9741,10764,2016,null,null,"Discus 2a","CFM1",null,"Není v databázi"]
["Dennis Huybreckx",null,"Belgium",null,"34. WGC 2016 - Std","LT",4,5662,5972,1.105,9406,10394,2016,null,null,"LS 8","CM",null,"Není v databázi"]
["Robert Schroder",null,"Germany",null,"34. WGC 2016 - Std","LT",5,5643,5972,1.105,9307,10284,2016,null,null,"LS 8 neo","S2",null,"Není v databázi"]
["Bert Schmelzer",null,"Belgium",null,"34. WGC 2016 - Std","LT",6,5600,5972,1.105,9179,10143,2016,null,null,"Discus 2a",21,null,"Není v databázi"]
["Gonzalo Riera",null,"Argentina",null,"34. WGC 2016 - Std","LT",7,5477,5972,1.105,8958,9899,2016,null,null,"LS 8","W8",null,"Není v databázi"]
["Vladas Motuza",null,"Lithuania",null,"34. WGC 2016 - Std","LT",8,5460,5972,1.105,8861,9791,2016,null,null,"Discus 2a","FL",null,"Není v databázi"]
["Jeremy Hood",null,"United Kingdom",null,"34. WGC 2016 - Std","LT",9,5337,5972,1.105,8640,9547,2016,null,null,"LS 8",352,null,"Není v databázi"]
["Miloslav Cink",{"$f":"VLOOKUP(A626,Pilot,2,0)","v":1987},{"$f":"VLOOKUP(A626,Pilot,3,0)","v":"Letkov"},{"$f":"VLOOKUP(A626,Pilot,4,0)","v":"CZ/C1"},"34. WGC 2016 - Std","LT",10,5333,5972,1.105,8559,9458,2016,null,null,"LS 8","EU",{"$f":"VLOOKUP(A626,Pilot,5,0)","v":"M"},""]
["Dmitry Timoshenko",null,"Russia",null,"34. WGC 2016 - Std","LT",11,5229,5972,1.105,8360,9238,2016,null,null,"Discus 2a","DT",null,"Není v databázi"]
["Pavel Louzecky",{"$f":"VLOOKUP(A628,Pilot,2,0)","v":1957},{"$f":"VLOOKUP(A628,Pilot,3,0)","v":"Přibyslav"},{"$f":"VLOOKUP(A628,Pilot,4,0)","v":"CZ/C2"},"34. WGC 2016 - Std","LT",12,5133,5972,1.105,8170,9028,2016,null,null,"LS 8","AU",{"$f":"VLOOKUP(A628,Pilot,5,0)","v":"M"},""]
["Norbert Alin Scarlat",null,"Romania",null,"34. WGC 2016 - Std","LT",13,5087,5972,1.105,8040,8884,2016,null,null,"Discus 2a","YB",null,"Není v databázi"]
["Javier Gaude",null,"Argentina",null,"34. WGC 2016 - Std","LT",14,5085,5972,1.105,7960,8796,2016,null,null,"LS 8","N9",null,"Není v databázi"]
["Janne Nordh",null,"Sweden",null,"34. WGC 2016 - Std","LT",15,4943,5972,1.105,7717,8527,2016,null,null,"Discus 2T","TA",null,"Není v databázi"]
["Philip Gaisford",null,"USA",null,"34. WGC 2016 - Std","LT",16,4935,5972,1.105,7631,8432,2016,null,null,"Discus 2b","PG",null,"Není v databázi"]
["Sebastian Kawa",null,"Poland",null,"34. WGC 2016 - Std","LT",17,4907,5972,1.105,7521,8311,2016,null,null,"Discus 2a","I",null,"Není v databázi"]
["Markku Kuusisto",null,"Finland",null,"34. WGC 2016 - Std","LT",18,4865,5972,1.105,7395,8171,2016,null,null,"Discus 2b","PI",null,{"$f":"IF(ISERROR(VLOOKUP(A634,Pilot,6,0)),\"Není v databázi\",VLOOKUP(A634,Pilot,6,0))","v":"Není v databázi"}]
["Oliver Sevrin",null,"Belgium",null,"34. WGC 2016 - Std","LT",19,4853,5972,1.105,7304,8071,2016,null,null,"LS 8","XK",null,"Není v databázi"]
["Robbie Seton",null,"Netherlands",null,"34. WGC 2016 - Std","LT",20,4822,5972,1.105,7191,7946,2016,null,null,"LS 8","SR",null,"Není v databázi"]
["Poul Kim Larsen",null,"Denmark",null,"34. WGC 2016 - Std","LT",21,4796,5972,1.105,7083,7827,2016,null,null,"LS 8","SE",null,"Není v databázi"]
["Richard Swanstrom",null,"Sweden",null,"34. WGC 2016 - Std","LT",22,4785,5972,1.105,6993,7727,2016,null,null,"Discus 2T","IKI",null,"Není v databázi"]
["Richard Hood",null,"United Kingdom",null,"34. WGC 2016 - Std","LT",23,4737,5972,1.105,6860,7580,2016,null,null,"LS 8",55,null,"Není v databázi"]
["Lukasz Blaszczyk",null,"Poland",null,"34. WGC 2016 - Std","LT",24,4678,5972,1.105,6714,7419,2016,null,null,"Discus 2a","Y",null,"Není v databázi"]
["Victor Alex Pop",null,"Romania",null,"34. WGC 2016 - Std","LT",25,4670,5972,1.105,6628,7324,2016,null,null,"Discus 2a","YA",null,"Není v databázi"]
["Marcaida Cristian",null,"Uruguay",null,"34. WGC 2016 - Std","LT",26,4530,5972,1.105,6387,7058,2016,null,null,"LS 8","JB",null,"Není v databázi"]
["Samuel Pollak",null,"Slovakia",null,"34. WGC 2016 - Std","LT",27,4519,5972,1.105,6297,6958,2016,null,null,"LS 8-tc","TC",null,"Není v databázi"]
["Tamas Vamosi",null,"Hungary",null,"34. WGC 2016 - Std","LT",28,4473,5972,1.105,6166,6813,2016,null,null,"Discus 2a","HAL",null,"Není v databázi"]
["Sjaak Selen",null,"Netherlands",null,"34. WGC 2016 - Std","LT",29,4449,5972,1.105,6061,6697,2016,null,null,"Discus 2a","2S",null,"Není v databázi"]
["John Buchanan",null,"Australia",null,"34. WGC 2016 - Std","LT",30,4447,5972,1.105,5982,6610,2016,null,null,"LS 8","5F",null,"Není v databázi"]
["Mogens Hoelgaard",null,"Denmark",null,"34. WGC 2016 - Std","LT",31,4428,5972,1.105,5883,6501,2016,null,null,"Discus 2a","AX",null,"Není v databázi"]
["Romualdas Konteikis",null,"Lithuania",null,"34. WGC 2016 - Std","LT",32,4274,5972,1.105,5625,6216,2016,null,null,"LS 8","P2",null,"Není v databázi"]
["Lorenzo Monti",null,"Italy",null,"34. WGC 2016 - Std","LT",33,4205,5972,1.105,{"$f":"ROUND(H649/I649*10000*0.7+(MAX($G$617:$G$656)-G649)/(MAX($G$617:$G$656)-1)*10000*0.3,0)","v":5467},6041,2016,null,null,"LAK 19/15m","B9",null,"Není v databázi"]
["Dominik Jancik",null,"Slovakia",null,"34. WGC 2016 - Std","LT",34,3944,5972,1.105,5084,5618,2016,null,null,"LS 8-s","SI",null,"Není v databázi"]
["Adam Woolley",null,"Australia",null,"34. WGC 2016 - Std","LT",35,3909,5972,1.105,4966,5487,2016,null,null,"LS 8",232,null,"Není v databázi"]
["Aku Jaakkola",null,"Finland",null,"34. WGC 2016 - Std","LT",36,3643,5972,1.105,4578,5059,2016,null,null,"Discus 2a","AJ",null,"Není v databázi"]
["Luca Monti",null,"Italy",null,"34. WGC 2016 - Std","LT",37,3521,5972,1.105,4358,4816,2016,null,null,"LAK 19/15m","G",null,"Není v databázi"]
["Robert Fletcher",null,"USA",null,"34. WGC 2016 - Std","LT",38,3365,5972,1.105,4098,4528,2016,null,null,"Discus 2a","MK",null,"Není v databázi"]
["Arday Daniel",null,"Hungary",null,"34. WGC 2016 - Std","LT",39,3068,5972,1.105,3673,4059,2016,null,null,"Discus 2a","DI",null,"Není v databázi"]
["Sergey Ryabchinskiy",null,"Russia",null,"34. WGC 2016 - Std","LT",40,2591,5972,1.105,3037,3356,2016,null,null,"Discus 2T","S",null,"Není v databázi"]
["Jan Rothhardt",null,"Germany",null,"34. WGC 2016 - Klub","LT",1,5696,5696,1.105,{"$f":"ROUND(H657/I657*10000*0.7+(MAX($G$657:$G$705)-G657)/(MAX($G$657:$G$705)-1)*10000*0.3,0)","v":10000},{"$f":"ROUND(J657*K657,0)","v":11050},2016,null,null,"LS 1-d","6H",null,"Není v databázi"]
["Eric Bernard",null,"France",null,"34. WGC 2016 - Klub","LT",2,5658,5696,1.105,{"$f":"ROUND(H658/I658*10000*0.7+(MAX($G$657:$G$705)-G658)/(MAX($G$657:$G$705)-1)*10000*0.3,0)","v":9891},{"$f":"ROUND(J658*K658,0)","v":10930},2016,null,null,"Std. Cirrus","C11",null,"Není v databázi"]
["Riccardo Brigliadori",null,"Italy",null,"34. WGC 2016 - Klub","LT",3,5479,5696,1.105,9608,10617,2016,null,null,"Std. Cirrus","RB",null,"Není v databázi"]
["Henrik Breidahl",null,"Denmark",null,"34. WGC 2016 - Klub","LT",4,5475,5696,1.105,9541,10543,2016,null,null,"LS 4","LB",null,"Není v databázi"]
["Davide Schiavotto",null,"Italy",null,"34. WGC 2016 - Klub","LT",5,5454,5696,{"$f":"VLOOKUP(E661,Soutez,8,0)","v":1.105},9453,10446,2016,null,null,"Std. Cirrus","C71",null,"Není v databázi"]
["Antoine Havet",null,"France",null,"34. WGC 2016 - Klub","LT",6,5447,5696,1.105,9381,10366,2016,null,null,"Hornet","H1",null,"Není v databázi"]
["Sabrina Vogt",null,"Germany",null,"34. WGC 2016 - Klub","LT",7,5412,5696,1.105,9276,10250,2016,null,null,"Std. Libelle","MT",null,"Není v databázi"]
["Kristian Roine",null,"Finland",null,"34. WGC 2016 - Klub","LT",8,5364,5696,1.105,9154,10115,2016,null,null,"Std. Cirrus","AK",null,"Není v databázi"]
["Jozef Kozar",null,"Slovakia",null,"34. WGC 2016 - Klub","LT",9,5245,5696,1.105,8946,9885,2016,null,null,"LS 1 f","MF",null,"Není v databázi"]
["Christophe Cousseau",null,"France",null,"34. WGC 2016 - Klub","LT",10,5228,5696,1.105,8862,9793,2016,null,null,"Std. Cirrus","C12",null,"Není v databázi"]
["Daan Spruyt",null,"Belgium",null,"34. WGC 2016 - Klub","LT",11,5224,5696,1.105,8795,9718,2016,null,null,"LS 1 f","BJ",null,"Není v databázi"]
["Peter Hartmann",null,"Austria",null,"34. WGC 2016 - Klub","LT",12,5106,5696,1.105,8587,9489,2016,null,null,"H 301 b Libelle",70,null,"Není v databázi"]
["Jakub Barszcz",null,"Poland",null,"34. WGC 2016 - Klub","LT",13,5056,5696,1.105,8463,9352,2016,null,null,"SZD-48-3M1 Brawo","BZ",null,"Není v databázi"]
["Frank Hiemstra",null,"Netherlands",null,"34. WGC 2016 - Klub","LT",14,5040,5696,1.105,8381,9261,2016,null,null,"Std. Cirrus",74,null,"Není v databázi"]
["Sebastian Loengo",null,"Argentina",null,"34. WGC 2016 - Klub","LT",15,5031,5696,1.105,8308,9180,2016,null,null,"Std. Jantar 2","CH",null,"Není v databázi"]
["Jan Louda",{"$f":"VLOOKUP(A672,Pilot,2,0)","v":1986},{"$f":"VLOOKUP(A672,Pilot,3,0)","v":"Mladá Boleslav"},{"$f":"VLOOKUP(A672,Pilot,4,0)","v":"CZ/C1"},"34. WGC 2016 - Klub","LT",16,4998,5696,1.105,8205,9067,2016,null,null,"Std. Cirrus","CX",{"$f":"VLOOKUP(A672,Pilot,5,0)","v":"M"},""]
["Sebastian Riera",null,"Argentina",null,"34. WGC 2016 - Klub","LT",17,4926,5696,1.105,8054,8900,2016,null,null,"Std. Jantar 3","CI",null,"Není v databázi"]
["Tijl Schmelzer",null,"Belgium",null,"34. WGC 2016 - Klub","LT",18,4888,5696,1.105,7945,8779,2016,null,null,"LS 3","II",null,"Není v databázi"]
["Lukasz Grabowski",null,"Poland",null,"34. WGC 2016 - Klub","LT",19,4872,5696,1.105,7862,8688,2016,null,null,"ASW 19 B","J1",null,"Není v databázi"]
["Nicholas Oakley",null,"New Zealand",null,"34. WGC 2016 - Klub","LT",20,4856,5696,1.105,7780,8597,2016,null,null,"Std. Libelle 201B",61,null,"Není v databázi"]
["Per Carlin",null,"Sweden",null,"34. WGC 2016 - Klub","LT",21,4853,5696,1.105,7714,8524,2016,null,null,"LS 1 f","G7",null,"Není v databázi"]
["Tibor Noga",null,"Slovakia",null,"34. WGC 2016 - Klub","LT",22,4838,5696,1.105,7633,8434,2016,null,null,"Std. Cirrus","LX",null,"Není v databázi"]
["G. Dale",null,"United Kingdom",null,"34. WGC 2016 - Klub","LT",23,4794,5696,1.105,7517,8306,2016,null,null,"Std. Libelle 201 Bwl",528,null,"Není v databázi"]
["Vytautas Rasimavicius",null,"Lithuania",null,"34. WGC 2016 - Klub","LT",24,4747,5696,1.105,7396,8173,2016,null,null,"Std. Jantar","JU",null,"Není v databázi"]
["Nick Hanenburg",null,"Netherlands",null,"34. WGC 2016 - Klub","LT",25,4667,5696,1.105,7235,7995,2016,null,null,"Std. Cirrus","AG",null,"Není v databázi"]
["Ondrej Dvorak 87",{"$f":"VLOOKUP(A682,Pilot,2,0)","v":1987},{"$f":"VLOOKUP(A682,Pilot,3,0)","v":"Raná"},{"$f":"VLOOKUP(A682,Pilot,4,0)","v":"CZ/C2"},"34. WGC 2016 - Klub","LT",26,4662,5696,1.105,7167,7920,2016,null,null,"Std. Cirrus","FW",{"$f":"VLOOKUP(A682,Pilot,5,0)","v":"M"},""]
["Stefan Delfs",null,"Germany",null,"34. WGC 2016 - Klub","LT",27,4540,5696,1.105,6954,7684,2016,null,null,"Std. Libelle","V2",null,"Není v databázi"]
["Tom Arscott",null,"United Kingdom",null,"34. WGC 2016 - Klub","LT",28,4534,5696,1.105,6884,7607,2016,null,null,"Std. Cirrus","GW",null,"Není v databázi"]
["Tobias Geiger",null,"Australia",null,"34. WGC 2016 - Klub","LT",29,4491,5696,1.105,6769,7480,2016,null,null,"LS 1 f","TH",null,"Není v databázi"]
["Anton Minskiy",null,"Russia",null,"34. WGC 2016 - Klub","LT",30,4472,5696,1.105,6683,7385,2016,null,null,"Std. Cirrus","IAM",null,"Není v databázi"]
["Linas Miezlaiskis",null,"Lithuania",null,"34. WGC 2016 - Klub","LT",31,4419,5696,1.105,6556,7244,2016,null,null,"Std. Jantar","LM",null,"Není v databázi"]
["Will Ellis",null,"United Kingdom",null,"34. WGC 2016 - Klub","LT",32,4398,5696,1.105,6467,7146,2016,null,null,"Hornet","WII",null,"Není v databázi"]
["Gunnar Axelsson",null,"Sweden",null,"34. WGC 2016 - Klub","LT",33,4392,5696,1.105,6397,7069,2016,null,null,"Std. Cirrus 75","XII",null,"Není v databázi"]
["Teet Jagomagi",null,"Estonia",null,"34. WGC 2016 - Klub","LT",34,4367,5696,1.105,6304,6966,2016,null,null,"Std. Jantar 3","DC",null,"Není v databázi"]
["Allan Barnes",null,"Australia",null,"34. WGC 2016 - Klub","LT",35,4362,5696,1.105,6236,6891,2016,null,null,"LS 1 f","UX",null,"Není v databázi"]
["Michael Scott Westbrook",null,"USA",null,"34. WGC 2016 - Klub","LT",36,4280,5696,1.105,{"$f":"ROUND(H692/I692*10000*0.7+(MAX($G$657:$G$705)-G692)/(MAX($G$657:$G$705)-1)*10000*0.3,0)","v":6072},6710,2016,null,null,"Std. Cirrus G","IF",null,"Není v databázi"]
["Mikko Nikunen",null,"Finland",null,"34. WGC 2016 - Klub","LT",37,4227,5696,1.105,5945,6569,2016,null,null,"Std. Jantar 3","MN",null,"Není v databázi"]
["Timothy McAllister",null,"USA",null,"34. WGC 2016 - Klub","LT",38,4223,5696,1.105,5877,6494,2016,null,null,"Std. Cirrus","YU",null,"Není v databázi"]
["Henrique Navarro",null,"Brazil",null,"34. WGC 2016 - Klub","LT",39,4072,5696,1.105,5629,6220,2016,null,null,"Std. Jantar","JM",null,"Není v databázi"]
["Schmidt Claudio Eduardo",null,"Brazil",null,"34. WGC 2016 - Klub","LT",40,4052,5696,1.105,5542,6124,2016,null,null,"Std. Jantar","MZ",null,"Není v databázi"]
["Zsolt Siket",null,"Hungary",null,"34. WGC 2016 - Klub","LT",41,3934,5696,1.105,5335,5895,2016,null,null,"LS 1 f","HI",null,"Není v databázi"]
["David Richter-Trummer",null,"Austria",null,"34. WGC 2016 - Klub","LT",42,3663,5696,1.105,4939,5458,2016,null,null,"LS 1 f","RT",null,{"$f":"IF(ISERROR(VLOOKUP(A698,Pilot,6,0)),\"Není v databázi\",VLOOKUP(A698,Pilot,6,0))","v":"Není v databázi"}]
["Sergei Serov",null,"Russia",null,"34. WGC 2016 - Klub","LT",43,3655,5696,1.105,4867,5378,2016,null,null,"Std. Jantar 3","AS",null,"Není v databázi"]
["Nico Le Roux",null,"South AFriča",null,"34. WGC 2016 - Klub","LT",44,3422,5696,1.105,4518,4992,2016,null,null,"Std. Jantar 3","CL",null,"Není v databázi"]
["Sven Olivier",null,"South AFriča",null,"34. WGC 2016 - Klub","LT",45,3174,5696,1.105,4151,4587,2016,null,null,"Std. Jantar 3","L",null,"Není v databázi"]
["Aliaksandr Babkevich",null,"Belarus",null,"34. WGC 2016 - Klub","LT",46,2915,5696,1.105,3770,4166,2016,null,null,"Std. Jantar 3",1,null,"Není v databázi"]
["Alexander McCaw",null,"New Zealand",null,"34. WGC 2016 - Klub","LT",47,2758,5696,1.105,3514,3883,2016,null,null,"Std. Cirrus","E",null,"Není v databázi"]
["Zoltan Hamar",null,"Hungary",null,"34. WGC 2016 - Klub","LT",48,1907,5696,1.105,2406,2659,2016,null,null,"LS 1 f","DK",null,"Není v databázi"]
["Voldemārs Gavars",null,"Latvia",null,"34. WGC 2016 - Klub","LT",49,1129,5696,1.105,1387,1533,2016,null,null,"LS 4","PLU",null,"Není v databázi"]
["Duboc & Aboulin",null,"France",null,"34. WGC 2016 - Duo 20m","LT",1,6068,6068,1.0049999999999999,{"$f":"ROUND(H706/I706*10000*0.7+(MAX($G$706:$G$727)-G706)/(MAX($G$706:$G$727)-1)*10000*0.3,0)","v":10000},{"$f":"ROUND(J706*K706,0)","v":10050},2016,null,null,"Arcus T","FP",null,"Není v databázi"]
["Ghiorzo & Mangano",null,"Italy",null,"34. WGC 2016 - Duo 20m","LT",2,5925,6068,1.0049999999999999,{"$f":"ROUND(H707/I707*10000*0.7+(MAX($G$706:$G$727)-G707)/(MAX($G$706:$G$727)-1)*10000*0.3,0)","v":9692},{"$f":"ROUND(J707*K707,0)","v":9740},2016,null,null,"Arcus M","GT2",null,"Není v databázi"]
["Jones & Jones",null,"United Kingdom",null,"34. WGC 2016 - Duo 20m","LT",3,5919,6068,1.0049999999999999,9542,9590,2016,null,null,"Arcus T",54,null,"Není v databázi"]
["Ramsak & Polutnik",null,"Slovenia",null,"34. WGC 2016 - Duo 20m","LT",4,5714,6068,1.0049999999999999,9163,9209,2016,null,null,"Arcus M","ET",null,"Není v databázi"]
["Matkowski & Wojcik",null,"Poland",null,"34. WGC 2016 - Duo 20m","LT",5,5468,6068,1.0049999999999999,8736,8780,2016,null,null,"Asg 32 Mi","MD",null,"Není v databázi"]
["Lindell & Lindell",null,"Sweden",null,"34. WGC 2016 - Duo 20m","LT",6,5431,6068,1.0049999999999999,8551,8594,2016,null,null,"Arcus M","2M",null,"Není v databázi"]
["Scutter & Lampard",null,"Australia",null,"34. WGC 2016 - Duo 20m","LT",7,5314,6068,1.0049999999999999,8273,8314,2016,null,null,"Arcus T","ARC",null,"Není v databázi"]
["Kessler & Jurca",null,"Romania",null,"34. WGC 2016 - Duo 20m","LT",8,5289,6068,1.0049999999999999,8101,8142,2016,null,null,"Arcus T","SP",null,"Není v databázi"]
["Nielsen & Jorgensen",null,"Denmark",null,"34. WGC 2016 - Duo 20m","LT",9,4984,6068,1.0049999999999999,7607,7645,2016,null,null,"Arcus T","JT",null,"Není v databázi"]
["Lehto & Luukkanen",null,"Finland",null,"34. WGC 2016 - Duo 20m","LT",10,4895,6068,1.0049999999999999,7361,7398,2016,null,null,"Arcus M","AM",null,"Není v databázi"]
["Kiss & Rehus",null,"Hungary",null,"34. WGC 2016 - Duo 20m","LT",11,4844,6068,1.0049999999999999,7159,7195,2016,null,null,"Arcus T","SQ",null,"Není v databázi"]
["Verdura & Colombero",null,"Argentina",null,"34. WGC 2016 - Duo 20m","LT",12,4791,6068,1.0049999999999999,6955,6990,2016,null,null,"Arcus M","ARG",null,"Není v databázi"]
["Biesters & Smit",null,"Netherlands",null,"34. WGC 2016 - Duo 20m","LT",13,4755,6068,1.0049999999999999,6771,6805,2016,null,null,"Arcus M","CS",null,"Není v databázi"]
["Triebel & Dr. Triebel",null,"Germany",null,"34. WGC 2016 - Duo 20m","LT",14,4754,6068,1.0049999999999999,6627,6660,2016,null,null,"ASG 32 Mi",32,null,"Není v databázi"]
["Kukcikaitis & Liaugaudas",null,"Lithuania",null,"34. WGC 2016 - Duo 20m","LT",15,4657,6068,1.0049999999999999,6372,6404,2016,null,null,"Duo Discus","POL",null,"Není v databázi"]
["De Broqueville & De Broqueville",null,"Belgium",null,"34. WGC 2016 - Duo 20m","LT",16,4569,6068,1.0049999999999999,6128,6159,2016,null,null,"Arcus T","2AS",null,"Není v databázi"]
["Schupfer & Rass",null,"Austria",null,"34. WGC 2016 - Duo 20m","LT",17,4566,6068,1.0049999999999999,5982,6012,2016,null,null,"ASG 32 Mi","GA",null,"Není v databázi"]
["Ichikawa & Ichikawa",null,"Japan",null,"34. WGC 2016 - Duo 20m","LT",18,4447,6068,1.0049999999999999,5701,5730,2016,null,null,"Asg 32 EL","EL",null,"Není v databázi"]
["Slavomir Piskaty 84",{"$f":"VLOOKUP(A724,Pilot,2,0)","v":1984},{"$f":"VLOOKUP(A724,Pilot,3,0)","v":"Kunovice"},{"$f":"VLOOKUP(A724,Pilot,4,0)","v":"CZ/M"},"34. WGC 2016 - Duo 20m","LT",19,3859,6068,1.0049999999999999,4880,4904,2016,null,null,"Arcus M","KO",{"$f":"VLOOKUP(A724,Pilot,5,0)","v":"M"},""]
["Klyuev & Ershov",null,"Russia",null,"34. WGC 2016 - Duo 20m","LT",20,3375,6068,{"$f":"VLOOKUP(E725,Soutez,8,0)","v":1.0049999999999999},4179,4200,2016,null,null,"Arcus M","AP",null,"Není v databázi"]
["Rodic & McLauchlan",null,"South AFriča",null,"34. WGC 2016 - Duo 20m","LT",21,3282,6068,1.0049999999999999,{"$f":"ROUND(H726/I726*10000*0.7+(MAX($G$706:$G$727)-G726)/(MAX($G$706:$G$727)-1)*10000*0.3,0)","v":3929},3949,2016,null,null,"Arcus M","TWO",null,"Není v databázi"]
["Robison & Timpson",null,"USA",null,"34. WGC 2016 - Duo 20m","LT",22,1154,6068,1.0049999999999999,1331,1338,2016,null,null,"Arcus M","ML",null,"Není v databázi"]
["Michal Lesinger",{"$f":"VLOOKUP(A728,Pilot,2,0)","v":1966},{"$f":"VLOOKUP(A728,Pilot,3,0)","v":"Moravská Třebová"},{"$f":"VLOOKUP(A728,Pilot,4,0)","v":"CZ/M"},"Pribina Cup 2016 - Klub","SK",1,2262,2262,0.92,{"$f":"ROUND(H728/I728*10000*0.7+(MAX($G$728:$G$753)-G728)/(MAX($G$728:$G$753)-1)*10000*0.3,0)","v":10000},{"$f":"ROUND(J728*K728,0)","v":9200},2016,null,null,"ASW 19","LL",{"$f":"VLOOKUP(A728,Pilot,5,0)","v":"M"},""]
["Stefan Delfs",null,null,null,"Pribina Cup 2016 - Klub","SK",2,2251,2262,0.92,{"$f":"ROUND(H729/I729*10000*0.7+(MAX($G$728:$G$753)-G729)/(MAX($G$728:$G$753)-1)*10000*0.3,0)","v":9846},{"$f":"ROUND(J729*K729,0)","v":9058},2016,null,null,"Std. Libelle","V2",null,"Není v databázi"]
["Zsolt Siket",null,null,null,"Pribina Cup 2016 - Klub","SK",3,2249,2262,0.92,9720,8942,2016,null,null,"ASW 15","IC",null,"Není v databázi"]
["Andrius Tamulenas",null,null,null,"Pribina Cup 2016 - Klub","SK",4,2244,2262,0.92,9584,8817,2016,null,null,"LS 4","IK",null,"Není v databázi"]
["Stefano Ghiorzo",null,null,null,"Pribina Cup 2016 - Klub","SK",5,2239,2262,0.92,9449,8693,2016,null,null,"Silent 2","ER",null,"Není v databázi"]
["Jan Rothhardt",null,null,null,"Pribina Cup 2016 - Klub","SK",6,2230,2262,0.92,9301,8557,2016,null,null,"LS 1-d","6H",null,"Není v databázi"]
["Marek Pechanec",{"$f":"VLOOKUP(A734,Pilot,2,0)","v":1970},{"$f":"VLOOKUP(A734,Pilot,3,0)","v":"Luhačovice"},{"$f":"VLOOKUP(A734,Pilot,4,0)","v":"CZ/M"},"Pribina Cup 2016 - Klub","SK",7,2202,2262,0.92,9094,8366,2016,null,null,"Std. Cirrus","SJ",{"$f":"VLOOKUP(A734,Pilot,5,0)","v":"M"},""]
["Martin Jurovic",null,null,null,"Pribina Cup 2016 - Klub","SK",8,2197,2262,0.92,8959,8242,2016,null,null,"Pegase 101A","J2",null,"Není v databázi"]
["Felix Hoffmann",null,null,null,"Pribina Cup 2016 - Klub","SK",9,2062,2262,0.92,8421,7747,2016,null,null,"H 301","6X",null,"Není v databázi"]
["Jernej Lokovsek",null,null,null,"Pribina Cup 2016 - Klub","SK",10,2032,2262,0.92,8208,7551,2016,null,null,"Discus","NL",null,"Není v databázi"]
["Francois Pin",null,null,null,"Pribina Cup 2016 - Klub","SK",11,2003,2262,0.92,7998,7358,2016,null,null,"Silent 2","LB",null,"Není v databázi"]
["Wolli Beyer",null,null,null,"Pribina Cup 2016 - Klub","SK",12,1864,2262,0.92,7448,6852,2016,null,null,"DG 1001 Club/18m","CLU",null,"Není v databázi"]
["Helmut Koeglbauer",null,null,null,"Pribina Cup 2016 - Klub","SK",13,1726,2262,0.92,6901,6349,2016,null,null,"Std. Cirrus","4ME",null,"Není v databázi"]
["Sabrina Vogt",null,null,null,"Pribina Cup 2016 - Klub","SK",14,1640,2262,0.92,6515,5994,2016,null,null,"Std. Libelle","MT",null,"Není v databázi"]
["Marek Niewiadomy",null,null,null,"Pribina Cup 2016 - Klub","SK",15,1624,2262,0.92,6346,5838,2016,null,null,"Jantar Std.2","AB",null,"Není v databázi"]
["Miha Premrl",null,null,null,"Pribina Cup 2016 - Klub","SK",16,1558,2262,0.92,6021,5539,2016,null,null,"DG 100","P9",null,"Není v databázi"]
["Michael Fik",{"$f":"VLOOKUP(A744,Pilot,2,0)","v":1972},{"$f":"VLOOKUP(A744,Pilot,3,0)","v":"Strakonice"},{"$f":"VLOOKUP(A744,Pilot,4,0)","v":"CZ/C1"},"Pribina Cup 2016 - Klub","SK",17,1546,2262,0.92,5864,5395,2016,"x",null,"Std. Cirrus","AV",{"$f":"VLOOKUP(A744,Pilot,5,0)","v":"M"},""]
["Max Artner",null,null,null,"Pribina Cup 2016 - Klub","SK",18,1502,2262,0.92,5608,5159,2016,null,null,"Std. Libelle","MA",null,"Není v databázi"]
["Stefan Langer",null,null,null,"Pribina Cup 2016 - Klub","SK",19,1484,2262,0.92,5432,4997,2016,null,null,"Std. Libelle","SL",null,"Není v databázi"]
["Sandi Kavalic",null,null,null,"Pribina Cup 2016 - Klub","SK",20,1305,2262,0.92,4758,4377,2016,null,null,"DG 100","SM",null,"Není v databázi"]
["Marcin Maludzinski",null,null,null,"Pribina Cup 2016 - Klub","SK",21,1138,2262,0.92,4122,3792,2016,null,null,"SZD-48-3M Brawo","BZ",null,"Není v databázi"]
["Piotr Ciolko",null,null,null,"Pribina Cup 2016 - Klub","SK",22,1118,2262,0.92,3940,3625,2016,null,null,"Jantar Std.2","B1",null,"Není v databázi"]
["Krzysztof Figiel",null,null,null,"Pribina Cup 2016 - Klub","SK",23,1004,2262,0.92,3467,3190,2016,null,null,"Jantar Std.3","LU",null,"Není v databázi"]
["Markus Uhlig",null,null,null,"Pribina Cup 2016 - Klub","SK",24,958,2262,0.92,3205,2949,2016,null,null,"Jantar Std.3","FI",null,"Není v databázi"]
["Giacomo Dall Olio",null,null,null,"Pribina Cup 2016 - Klub","SK",25,956,2262,0.92,{"$f":"ROUND(H752/I752*10000*0.7+(MAX($G$728:$G$753)-G752)/(MAX($G$728:$G$753)-1)*10000*0.3,0)","v":3078},2832,2016,null,null,"Std. Cirrus","DM",null,"Není v databázi"]
["Christoph Kalcher",null,null,null,"Pribina Cup 2016 - Klub","SK",26,675,2262,0.92,2089,1922,2016,null,null,"Speed Astir II","CK",null,"Není v databázi"]
["Dennis Huybreckx",null,null,null,"Pribina Cup 2016 - Kombi 15m","SK",1,2847,2847,0.90500000000000003,{"$f":"ROUND(H754/I754*10000*0.7+(MAX($G$754:$G$766)-G754)/(MAX($G$754:$G$766)-1)*10000*0.3,0)","v":10000},{"$f":"ROUND(J754*K754,0)","v":9050},2016,null,null,"LS 8","CM",null,"Není v databázi"]
["Thilo Scheffler",null,null,null,"Pribina Cup 2016 - Kombi 15m","SK",2,2670,2847,0.90500000000000003,{"$f":"ROUND(H755/I755*10000*0.7+(MAX($G$754:$G$766)-G755)/(MAX($G$754:$G$766)-1)*10000*0.3,0)","v":9315},{"$f":"ROUND(J755*K755,0)","v":8430},2016,null,null,"LS 8","PT",null,"Není v databázi"]
["Michael Buchthal",null,null,null,"Pribina Cup 2016 - Kombi 15m","SK",3,2648,2847,0.90500000000000003,9011,8155,2016,null,null,"Discus 2a","Y4",null,"Není v databázi"]
["Bjorn Gintzel",null,null,null,"Pribina Cup 2016 - Kombi 15m","SK",4,2627,2847,0.90500000000000003,8709,7882,2016,null,null,"LS 8","AR",null,"Není v databázi"]
["Jan Kretzschmar",null,null,null,"Pribina Cup 2016 - Kombi 15m","SK",5,2515,2847,0.90500000000000003,8184,7407,2016,null,null,"LS 8","CP",null,"Není v databázi"]
["Jana Treslova",{"$f":"VLOOKUP(A759,Pilot,2,0)","v":1963},{"$f":"VLOOKUP(A759,Pilot,3,0)","v":"Raná"},{"$f":"VLOOKUP(A759,Pilot,4,0)","v":"CZ/C2"},"Pribina Cup 2016 - Kombi 15m","SK",6,2405,2847,0.90500000000000003,7663,6935,2016,null,null,"Ventus 2 ax","AX",{"$f":"VLOOKUP(A759,Pilot,5,0)","v":"F"},""]
["Pascal Brunner",null,null,null,"Pribina Cup 2016 - Kombi 15m","SK",7,2370,2847,0.90500000000000003,7327,6631,2016,null,null,"Discus 2b","Z1",null,"Není v databázi"]
["Martin Schwab",null,null,null,"Pribina Cup 2016 - Kombi 15m","SK",8,2311,2847,0.90500000000000003,6932,6273,2016,null,null,"Discus CS","MB",null,"Není v databázi"]
["Jan Kovalcik",null,null,null,"Pribina Cup 2016 - Kombi 15m","SK",9,2218,2847,0.90500000000000003,6453,5840,2016,null,null,"LS 8","SI",null,{"$f":"IF(ISERROR(VLOOKUP(A762,Pilot,6,0)),\"Není v databázi\",VLOOKUP(A762,Pilot,6,0))","v":"Není v databázi"}]
["Markus Härle",null,null,null,"Pribina Cup 2016 - Kombi 15m","SK",10,1864,2847,0.90500000000000003,5333,4826,2016,null,null,"Discus 2c","WZ",null,"Není v databázi"]
["Benjamin Schuech",null,null,null,"Pribina Cup 2016 - Kombi 15m","SK",11,1740,2847,0.90500000000000003,4778,4324,2016,null,null,"LS 8","KB",null,"Není v databázi"]
["Thomas Aigner",null,null,null,"Pribina Cup 2016 - Kombi 15m","SK",12,1542,2847,0.90500000000000003,{"$f":"ROUND(H765/I765*10000*0.7+(MAX($G$754:$G$766)-G765)/(MAX($G$754:$G$766)-1)*10000*0.3,0)","v":4041},3657,2016,null,null,"Ventus 2b","BY",null,"Není v databázi"]
["Benedikt Laho",null,null,null,"Pribina Cup 2016 - Kombi 15m","SK",13,272,2847,0.90500000000000003,669,605,2016,null,null,"Discus 2c","JH",null,"Není v databázi"]
["Janowitsch & Wersonig",null,null,null,"Pribina Cup 2016 - Duo 20m","SK",1,2837,2837,0.90500000000000003,{"$f":"ROUND(H767/I767*10000*0.7+(MAX($G$767:$G$785)-G767)/(MAX($G$767:$G$785)-1)*10000*0.3,0)","v":10000},{"$f":"ROUND(J767*K767,0)","v":9050},2016,null,null,"Arcus","TWO",null,"Není v databázi"]
["Halonen & Virtanen",null,null,null,"Pribina Cup 2016 - Duo 20m","SK",2,2731,2837,0.90500000000000003,{"$f":"ROUND(H768/I768*10000*0.7+(MAX($G$767:$G$785)-G768)/(MAX($G$767:$G$785)-1)*10000*0.3,0)","v":9572},{"$f":"ROUND(J768*K768,0)","v":8663},2016,null,null,"Arcus","RA",null,"Není v databázi"]
["Nagel & Holighaus",null,null,null,"Pribina Cup 2016 - Duo 20m","SK",3,2700,2837,0.90500000000000003,9329,8443,2016,null,null,"Arcus","K2",null,"Není v databázi"]
["Schulz & Triebel",null,null,null,"Pribina Cup 2016 - Duo 20m","SK",4,2647,2837,0.90500000000000003,9031,8173,2016,null,null,"Arcus","SP",null,"Není v databázi"]
["Otzipka & Baumgartl",null,null,null,"Pribina Cup 2016 - Duo 20m","SK",5,2527,2837,0.90500000000000003,8568,7754,2016,null,null,"Arcus","LI",null,"Není v databázi"]
["Sibanc & Mark",null,null,null,"Pribina Cup 2016 - Duo 20m","SK",6,2347,2837,0.90500000000000003,7958,7202,2016,null,null,"Arcus","ET",null,"Není v databázi"]
["Schmelzer & Schmelzer",null,null,null,"Pribina Cup 2016 - Duo 20m","SK",7,2341,2837,0.90500000000000003,7776,7037,2016,null,null,"Arcus",1,null,"Není v databázi"]
["Heilmann & Wiessner",null,null,null,"Pribina Cup 2016 - Duo 20m","SK",8,2307,2837,0.90500000000000003,7526,6811,2016,null,null,"Arcus","ARC",null,"Není v databázi"]
["Hoelgaard & Flemming",null,null,null,"Pribina Cup 2016 - Duo 20m","SK",9,2303,2837,0.90500000000000003,7349,6651,2016,null,null,"Arcus","VK",null,"Není v databázi"]
["Fust & Kaczkowski",null,null,null,"Pribina Cup 2016 - Duo 20m","SK",10,2167,2837,0.90500000000000003,6847,6197,2016,null,null,"Arcus","WA",null,"Není v databázi"]
["Schwan & Hudler",null,null,null,"Pribina Cup 2016 - Duo 20m","SK",11,2093,2837,0.90500000000000003,6498,5881,2016,null,null,"Duo Discus","MM",null,"Není v databázi"]
["Tourula & Tourula",null,null,null,"Pribina Cup 2016 - Duo 20m","SK",12,1961,2837,0.90500000000000003,6005,5435,2016,null,null,"DG 1000/20m","NIT",null,"Není v databázi"]
["Verhulst & Schwenk",null,null,null,"Pribina Cup 2016 - Duo 20m","SK",13,1959,2837,0.90500000000000003,5834,5280,2016,null,null,"Janus C RG","T",null,"Není v databázi"]
["Bachmaier & Feige",null,null,null,"Pribina Cup 2016 - Duo 20m","SK",14,1843,2837,0.90500000000000003,5381,4870,2016,null,null,"Arcus","2A",null,"Není v databázi"]
["Schneeweis & Boehm",null,null,null,"Pribina Cup 2016 - Duo 20m","SK",15,1816,2837,0.90500000000000003,5147,4658,2016,null,null,"Duo Discus","L",null,"Není v databázi"]
["Karel Mares",{"$f":"VLOOKUP(A782,Pilot,2,0)","v":1974},{"$f":"VLOOKUP(A782,Pilot,3,0)","v":"Slaný"},{"$f":"VLOOKUP(A782,Pilot,4,0)","v":"CZ/C1"},"Pribina Cup 2016 - Duo 20m","SK",16,1592,2837,0.90500000000000003,4428,4007,2016,null,null,"Duo Discus",777,{"$f":"VLOOKUP(A782,Pilot,5,0)","v":"M"},""]
["Gäbel & Ebert",null,null,null,"Pribina Cup 2016 - Duo 20m","SK",17,1433,2837,0.90500000000000003,3869,3501,2016,null,null,"Duo Discus","ACM",null,"Není v databázi"]
["Koch & Glatz",null,null,null,"Pribina Cup 2016 - Duo 20m","SK",18,1010,2837,0.90500000000000003,{"$f":"ROUND(H784/I784*10000*0.7+(MAX($G$767:$G$785)-G784)/(MAX($G$767:$G$785)-1)*10000*0.3,0)","v":2659},2406,2016,null,null,"Duo Discus","SLI",null,"Není v databázi"]
["Daim & Wanko",null,null,null,"Pribina Cup 2016 - Duo 20m","SK",19,1002,2837,0.90500000000000003,2472,2237,2016,null,null,"Duo Discus","MI",null,"Není v databázi"]
["Briel & Levin",null,null,null,"Pribina Cup 2016 - Kombi Open","SK",1,2936,2936,0.92,{"$f":"ROUND(H786/I786*10000*0.7+(MAX($G$786:$G$807)-G786)/(MAX($G$786:$G$807)-1)*10000*0.3,0)","v":10000},{"$f":"ROUND(J786*K786,0)","v":9200},2016,null,null,"EB 28","TL",null,"Není v databázi"]
["Matthias Sturm",null,null,null,"Pribina Cup 2016 - Kombi Open","SK",2,2928,2936,0.92,{"$f":"ROUND(H787/I787*10000*0.7+(MAX($G$786:$G$807)-G787)/(MAX($G$786:$G$807)-1)*10000*0.3,0)","v":9838},{"$f":"ROUND(J787*K787,0)","v":9051},2016,null,null,"ASG 29/18m","M7",null,"Není v databázi"]
["Robin Sittmann",null,null,null,"Pribina Cup 2016 - Kombi Open","SK",3,2535,2936,0.92,8758,8057,2016,null,null,"Discus 2c/18m","MAS",null,"Není v databázi"]
["Martin Tronnier",null,null,null,"Pribina Cup 2016 - Kombi Open","SK",4,2503,2936,{"$f":"VLOOKUP(E789,Soutez,8,0)","v":0.92},8539,7856,2016,null,null,"ASG 29/18m",77,null,"Není v databázi"]
["Pristavec & Avsenek",null,null,null,"Pribina Cup 2016 - Kombi Open","SK",5,2476,2936,0.92,8332,7665,2016,null,null,"EB 28",7,null,"Není v databázi"]
["Alexander Mueller",null,null,null,"Pribina Cup 2016 - Kombi Open","SK",6,2472,2936,0.92,8179,7525,2016,null,null,"EB 29","AM",null,"Není v databázi"]
["Nik Salej",null,null,null,"Pribina Cup 2016 - Kombi Open","SK",7,2457,2936,0.92,8001,7361,2016,null,null,"LAK 17A/18m","Z",null,"Není v databázi"]
["Andreas Sandhofner",null,null,null,"Pribina Cup 2016 - Kombi Open","SK",8,2448,2936,0.92,7837,7210,2016,null,null,"ASG 29/18m","AY",null,"Není v databázi"]
["Kai Glatter",null,null,null,"Pribina Cup 2016 - Kombi Open","SK",9,2441,2936,0.92,7677,7063,2016,null,null,"JS1 C 18","YE",null,"Není v databázi"]
["Josef Kammerhofer",null,null,null,"Pribina Cup 2016 - Kombi Open","SK",10,2336,2936,0.92,7284,6701,2016,null,null,"ASW 22BL","1E",null,"Není v databázi"]
["Immanuel Weigel",null,null,null,"Pribina Cup 2016 - Kombi Open","SK",11,2307,2936,0.92,7072,6506,2016,null,null,"Nimbus 3/22.9m","3T",null,"Není v databázi"]
["Tomas Suchanek",{"$f":"VLOOKUP(A797,Pilot,2,0)","v":1964},{"$f":"VLOOKUP(A797,Pilot,3,0)","v":"GAC Benešov"},{"$f":"VLOOKUP(A797,Pilot,4,0)","v":"CZ/C1"},"Pribina Cup 2016 - Kombi Open","SK",12,2231,2936,0.92,6748,6208,2016,null,null,"Ventus c/17.6m","UP",{"$f":"VLOOKUP(A797,Pilot,5,0)","v":"M"},""]
["Werner Danz",null,null,null,"Pribina Cup 2016 - Kombi Open","SK",13,2127,2936,0.92,6357,5848,2016,null,null,"Antares 18S","BT",null,"Není v databázi"]
["Sorin Lingureanu",null,null,null,"Pribina Cup 2016 - Kombi Open","SK",14,1970,2936,0.92,5840,5373,2016,null,null,"Ventus 2c/18m","ZR",null,"Není v databázi"]
["Zdislaw Bednarczuk",null,null,null,"Pribina Cup 2016 - Kombi Open","SK",15,1921,2936,0.92,5580,5134,2016,null,null,"ASG 29/18m","ZB",null,"Není v databázi"]
["Przemyslaw Bartczak",null,null,null,"Pribina Cup 2016 - Kombi Open","SK",16,1903,2936,0.92,5394,4962,2016,null,null,"LS 8/18m","A",null,"Není v databázi"]
["Ales Krusic",null,null,null,"Pribina Cup 2016 - Kombi Open","SK",17,1843,2936,0.92,{"$f":"ROUND(H802/I802*10000*0.7+(MAX($G$786:$G$807)-G802)/(MAX($G$786:$G$807)-1)*10000*0.3,0)","v":5108},4699,2016,null,null,"Ventus 2c/18m","AS",null,"Není v databázi"]
["Robin Diesterweg",null,null,null,"Pribina Cup 2016 - Kombi Open","SK",18,1641,2936,0.92,4484,4125,2016,null,null,"Discus 2c/18m","FES",null,"Není v databázi"]
["Jan Fahlgren",null,null,null,"Pribina Cup 2016 - Kombi Open","SK",19,1540,2936,0.92,4100,3772,2016,null,null,"Nimbus 4D","SX",null,"Není v databázi"]
["Miha Peperko",null,null,null,"Pribina Cup 2016 - Kombi Open","SK",20,1474,2936,0.92,3800,3496,2016,null,null,"DG 808C/18m","FIM",null,"Není v databázi"]
["Luka Znidarsic",null,null,null,"Pribina Cup 2016 - Kombi Open","SK",21,1211,2936,0.92,3030,2788,2016,null,null,"Ventus 2c/18m","LZ",null,"Není v databázi"]
["Herbert Pirker",null,null,null,"Pribina Cup 2016 - Kombi Open","SK",22,1049,2936,0.92,2501,2301,2016,null,null,"Ventus c/17.6m","PM",null,"Není v databázi"]
["Tim Milner",null,"Wolds gliding Club",null,"FCC 2016 - Klub","SK",1,4497,4497,0.94000000000000006,{"$f":"ROUND(H808/I808*10000*0.7+(MAX($G$808:$G$866)-G808)/(MAX($G$808:$G$866)-1)*10000*0.3,0)","v":10000},{"$f":"ROUND(J808*K808,0)","v":9400},2016,null,null,"Std. Cirrus","VS",null,"Není v databázi"]
["Boris Zorz",null,"Lesce",null,"FCC 2016 - Klub","SK",2,4396,4497,0.94000000000000006,{"$f":"ROUND(H809/I809*10000*0.7+(MAX($G$808:$G$866)-G809)/(MAX($G$808:$G$866)-1)*10000*0.3,0)","v":9791},{"$f":"ROUND(J809*K809,0)","v":9204},2016,null,null,"Std. Cirrus","IPF",null,"Není v databázi"]
["Petr Panek",{"$f":"VLOOKUP(A810,Pilot,2,0)","v":1975},{"$f":"VLOOKUP(A810,Pilot,3,0)","v":"Dvůr Králové"},{"$f":"VLOOKUP(A810,Pilot,4,0)","v":"CZ/C2"},"FCC 2016 - Klub","SK",3,4368,4497,0.94000000000000006,9696,9114,2016,"x",null,"std. cirrus","YU",{"$f":"VLOOKUP(A810,Pilot,5,0)","v":"M"},""]
["Kestutis Jurkstas",null,"Lithuania",null,"FCC 2016 - Klub","SK",4,4231,4497,0.94000000000000006,9431,8865,2016,null,null,"std. jantar 3","F",null,"Není v databázi"]
["Zoltan Hamar",null,"Vario SE",null,"FCC 2016 - Klub","SK",5,4225,4497,0.94000000000000006,9370,8808,2016,null,null,"LS-1f","DK",null,"Není v databázi"]
["Mikolaj Zdun",null,"Leszczyński",null,"FCC 2016 - Klub","SK",6,4197,4497,0.94000000000000006,9274,8718,2016,null,null,"Jantar Std 2","SCH",null,"Není v databázi"]
["Krzysztof Sobiecki",null,"Bydgoski",null,"FCC 2016 - Klub","SK",7,4158,4497,0.94000000000000006,9162,8612,2016,null,null,"Jantar Std 2","UT",null,"Není v databázi"]
["Lumir Motyka",{"$f":"VLOOKUP(A815,Pilot,2,0)","v":1955},{"$f":"VLOOKUP(A815,Pilot,3,0)","v":"Frýdlant"},{"$f":"VLOOKUP(A815,Pilot,4,0)","v":"CZ/M"},"FCC 2016 - Klub","SK",8,4106,4497,0.94000000000000006,9029,8487,2016,"x",null,"LS-1f","EM",{"$f":"VLOOKUP(A815,Pilot,5,0)","v":"M"},""]
["Fabian Peitz",null,"LSV-Schneverdingen e.V.",null,"FCC 2016 - Klub","SK",9,4084,4497,0.94000000000000006,8943,8406,2016,null,null,"H-201B Std. Libelle WL","FH",null,"Není v databázi"]
["Darius Gudziunas",null,"Vilniaus Aeroklubas",null,"FCC 2016 - Klub","SK",10,4023,4497,0.94000000000000006,8797,8269,2016,null,null,"Std. Jantar 3","Bg",null,"Není v databázi"]
["Tibor Noga",null,"SGC Martin",null,"FCC 2016 - Klub","SK",11,4013,4497,0.94000000000000006,8729,8205,2016,null,null,"Std. Cirrus","DZ",null,"Není v databázi"]
["Jan Pavlik",{"$f":"VLOOKUP(A819,Pilot,2,0)","v":1987},{"$f":"VLOOKUP(A819,Pilot,3,0)","v":"Křižanov"},{"$f":"VLOOKUP(A819,Pilot,4,0)","v":"CZ/M"},"FCC 2016 - Klub","SK",12,3994,4497,0.94000000000000006,8648,8129,2016,null,null,"Std. Cirrus","ICQ",{"$f":"VLOOKUP(A819,Pilot,5,0)","v":"M"},""]
["Gvidas Sabeckis",null,"KASSK",null,"FCC 2016 - Klub","SK",13,3878,4497,0.94000000000000006,8416,7911,2016,null,null,"Jantar Std 2","CH",null,"Není v databázi"]
["Petra Piskata",{"$f":"VLOOKUP(A821,Pilot,2,0)","v":1989},{"$f":"VLOOKUP(A821,Pilot,3,0)","v":"Hranice"},{"$f":"VLOOKUP(A821,Pilot,4,0)","v":"CZ/M"},"FCC 2016 - Klub","SK",14,3872,4497,0.94000000000000006,8355,7854,2016,"x","x","Std. Cirrus","XC",{"$f":"VLOOKUP(A821,Pilot,5,0)","v":"F"},""]
["Marek Herbreder",null,"Szcecin",null,"FCC 2016 - Klub","SK",15,3819,4497,0.94000000000000006,8220,7727,2016,null,null,"SZD-55 Promyk","TK",null,"Není v databázi"]
["Tibor Arpas",null,"FLA-1WY",null,"FCC 2016 - Klub","SK",16,3734,4497,0.94000000000000006,8036,7554,2016,null,null,"LS 7 WL","FK",null,"Není v databázi"]
["Marek Sawczuk",null,"Warszawski",null,"FCC 2016 - Klub","SK",17,3718,4497,0.94000000000000006,7960,7482,2016,null,null,"Jantar Std 3","PT",null,"Není v databázi"]
["Viktor Hnata",null,"Holic",null,"FCC 2016 - Klub","SK",18,3707,4497,0.94000000000000006,7891,7418,2016,null,null,"Std. Cirrus","V1",null,"Není v databázi"]
["Stanislaw Wujczak",null,"Leszczyński",null,"FCC 2016 - Klub","SK",19,3696,4497,0.94000000000000006,7822,7353,2016,null,null,"Jantar Std 3","FSJ",null,{"$f":"IF(ISERROR(VLOOKUP(A826,Pilot,6,0)),\"Není v databázi\",VLOOKUP(A826,Pilot,6,0))","v":"Není v databázi"}]
["Zdenek Balcarek",{"$f":"VLOOKUP(A827,Pilot,2,0)","v":1967},{"$f":"VLOOKUP(A827,Pilot,3,0)","v":"Kroměříž"},{"$f":"VLOOKUP(A827,Pilot,4,0)","v":"CZ/M"},"FCC 2016 - Klub","SK",20,3694,4497,0.94000000000000006,7767,7301,2016,null,null,"Std. Cirrus","ZL",{"$f":"VLOOKUP(A827,Pilot,5,0)","v":"M"},""]
["Ivan Novak",{"$f":"VLOOKUP(A828,Pilot,2,0)","v":1962},{"$f":"VLOOKUP(A828,Pilot,3,0)","v":"Mladá Boleslav"},{"$f":"VLOOKUP(A828,Pilot,4,0)","v":"CZ/C1"},"FCC 2016 - Klub","SK",21,3688,4497,0.94000000000000006,7706,7244,2016,null,null,"Std. Cirrus","DIn",{"$f":"VLOOKUP(A828,Pilot,5,0)","v":"M"},""]
["Marek Pechanec",{"$f":"VLOOKUP(A829,Pilot,2,0)","v":1970},{"$f":"VLOOKUP(A829,Pilot,3,0)","v":"Luhačovice"},{"$f":"VLOOKUP(A829,Pilot,4,0)","v":"CZ/M"},"FCC 2016 - Klub","SK",22,3655,4497,0.94000000000000006,7603,7147,2016,null,null,"Std. Cirrus","SJ",{"$f":"VLOOKUP(A829,Pilot,5,0)","v":"M"},""]
["Andrzej Szczerba",null,"Leszcznski",null,"FCC 2016 - Klub","SK",23,3618,4497,0.94000000000000006,7494,7044,2016,null,null,"SZD-55","EG",null,"Není v databázi"]
["Martin Sabla",null,"SNV",null,"FCC 2016 - Klub","SK",24,3599,4497,0.94000000000000006,7413,6968,2016,null,null,"Std. Cirrus","SA",null,"Není v databázi"]
["Robert Toth",null,"Szolnok",null,"FCC 2016 - Klub","SK",25,3531,4497,0.94000000000000006,7255,6820,2016,null,null,"H-201B Std. Libelle","PI",null,"Není v databázi"]
["Przemysław Bartczak",null,"Czestochowa",null,"FCC 2016 - Klub","SK",26,3497,4497,0.94000000000000006,7150,6721,2016,null,null,"SZD-48-3 Brawo","BZ",null,"Není v databázi"]
["Karol Pawlicki",null,"Stalowowolski",null,"FCC 2016 - Klub","SK",27,3387,4497,0.94000000000000006,6927,6511,2016,null,null,"Jantar Std 3","BK",null,"Není v databázi"]
["Vytautas Rasimavicius",null,"Pociunai",null,"FCC 2016 - Klub","SK",28,3384,4497,0.94000000000000006,6871,6459,2016,null,null,"Jantar std","JU",null,"Není v databázi"]
["Frantisek Sobek",null,"Presov",null,"FCC 2016 - Klub","SK",29,3381,4497,0.94000000000000006,6815,6406,2016,null,null,"DG 100","G1",null,"Není v databázi"]
["Piotr Ciolko",null,"Aeroklub Bia³ostocki",null,"FCC 2016 - Klub","SK",30,3344,4497,0.94000000000000006,6705,6303,2016,null,null,"Std. Jantar 2","B1",null,"Není v databázi"]
["Joanna Biedermann",null,"Aeroclub Nadwislanski",null,"FCC 2016 - Klub","SK",31,3228,4497,0.94000000000000006,6473,6085,2016,null,null,"LS-4","OG",null,"Není v databázi"]
["Octavian Mihalcea",null,"Romanian Airclub",null,"FCC 2016 - Klub","SK",32,3188,4497,0.94000000000000006,6359,5977,2016,null,null,"Jantar Std 2","YD",null,"Není v databázi"]
["Fryderyk Rzymanek",null,"Aeroklub PLL LOT",null,"FCC 2016 - Klub","SK",33,3147,4497,0.94000000000000006,6243,5868,2016,null,null,"Jantar Std 3","FR",null,"Není v databázi"]
["Mateusz Pusz",null,"Gdanski/KSS",null,"FCC 2016 - Klub","SK",34,3140,4497,0.94000000000000006,6181,5810,2016,null,null,"DG 101G","TT",null,"Není v databázi"]
["Juraj Sidor",null,"Holic",null,"FCC 2016 - Klub","SK",35,3129,4497,0.94000000000000006,6112,5745,2016,null,null,"Std. Cirrus","LTN",null,"Není v databázi"]
["Andras Gyongyosi",null,"Opitz Nandor Repuloklub",null,"FCC 2016 - Klub","SK",36,2980,4497,0.94000000000000006,5828,5478,2016,null,null,"Janus C (FG)","DD",null,"Není v databázi"]
["Marius Pluscauskas",null,"Vilnius aeroclub",null,"FCC 2016 - Klub","SK",37,2925,4497,0.94000000000000006,5691,5350,2016,null,null,"LS-4","PLU",null,"Není v databázi"]
["Adam Kapuy",null,"MSE",null,"FCC 2016 - Klub","SK",38,2889,4497,0.94000000000000006,5583,5248,2016,null,null,"LS-4","GJ",null,"Není v databázi"]
["Dennis van Deest-Behnke",null,"LSV Schneverdingen",null,"FCC 2016 - Klub","SK",39,2784,4497,0.94000000000000006,5368,5046,2016,null,null,"H-201B Std. Libelle","Y6",null,"Není v databázi"]
["Aleksandar Diklic",null,"Zrenjarciu",null,"FCC 2016 - Klub","SK",40,2747,4497,0.94000000000000006,5259,4943,2016,null,null,"Std. Cirrus","O8",null,"Není v databázi"]
["Jan Hlinka",null,"Martin",null,"FCC 2016 - Klub","SK",41,2637,4497,0.94000000000000006,5036,4734,2016,null,null,"Std. Cirrus","MCh",null,"Není v databázi"]
["Hana Treslova",{"$f":"VLOOKUP(A849,Pilot,2,0)","v":1991},{"$f":"VLOOKUP(A849,Pilot,3,0)","v":"Raná"},{"$f":"VLOOKUP(A849,Pilot,4,0)","v":"CZ/C2"},"FCC 2016 - Klub","SK",42,2619,4497,0.94000000000000006,4956,4659,2016,null,null,"Std. Cirrus","CIt",{"$f":"VLOOKUP(A849,Pilot,5,0)","v":"F"},""]
["Ionut Tanana",null,"Romania",null,"FCC 2016 - Klub","SK",43,2615,4497,0.94000000000000006,4898,4604,2016,null,null,"Std. Jantar 2","YC",null,"Není v databázi"]
["Marek BIALY",null,"Radom",null,"FCC 2016 - Klub","SK",44,2512,4497,0.94000000000000006,4686,4405,2016,null,null,"Jantar Std 3","Wb",null,"Není v databázi"]
["Attila Korom",null,"ARK",null,"FCC 2016 - Klub","SK",45,2203,4497,0.94000000000000006,4153,3904,2016,null,null,"ASW 20 WL","MCk",null,"Není v databázi"]
["Przemyslaw Kucharski",null,"Polske",null,"FCC 2016 - Klub","SK",46,2161,4497,{"$f":"VLOOKUP(E853,Soutez,8,0)","v":0.94000000000000006},4036,3794,2016,null,null,"Std. Jantar 2","PK",null,"Není v databázi"]
["Iakov Shrage",null,"CAC",null,"FCC 2016 - Klub","SK",47,2146,4497,0.94000000000000006,3961,3723,2016,null,null,"ASW 20","EW",null,"Není v databázi"]
["Agata Kaszczuk",null,"Leszno",null,"FCC 2016 - Klub","SK",48,1907,4497,0.94000000000000006,3537,3325,2016,null,null,"LS-1f","MR",null,"Není v databázi"]
["Daniel Smolka",null,"Prievidza",null,"FCC 2016 - Klub","SK",49,1718,4497,0.94000000000000006,3191,3000,2016,null,null,"VSO-10","I5",null,"Není v databázi"]
["Piotr Ligwinski",null,"Czestochova",null,"FCC 2016 - Klub","SK",50,1681,4497,0.94000000000000006,3082,2897,2016,null,null,"Jantar Std 3","DA",null,"Není v databázi"]
["Dariusz Pietraszkiewicz",null,"Szczecinski",null,"FCC 2016 - Klub","SK",51,1675,4497,0.94000000000000006,3021,2840,2016,null,null,"SZD-55 Promyk","SD",null,"Není v databázi"]
["Jozef Sopirjak",null,"Kosice",null,"FCC 2016 - Klub","SK",52,1661,4497,0.94000000000000006,2948,2771,2016,null,null,"DG 100G","SX",null,"Není v databázi"]
["Drahomira Divokova",null,"SNV",null,"FCC 2016 - Klub","SK",53,1650,4497,0.94000000000000006,2879,2706,2016,null,null,"Discus CS","3D",null,"Není v databázi"]
["Wojciech Izdebski",null,"Gdansk",null,"FCC 2016 - Klub","SK",54,1315,4497,0.94000000000000006,2306,2168,2016,null,null,"Jantar Std 3","SIG",null,"Není v databázi"]
["Jerzy Mikolajczyk",null,"AZM Plock",null,"FCC 2016 - Klub","SK",55,916,4497,0.94000000000000006,1633,1535,2016,null,null,"Jantar Std 2","MS",null,"Není v databázi"]
["Michal Poplawski",null,"Aeroklub Pomorski",null,"FCC 2016 - Klub","SK",56,831,4497,0.94000000000000006,{"$f":"ROUND(H863/I863*10000*0.7+(MAX($G$808:$G$866)-G863)/(MAX($G$808:$G$866)-1)*10000*0.3,0)","v":1449},1362,2016,null,null,"Jantar Std 2","IF",null,"Není v databázi"]
["Ryszard Bendkowski",null,"Warszawa",null,"FCC 2016 - Klub","SK",57,618,4497,0.94000000000000006,1065,1001,2016,null,null,"Jantar std 2","Filip",null,"Není v databázi"]
["Ferenc Bereczky",null,"MALEV RK",null,"FCC 2016 - Klub","SK",58,22,4497,0.94000000000000006,86,81,2016,null,null,"Jantar std 2","ARI",null,"Není v databázi"]
["Krzysztof Owsiany",null,"AZM Lubin",null,"FCC 2016 - Klub","SK",59,0,4497,0.94000000000000006,0,0,2016,null,null,"Jantar std 3","CU",null,"Není v databázi"]
["Pavel Louzecky",{"$f":"VLOOKUP(A867,Pilot,2,0)","v":1957},{"$f":"VLOOKUP(A867,Pilot,3,0)","v":"Přibyslav"},{"$f":"VLOOKUP(A867,Pilot,4,0)","v":"CZ/C2"},"FCC 2016 - Kombi 15m","SK",1,5600,5600,0.96000000000000008,{"$f":"ROUND(H867/I867*10000*0.7+(MAX($G$867:$G$908)-G867)/(MAX($G$867:$G$908)-1)*10000*0.3,0)","v":10000},{"$f":"ROUND(J867*K867,0)","v":9600},2016,null,null,"LS 8a","AU",{"$f":"VLOOKUP(A867,Pilot,5,0)","v":"M"},""]
["Pawel Wojciechowski",null,"Leszczynski",null,"FCC 2016 - Kombi 15m","SK",2,5473,5600,0.96000000000000008,{"$f":"ROUND(H868/I868*10000*0.7+(MAX($G$867:$G$908)-G868)/(MAX($G$867:$G$908)-1)*10000*0.3,0)","v":9768},{"$f":"ROUND(J868*K868,0)","v":9377},2016,null,null,"Discus 2a","Y",null,"Není v databázi"]
["Maros Divok",null,"SNV",null,"FCC 2016 - Kombi 15m","SK",3,5397,5600,0.96000000000000008,9600,9216,2016,null,null,"Ventus 2b","VI",null,"Není v databázi"]
["Stefańczyk & Centka",null,"Aeroklub Kielecki",null,"FCC 2016 - Kombi 15m","SK",4,5382,5600,0.96000000000000008,9508,9128,2016,null,null,"Duo Discus XLT","POL",null,"Není v databázi"]
["Piotr Jarysz",null,"Aeroklub Koninski",null,"FCC 2016 - Kombi 15m","SK",5,5354,5600,0.96000000000000008,9400,9024,2016,null,null,"LS 6","BB",null,"Není v databázi"]
["Lukasz Grabowski",null,"GTKK",null,"FCC 2016 - Kombi 15m","SK",6,5014,5600,0.96000000000000008,8902,8546,2016,null,null,"Discus 2a","II",null,"Není v databázi"]
["Arturas Klimasauskas",null,"Pociunai (Kaunas Gliding Club)",null,"FCC 2016 - Kombi 15m","SK",7,4969,5600,0.96000000000000008,8772,8421,2016,null,null,"LS 6","HX",null,"Není v databázi"]
["Jana Veprekova",{"$f":"VLOOKUP(A874,Pilot,2,0)","v":1961},{"$f":"VLOOKUP(A874,Pilot,3,0)","v":"Dvůr Králové"},{"$f":"VLOOKUP(A874,Pilot,4,0)","v":"CZ/C2"},"FCC 2016 - Kombi 15m","SK",8,4829,5600,0.96000000000000008,8524,8183,2016,null,null,"LS 8","W8",{"$f":"VLOOKUP(A874,Pilot,5,0)","v":"F"},""]
["Gintautas Zube",null,"KLAIPEDA",null,"FCC 2016 - Kombi 15m","SK",9,4759,5600,0.96000000000000008,8363,8028,2016,null,null,"Ventus 2ax","XY",null,"Není v databázi"]
["Norbert Alin Scarlat",null,"Romanian Airclub",null,"FCC 2016 - Kombi 15m","SK",10,4704,5600,0.96000000000000008,8221,7892,2016,null,null,"Discus 2a","YBI",null,"Není v databázi"]
["Miloslav Cink",{"$f":"VLOOKUP(A877,Pilot,2,0)","v":1987},{"$f":"VLOOKUP(A877,Pilot,3,0)","v":"Letkov"},{"$f":"VLOOKUP(A877,Pilot,4,0)","v":"CZ/C1"},"FCC 2016 - Kombi 15m","SK",11,4680,5600,0.96000000000000008,8118,7793,2016,null,null,"LS8a","EU",{"$f":"VLOOKUP(A877,Pilot,5,0)","v":"M"},""]
["Alex Pop",null,"Romanian Airclub",null,"FCC 2016 - Kombi 15m","SK",12,4532,5600,0.96000000000000008,7860,7546,2016,null,null,"Discus 2a","YA",null,"Není v databázi"]
["Jiri Kusbach",{"$f":"VLOOKUP(A879,Pilot,2,0)","v":1959},{"$f":"VLOOKUP(A879,Pilot,3,0)","v":"Luhačovice"},{"$f":"VLOOKUP(A879,Pilot,4,0)","v":"CZ/M"},"FCC 2016 - Kombi 15m","SK",13,4513,5600,0.96000000000000008,7763,7452,2016,null,null,"KKB-15 E","B",{"$f":"VLOOKUP(A879,Pilot,5,0)","v":"M"},""]
["Jana Treslova",{"$f":"VLOOKUP(A880,Pilot,2,0)","v":1963},{"$f":"VLOOKUP(A880,Pilot,3,0)","v":"Raná"},{"$f":"VLOOKUP(A880,Pilot,4,0)","v":"CZ/C2"},"FCC 2016 - Kombi 15m","SK",14,4444,5600,0.96000000000000008,7604,7300,2016,null,null,"Ventus 2ax","AX",{"$f":"VLOOKUP(A880,Pilot,5,0)","v":"F"},""]
["Lukasz Błaszczyk",null,"Ostrow",null,"FCC 2016 - Kombi 15m","SK",15,4394,5600,0.96000000000000008,7468,7169,2016,null,null,"LS 6","GI",null,"Není v databázi"]
["Magali De Cachard",null,"Challes les Eaux France",null,"FCC 2016 - Kombi 15m","SK",16,4329,5600,0.96000000000000008,7314,7021,2016,null,null,"Ventus 2c","I",null,"Není v databázi"]
["Stephan Houdier",null,"Grenoble",null,"FCC 2016 - Kombi 15m","SK",17,4313,5600,0.96000000000000008,7221,6932,2016,null,null,"LS 8","LK",null,"Není v databázi"]
["Lubomir Motl",{"$f":"VLOOKUP(A884,Pilot,2,0)","v":1959},{"$f":"VLOOKUP(A884,Pilot,3,0)","v":"Kyjov"},{"$f":"VLOOKUP(A884,Pilot,4,0)","v":"CZ/M"},"FCC 2016 - Kombi 15m","SK",18,4308,5600,0.96000000000000008,7141,6855,2016,null,null,"DG 500 22m","SR",{"$f":"VLOOKUP(A884,Pilot,5,0)","v":"M"},""]
["Jakubcak & Sulirova",null,"Mlynica",null,"FCC 2016 - Kombi 15m","SK",19,4259,5600,0.96000000000000008,7007,6727,2016,null,null,"DUO Discus XT","LM",null,"Není v databázi"]
["Dariusz Czech",null,"Stalowowolski",null,"FCC 2016 - Kombi 15m","SK",20,4224,5600,0.96000000000000008,6890,6614,2016,null,null,"LAK 19 15m","DC",null,"Není v databázi"]
["Ondrej Bordovsky",{"$f":"VLOOKUP(A887,Pilot,2,0)","v":1983},{"$f":"VLOOKUP(A887,Pilot,3,0)","v":"Krnov"},{"$f":"VLOOKUP(A887,Pilot,4,0)","v":"CZ/M"},"FCC 2016 - Kombi 15m","SK",21,4202,5600,0.96000000000000008,6789,6517,2016,null,null,"Duo Discus","OK",{"$f":"VLOOKUP(A887,Pilot,5,0)","v":"M"},""]
["Oldrich Bartonik",{"$f":"VLOOKUP(A888,Pilot,2,0)","v":1961},{"$f":"VLOOKUP(A888,Pilot,3,0)","v":"Luhačovice"},{"$f":"VLOOKUP(A888,Pilot,4,0)","v":"CZ/M"},"FCC 2016 - Kombi 15m","SK",22,4076,5600,0.96000000000000008,6558,6296,2016,"x",null,"KKB 15","N1",{"$f":"VLOOKUP(A888,Pilot,5,0)","v":"M"},""]
["Andrej Majewski",null,"Warmińsko-Mazurski",null,"FCC 2016 - Kombi 15m","SK",23,4071,5600,0.96000000000000008,6479,6220,2016,null,null,"LAK 19T 15m","KL",null,"Není v databázi"]
["Slavomir Valecko",{"$f":"VLOOKUP(A890,Pilot,2,0)","v":1960},{"$f":"VLOOKUP(A890,Pilot,3,0)","v":"Hranice"},{"$f":"VLOOKUP(A890,Pilot,4,0)","v":"CZ/M"},"FCC 2016 - Kombi 15m","SK",24,4067,5600,0.96000000000000008,6401,6145,2016,"x",null,"Discus CS","IYB",{"$f":"VLOOKUP(A890,Pilot,5,0)","v":"M"},{"$f":"IF(ISERROR(VLOOKUP(A890,Pilot,6,0)),\"Není v databázi\",VLOOKUP(A890,Pilot,6,0))","v":""}]
["Slavomir Piskaty 84",{"$f":"VLOOKUP(A891,Pilot,2,0)","v":1984},{"$f":"VLOOKUP(A891,Pilot,3,0)","v":"Kunovice"},{"$f":"VLOOKUP(A891,Pilot,4,0)","v":"CZ/M"},"FCC 2016 - Kombi 15m","SK",25,4041,5600,0.96000000000000008,6295,6043,2016,"x",null,"Duo Discus xT","DDT",{"$f":"VLOOKUP(A891,Pilot,5,0)","v":"M"},""]
["Dana Novakova",{"$f":"VLOOKUP(A892,Pilot,2,0)","v":1965},{"$f":"VLOOKUP(A892,Pilot,3,0)","v":"Mladá Boleslav"},{"$f":"VLOOKUP(A892,Pilot,4,0)","v":"CZ/C1"},"FCC 2016 - Kombi 15m","SK",26,4028,5600,0.96000000000000008,6206,5958,2016,null,null,"LS 8","FX",{"$f":"VLOOKUP(A892,Pilot,5,0)","v":"F"},""]
["Tomas Kuzmickas",null,"Vilnius Aeroclub",null,"FCC 2016 - Kombi 15m","SK",27,3730,5600,0.96000000000000008,5760,5530,2016,null,null,"Discus 2a","FL",null,"Není v databázi"]
["Istvan Magyar",null,"Opitz N. RK",null,"FCC 2016 - Kombi 15m","SK",28,3619,5600,0.96000000000000008,5548,5326,2016,null,null,"Ventus bT/15m","PB",null,"Není v databázi"]
["Judyta Czyż",null,"Bialsko-Biala",null,"FCC 2016 - Kombi 15m","SK",29,3575,5600,0.96000000000000008,5420,5203,2016,null,null,"LS8 / 18 m (15m)","LOT",null,"Není v databázi"]
["Vladas Motuza",null,"Pociunai",null,"FCC 2016 - Kombi 15m","SK",30,3534,5600,0.96000000000000008,5296,5084,2016,null,null,"Mini LAK","LR2",null,"Není v databázi"]
["Jaroslav Buryan",{"$f":"VLOOKUP(A897,Pilot,2,0)","v":1953},{"$f":"VLOOKUP(A897,Pilot,3,0)","v":"Zábřeh"},{"$f":"VLOOKUP(A897,Pilot,4,0)","v":"CZ/M"},"FCC 2016 - Kombi 15m","SK",31,3375,5600,0.96000000000000008,5024,4823,2016,null,null,"ASW-20","NS",{"$f":"VLOOKUP(A897,Pilot,5,0)","v":"M"},""]
["Drahos Sitar",null,"Aeroklub Prievidza",null,"FCC 2016 - Kombi 15m","SK",32,3341,5600,0.96000000000000008,4908,4712,2016,null,null,"Discus 2","DI",null,"Není v databázi"]
["Peter Gonczi",null,"Malev",null,"FCC 2016 - Kombi 15m","SK",33,3167,5600,0.96000000000000008,4617,4432,2016,null,null,"Ventus 2b","V7",null,"Není v databázi"]
["Samuel Pollak",null,"Nitra",null,"FCC 2016 - Kombi 15m","SK",34,3110,5600,0.96000000000000008,4473,4294,2016,null,null,"LS 8tc","TC",null,"Není v databázi"]
["Eva Cerna",{"$f":"VLOOKUP(A901,Pilot,2,0)","v":1964},{"$f":"VLOOKUP(A901,Pilot,3,0)","v":"Příbram"},{"$f":"VLOOKUP(A901,Pilot,4,0)","v":"CZ/C1"},"FCC 2016 - Kombi 15m","SK",35,3070,5600,0.96000000000000008,4350,4176,2016,null,null,"Discus 2a","GX",{"$f":"VLOOKUP(A901,Pilot,5,0)","v":"F"},""]
["Joris Vainius",null,"Vilniaus aeroklubas",null,"FCC 2016 - Kombi 15m","SK",36,3063,5600,0.96000000000000008,4268,4097,2016,null,null,"LAK 19 15m","ZM",null,"Není v databázi"]
["Jozef Kutlak",null,"Prievidza",null,"FCC 2016 - Kombi 15m","SK",37,3059,5600,0.96000000000000008,4190,4022,2016,null,null,"LS 8s 15 m","SI",null,"Není v databázi"]
["Maciej Adamski",null,"Leszno",null,"FCC 2016 - Kombi 15m","SK",38,2805,5600,0.96000000000000008,3799,3647,2016,null,null,"LAK 19T 15m","HM",null,"Není v databázi"]
["Istvan Reti",null,"Alfoldi Repülőklub",null,"FCC 2016 - Kombi 15m","SK",39,2652,5600,0.96000000000000008,{"$f":"ROUND(H905/I905*10000*0.7+(MAX($G$867:$G$908)-G905)/(MAX($G$867:$G$908)-1)*10000*0.3,0)","v":3535},3394,2016,null,null,"Ventus 2 a","IR",null,"Není v databázi"]
["Jan Keher",null,"Prievidza",null,"FCC 2016 - Kombi 15m","SK",40,2534,5600,0.96000000000000008,3314,3181,2016,null,null,"Discus CS","DR",null,"Není v databázi"]
["Slavomir Piskaty 58",{"$f":"VLOOKUP(A907,Pilot,2,0)","v":1958},{"$f":"VLOOKUP(A907,Pilot,3,0)","v":"Kunovice"},{"$f":"VLOOKUP(A907,Pilot,4,0)","v":"CZ/M"},"FCC 2016 - Kombi 15m","SK",41,2057,5600,0.96000000000000008,2644,2538,2016,null,null,"Discus CS","KAL",{"$f":"VLOOKUP(A907,Pilot,5,0)","v":"M"},""]
["Benedikt Laho",null,"Trnava",null,"FCC 2016 - Kombi 15m","SK",42,1438,5600,0.96000000000000008,1798,1726,2016,null,null,"Discus 2cT/15 m","JH",null,"Není v databázi"]
["Karol Staryszak",null,"Nadwislanski",null,"FCC 2016 - Kombi Open","SK",1,5746,5746,0.97499999999999998,{"$f":"ROUND(H909/I909*10000*0.7+(MAX($G$909:$G$938)-G909)/(MAX($G$909:$G$938)-1)*10000*0.3,0)","v":10000},{"$f":"ROUND(J909*K909,0)","v":9750},2016,null,null,"ASG 29 18m","PL",null,"Není v databázi"]
["Sebastian Kawa",null,"Aeroclub Bielsko Biala",null,"FCC 2016 - Kombi Open","SK",2,5376,5746,0.97499999999999998,{"$f":"ROUND(H910/I910*10000*0.7+(MAX($G$909:$G$938)-G910)/(MAX($G$909:$G$938)-1)*10000*0.3,0)","v":9446},{"$f":"ROUND(J910*K910,0)","v":9210},2016,null,null,"JS-1B 18m","GPS",null,"Není v databázi"]
["Adam Czeladzki",null,"Aeroklub Warszawski KKGT",null,"FCC 2016 - Kombi Open","SK",3,5212,5746,0.97499999999999998,9143,8914,2016,null,null,"JS-1C 21m","GOL",null,"Není v databázi"]
["Luka Znidarsic",null,"Ak Postojna",null,"FCC 2016 - Kombi Open","SK",4,5059,5746,0.97499999999999998,8853,8632,2016,null,null,"Ventus 2cxa 18m FES","LZ",null,"Není v databázi"]
["Kessler & Jurca",null,"Romanian Airclub",null,"FCC 2016 - Kombi Open","SK",5,4980,5746,0.97499999999999998,8653,8437,2016,null,null,"Arcus T","SP",null,"Není v databázi"]
["Krzysztof Luniewski",null,"OLSZTYN",null,"FCC 2016 - Kombi Open","SK",6,4735,5746,0.97499999999999998,8251,8045,2016,null,null,"ASG 29E 18m",29,null,"Není v databázi"]
["Polutnik & Ramsak",null,"AK CELJE",null,"FCC 2016 - Kombi Open","SK",7,4694,5746,0.97499999999999998,8098,7896,2016,null,null,"Arcus M","ET",null,"Není v databázi"]
["Marcin Mezyk",null,"Rybnik",null,"FCC 2016 - Kombi Open","SK",8,4559,5746,0.97499999999999998,7830,7634,2016,null,null,"ASG 29E 18m","LU",null,"Není v databázi"]
["Roman Mracek",{"$f":"VLOOKUP(A917,Pilot,2,0)","v":1980},{"$f":"VLOOKUP(A917,Pilot,3,0)","v":"Letkov"},{"$f":"VLOOKUP(A917,Pilot,4,0)","v":"CZ/C1"},"FCC 2016 - Kombi Open","SK",9,4510,5746,{"$f":"VLOOKUP(E917,Soutez,8,0)","v":0.97499999999999998},7667,7475,2016,null,null,"ASG 29E 18m","QX",{"$f":"VLOOKUP(A917,Pilot,5,0)","v":"M"},""]
["Danes Grula",{"$f":"VLOOKUP(A918,Pilot,2,0)","v":1961},{"$f":"VLOOKUP(A918,Pilot,3,0)","v":"Medlánky"},{"$f":"VLOOKUP(A918,Pilot,4,0)","v":"CZ/M"},"FCC 2016 - Kombi Open","SK",10,4444,5746,0.97499999999999998,7483,7296,2016,null,null,"ASG 29E 18m","DX",{"$f":"VLOOKUP(A918,Pilot,5,0)","v":"M"},""]
["Zdislaw Bednarczuk",null,"Bielsko-Biala",null,"FCC 2016 - Kombi Open","SK",11,4220,5746,0.97499999999999998,7106,6928,2016,null,null,"ASG 29E 18m","ZB",null,"Není v databázi"]
["Pavol Cerny",null,"SGC Martin",null,"FCC 2016 - Kombi Open","SK",12,4216,5746,0.97499999999999998,6998,6823,2016,null,null,"Ventus 2cxT 18m","EK",null,"Není v databázi"]
["Tomasz Chudoment",null,"Podhalanski",null,"FCC 2016 - Kombi Open","SK",13,4195,5746,0.97499999999999998,6869,6697,2016,null,null,"JS-1CTJ 18m EVO","B52",null,"Není v databázi"]
["Petr Krejcirik",{"$f":"VLOOKUP(A922,Pilot,2,0)","v":1960},{"$f":"VLOOKUP(A922,Pilot,3,0)","v":"Hranice"},{"$f":"VLOOKUP(A922,Pilot,4,0)","v":"CZ/M"},"FCC 2016 - Kombi Open","SK",14,4153,5746,0.97499999999999998,6715,6547,2016,null,null,"ASG 29E 18m","QZ",{"$f":"VLOOKUP(A922,Pilot,5,0)","v":"M"},""]
["Andrzej Smielkiewicz",null,"Leszno",null,"FCC 2016 - Kombi Open","SK",15,3995,5746,0.97499999999999998,6419,6259,2016,null,null,"ASG 29E 18m","A2",null,"Není v databázi"]
["Marek Blatak",{"$f":"VLOOKUP(A924,Pilot,2,0)","v":1969},{"$f":"VLOOKUP(A924,Pilot,3,0)","v":"Šumperk"},{"$f":"VLOOKUP(A924,Pilot,4,0)","v":"CZ/M"},"FCC 2016 - Kombi Open","SK",16,3992,5746,0.97499999999999998,6311,6153,2016,"x",null,"Ventus C 17,6m","EB",{"$f":"VLOOKUP(A924,Pilot,5,0)","v":"M"},""]
["Vytautas Sabeckis",null,"Kaunas Gliding Club",null,"FCC 2016 - Kombi Open","SK",17,3866,5746,0.97499999999999998,6055,5904,2016,null,null,"JS-1B 18m","LR",null,"Není v databázi"]
["Bernd Goretzki",null,"LSV Elbe-Ester",null,"FCC 2016 - Kombi Open","SK",18,3773,5746,0.97499999999999998,5838,5692,2016,null,null,"Ventus 2 cxM","C8",null,"Není v databázi"]
["Tomasz Dul",null,"Aeroklub Wroclaw",null,"FCC 2016 - Kombi Open","SK",19,3695,5746,0.97499999999999998,5639,5498,2016,null,null,"ASG 29E 18m","DT",null,"Není v databázi"]
["Pawel Frackowiak",null,"Aeroklub Poznanski",null,"FCC 2016 - Kombi Open","SK",20,3465,5746,0.97499999999999998,5256,5125,2016,null,null,"LAK 17BT 21m",77,null,"Není v databázi"]
["Peter Pokorny",null,"Bratislava",null,"FCC 2016 - Kombi Open","SK",21,3383,5746,0.97499999999999998,5052,4926,2016,null,null,"DG-800S 18m WL","YB",null,"Není v databázi"]
["Bogdan Dorozko",null,"Poland",null,"FCC 2016 - Kombi Open","SK",22,3171,5746,0.97499999999999998,4691,4574,2016,null,null,"ASG 29E 18m","29L",null,"Není v databázi"]
["Pavel Trojan",{"$f":"VLOOKUP(A931,Pilot,2,0)","v":1960},{"$f":"VLOOKUP(A931,Pilot,3,0)","v":"Chrudim"},{"$f":"VLOOKUP(A931,Pilot,4,0)","v":"CZ/C2"},"FCC 2016 - Kombi Open","SK",23,3126,5746,0.97499999999999998,4532,4419,2016,"x",null,"Ventus C 17.6m","W",{"$f":"VLOOKUP(A931,Pilot,5,0)","v":"M"},""]
["Jan Divok",null,"SNV",null,"FCC 2016 - Kombi Open","SK",24,3036,5746,0.97499999999999998,4319,4211,2016,null,null,"Ventus C 17.6m","D3",null,"Není v databázi"]
["Laszlo Kapuy",null,"MSE",null,"FCC 2016 - Kombi Open","SK",25,2660,5746,0.97499999999999998,3758,3664,2016,null,null,"Ventus 2cxT 18m","GE",null,"Není v databázi"]
["Lantelme & Badaroux",null,"C.V.V.E Bailleau",null,"FCC 2016 - Kombi Open","SK",26,2593,5746,0.97499999999999998,3573,3484,2016,null,null,"Arcus T",28,null,"Není v databázi"]
["Szabadfi & Toth",null,"Alföldi RK",null,"FCC 2016 - Kombi Open","SK",27,2402,5746,0.97499999999999998,{"$f":"ROUND(H935/I935*10000*0.7+(MAX($G$909:$G$938)-G935)/(MAX($G$909:$G$938)-1)*10000*0.3,0)","v":3237},3156,2016,null,null,"Arcus T","AB",null,"Není v databázi"]
["Lukas Benedikt",null,"AK Trnava",null,"FCC 2016 - Kombi Open","SK",28,1441,5746,0.97499999999999998,1962,1913,2016,null,null,"LAK 17B fes 18m","LB",null,"Není v databázi"]
["Vitaliy Borovik",null,"Novosibirsk",null,"FCC 2016 - Kombi Open","SK",29,781,5746,0.97499999999999998,1055,1029,2016,null,null,"Nimbus 4M","VB",null,"Není v databázi"]
["Peter Harsfalvi",null,"Albatrosz",null,"FCC 2016 - Kombi Open","SK",30,0,5746,0.97499999999999998,{"$f":"ROUND(H938/I938*10000*0.7+(MAX($G$909:$G$938)-G938)/(MAX($G$909:$G$938)-1)*10000*0.3,0)","v":0},0,2016,null,null,"ASG 29E 18m","AMI",null,"Není v databázi"]
["Marian Szabo",null,null,null,"Fatraglide 2016 - Klub","SK",1,2434,2434,0.6,{"$f":"ROUND(H939/I939*10000*0.7+(MAX($G$939:$G$953)-G939)/(MAX($G$939:$G$953)-1)*10000*0.3,0)","v":10000},{"$f":"ROUND(J939*K939,0)","v":6000},2016,null,null,"Std. Cirrus WL","SZ",null,"Není v databázi"]
["Tibor Noga",null,null,null,"Fatraglide 2016 - Klub","SK",2,2343,2434,0.6,{"$f":"ROUND(H940/I940*10000*0.7+(MAX($G$939:$G$953)-G940)/(MAX($G$939:$G$953)-1)*10000*0.3,0)","v":9524},{"$f":"ROUND(J940*K940,0)","v":5714},2016,null,null,"Std. Cirrus WL","LX",null,"Není v databázi"]
["Karol Benedikovic",null,null,null,"Fatraglide 2016 - Klub","SK",3,2271,2434,0.6,9103,5462,2016,null,null,"Std. Cirrus","AM",null,"Není v databázi"]
["Frantisek Sobek",null,null,null,"Fatraglide 2016 - Klub","SK",4,2230,2434,0.6,8770,5262,2016,null,null,"DG 100","G1",null,"Není v databázi"]
["Edmund Schuller",null,null,null,"Fatraglide 2016 - Klub","SK",5,2135,2434,0.6,8283,4970,2016,null,null,"ASW 24 WL","ZS",null,"Není v databázi"]
["Gabor Bors",null,null,null,"Fatraglide 2016 - Klub","SK",6,1905,2434,0.6,7407,4444,2016,null,null,"ASW 15","NK",null,"Není v databázi"]
["Marek Straka",null,null,null,"Fatraglide 2016 - Klub","SK",7,1853,2434,0.6,7043,4226,2016,null,null,"ASW 19","AI",null,"Není v databázi"]
["Peter Gasparovic",null,null,null,"Fatraglide 2016 - Klub","SK",8,1821,2434,0.6,6737,4042,2016,null,null,"VT-116 Orlik 2",28,null,"Není v databázi"]
["Árpad Salamon",null,null,null,"Fatraglide 2016 - Klub","SK",9,1801,2434,0.6,6465,3879,2016,null,null,"Mini Nimbus","SU",null,"Není v databázi"]
["Juraj Marcin",null,null,null,"Fatraglide 2016 - Klub","SK",10,1730,2434,0.6,6047,3628,2016,null,null,"Twin Astir RG","TAT",null,"Není v databázi"]
["Daniel Kronek",null,null,null,"Fatraglide 2016 - Klub","SK",11,1488,2434,0.6,5137,3082,2016,null,null,"DG 300","DK",null,"Není v databázi"]
["Peter Ziak",null,null,null,"Fatraglide 2016 - Klub","SK",12,1449,2434,0.6,4810,2886,2016,null,null,"VSO-10","H7",null,"Není v databázi"]
["Peter Sedmak",null,null,null,"Fatraglide 2016 - Klub","SK",13,1356,2434,0.6,4328,2597,2016,null,null,"Std. Cirrus","MC",null,"Není v databázi"]
["Samuel Posluch",null,null,null,"Fatraglide 2016 - Klub","SK",14,1006,2434,0.6,3107,1864,2016,null,null,"VSO-10","OSA",null,"Není v databázi"]
["Sandor Gergely",null,null,null,"Fatraglide 2016 - Klub","SK",15,779,2434,0.6,{"$f":"ROUND(H953/I953*10000*0.7+(MAX($G$939:$G$953)-G953)/(MAX($G$939:$G$953)-1)*10000*0.3,0)","v":2240},1344,2016,null,null,"Silent 2 Targa","SII",null,"Není v databázi"]
["Viliam Kubovcik",null,null,null,"Fatraglide 2016 - Kombi","SK",1,3398,3398,0,{"$f":"ROUND(H954/I954*10000*0.7+(MAX($G$954:$G$962)-G954)/(MAX($G$954:$G$962)-1)*10000*0.3,0)","v":10000},{"$f":"ROUND(J954*K954,0)","v":0},2016,null,null,"LS 8 18m","SI",null,{"$f":"IF(ISERROR(VLOOKUP(A954,Pilot,6,0)),\"Není v databázi\",VLOOKUP(A954,Pilot,6,0))","v":"Není v databázi"}]
["Ludek Somol /Zsolt Cirjak",null,null,null,"Fatraglide 2016 - Kombi","SK",2,3335,3398,0,{"$f":"ROUND(H955/I955*10000*0.7+(MAX($G$954:$G$962)-G955)/(MAX($G$954:$G$962)-1)*10000*0.3,0)","v":9495},{"$f":"ROUND(J955*K955,0)","v":0},2016,null,null,"DUO Discus","SGC",null,"Není v databázi"]
["Petr Hotovy",{"$f":"VLOOKUP(A956,Pilot,2,0)","v":1958},{"$f":"VLOOKUP(A956,Pilot,3,0)","v":"Česká Lípa"},{"$f":"VLOOKUP(A956,Pilot,4,0)","v":"CZ/C2"},"Fatraglide 2016 - Kombi","SK",3,3114,3398,0,8665,0,2016,null,null,"HPH 304MS Shark","MH",{"$f":"VLOOKUP(A956,Pilot,5,0)","v":"M"},""]
["Pekka Marjamaa",null,null,null,"Fatraglide 2016 - Kombi","SK",4,3016,3398,0,8088,0,2016,null,null,"Duiscus 2b","M",null,"Není v databázi"]
["Vaclav Hruza",{"$f":"VLOOKUP(A958,Pilot,2,0)","v":1965},{"$f":"VLOOKUP(A958,Pilot,3,0)","v":"Břeclav"},{"$f":"VLOOKUP(A958,Pilot,4,0)","v":"CZ/M"},"Fatraglide 2016 - Kombi","SK",5,2695,3398,0,7052,0,2016,null,null,"HPH 304 Shark","TH",{"$f":"VLOOKUP(A958,Pilot,5,0)","v":"M"},""]
["Branislav Jesensky",null,null,null,"Fatraglide 2016 - Kombi","SK",6,2464,3398,0,6201,0,2016,null,null,"Ventus 2B","VI",null,"Není v databázi"]
["Jan Kovalcik",null,null,null,"Fatraglide 2016 - Kombi","SK",7,1914,3398,0,4693,0,2016,null,null,"Discus 2b","DI",null,"Není v databázi"]
["Lukas Benedikt",null,null,null,"Fatraglide 2016 - Kombi","SK",8,1696,3398,0,{"$f":"ROUND(H961/I961*10000*0.7+(MAX($G$954:$G$962)-G961)/(MAX($G$954:$G$962)-1)*10000*0.3,0)","v":3869},0,2016,null,null,"LAK 17B FES 18m","LB",null,"Není v databázi"]
["Dusan Bernat",null,null,null,"Fatraglide 2016 - Kombi","SK",9,1524,3398,0,3139,0,2016,null,null,"Ventus 17.6m","AD",null,"Není v databázi"]
["Edmund Schuller",null,null,null,"PMSR 2016 - Klub","SK",1,6189,6189,0.92,{"$f":"ROUND(H963/I963*10000*0.7+(MAX($G$963:$G$1020)-G963)/(MAX($G$963:$G$1020)-1)*10000*0.3,0)","v":10000},{"$f":"ROUND(J963*K963,0)","v":9200},2016,null,null,"ASW 24","ZS",null,"Není v databázi"]
["Josef Kozar",null,null,null,"PMSR 2016 - Klub","SK",2,6173,6189,0.92,{"$f":"ROUND(H964/I964*10000*0.7+(MAX($G$963:$G$1020)-G964)/(MAX($G$963:$G$1020)-1)*10000*0.3,0)","v":9928},{"$f":"ROUND(J964*K964,0)","v":9134},2016,null,null,"LS1-f","MF",null,"Není v databázi"]
["Frantisek Sobek",null,null,null,"PMSR 2016 - Klub","SK",3,5984,6189,0.92,9661,8888,2016,null,null,"DG-100","G1",null,"Není v databázi"]
["Roman Petro",null,null,null,"PMSR 2016 - Klub","SK",4,5902,6189,0.92,9515,8754,2016,null,null,"Centrair C-101A Pegase",101,null,"Není v databázi"]
["Martin Sabla",null,null,null,"PMSR 2016 - Klub","SK",5,5762,6189,0.92,9303,8559,2016,null,null,"Std. Cirrus","SA",null,"Není v databázi"]
["Tibor Noga",null,null,null,"PMSR 2016 - Klub","SK",6,5741,6189,0.92,9225,8487,2016,null,null,"Std. Cirrus","LX",null,"Není v databázi"]
["Martin Picka",{"$f":"VLOOKUP(A969,Pilot,2,0)","v":1974},{"$f":"VLOOKUP(A969,Pilot,3,0)","v":"Letkov"},{"$f":"VLOOKUP(A969,Pilot,4,0)","v":"CZ/C1"},"PMSR 2016 - Klub","SK",7,5704,6189,0.92,9130,8400,2016,"x",null,"ASW 19B","BU",{"$f":"VLOOKUP(A969,Pilot,5,0)","v":"M"},""]
["Michal Lesinger",{"$f":"VLOOKUP(A970,Pilot,2,0)","v":1966},{"$f":"VLOOKUP(A970,Pilot,3,0)","v":"Moravská Třebová"},{"$f":"VLOOKUP(A970,Pilot,4,0)","v":"CZ/M"},"PMSR 2016 - Klub","SK",8,5657,6189,0.92,9023,8301,2016,null,null,"ASW 19B","LL",{"$f":"VLOOKUP(A970,Pilot,5,0)","v":"M"},""]
["Martin Jurovic",null,null,null,"PMSR 2016 - Klub","SK",9,5656,6189,0.92,8969,8251,2016,null,null,"Centrair C-101A Pegase","J2",null,"Není v databázi"]
["Jiri Kusbach",{"$f":"VLOOKUP(A972,Pilot,2,0)","v":1959},{"$f":"VLOOKUP(A972,Pilot,3,0)","v":"Luhačovice"},{"$f":"VLOOKUP(A972,Pilot,4,0)","v":"CZ/M"},"PMSR 2016 - Klub","SK",10,5583,6189,0.92,8832,8125,2016,"x",null,"KKB-15E-FES","B",{"$f":"VLOOKUP(A972,Pilot,5,0)","v":"M"},""]
["Martin Snirc",null,null,null,"PMSR 2016 - Klub","SK",11,5474,6189,0.92,8656,7964,2016,null,null,"DG-200","BM",null,"Není v databázi"]
["Vaclav Svoboda",{"$f":"VLOOKUP(A974,Pilot,2,0)","v":1970},{"$f":"VLOOKUP(A974,Pilot,3,0)","v":"Letkov"},{"$f":"VLOOKUP(A974,Pilot,4,0)","v":"CZ/C1"},"PMSR 2016 - Klub","SK",12,5346,6189,0.92,8457,7780,2016,"x",null,"Std. Cirrus","W1",{"$f":"VLOOKUP(A974,Pilot,5,0)","v":"M"},""]
["Filip Pechac",null,null,null,"PMSR 2016 - Klub","SK",13,5262,6189,0.92,8309,7644,2016,null,null,"Std. Cirrus",99,null,"Není v databázi"]
["Milan Surovcik",null,null,null,"PMSR 2016 - Klub","SK",14,5085,6189,0.92,8055,7411,2016,null,null,"ASW 20","XXL",null,"Není v databázi"]
["Marcel Straka",null,null,null,"PMSR 2016 - Klub","SK",15,5027,6189,0.92,7936,7301,2016,null,null,"ASW 19","AI",null,"Není v databázi"]
["Milan Surovcik ml.",null,null,null,"PMSR 2016 - Klub","SK",16,4897,6189,0.92,7735,7116,2016,null,null,"Std. Cirrus","GL",null,"Není v databázi"]
["Milos Srank",null,null,null,"PMSR 2016 - Klub","SK",17,4888,6189,0.92,7671,7057,2016,null,null,"ASW 24 WL","CK",null,"Není v databázi"]
["Jan Hlinka",null,null,null,"PMSR 2016 - Klub","SK",18,4872,6189,0.92,7600,6992,2016,null,null,"Std. Cirrus","MC",null,"Není v databázi"]
["Jakub Dudas",null,null,null,"PMSR 2016 - Klub","SK",19,4819,6189,{"$f":"VLOOKUP(E981,Soutez,8,0)","v":0.92},7486,6887,2016,null,null,"ASW 15B","AP",null,"Není v databázi"]
["Peter Samaj ml.",null,null,null,"PMSR 2016 - Klub","SK",20,4817,6189,0.92,7430,6836,2016,null,null,"VSO-10",14,null,"Není v databázi"]
["Viktor Hnata",null,null,null,"PMSR 2016 - Klub","SK",21,4666,6189,0.92,7206,6630,2016,null,null,"Std. Cirrus","V1",null,"Není v databázi"]
["Marcel Straka",null,null,null,"PMSR 2016 - Klub","SK",22,4604,6189,0.92,7082,6515,2016,null,null,"ASW 15",54,null,"Není v databázi"]
["Jozef Sopirjak",null,null,null,"PMSR 2016 - Klub","SK",23,4443,6189,0.92,6847,6299,2016,null,null,"DG-101G ELAN","SX",null,"Není v databázi"]
["Martin Toman",null,null,null,"PMSR 2016 - Klub","SK",24,4415,6189,0.92,6761,6220,2016,null,null,"Std. Cirrus","MJ",null,"Není v databázi"]
["Necpal & Liska",null,null,null,"PMSR 2016 - Klub","SK",25,4330,6189,0.92,6612,6083,2016,null,null,"Centrair C-201B Marianne",7,null,"Není v databázi"]
["Jozef Zabka",null,null,null,"PMSR 2016 - Klub","SK",26,4267,6189,0.92,6487,5968,2016,null,null,"Cirrus","DZ",null,"Není v databázi"]
["Mikula & Hrncirik",null,null,null,"PMSR 2016 - Klub","SK",27,4251,6189,0.92,6415,5902,2016,null,null,"Janus CM FG","T",null,"Není v databázi"]
["Adam Kacvinsky",null,null,null,"PMSR 2016 - Klub","SK",28,4127,6189,0.92,6221,5723,2016,null,null,"VSO-10",19,null,"Není v databázi"]
["Jan Zubak",null,null,null,"PMSR 2016 - Klub","SK",29,4109,6189,0.92,6147,5655,2016,null,null,"VSO-10",82,null,"Není v databázi"]
["Simoncic & Cech",null,null,null,"PMSR 2016 - Klub","SK",30,4044,6189,0.92,6020,5538,2016,null,null,"Janus 18.2m","BA2",null,"Není v databázi"]
["Lubomir Beno",null,null,null,"PMSR 2016 - Klub","SK",31,3968,6189,0.92,5881,5411,2016,null,null,"VSO-10",46,null,"Není v databázi"]
["Belusko & Kazimir",null,null,null,"PMSR 2016 - Klub","SK",32,3805,6189,0.92,5643,5192,2016,null,null,"Centrair C-201B Marianne","AM",null,"Není v databázi"]
["Dusan Zubak",null,null,null,"PMSR 2016 - Klub","SK",33,3751,6189,0.92,5528,5086,2016,null,null,"VSO-10","M8",null,"Není v databázi"]
["Juraj Marcin",null,null,null,"PMSR 2016 - Klub","SK",34,3673,6189,0.92,5386,4955,2016,null,null,"VSO-10","M2",null,"Není v databázi"]
["Lubomir Vano",null,null,null,"PMSR 2016 - Klub","SK",35,3670,6189,0.92,5329,4903,2016,null,null,"Std. Cirrus","SZ",null,"Není v databázi"]
["Krak & Sisak",null,null,null,"PMSR 2016 - Klub","SK",36,3508,6189,0.92,5093,4686,2016,null,null,"G-103 Twin Astir dvoj","TAT",null,"Není v databázi"]
["Tibor Arpas",null,null,null,"PMSR 2016 - Klub","SK",37,3505,6189,0.92,5036,4633,2016,null,null,"LS-7WL","FK",null,"Není v databázi"]
["Daniel Kronek",null,null,null,"PMSR 2016 - Klub","SK",38,3494,6189,0.92,4970,4572,2016,null,null,"DG-300","DK",null,"Není v databázi"]
["Peter Klepac",null,null,null,"PMSR 2016 - Klub","SK",39,3466,6189,0.92,4884,4493,2016,null,null,"G-102 Astir cs",78,null,"Není v databázi"]
["Miroslav Mlynarik",null,null,null,"PMSR 2016 - Klub","SK",40,3390,6189,0.92,4745,4365,2016,null,null,"G-102 Astir cs 77","WW",null,"Není v databázi"]
["Marek Seman",null,null,null,"PMSR 2016 - Klub","SK",41,3377,6189,0.92,4677,4303,2016,null,null,"VSO-10",47,null,"Není v databázi"]
["Vlastislav Picka",{"$f":"VLOOKUP(A1004,Pilot,2,0)","v":1948},{"$f":"VLOOKUP(A1004,Pilot,3,0)","v":"Jindřichův Hradec"},{"$f":"VLOOKUP(A1004,Pilot,4,0)","v":"CZ/C1"},"PMSR 2016 - Klub","SK",42,3278,6189,0.92,4511,4150,2016,"x",null,"DG-200","KK",{"$f":"VLOOKUP(A1004,Pilot,5,0)","v":"M"},""]
["Anton Zelenaj",null,null,null,"PMSR 2016 - Klub","SK",43,3241,6189,0.92,4416,4063,2016,null,null,"ASW 15B","TZ",null,"Není v databázi"]
["Ľubomir Ziduliak",null,null,null,"PMSR 2016 - Klub","SK",44,3173,6189,0.92,4285,3942,2016,null,null,"VSO-10","M6",null,"Není v databázi"]
["Peter Gasparovic",null,null,null,"PMSR 2016 - Klub","SK",45,3105,6189,0.92,4155,3823,2016,null,null,"VSO-10","H6",null,"Není v databázi"]
["Oldrich Spaniel",null,null,null,"PMSR 2016 - Klub","SK","HC",3071,6189,0.92,null,null,2016,null,null,"ASW 15","BA4",null,"Není v databázi"]
["Bohuslav Vanik",null,null,null,"PMSR 2016 - Klub","SK",46,2761,6189,0.92,3712,3415,2016,null,null,"Std. Cirrus","LTN",null,"Není v databázi"]
["Richard Dvorsky",null,null,null,"PMSR 2016 - Klub","SK",47,2649,6189,0.92,3532,3249,2016,null,null,"Std. Cirrus","L4",null,"Není v databázi"]
["Antonia Sulirova",null,null,null,"PMSR 2016 - Klub","SK",48,2493,6189,0.92,3302,3038,2016,null,null,"ASW 15b","MB",null,"Není v databázi"]
["Ľudovit Homola",null,null,null,"PMSR 2016 - Klub","SK",49,2432,6189,0.92,3179,2925,2016,null,null,"VSO-10",87,null,"Není v databázi"]
["Marian Szabo",null,null,null,"PMSR 2016 - Klub","SK",50,2410,6189,0.92,3101,2853,2016,null,null,"VT-116 Orlik 2",84,null,"Není v databázi"]
["Frantisek Michalik",null,null,null,"PMSR 2016 - Klub","SK",51,1731,6189,0.92,2279,2097,2016,null,null,"DG-300","FM",null,"Není v databázi"]
["Jan Puk",null,null,null,"PMSR 2016 - Klub","SK",52,1693,6189,0.92,2183,2008,2016,null,null,"VSO-10","F4",null,"Není v databázi"]
["Petra Sovakova",null,null,null,"PMSR 2016 - Klub","SK",53,1586,6189,0.92,2008,1847,2016,null,null,"VSO-10","K9",null,"Není v databázi"]
["Miroslav Stempel",null,null,null,"PMSR 2016 - Klub","SK",54,1339,6189,0.92,1675,1541,2016,null,null,"VSO-10",10,null,"Není v databázi"]
["Samuel Posluch",null,null,null,"PMSR 2016 - Klub","SK",55,1277,6189,0.92,{"$f":"ROUND(H1018/I1018*10000*0.7+(MAX($G$963:$G$1020)-G1018)/(MAX($G$963:$G$1020)-1)*10000*0.3,0)","v":1551},1427,2016,null,null,"VSO-10","OSA",null,{"$f":"IF(ISERROR(VLOOKUP(A1018,Pilot,6,0)),\"Není v databázi\",VLOOKUP(A1018,Pilot,6,0))","v":"Není v databázi"}]
["Roman Kostelnik",null,null,null,"PMSR 2016 - Klub","SK",56,977,6189,0.92,{"$f":"ROUND(H1019/I1019*10000*0.7+(MAX($G$963:$G$1020)-G1019)/(MAX($G$963:$G$1020)-1)*10000*0.3,0)","v":1159},1066,2016,null,null,"Std. Cirrus","RK",null,"Není v databázi"]
["Tomas Laso",null,null,null,"PMSR 2016 - Klub","SK",57,512,6189,0.92,579,533,2016,null,null,"VSO-10","H7",null,"Není v databázi"]
["Roman Mracek",{"$f":"VLOOKUP(A1021,Pilot,2,0)","v":1980},{"$f":"VLOOKUP(A1021,Pilot,3,0)","v":"Letkov"},{"$f":"VLOOKUP(A1021,Pilot,4,0)","v":"CZ/C1"},"PMSR 2016 - Kombi","SK",1,7468,7468,0.92,{"$f":"ROUND(H1021/I1021*10000*0.7+(MAX($G$1021:$G$1040)-G1021)/(MAX($G$1021:$G$1040)-1)*10000*0.3,0)","v":10000},{"$f":"ROUND(J1021*K1021,0)","v":9200},2016,null,null,"ASW-22BLE","RX",{"$f":"VLOOKUP(A1021,Pilot,5,0)","v":"M"},""]
["Lubor Kuvik",null,null,null,"PMSR 2016 - Kombi","SK",2,6944,7468,0.92,{"$f":"ROUND(H1022/I1022*10000*0.7+(MAX($G$1021:$G$1040)-G1022)/(MAX($G$1021:$G$1040)-1)*10000*0.3,0)","v":9351},{"$f":"ROUND(J1022*K1022,0)","v":8603},2016,null,null,"ASG-29E","LK",null,"Není v databázi"]
["Petr Setka",{"$f":"VLOOKUP(A1023,Pilot,2,0)","v":1971},{"$f":"VLOOKUP(A1023,Pilot,3,0)","v":"Letkov"},{"$f":"VLOOKUP(A1023,Pilot,4,0)","v":"CZ/C1"},"PMSR 2016 - Kombi","SK",3,6797,7468,0.92,9055,8331,2016,"x",null,"Ventus 2cxm","RS",{"$f":"VLOOKUP(A1023,Pilot,5,0)","v":"M"},""]
["Jesensky & Kovalcik",null,null,null,"PMSR 2016 - Kombi","SK",4,6760,7468,0.92,8863,8154,2016,null,null,"Duo Discus","SGC",null,"Není v databázi"]
["Viliam Kubovcik",null,null,null,"PMSR 2016 - Kombi","SK",5,6445,7468,0.92,8410,7737,2016,null,null,"Ventus 2cxt","W",null,"Není v databázi"]
["Maros Divok",null,null,null,"PMSR 2016 - Kombi","SK",6,6311,7468,0.92,8126,7476,2016,null,null,"Ventus 2bx","VI",null,"Není v databázi"]
["Martin Fürjes",null,null,null,"PMSR 2016 - Kombi","SK",7,5920,7468,0.92,7602,6994,2016,null,null,"ASG-29/18","AY",null,"Není v databázi"]
["Dominik Jancik",null,null,null,"PMSR 2016 - Kombi","SK",8,5902,7468,0.92,7427,6833,2016,null,null,"LS-8s /15m","SI",null,"Není v databázi"]
["Karol Benedikovic",null,null,null,"PMSR 2016 - Kombi","SK",9,5568,7468,0.92,6956,6400,2016,null,null,"Discus 2b","DI",null,"Není v databázi"]
["Jan Kromka",null,null,null,"PMSR 2016 - Kombi","SK",10,5419,7468,0.92,6658,6125,2016,null,null,"Discus 2cxt 18m","BJ",null,"Není v databázi"]
["Milos Tapusik",null,null,null,"PMSR 2016 - Kombi","SK",11,5417,7468,0.92,6499,5979,2016,null,null,"LS-6a","GI",null,"Není v databázi"]
["Jakubcak & Sitar",null,null,null,"PMSR 2016 - Kombi","SK",12,5340,7468,0.92,6269,5767,2016,null,null,"Duo Discus","LM",null,"Není v databázi"]
["Jan Divok",null,null,null,"PMSR 2016 - Kombi","SK",13,5194,7468,0.92,5974,5496,2016,null,null,"Ventus c /17,6m","D3",null,"Není v databázi"]
["Peter Janoska",null,null,null,"PMSR 2016 - Kombi","SK",14,4982,7468,0.92,5617,5168,2016,null,null,"LS-6c /17,5m","N6",null,"Není v databázi"]
["Radoslav Cagala",null,null,null,"PMSR 2016 - Kombi","SK",15,4794,7468,0.92,5283,4860,2016,null,null,"DG-808C/18m+w",808,null,"Není v databázi"]
["Hupka & Bukovinsky",null,null,null,"PMSR 2016 - Kombi","SK",16,3711,7468,0.92,{"$f":"ROUND(H1036/I1036*10000*0.7+(MAX($G$1021:$G$1040)-G1036)/(MAX($G$1021:$G$1040)-1)*10000*0.3,0)","v":4110},3781,2016,null,null,"DG-1000t","NIT",null,"Není v databázi"]
["Benedikt Laho",null,null,null,"PMSR 2016 - Kombi","SK",17,3639,7468,0.92,3885,3574,2016,null,null,"Discus 2ct 18m","JH",null,"Není v databázi"]
["Vladimir Spilka",{"$f":"VLOOKUP(A1038,Pilot,2,0)","v":1940},{"$f":"VLOOKUP(A1038,Pilot,3,0)","v":"Hranice"},{"$f":"VLOOKUP(A1038,Pilot,4,0)","v":"CZ/M"},"PMSR 2016 - Kombi","SK",18,3183,7468,0.92,3299,3035,2016,"x",null,"Nimbus 2b","AYI",{"$f":"VLOOKUP(A1038,Pilot,5,0)","v":"M"},""]
["Vojtech Matula",null,null,null,"PMSR 2016 - Kombi","SK",19,2441,7468,0.92,2446,2250,2016,null,null,"Nimbus 2","GD",null,"Není v databázi"]
["Samuel Pollak",null,null,null,"PMSR 2016 - Kombi","SK",20,302,7468,0.92,283,260,2016,null,null,"LS-8tc /15m","TC",null,"Není v databázi"]
["Milan Svoboda 34",{"$f":"VLOOKUP(A1041,Pilot,2,0)","v":1934},{"$f":"VLOOKUP(A1041,Pilot,3,0)","v":"Letkov"},{"$f":"VLOOKUP(A1041,Pilot,4,0)","v":"CZ/C1"},"Oldtimer Pribina Star 2016 - Kombi","SK",1,917,917,0.6,{"$f":"ROUND(H1041/I1041*10000*0.7+(MAX($G$1041:$G$1055)-G1041)/(MAX($G$1041:$G$1055)-1)*10000*0.3,0)","v":10000},{"$f":"ROUND(J1041*K1041,0)","v":6000},2016,"x",null,"Phoebus A1","VI",{"$f":"VLOOKUP(A1041,Pilot,5,0)","v":"M"},""]
["Igor ILLE",null,null,null,"Oldtimer Pribina Star 2016 - Kombi","SK",2,851,917,0.6,{"$f":"ROUND(H1042/I1042*10000*0.7+(MAX($G$1041:$G$1055)-G1042)/(MAX($G$1041:$G$1055)-1)*10000*0.3,0)","v":9282},{"$f":"ROUND(J1042*K1042,0)","v":5569},2016,null,null,"VSO-10","K6",null,"Není v databázi"]
["Marian Szabo",null,"Air Sympatia Trenčín",null,"Oldtimer Pribina Star 2016 - Kombi","SK",3,707,917,0.6,7968,4781,2016,null,null,"VT-116 Orlík II",84,null,"Není v databázi"]
["Jaroslav Kares",{"$f":"VLOOKUP(A1044,Pilot,2,0)","v":1962},{"$f":"VLOOKUP(A1044,Pilot,3,0)","v":"Olomouc"},{"$f":"VLOOKUP(A1044,Pilot,4,0)","v":"CZ/M"},"Oldtimer Pribina Star 2016 - Kombi","SK",4,678,917,0.6,7533,4520,2016,"x",null,"Scheibe SF-27A",26,{"$f":"VLOOKUP(A1044,Pilot,5,0)","v":"M"},""]
["Liptai & Hupka",null,"MÁV",null,"Oldtimer Pribina Star 2016 - Kombi","SK",5,495,917,{"$f":"VLOOKUP(E1045,Soutez,8,0)","v":0.6},5921,3553,2016,null,null,"DG 1000/20m","NIT",null,"Není v databázi"]
["Lajda & Lajdova",null,"Nitra",null,"Oldtimer Pribina Star 2016 - Kombi","SK",6,464,917,0.6,5471,3283,2016,null,null,"L 13 Blanik",27,null,"Není v databázi"]
["Josef Mezera",{"$f":"VLOOKUP(A1047,Pilot,2,0)","v":1951},{"$f":"VLOOKUP(A1047,Pilot,3,0)","v":"Raná"},{"$f":"VLOOKUP(A1047,Pilot,4,0)","v":"CZ/C2"},"Oldtimer Pribina Star 2016 - Kombi","SK",7,266,917,0.6,3745,2247,2016,"x",null,"Ka-6 CR","YZ",{"$f":"VLOOKUP(A1047,Pilot,5,0)","v":"M"},""]
["Ulf Kern",{"$f":"VLOOKUP(A1048,Pilot,2,0)","v":1958},{"$f":"VLOOKUP(A1048,Pilot,3,0)","v":"Raná"},{"$f":"VLOOKUP(A1048,Pilot,4,0)","v":"CZ/C2"},"Oldtimer Pribina Star 2016 - Kombi","SK",8,240,917,0.6,3332,1999,2016,"x",null,"LAK 17/15m","A4",{"$f":"VLOOKUP(A1048,Pilot,5,0)","v":"M"},""]
["MIROSŁAW LEWANDOWSKI",null,"AZP PIŁA / VINTAGE GLIDING CLUB",null,"Oldtimer Pribina Star 2016 - Kombi","SK",9,239,917,0.6,3110,1866,2016,null,null,"Foka",24,null,"Není v databázi"]
["Laszlo Revy",null,"MÁV",null,"Oldtimer Pribina Star 2016 - Kombi","SK",10,125,917,0.6,2026,1216,2016,null,null,"R-11 Cimbora",50,null,"Není v databázi"]
["Jan Ulicny",null,"Poprad",null,"Oldtimer Pribina Star 2016 - Kombi","SK",11,105,917,0.6,1659,995,2016,null,null,"Pionyr LF 109",22,null,"Není v databázi"]
["Jozef Bukovinsky",null,null,null,"Oldtimer Pribina Star 2016 - Kombi","SK",12,95,917,0.6,1368,821,2016,null,null,"L 23 Super Blanik",92,null,"Není v databázi"]
["Peter Hupka",null,null,null,"Oldtimer Pribina Star 2016 - Kombi","SK",13,88,917,0.6,1100,660,2016,null,null,"VSO-10",80,null,"Není v databázi"]
["Igor Ott",null,"Nitra",null,"Oldtimer Pribina Star 2016 - Kombi","SK",14,82,917,0.6,840,504,2016,null,null,"LG-425 Sohaj","N",null,"Není v databázi"]
["Jozef Ott",null,"Nitra",null,"Oldtimer Pribina Star 2016 - Kombi","SK",15,0,917,0.6,{"$f":"ROUND(H1055/I1055*10000*0.7+(MAX($G$1041:$G$1055)-G1055)/(MAX($G$1041:$G$1055)-1)*10000*0.3,0)","v":0},0,2016,null,null,"Z-23 Honza",56,null,"Není v databázi"]
["Sebastian Kawa",null,"POL",null,"SGP 2016 RU - Klub GP","RU",1,45,null,0.95000000000000007,{"$f":"ROUND((MAX($G$1056:$G$1075)-G1056)/(MAX($G$1056:$G$1075)-1)*10000,0)","v":10000},{"$f":"ROUND(J1056*K1056,0)","v":9500},2016,null,null,"Jantar Std 3","VP",null,"Není v databázi"]
["Vladas Motuza",null,"LTU",null,"SGP 2016 RU - Klub GP","RU",2,31,null,0.95000000000000007,{"$f":"ROUND((MAX($G$1056:$G$1075)-G1057)/(MAX($G$1056:$G$1075)-1)*10000,0)","v":9474},{"$f":"ROUND(J1057*K1057,0)","v":9000},2016,null,null,"Jantar Std 2","VM",null,"Není v databázi"]
["Petr Krejcirik",{"$f":"VLOOKUP(A1058,Pilot,2,0)","v":1960},{"$f":"VLOOKUP(A1058,Pilot,3,0)","v":"Hranice"},{"$f":"VLOOKUP(A1058,Pilot,4,0)","v":"CZ/M"},"SGP 2016 RU - Klub GP","RU",3,28,null,0.95000000000000007,8947,8500,2016,null,null,"Jantar Std 3","CP",{"$f":"VLOOKUP(A1058,Pilot,5,0)","v":"M"},""]
["Marek Niewiadomy",null,"POL",null,"SGP 2016 RU - Klub GP","RU",4,25,null,0.95000000000000007,8421,8000,2016,null,null,"Jantar Std 2",47,null,"Není v databázi"]
["Jakub Puławski",null,"POL",null,"SGP 2016 RU - Klub GP","RU",5,24,null,0.95000000000000007,7895,7500,2016,null,null,"Jantar Std 2","I",null,"Není v databázi"]
["Sergey Klyuev",null,"RUS",null,"SGP 2016 RU - Klub GP","RU",6,19,null,0.95000000000000007,7368,7000,2016,null,null,"Jantar Std 3","SK",null,"Není v databázi"]
["Evgeny Zlobin",null,"RUS",null,"SGP 2016 RU - Klub GP","RU",7,18,null,0.95000000000000007,6842,6500,2016,null,null,"Jantar Std 2",33,null,"Není v databázi"]
["Vasiliy Erofeev",null,"RUS",null,"SGP 2016 RU - Klub GP","RU",8,17,null,0.95000000000000007,6316,6000,2016,null,null,"Jantar Std 3",85,null,"Není v databázi"]
["Sergei Serov",null,"RUS",null,"SGP 2016 RU - Klub GP","RU",9,14,null,0.95000000000000007,5789,5500,2016,null,null,"Jantar Std 3","AS",null,"Není v databázi"]
["Anton Minskiy",null,"RUS",null,"SGP 2016 RU - Klub GP","RU",10,11,null,0.95000000000000007,5263,5000,2016,null,null,"Jantar Std 3","AK",null,"Není v databázi"]
["Dmitriy Timoshenko",null,"RUS",null,"SGP 2016 RU - Klub GP","RU",11,11,null,0.95000000000000007,4737,4500,2016,null,null,"Jantar Std 2",80,null,"Není v databázi"]
["Iakov Shrage",null,"RUS",null,"SGP 2016 RU - Klub GP","RU",12,9,null,0.95000000000000007,4211,4000,2016,null,null,"Jantar Std 3","V",null,"Není v databázi"]
["Alexander Kaplunov",null,"RUS",null,"SGP 2016 RU - Klub GP","RU",13,9,null,0.95000000000000007,3684,3500,2016,null,null,"Jantar Std 3",83,null,"Není v databázi"]
["Vitaliy Borovik",null,"RUS",null,"SGP 2016 RU - Klub GP","RU",14,7,null,0.95000000000000007,3158,3000,2016,null,null,"Jantar Std 3","VK",null,"Není v databázi"]
["Vladimir Fedorov",null,"RUS",null,"SGP 2016 RU - Klub GP","RU",15,4,null,0.95000000000000007,2632,2500,2016,null,null,"Jantar std","VF",null,"Není v databázi"]
["Tomas Kuzmickas",null,"LTU",null,"SGP 2016 RU - Klub GP","RU",16,4,null,0.95000000000000007,2105,2000,2016,null,null,"Jantar Std 2",14,null,"Není v databázi"]
["Alexey Shkredov",null,"RUS",null,"SGP 2016 RU - Klub GP","RU",17,3,null,0.95000000000000007,1579,1500,2016,null,null,"Jantar Std 3","V7",null,"Není v databázi"]
["Viacheslav Chekhov",null,"RUS",null,"SGP 2016 RU - Klub GP","RU",18,0,null,0.95000000000000007,{"$f":"ROUND((MAX($G$1056:$G$1075)-G1073)/(MAX($G$1056:$G$1075)-1)*10000,0)","v":1053},1000,2016,null,null,"Jantar std","VC",null,"Není v databázi"]
["Larissa Khamitova",null,"RUS",null,"SGP 2016 RU - Klub GP","RU",19,0,null,0.95000000000000007,526,500,2016,null,null,"Jantar Std 3",32,null,"Není v databázi"]
["Vitaliy Bystrov",null,"RUS",null,"SGP 2016 RU - Klub GP","RU",20,0,null,0.95000000000000007,{"$f":"ROUND((MAX($G$1056:$G$1075)-G1075)/(MAX($G$1056:$G$1075)-1)*10000,0)","v":0},0,2016,null,null,"Jantar Std 3","PV",null,"Není v databázi"]
["Matthias Sturm",null,"GER",null,"SGP 2016 DE - 18m GP","DE",1,50,null,0.93500000000000005,{"$f":"ROUND((MAX($G$1076:$G$1094)-G1076)/(MAX($G$1076:$G$1094)-1)*10000,0)","v":10000},{"$f":"ROUND(J1076*K1076,0)","v":9350},2016,null,null,"ASG-29 18m","M7",null,"Není v databázi"]
["Holger Karow",null,"GER",null,"SGP 2016 DE - 18m GP","DE",2,49,null,0.93500000000000005,{"$f":"ROUND((MAX($G$1076:$G$1094)-G1077)/(MAX($G$1076:$G$1094)-1)*10000,0)","v":9444},{"$f":"ROUND(J1077*K1077,0)","v":8830},2016,null,null,"JS-1 18m","OT",null,"Není v databázi"]
["Mario Kiessling",null,"GER",null,"SGP 2016 DE - 18m GP","DE",3,39,null,0.93500000000000005,8889,8311,2016,null,null,"Ventus 3T","I",null,"Není v databázi"]
["Petr Svoboda",{"$f":"VLOOKUP(A1079,Pilot,2,0)","v":1988},{"$f":"VLOOKUP(A1079,Pilot,3,0)","v":"Letkov"},{"$f":"VLOOKUP(A1079,Pilot,4,0)","v":"CZ/C1"},"SGP 2016 DE - 18m GP","DE",4,28,null,0.93500000000000005,8333,7791,2016,"x",null,"ASG-29 18m","QZ",{"$f":"VLOOKUP(A1079,Pilot,5,0)","v":"M"},""]
["Roman Mracek",{"$f":"VLOOKUP(A1080,Pilot,2,0)","v":1980},{"$f":"VLOOKUP(A1080,Pilot,3,0)","v":"Letkov"},{"$f":"VLOOKUP(A1080,Pilot,4,0)","v":"CZ/C1"},"SGP 2016 DE - 18m GP","DE",5,27,null,0.93500000000000005,7778,7272,2016,null,null,"ASG 29E","QX",{"$f":"VLOOKUP(A1080,Pilot,5,0)","v":"M"},""]
["Laurens Goudriaan",null,"RSA",null,"SGP 2016 DE - 18m GP","DE",6,21,null,0.93500000000000005,7222,6753,2016,null,null,"JS-1 18m","EVO",null,"Není v databázi"]
["Maurits Dortu",null,"NDL",null,"SGP 2016 DE - 18m GP","DE",7,17,null,0.93500000000000005,6667,6234,2016,null,null,"ASG-29E 18m","GPS",null,{"$f":"IF(ISERROR(VLOOKUP(A1082,Pilot,6,0)),\"Není v databázi\",VLOOKUP(A1082,Pilot,6,0))","v":"Není v databázi"}]
["Tobias Meiler,",null,"GER",null,"SGP 2016 DE - 18m GP","DE",8,14,null,0.93500000000000005,6111,5714,2016,null,null,"ASG-29E 18m","AT",null,"Není v databázi"]
["Rolf Gertzmann",null,"GER",null,"SGP 2016 DE - 18m GP","DE",9,6,null,0.93500000000000005,5556,5195,2016,null,null,"ASG-29E 18m","OG",null,"Není v databázi"]
["Tomasz Chudoment",null,"POL",null,"SGP 2016 DE - 18m GP","DE",10,6,null,0.93500000000000005,5000,4675,2016,null,null,"JS-1 18m","B52",null,"Není v databázi"]
["Philippe de Pechy",null,"FRA",null,"SGP 2016 DE - 18m GP","DE",11,4,null,0.93500000000000005,4444,4155,2016,null,null,"ASG-29E 18m","CT",null,"Není v databázi"]
["Marc Lehnen",null,"GER",null,"SGP 2016 DE - 18m GP","DE",12,4,null,0.93500000000000005,3889,3636,2016,null,null,"ASH-31 Mi 18m","S2",null,"Není v databázi"]
["Michael Paul",null,"GER",null,"SGP 2016 DE - 18m GP","DE",13,4,null,0.93500000000000005,{"$f":"ROUND((MAX($G$1076:$G$1094)-G1088)/(MAX($G$1076:$G$1094)-1)*10000,0)","v":3333},3116,2016,null,null,"ASH-31 Mi 18m","PE",null,"Není v databázi"]
["Michael Schlaich",null,"GER",null,"SGP 2016 DE - 18m GP","DE",14,2,null,0.93500000000000005,2778,2597,2016,null,null,"Ventus 2cT 18m","VM",null,"Není v databázi"]
["Norbert Sommer",null,"GER",null,"SGP 2016 DE - 18m GP","DE",15,2,null,0.93500000000000005,2222,2078,2016,null,null,"Ventus 2cT 18m","7L",null,"Není v databázi"]
["Peter Cutting",null,"SWE",null,"SGP 2016 DE - 18m GP","DE",16,2,null,0.93500000000000005,1667,1559,2016,null,null,"ASG-29E 18m","VZ",null,"Není v databázi"]
["Dirk Windmüller,",null,"GER",null,"SGP 2016 DE - 18m GP","DE",17,2,null,0.93500000000000005,1111,1039,2016,null,null,"ASG-29E 18m","WIN",null,"Není v databázi"]
["Freddy Barthelemy",null,"FRA",null,"SGP 2016 DE - 18m GP","DE",18,0,null,0.93500000000000005,556,520,2016,null,null,"ASW-27",900,null,"Není v databázi"]
["Juergen Wenzel",null,"GER",null,"SGP 2016 DE - 18m GP","DE",19,0,null,0.93500000000000005,{"$f":"ROUND((MAX($G$1076:$G$1094)-G1094)/(MAX($G$1076:$G$1094)-1)*10000,0)","v":0},0,2016,null,null,"Antares 18T",37,null,"Není v databázi"]
["Sebastian Kawa",null,"POL",null,"34. WGC 2016 - 15m","AU",1,5417,5417,1.095,{"$f":"ROUND(H1095/I1095*10000*0.7+(MAX($G$1095:$G$1131)-G1095)/(MAX($G$1095:$G$1131)-1)*10000*0.3,0)","v":10000},{"$f":"ROUND(J1095*K1095,0)","v":10950},2016,null,null,"Diana 2","BB",null,"Není v databázi"]
["Makoto Ichikawa",null,"JPN",null,"34. WGC 2016 - 15m","AU",2,5281,5417,1.095,{"$f":"ROUND(H1096/I1096*10000*0.7+(MAX($G$1095:$G$1131)-G1096)/(MAX($G$1095:$G$1131)-1)*10000*0.3,0)","v":9741},{"$f":"ROUND(J1096*K1096,0)","v":10666},2016,null,null,"Ventus 2a","G1",null,"Není v databázi"]
["Lukasz Grabowski",null,"POL",null,"34. WGC 2016 - 15m","AU",3,5222,5417,1.095,9581,10491,2016,null,null,"Diana 2","RP",null,"Není v databázi"]
["Louis Bouderlique",null,"FRA",null,"34. WGC 2016 - 15m","AU",4,5213,5417,1.095,9486,10387,2016,null,null,"ASG29","FB",null,"Není v databázi"]
["Andre-Emmanuel Litt",null,"BEL",null,"34. WGC 2016 - 15m","AU",5,5159,5417,1.095,9333,10220,2016,null,null,"Ventus 2bx","MM",null,"Není v databázi"]
["Derren Francis",null,"GBR",null,"34. WGC 2016 - 15m","AU",6,4961,5417,1.095,8994,9848,2016,null,null,"Ventus 2a","Y",null,"Není v databázi"]
["Guillaume Girard",null,"FRA",null,"34. WGC 2016 - 15m","AU",7,4956,5417,1.095,8904,9750,2016,null,null,"Ventus 2ax","EQ",null,"Není v databázi"]
["Stefano Ghiorzo",null,"ITA",null,"34. WGC 2016 - 15m","AU",8,4944,5417,1.095,8805,9641,2016,null,null,"SZD-56-2 Diana","VS",null,"Není v databázi"]
["Anne Ducarouge",null,"FRA",null,"34. WGC 2016 - 15m","AU",9,4849,5417,1.095,8599,9416,2016,null,null,"ASG29","EW",null,"Není v databázi"]
["Dmitriy Timoshenko",null,"RUS",null,"34. WGC 2016 - 15m","AU",10,4838,5417,1.095,8502,9310,2016,null,null,"Ventus 2cx/15m","TD",null,"Není v databázi"]
["Uys Jonker",null,"ZAF",null,"34. WGC 2016 - 15m","AU",11,4829,5417,1.095,8407,9206,2016,null,null,"JS3 Rapture","UJ",null,"Není v databázi"]
["Attie Jonker",null,"ZAF",null,"34. WGC 2016 - 15m","AU",12,4783,5417,1.095,8264,9049,2016,null,null,"JS3 Rapture","AJ",null,"Není v databázi"]
["Hannu Halonen",null,"FIN",null,"34. WGC 2016 - 15m","AU",13,4712,5417,1.095,8089,8857,2016,null,null,"Ventus 2cxa","AL",null,"Není v databázi"]
["Gintas Zube",null,"LTU",null,"34. WGC 2016 - 15m","AU",14,4699,5417,1.095,7989,8748,2016,null,null,"Ventus 2ax","XY",null,"Není v databázi"]
["Zoltan Kore",null,"HUN",null,"34. WGC 2016 - 15m","AU",15,4681,5417,{"$f":"VLOOKUP(E1109,Soutez,8,0)","v":1.095},7882,8631,2016,null,null,"Ventus 2ax","5A",null,"Není v databázi"]
["Matthew Scutter",null,"AUS",null,"34. WGC 2016 - 15m","AU",16,4647,5417,1.095,7755,8492,2016,null,null,"Ventus 2ax","LE",null,"Není v databázi"]
["Thomas Gostner",null,"ITA",null,"34. WGC 2016 - 15m","AU",17,4545,5417,1.095,7540,8256,2016,null,null,"Ventus ax","GT",null,"Není v databázi"]
["Steve Wallace",null,"NZL",null,"34. WGC 2016 - 15m","AU",18,4446,5417,1.095,7329,8025,2016,null,null,"Ventus 2ax",67,null,"Není v databázi"]
["Ondrej Bordovsky",{"$f":"VLOOKUP(A1113,Pilot,2,0)","v":1983},{"$f":"VLOOKUP(A1113,Pilot,3,0)","v":"Krnov"},{"$f":"VLOOKUP(A1113,Pilot,4,0)","v":"CZ/M"},"34. WGC 2016 - 15m","AU",19,4400,5417,1.095,7186,7869,2016,null,null,"Ventus 2bx","YA",{"$f":"VLOOKUP(A1113,Pilot,5,0)","v":"M"},""]
["Radek Krejcirik",{"$f":"VLOOKUP(A1114,Pilot,2,0)","v":1991},{"$f":"VLOOKUP(A1114,Pilot,3,0)","v":"Hranice"},{"$f":"VLOOKUP(A1114,Pilot,4,0)","v":"CZ/M"},"34. WGC 2016 - 15m","AU",20,4339,5417,1.095,7024,7691,2016,null,null,"Ventus 2ax","AX",{"$f":"VLOOKUP(A1114,Pilot,5,0)","v":"M"},""]
["Fridolin Hauser",null,"CHE",null,"34. WGC 2016 - 15m","AU",21,4337,5417,1.095,6938,7597,2016,null,null,"ASW27","CH",null,"Není v databázi"]
["Sean Murphy",null,"USA",null,"34. WGC 2016 - 15m","AU",22,4238,5417,1.095,6726,7365,2016,null,null,"Ventus 2b","XC",null,"Není v databázi"]
["Erik Nelson",null,"USA",null,"34. WGC 2016 - 15m","AU",23,4237,5417,1.095,6642,7273,2016,null,null,"Ventus 2ax","5E",null,"Není v databázi"]
["Sergei Morozov",null,"CAN",null,"34. WGC 2016 - 15m","AU",24,4201,5417,1.095,6512,7131,2016,null,null,"ASG29","MS",null,"Není v databázi"]
["Christoph Matkowski",null,"POL",null,"34. WGC 2016 - 15m","AU",25,4005,5417,1.095,6175,6762,2016,null,null,"ASW27","JH",null,"Není v databázi"]
["Alfred Paul Alfers",null,"NED",null,"34. WGC 2016 - 15m","AU",26,3990,5417,1.095,6073,6650,2016,null,null,"ASG29E","AA",null,"Není v databázi"]
["Ronald Termaat",null,"NED",null,"34. WGC 2016 - 15m","AU",27,3974,5417,1.095,5969,6536,2016,null,null,"ASW27","JT",null,"Není v databázi"]
["Werner Amann",null,"AUT",null,"34. WGC 2016 - 15m","AU",28,3924,5417,1.095,5821,6374,2016,null,null,"ASG29","WG",null,"Není v databázi"]
["Alan Belworthy",null,"NZL",null,"34. WGC 2016 - 15m","AU",29,3897,5417,1.095,5702,6244,2016,null,null,"ASW27b",47,null,"Není v databázi"]
["Linas Miezlaiskis",null,"LTU",null,"34. WGC 2016 - 15m","AU",30,3881,5417,1.095,5598,6130,2016,null,null,"Ventus a","LM",null,"Není v databázi"]
["Thomas Wettermann",null,"DEU",null,"34. WGC 2016 - 15m","AU",31,3736,5417,1.095,5328,5834,2016,null,null,"Ventus 2a",19,null,"Není v databázi"]
["Ed Johnston",null,"GBR",null,"34. WGC 2016 - 15m","AU",32,3727,5417,1.095,5233,5730,2016,null,null,"ASG29","G9",null,"Není v databázi"]
["Luke Szczepaniak",null,"CAN",null,"34. WGC 2016 - 15m","AU",33,3659,5417,1.095,5062,5543,2016,null,null,"ASW27b","2W",null,"Není v databázi"]
["Timo Nurminen",null,"FIN",null,"34. WGC 2016 - 15m","AU",34,3338,5417,1.095,4563,4996,2016,null,null,"Ventus 2b","NX",null,"Není v databázi"]
["Lars Rune Bjornevik",null,"NOR",null,"34. WGC 2016 - 15m","AU",35,2421,5417,1.095,3295,3608,2016,null,null,"Ventus 2ct/15m","SS",null,"Není v databázi"]
["Michael Eisele",null,"DEU",null,"34. WGC 2016 - 15m","AU",36,1136,5417,1.095,{"$f":"ROUND(H1130/I1130*10000*0.7+(MAX($G$1095:$G$1131)-G1130)/(MAX($G$1095:$G$1131)-1)*10000*0.3,0)","v":1551},1698,2016,null,null,"Ventus 2ax","DE",null,"Není v databázi"]
["Stephen O'Donnell",null,"AUS",null,"34. WGC 2016 - 15m","AU",37,1126,5417,1.095,1455,1593,2016,null,null,"Ventus 2cxt/15","O1",null,"Není v databázi"]
["Killian Walbrou",null,"FRA",null,"34. WGC 2016 - 18m","AU",1,6607,6607,1.105,{"$f":"ROUND(H1132/I1132*10000*0.7+(MAX($G$1132:$G$1174)-G1132)/(MAX($G$1132:$G$1174)-1)*10000*0.3,0)","v":10000},{"$f":"ROUND(J1132*K1132,0)","v":11050},2016,null,null,"JS1","FA",null,"Není v databázi"]
["Mario Kiessling",null,"DEU",null,"34. WGC 2016 - 18m","AU",2,6514,6607,1.105,{"$f":"ROUND(H1133/I1133*10000*0.7+(MAX($G$1132:$G$1174)-G1133)/(MAX($G$1132:$G$1174)-1)*10000*0.3,0)","v":9830},{"$f":"ROUND(J1133*K1133,0)","v":10862},2016,null,null,"Ventus 3T","I",null,"Není v databázi"]
["Mike Young",null,"GBR",null,"34. WGC 2016 - 18m","AU",3,6480,6607,1.105,9723,10744,2016,null,null,"ASG29E",57,null,"Není v databázi"]
["Matthias Sturm",null,"DEU",null,"34. WGC 2016 - 18m","AU",4,6443,6607,1.105,9612,10621,2016,null,null,"ASG29","M7",null,"Není v databázi"]
["Borje Eriksson",null,"SWE",null,"34. WGC 2016 - 18m","AU",5,6434,6607,1.105,9531,10532,2016,null,null,"Ventus 3T","7X",null,"Není v databázi"]
["Wolfgang Janowitsch",null,"AUT",null,"34. WGC 2016 - 18m","AU",6,6411,6607,1.105,9435,10426,2016,null,null,"Ventus 3T","WO",null,"Není v databázi"]
["Steve Jones",null,"GBR",null,"34. WGC 2016 - 18m","AU",7,6403,6607,1.105,9355,10337,2016,null,null,"Ventus 3T",110,null,"Není v databázi"]
["Peter Temple",null,"AUS",null,"34. WGC 2016 - 18m","AU",8,6300,6607,1.105,9175,10138,2016,null,null,"ASG29","PT",null,"Není v databázi"]
["Arne Boye-Moller",null,"DNK",null,"34. WGC 2016 - 18m","AU",9,6265,6607,1.105,9066,10018,2016,null,null,"JS1b","B1",null,"Není v databázi"]
["Erkki Heinonen",null,"FIN",null,"34. WGC 2016 - 18m","AU",10,6234,6607,1.105,8962,9903,2016,null,null,"ASG29E","HE",null,"Není v databázi"]
["Andreas Lutz",null,"AUT",null,"34. WGC 2016 - 18m","AU",11,6217,6607,1.105,8873,9805,2016,null,null,"Ventus 3","3V",null,"Není v databázi"]
["Eric Bernard",null,"FRA",null,"34. WGC 2016 - 18m","AU",12,6177,6607,1.105,8759,9679,2016,null,null,"ASG29","DW",null,"Není v databázi"]
["Markus Ganev",null,"SWE",null,"34. WGC 2016 - 18m","AU",13,6160,6607,1.105,8669,9579,2016,null,null,"ASG29E","2T",null,"Není v databázi"]
["Jerzy Szemplinski",null,"CAN",null,"34. WGC 2016 - 18m","AU",14,6116,6607,1.105,8551,9449,2016,null,null,"ASG29","XG",null,"Není v databázi"]
["Rolf Friedli",null,"CHE",null,"34. WGC 2016 - 18m","AU",15,6105,6607,1.105,8468,9357,2016,null,null,"ASG29","F",null,{"$f":"IF(ISERROR(VLOOKUP(A1146,Pilot,6,0)),\"Není v databázi\",VLOOKUP(A1146,Pilot,6,0))","v":"Není v databázi"}]
["Dave Springford",null,"CAN",null,"34. WGC 2016 - 18m","AU",16,6103,6607,1.105,8395,9276,2016,null,null,"ASG29E","4D",null,"Není v databázi"]
["Maurits Dortu",null,"NED",null,"34. WGC 2016 - 18m","AU",17,6061,6607,1.105,8279,9148,2016,null,null,"ASG29Es","GPS",null,"Není v databázi"]
["Tomasz Krok",null,"POL",null,"34. WGC 2016 - 18m","AU",18,6026,6607,1.105,8170,9028,2016,null,null,"ASG29","PL",null,"Není v databázi"]
["Roman Mracek",{"$f":"VLOOKUP(A1150,Pilot,2,0)","v":1980},{"$f":"VLOOKUP(A1150,Pilot,3,0)","v":"Letkov"},{"$f":"VLOOKUP(A1150,Pilot,4,0)","v":"CZ/C1"},"34. WGC 2016 - 18m","AU",19,5941,6607,1.105,8009,8850,2016,null,null,"ASG29","QX",{"$f":"VLOOKUP(A1150,Pilot,5,0)","v":"M"},""]
["Marcus Nouwens",null,"ZAF",null,"34. WGC 2016 - 18m","AU",20,5940,6607,1.105,7936,8769,2016,null,null,"JS1b TJ","EVO",null,"Není v databázi"]
["Tom Claffey",null,"AUS",null,"34. WGC 2016 - 18m","AU",20,5940,6607,1.105,7936,8769,2016,null,null,"ASG29","T1",null,"Není v databázi"]
["Pawel Wojciechowski",null,"POL",null,"34. WGC 2016 - 18m","AU",22,5902,6607,1.105,7753,8567,2016,null,null,"JS1b-EVO","F1",null,"Není v databázi"]
["Sean Fidler",null,"USA",null,"34. WGC 2016 - 18m","AU",23,5723,6607,1.105,7492,8279,2016,null,null,"ASG29","7T",null,"Není v databázi"]
["Francois Delfosse",null,"BEL",null,"34. WGC 2016 - 18m","AU",24,5714,6607,1.105,7411,8189,2016,null,null,"ASG29E",70,null,"Není v databázi"]
["Steven Raimond",null,"NED",null,"34. WGC 2016 - 18m","AU",25,5693,6607,1.105,7317,8085,2016,null,null,"ASG29E","TF",null,"Není v databázi"]
["Petr Svoboda",{"$f":"VLOOKUP(A1157,Pilot,2,0)","v":1988},{"$f":"VLOOKUP(A1157,Pilot,3,0)","v":"Letkov"},{"$f":"VLOOKUP(A1157,Pilot,4,0)","v":"CZ/C1"},"34. WGC 2016 - 18m","AU",26,5482,6607,1.105,7022,7759,2016,null,null,"ASG29","QZ",{"$f":"VLOOKUP(A1157,Pilot,5,0)","v":"M"},""]
["Giorgio Galetto",null,"ITA",null,"34. WGC 2016 - 18m","AU",27,5355,6607,1.105,6816,7532,2016,null,null,"Ventus 3T","WM",null,"Není v databázi"]
["Lubir Kuvik",null,"SVK",null,"34. WGC 2016 - 18m","AU",28,5288,6607,1.105,6674,7375,2016,null,null,"ASG29E","LK",null,"Není v databázi"]
["Gary Ittner",null,"USA",null,"34. WGC 2016 - 18m","AU",29,5240,6607,1.105,6552,7240,2016,null,null,"ASG29","P7",null,"Není v databázi"]
["Erazem Polutnik",null,"SVN",null,"34. WGC 2016 - 18m","AU",30,5229,6607,1.105,6469,7148,2016,null,null,"ASG29Es","E3",null,"Není v databázi"]
["Vladmir Foltin",null,"SVK",null,"34. WGC 2016 - 18m","AU",31,5151,6607,1.105,6315,6978,2016,null,null,"LS10",10,null,"Není v databázi"]
["Adomas Grabskis",null,"LTU",null,"34. WGC 2016 - 18m","AU",32,5128,6607,1.105,{"$f":"ROUND(H1163/I1163*10000*0.7+(MAX($G$1132:$G$1174)-G1163)/(MAX($G$1132:$G$1174)-1)*10000*0.3,0)","v":6219},6872,2016,null,null,"JS1b","LR",null,"Není v databázi"]
["John Coutts",null,"NZL",null,"34. WGC 2016 - 18m","AU",33,5039,6607,1.105,6053,6689,2016,null,null,"Ventus 3","7C",null,"Není v databázi"]
["Tim Bromhead",null,"NZL",null,"34. WGC 2016 - 18m","AU",34,4844,6607,1.105,5775,6381,2016,null,null,"ASG29","WS",null,"Není v databázi"]
["Pieter Nouwens",null,"ZAF",null,"34. WGC 2016 - 18m","AU",35,4722,6607,1.105,5574,6159,2016,null,null,"JS1c","PN",null,"Není v databázi"]
["Vytautas Sabeckis",null,"LTU",null,"34. WGC 2016 - 18m","AU",36,4657,6607,1.105,5434,6005,2016,null,null,"Ventus 2 cxt","KRJ",null,"Není v databázi"]
["Martti Koivula",null,"FIN",null,"34. WGC 2016 - 18m","AU",37,4519,6607,1.105,5216,5764,2016,null,null,"ASG29E","HK",null,"Není v databázi"]
["Luka Znidarsic",null,"SVN",null,"34. WGC 2016 - 18m","AU",38,4317,6607,1.105,4931,5449,2016,null,null,"Ventus 2 FES","LZ",null,"Není v databázi"]
["Guido Dalla Rosa Prati",null,"ITA",null,"34. WGC 2016 - 18m","AU",39,4051,6607,1.105,4578,5059,2016,null,null,"JS1","YL",null,"Není v databázi"]
["Peter Harsfalvi",null,"HUN",null,"34. WGC 2016 - 18m","AU",40,4047,6607,1.105,4502,4975,2016,null,null,"ASG29E","AMI",null,"Není v databázi"]
["Sergev Ryabchinsky",null,"RUS",null,"34. WGC 2016 - 18m","AU",41,3295,6607,1.105,3634,4016,2016,null,null,"Ventus 2cx","IS",null,"Není v databázi"]
["Branko Blagojevic",null,"SRB",null,"34. WGC 2016 - 18m","AU",42,3100,6607,{"$f":"VLOOKUP(E1173,Soutez,8,0)","v":1.105},3356,3708,2016,null,null,"ASG29E","WP",null,"Není v databázi"]
["Guangwei Shang",null,"CHN",null,"34. WGC 2016 - 18m","AU",43,1738,6607,1.105,1841,2034,2016,null,null,"ASW28-18","HD",null,"Není v databázi"]
["Russell Cheetham",null,"GBR",null,"34. WGC 2016 - Open","AU",1,6562,6562,1.105,{"$f":"ROUND(H1175/I1175*10000*0.7+(MAX($G$1175:$G$1209)-G1175)/(MAX($G$1175:$G$1209)-1)*10000*0.3,0)","v":10000},{"$f":"ROUND(J1175*K1175,0)","v":11050},2016,null,null,"JS1c","E1",null,"Není v databázi"]
["Michael Sommer",null,"DEU",null,"34. WGC 2016 - Open","AU",2,6549,6562,1.105,{"$f":"ROUND(H1176/I1176*10000*0.7+(MAX($G$1175:$G$1209)-G1176)/(MAX($G$1175:$G$1209)-1)*10000*0.3,0)","v":9898},{"$f":"ROUND(J1176*K1176,0)","v":10937},2016,null,null,"EB29R","EB",null,"Není v databázi"]
["Andrew Davis",null,"GBR",null,"34. WGC 2016 - Open","AU",3,6520,6562,1.105,9779,10806,2016,null,null,"JS1c",80,null,"Není v databázi"]
["Oscar Goudriaan",null,"ZAF",null,"34. WGC 2016 - Open","AU",4,6455,6562,1.105,9621,10631,2016,null,null,"JS1c","OG",null,"Není v databázi"]
["Peter Szabo",null,"HUN",null,"34. WGC 2016 - Open","AU",5,6399,6562,1.105,9473,10468,2016,null,null,"JS1c","BX",null,"Není v databázi"]
["Lukasz Wojcik",null,"POL",null,"34. WGC 2016 - Open","AU",6,6371,6562,1.105,9355,10337,2016,null,null,"JS1c","P",null,"Není v databázi"]
["Gyorgy Gulyas",null,"HUN",null,"34. WGC 2016 - Open","AU",7,6309,6562,1.105,9201,10167,2016,null,null,"JS1c","HAB",null,"Není v databázi"]
["Sebastian Eder",null,"AUT",null,"34. WGC 2016 - Open","AU",8,6306,6562,1.105,9109,10065,2016,null,null,"EB29","FJ",null,"Není v databázi"]
["Sylvain Gerbaud",null,"FRA",null,"34. WGC 2016 - Open","AU",9,6130,6562,1.105,8833,9760,2016,null,null,"JS1c","FD",null,"Není v databázi"]
["Alberto Sironi",null,"ITA",null,"34. WGC 2016 - Open","AU",10,6124,6562,1.105,8739,9657,2016,null,null,"Quintus M","AS",null,"Není v databázi"]
["Stephan Beck",null,"DEU",null,"34. WGC 2016 - Open","AU",11,5979,6562,1.105,8496,9388,2016,null,null,"EB28","WB",null,"Není v databázi"]
["Petr Krejcirik",{"$f":"VLOOKUP(A1186,Pilot,2,0)","v":1960},{"$f":"VLOOKUP(A1186,Pilot,3,0)","v":"Hranice"},{"$f":"VLOOKUP(A1186,Pilot,4,0)","v":"CZ/M"},"34. WGC 2016 - Open","AU",12,5964,6562,1.105,8391,9272,2016,null,null,"JS1c evo 21M","LX",{"$f":"VLOOKUP(A1186,Pilot,5,0)","v":"M"},""]
["Riccardo Brigliadori",null,"ITA",null,"34. WGC 2016 - Open","AU",13,5960,6562,1.105,8299,9170,2016,null,null,"JS1 21mt","LEO",null,"Není v databázi"]
["Jeroen Verkuijl",null,"NED",null,"34. WGC 2016 - Open","AU",14,5927,6562,1.105,8176,9034,2016,null,null,"JS1c","APU",null,"Není v databázi"]
["Zoran Frenc",null,"SRB",null,"34. WGC 2016 - Open","AU",15,5913,6562,1.105,8072,8920,2016,null,null,"JS1c","ZF",null,"Není v databázi"]
["Laurent Aboulin",null,"FRA",null,"34. WGC 2016 - Open","AU",16,5763,6562,1.105,7824,8646,2016,null,null,"JS1c","FC",null,"Není v databázi"]
["Tassilo Bode",null,"DEU",null,"34. WGC 2016 - Open","AU",17,5736,6562,1.105,7707,8516,2016,null,null,"EB29R","VB",null,"Není v databázi"]
["Pierre de Broqueville",null,"BEL",null,"34. WGC 2016 - Open","AU",18,5735,6562,1.105,7618,8418,2016,null,null,"EB29 DR","IP3",null,"Není v databázi"]
["Bruce Taylor",null,"AUS",null,"34. WGC 2016 - Open","AU",19,5597,6562,1.105,7382,8157,2016,null,null,"JS1c","B3",null,"Není v databázi"]
["Brett Hunter",null,"NZL",null,"34. WGC 2016 - Open","AU",20,5490,6562,1.105,7180,7934,2016,null,null,"JS1c","VZ",null,"Není v databázi"]
["Jim Acketoft",null,"SWE",null,"34. WGC 2016 - Open","AU",21,5437,6562,1.105,7035,7774,2016,null,null,"EB28","1P",null,"Není v databázi"]
["Laurens Goudriaan",null,"ZAF",null,"34. WGC 2016 - Open","AU",22,5411,6562,1.105,6919,7645,2016,null,null,"JS1c","LG",null,"Není v databázi"]
["Mike Robison",null,"USA",null,"34. WGC 2016 - Open","AU",23,5395,6562,1.105,6814,7529,2016,null,null,"JS1c","N1K",null,"Není v databázi"]
["Andrew Georgeson",null,"AUS",null,"34. WGC 2016 - Open","AU",24,5380,6562,1.105,6710,7415,2016,null,null,"JS1c","AG",null,"Není v databázi"]
["Antti Lehto",null,"FIN",null,"34. WGC 2016 - Open","AU",25,5307,6562,1.105,6544,7231,2016,null,null,"JS1c 21m","S8",null,"Není v databázi"]
["Adam Czeladzki",null,"POL",null,"34. WGC 2016 - Open","AU",26,5299,6562,1.105,6447,7124,2016,null,null,"JS1c","GOL",null,"Není v databázi"]
["Steen Elmgaard",null,"DNK",null,"34. WGC 2016 - Open","AU",27,5285,6562,1.105,6344,7010,2016,null,null,"ASH 31mi","CE",null,"Není v databázi"]
["Jan Walther Andersen",null,"DNK",null,"34. WGC 2016 - Open","AU",28,4989,6562,1.105,5940,6564,2016,null,null,"EB29","A",null,"Není v databázi"]
["Owe Engstrom",null,"SWE",null,"34. WGC 2016 - Open","AU",29,4540,6562,1.105,5372,5936,2016,null,null,"EB28","TP",null,"Není v databázi"]
["Mark Tingey",null,"NZL",null,"34. WGC 2016 - Open","AU",30,4418,6562,1.105,5154,5695,2016,null,null,"JS1c","OB",null,"Není v databázi"]
["Mark Wering",null,"NED",null,"34. WGC 2016 - Open","AU",31,4120,6562,1.105,4748,5247,2016,null,null,"JS1c","Z5",null,"Není v databázi"]
["Bill Gawthrop",null,"USA",null,"34. WGC 2016 - Open","AU",32,4019,6562,1.105,4552,5030,2016,null,null,"JS1c","F8",null,"Není v databázi"]
["Ludwig Starkl",null,"AUT",null,"34. WGC 2016 - Open","AU",33,2029,6562,1.105,2341,2587,2016,null,null,"Antares 23T","HL",null,"Není v databázi"]
["Tomas Rendla",{"$f":"VLOOKUP(A1208,Pilot,2,0)","v":1973},{"$f":"VLOOKUP(A1208,Pilot,3,0)","v":"Zbraslavice"},{"$f":"VLOOKUP(A1208,Pilot,4,0)","v":"CZ/C1"},"34. WGC 2016 - Open","AU",34,1538,6562,1.105,1729,1911,2016,null,null,"JS1c","VX",{"$f":"VLOOKUP(A1208,Pilot,5,0)","v":"M"},""]
["Peng Du",null,"CHN",null,"34. WGC 2016 - Open","AU",35,1378,6562,1.105,{"$f":"ROUND(H1209/I1209*10000*0.7+(MAX($G$1175:$G$1209)-G1209)/(MAX($G$1175:$G$1209)-1)*10000*0.3,0)","v":1470},{"$f":"ROUND(J1209*K1209,0)","v":1624},2016,null,null,"Arcus M","CA",null,"Není v databázi"]
["Holger Karow",null,"DEU",null,"7. WSGP Final 2016 - 18m GP","SA",1,35,null,1.08,{"$f":"ROUND((MAX($G$1210:$G$1227)-G1210)/(MAX($G$1210:$G$1227)-1)*10000,0)","v":10000},{"$f":"ROUND(J1210*K1210,0)","v":10800},2016,null,null,"JS1","AG",null,{"$f":"IF(ISERROR(VLOOKUP(A1210,Pilot,6,0)),\"Není v databázi\",VLOOKUP(A1210,Pilot,6,0))","v":"Není v databázi"}]
["Oscar Goudriaan",null,"RSA",null,"7. WSGP Final 2016 - 18m GP","SA",2,32,null,1.08,9333,{"$f":"ROUND(J1211*K1211,0)","v":10080},2016,null,null,"JS1","OG",null,"Není v databázi"]
["Christophe Abadie",null,"FRA",null,"7. WSGP Final 2016 - 18m GP","SA",3,31,null,1.08,8667,9360,2016,null,null,"JS1","FVO",null,"Není v databázi"]
["Andy Davis",null,"GBR",null,"7. WSGP Final 2016 - 18m GP","SA",4,29,null,1.08,8000,8640,2016,null,null,"JS1","XZ",null,"Není v databázi"]
["Sebastian Kawa",null,"POL",null,"7. WSGP Final 2016 - 18m GP","SA",5,26,null,1.08,7333,7920,2016,null,null,"JS1","EVO",null,"Není v databázi"]
["Petr Krejcirik",{"$f":"VLOOKUP(A1215,Pilot,2,0)","v":1960},{"$f":"VLOOKUP(A1215,Pilot,3,0)","v":"Hranice"},{"$f":"VLOOKUP(A1215,Pilot,4,0)","v":"CZ/M"},"7. WSGP Final 2016 - 18m GP","SA",6,19,null,1.08,6667,7200,2016,null,null,"JS1","RZ",{"$f":"VLOOKUP(A1215,Pilot,5,0)","v":"M"},""]
["Mike Young",null,"GBR",null,"7. WSGP Final 2016 - 18m GP","SA",6,19,null,1.08,6667,7200,2016,null,null,"JS1","ZB",null,"Není v databázi"]
["Jan Omsels",null,"DEU",null,"7. WSGP Final 2016 - 18m GP","SA",8,15,null,1.08,5333,5760,2016,null,null,"JS1","ZZ",null,"Není v databázi"]
["Matthias Sturm",null,"DEU",null,"7. WSGP Final 2016 - 18m GP","SA",9,14,null,1.08,4667,5040,2016,null,null,"JS1","BAT",null,"Není v databázi"]
["Simon Schröder",null,"DEU",null,"7. WSGP Final 2016 - 18m GP","SA",10,13,null,1.08,4000,4320,2016,null,null,"JS1","JS1",null,"Není v databázi"]
["Jean-Denis Barrois",null,"FRA",null,"7. WSGP Final 2016 - 18m GP","SA",11,10,null,1.08,3333,3600,2016,null,null,"JS1","JD",null,"Není v databázi"]
["Luciano Avanzini",null,"ITA",null,"7. WSGP Final 2016 - 18m GP","SA",12,9,null,1.08,2667,2880,2016,null,null,"JS1","S",null,"Není v databázi"]
["Boštjan Pristavec",null,"SVN",null,"7. WSGP Final 2016 - 18m GP","SA",13,7,null,1.08,2000,2160,2016,null,null,"JS1","EG",null,"Není v databázi"]
["John Coutts",null,"NZL",null,"7. WSGP Final 2016 - 18m GP","SA",14,6,null,1.08,1333,1440,2016,null,null,"LAK17b","X",null,"Není v databázi"]
["Philippe de Péchy",null,"FRA",null,"7. WSGP Final 2016 - 18m GP","SA",15,4,null,1.08,667,720,2016,null,null,"Ventus 2cxt","N2",null,"Není v databázi"]
["Vladas Motuza",null,"LTU",null,"7. WSGP Final 2016 - 18m GP","SA",16,0,null,1.08,0,0,2016,null,null,"JS1","SJ",null,"Není v databázi"]
["Carlos Rocca Vidal",null,"CHL",null,"7. WSGP Final 2016 - 18m GP","SA",16,0,null,1.08,0,0,2016,null,null,"JS1","ZP",null,"Není v databázi"]
["Freddy Barthelemy",null,"FRA",null,"7. WSGP Final 2016 - 18m GP","SA",16,0,null,1.08,0,{"$f":"ROUND(J1227*K1227,0)","v":0},2016,null,null,"JS1","JS",null,"Není v databázi"]
["Ivan Harasta 65",{"$f":"VLOOKUP(A1228,Pilot,2,0)","v":1965},{"$f":"VLOOKUP(A1228,Pilot,3,0)","v":"Toužim"},{"$f":"VLOOKUP(A1228,Pilot,4,0)","v":"CZ/C1"},"AZ Cup 2017 - Klub","CZ",1,1466,1466,0,{"$f":"ROUND(H1228/I1228*10000*0.7+(MAX($G$1228:$G$1261)-G1228)/(MAX($G$1228:$G$1261)-1)*10000*0.3,0)","v":10000},{"$f":"ROUND(J1228*K1228,0)","v":0},2017,null,null,"ASW 15B","HI",{"$f":"VLOOKUP(A1228,Pilot,5,0)","v":"M"},{"$f":"IF(ISERROR(VLOOKUP(A1228,Pilot,6,0)),\"Není v databázi\",VLOOKUP(A1228,Pilot,6,0))","v":""}]
["Zdenek Boruvka 86",1986,"Jičín","CZ/C2","AZ Cup 2017 - Klub","CZ",2,1298,1466,0,{"$f":"ROUND(H1229/I1229*10000*0.7+(MAX($G$1228:$G$1261)-G1229)/(MAX($G$1228:$G$1261)-1)*10000*0.3,0)","v":9107},{"$f":"ROUND(J1229*K1229,0)","v":0},2017,null,null,"Std. Cirrus","BJ","M",""]
["Martin Urban",1971,"Frýdlant","CZ/M","AZ Cup 2017 - Klub","CZ",3,1206,1466,0,8577,0,2017,null,null,"LS 3 15m","SJ","M",""]
["Eva Cerna",1964,"Příbram","CZ/C1","AZ Cup 2017 - Klub","CZ",4,1053,1466,0,7755,0,2017,null,null,"Std. Cirrus","CX","F",""]
["Katerina Vojtova",1983,"Slaný","CZ/C1","AZ Cup 2017 - Klub","CZ",5,1039,1466,0,7597,0,2017,null,null,"Std. Cirrus","SNI","F",""]
["Michal Kratochvil",1984,"Slaný","CZ/C1","AZ Cup 2017 - Klub","CZ",6,1034,1466,0,7483,0,2017,null,null,"Std. Cirrus","OMG","M",""]
["Jaroslav Tomana",1975,"Zbraslavice","CZ/C1","AZ Cup 2017 - Klub","CZ",7,1017,1466,0,7311,0,2017,null,null,"Std. Cirrus","SN","M",""]
["Radek Tobolka",1977,"Jičín","CZ/C2","AZ Cup 2017 - Klub","CZ",8,1008,1466,0,7177,0,2017,null,null,"Std. Cirrus","SC","M",""]
["Ladislav Jozsa",1981,"Medlánky","CZ/M","AZ Cup 2017 - Klub","CZ",9,1000,1466,0,7048,0,2017,null,null,"Std. Cirrus","LJ","M",""]
["Richard Vlcek",1993,"Kunovice","CZ/M","AZ Cup 2017 - Klub","CZ",10,998,1466,{"$f":"VLOOKUP(E1237,Soutez,8,0)","v":0},6947,0,2017,null,null,"Std. Cirrus","XC","M",""]
["Viktor Becan",1979,"GAC Benešov","CZ/C1","AZ Cup 2017 - Klub","CZ",11,996,1466,0,6847,{"$f":"ROUND(J1238*K1238,0)","v":0},2017,null,null,"LS1d","VB","M",""]
["Jiri Hodan",1959,"Zbraslavice","CZ/C1","AZ Cup 2017 - Klub","CZ",12,963,1466,0,6598,0,2017,null,null,"G-103 Twin Astir","RB","M",""]
["Ales Holoubek",1966,"Jičín","CZ/C2","AZ Cup 2017 - Klub","CZ",13,952,1466,0,6455,0,2017,null,null,"ASW 15B","T","M",""]
["Lukas Plocek",1990,"Mladá Boleslav","CZ/C1","AZ Cup 2017 - Klub","CZ",14,922,1466,0,6221,0,2017,null,null,"ASW 19B","AH","M",""]
["David Popovsky",1976,"Rakovník","CZ/C1","AZ Cup 2017 - Klub","CZ",15,914,1466,0,6092,0,2017,null,null,"ASW 24A bez TN8",76,"M",""]
["Jakub Kmosek",1978,"Zbraslavice","CZ/C1","AZ Cup 2017 - Klub","CZ",16,885,1466,0,5862,0,2017,null,null,"Std. Cirrus","ST","M",""]
["Jan Matejovsky",1972,"Hranice","CZ/M","AZ Cup 2017 - Klub","CZ",17,874,1466,0,5719,0,2017,null,null,"LS 3 15m","BT","M",""]
["Oldrich Houzvicka",1975,"Frýdlant","CZ/M","AZ Cup 2017 - Klub","CZ",18,864,1466,0,5580,0,2017,null,null,"LS 4","FP","M",""]
["Linda Vasatova",1990,"Mladá Boleslav","CZ/C1","AZ Cup 2017 - Klub","CZ",19,855,1466,0,5446,0,2017,null,null,"ASW 15B","MB","F",""]
["Marta Marszalek",null,"Glivice","PL","AZ Cup 2017 - Klub","CZ",20,804,1466,0,5112,0,2017,null,null,"Brawo","BI","F","Není v databázi"]
["Richard Jensen",{"$f":"VLOOKUP(A1248,Pilot,2,0)","v":1965},{"$f":"VLOOKUP(A1248,Pilot,3,0)","v":"Zbraslavice"},{"$f":"VLOOKUP(A1248,Pilot,4,0)","v":"CZ/C1"},"AZ Cup 2017 - Klub","CZ",21,790,1466,0,4954,0,2017,null,null,"Std. Cirrus","P2",{"$f":"VLOOKUP(A1248,Pilot,5,0)","v":"M"},""]
["Klara Teichmannova",1993,"Hronov","CZ/C2","AZ Cup 2017 - Klub","CZ",22,744,1466,0,4643,0,2017,null,null,"Std. Cirrus","LY","F",""]
["Barbora Moravcova",1994,"Zbraslavice","CZ/C1","AZ Cup 2017 - Klub","CZ",23,730,1466,0,4486,0,2017,null,null,"ASW 19B","CF","F","Junior v roce 2019"]
["Rudolf Jung",1954,"Zbraslavice","CZ/C1","AZ Cup 2017 - Klub","CZ",24,713,1466,0,4314,0,2017,null,null,"Std. Cirrus","C1","M",""]
["Lukas Koukal",1991,"Letkov","CZ/C1","AZ Cup 2017 - Klub","CZ",25,702,1466,0,4170,0,2017,null,null,"ASW 15B","T1","M",""]
["Tomas Jung",1950,"Zbraslavice","CZ/C1","AZ Cup 2017 - Klub","CZ",26,645,1466,0,3807,0,2017,null,null,"ASW 19B","O2","M",""]
["Jan Ratz",1987,"Plasy","CZ/C1","AZ Cup 2017 - Klub","CZ",27,628,1466,0,3635,0,2017,null,null,"Janus b","KG","M",""]
["Jindrich Hruska",1986,"Soběslav","CZ/C1","AZ Cup 2017 - Klub","CZ",28,595,1466,0,3387,0,2017,null,null,"Mosquito","UFO","M",""]
["Martin Chovan",1973,"Zbraslavice","CZ/C1","AZ Cup 2017 - Klub","CZ",29,589,1466,0,3267,0,2017,null,null,"ASW 19B",19,"M",""]
["Tomas Malik",1972,"Letňany","CZ/C1","AZ Cup 2017 - Klub","CZ",30,577,1466,0,3119,0,2017,null,null,"VSO-10","L5","M",""]
["Dalibor Pek",1968,"Raná","CZ/C2","AZ Cup 2017 - Klub","CZ",31,463,1466,0,{"$f":"ROUND(H1258/I1258*10000*0.7+(MAX($G$1228:$G$1261)-G1258)/(MAX($G$1228:$G$1261)-1)*10000*0.3,0)","v":2484},0,2017,null,null,"Std. Cirrus","A1","M",""]
["Pavel Svrcek",1972,"Frýdlant","CZ/M","AZ Cup 2017 - Klub","CZ",32,152,1466,0,908,0,2017,null,null,"DG 200 15m","AK","M",""]
["Martin Nejezchleb",1979,"Plzeň Bory","CZ/C1","AZ Cup 2017 - Klub","CZ",33,57,1466,0,363,{"$f":"ROUND(J1260*K1260,0)","v":0},2017,null,null,"ASW 15B",90,"M",""]
["Frantisek Kriz",1961,"Toužim","CZ/C1","AZ Cup 2017 - Klub","CZ",34,18,1466,0,{"$f":"ROUND(H1261/I1261*10000*0.7+(MAX($G$1228:$G$1261)-G1261)/(MAX($G$1228:$G$1261)-1)*10000*0.3,0)","v":86},{"$f":"ROUND(J1261*K1261,0)","v":0},2017,null,null,"G-102 Astir cs","PB","M",""]
["Alena Netusilova",{"$f":"VLOOKUP(A1262,Pilot,2,0)","v":1970},{"$f":"VLOOKUP(A1262,Pilot,3,0)","v":"Zbraslavice"},{"$f":"VLOOKUP(A1262,Pilot,4,0)","v":"CZ/C1"},"AZ Cup 2017 - Kombi","CZ",1,2448,2448,0.92,{"$f":"ROUND(H1262/I1262*10000*0.7+(MAX($G$1262:$G$1282)-G1262)/(MAX($G$1262:$G$1282)-1)*10000*0.3,0)","v":10000},{"$f":"ROUND(J1262*K1262,0)","v":9200},2017,"x","x","JS-1C 18m EVO","JX",{"$f":"VLOOKUP(A1262,Pilot,5,0)","v":"F"},{"$f":"IF(ISERROR(VLOOKUP(A1262,Pilot,6,0)),\"Není v databázi\",VLOOKUP(A1262,Pilot,6,0))","v":""}]
["Tomas Suchanek",1964,"GAC Benešov","CZ/C1","AZ Cup 2017 - Kombi","CZ",2,2333,2448,0.92,{"$f":"ROUND(H1263/I1263*10000*0.7+(MAX($G$1262:$G$1282)-G1263)/(MAX($G$1262:$G$1282)-1)*10000*0.3,0)","v":9521},{"$f":"ROUND(J1263*K1263,0)","v":8759},2017,null,null,"Ventus c 17,6m","UP","M",""]
["Lenka Kuthanova",1960,"LK Břeclav","CZ/M","AZ Cup 2017 - Kombi","CZ",3,2286,2448,0.92,9237,8498,2017,"x","x","JS-1C 18m EVO","LX","F",""]
["Petr Koutny",1971,"Křižanov","CZ/M","AZ Cup 2017 - Kombi","CZ",4,2259,2448,0.92,9010,8289,2017,null,null,"LS 8b 18m","SK","M",""]
["Petr Starek",1974,"Zbraslavice","CZ/C1","AZ Cup 2017 - Kombi","CZ",5,2241,2448,0.92,{"$f":"ROUND(H1266/I1266*10000*0.7+(MAX($G$1262:$G$1282)-G1266)/(MAX($G$1262:$G$1282)-1)*10000*0.3,0)","v":8808},8103,2017,"x",null,"HPH 304 SJ 18m 573 kg",66,"M",""]
["Martin Hrivna",1978,"Zbraslavice","CZ/C1","AZ Cup 2017 - Kombi","CZ",6,2233,2448,0.92,8635,7944,2017,"x",null,"ASG 29E 18m 600kg","NX","M",""]
["Petr Tichy",1973,"Zbraslavice","CZ/C1","AZ Cup 2017 - Kombi","CZ",7,2097,2448,0.92,8096,7448,2017,null,null,"ASG 29E 18m 600kg","AJ","M",""]
["Martin Pekar",1973,"Šumperk","CZ/M","AZ Cup 2017 - Kombi","CZ",8,1972,2448,0.92,7589,6982,2017,"x",null,"HPH 304e 18m 573kg","ES","M",""]
["Jiri Pajer",1977,"Zbraslavice","CZ/C1","AZ Cup 2017 - Kombi","CZ",9,1880,2448,0.92,7176,6602,2017,"x",null,"ASW-27B+W","K5","M",""]
["Radek Zima 78",1978,"Hodkovice","CZ/C2","AZ Cup 2017 - Kombi","CZ",10,1873,2448,0.92,{"$f":"ROUND(H1271/I1271*10000*0.7+(MAX($G$1262:$G$1282)-G1271)/(MAX($G$1262:$G$1282)-1)*10000*0.3,0)","v":7006},6446,2017,null,null,"Ventus b 16,6 WL","7F","M",""]
["Pavol Cerny",null,"SGC Martin","SK","AZ Cup 2017 - Kombi","CZ",11,1852,2448,0.92,6796,6252,2017,null,null,"Ventus 2cxt 18m 600kg","EK","M","Není v databázi"]
["Radek Kucirek",{"$f":"VLOOKUP(A1273,Pilot,2,0)","v":1973},{"$f":"VLOOKUP(A1273,Pilot,3,0)","v":"Havlíčkův Brod"},{"$f":"VLOOKUP(A1273,Pilot,4,0)","v":"CZ/C2"},"AZ Cup 2017 - Kombi","CZ",12,1787,2448,0.92,6460,5943,2017,"x",null,"Ventus 2b 15m","YA",{"$f":"VLOOKUP(A1273,Pilot,5,0)","v":"M"},""]
["Karel Benisek 76",1976,"Toužim","CZ/C1","AZ Cup 2017 - Kombi","CZ",13,1745,2448,0.92,6190,5695,2017,"x",null,"Ventus ct 17,6","KB","M",""]
["Tomas Rendla",1973,"Zbraslavice","CZ/C1","AZ Cup 2017 - Kombi","CZ",14,1733,2448,0.92,6005,5525,2017,"x",null,"Arcus M","EY","M",""]
["Jan Dersak 69",1969,"Kralupy","CZ/C1","AZ Cup 2017 - Kombi","CZ",15,1623,2448,0.92,5541,5098,2017,null,null,"HPH 304CZ 17,4m","DJ","M",""]
["Zdenek Boruvka 54",1954,"Jičín","CZ/C2","AZ Cup 2017 - Kombi","CZ",16,1593,2448,0.92,5305,4881,2017,null,null,"LS 8-18 18m","ZB","M",""]
["Jaromir Jedlicka",1972,"Letňany","CZ/C1","AZ Cup 2017 - Kombi","CZ",17,1352,2448,0.92,4466,4109,2017,"x",null,"Ventus 2 cM 18m 525kg","JT","M",""]
["Zdenek Schenk",1972,"Hranice","CZ/M","AZ Cup 2017 - Kombi","CZ",18,1080,2448,0.92,3538,3255,2017,null,null,"Ventus ct 17.6m","SNK","M",""]
["Vladimir Spilka",1940,"Hranice","CZ/M","AZ Cup 2017 - Kombi","CZ",19,565,2448,0.92,1916,1763,2017,null,null,"Nimbus 2b","AY","M",""]
["Bohus Marcinik",1947,"Příbram","CZ/C1","AZ Cup 2017 - Kombi","CZ",20,471,2448,0.92,1497,1377,2017,"x",null,"Ventus b 16,6m WL","XL","M",""]
["Petr Jiranek 63",1962,"Toužim","CZ/C1","AZ Cup 2017 - Kombi","CZ",21,465,2448,0.92,{"$f":"ROUND(H1282/I1282*10000*0.7+(MAX($G$1262:$G$1282)-G1282)/(MAX($G$1262:$G$1282)-1)*10000*0.3,0)","v":1330},1224,2017,null,null,"DG-500M 22m","SR","M",""]
["Radek Hybl",{"$f":"VLOOKUP(A1283,Pilot,2,0)","v":1980},{"$f":"VLOOKUP(A1283,Pilot,3,0)","v":"Šumperk"},{"$f":"VLOOKUP(A1283,Pilot,4,0)","v":"CZ/M"},"13. JPJ 2017 - Klub","CZ",1,3121,3121,0.63,{"$f":"ROUND(H1283/I1283*10000*0.7+(MAX($G$1283:$G$1321)-G1283)/(MAX($G$1283:$G$1321)-1)*10000*0.3,0)","v":10000},{"$f":"ROUND(J1283*K1283,0)","v":6300},2017,"x",null,"Std. Cirrus","AYz",{"$f":"VLOOKUP(A1283,Pilot,5,0)","v":"M"},{"$f":"IF(ISERROR(VLOOKUP(A1283,Pilot,6,0)),\"Není v databázi\",VLOOKUP(A1283,Pilot,6,0))","v":""}]
["Michal Lesinger",{"$f":"VLOOKUP(A1284,Pilot,2,0)","v":1966},{"$f":"VLOOKUP(A1284,Pilot,3,0)","v":"Moravská Třebová"},{"$f":"VLOOKUP(A1284,Pilot,4,0)","v":"CZ/M"},"13. JPJ 2017 - Klub","CZ",2,3089,3121,0.63,{"$f":"ROUND(H1284/I1284*10000*0.7+(MAX($G$1283:$G$1321)-G1284)/(MAX($G$1283:$G$1321)-1)*10000*0.3,0)","v":9849},{"$f":"ROUND(J1284*K1284,0)","v":6205},2017,null,null,"ASW-19B","LL",{"$f":"VLOOKUP(A1284,Pilot,5,0)","v":"M"},""]
["Pavel Rericha",{"$f":"VLOOKUP(A1285,Pilot,2,0)","v":1967},{"$f":"VLOOKUP(A1285,Pilot,3,0)","v":"Moravská Třebová"},{"$f":"VLOOKUP(A1285,Pilot,4,0)","v":"CZ/M"},"13. JPJ 2017 - Klub","CZ",3,2969,3121,0.63,9501,5986,2017,"x",null,"ASW-19B","NO",{"$f":"VLOOKUP(A1285,Pilot,5,0)","v":"M"},""]
["Lubomir Motl",{"$f":"VLOOKUP(A1286,Pilot,2,0)","v":1959},{"$f":"VLOOKUP(A1286,Pilot,3,0)","v":"Kyjov"},{"$f":"VLOOKUP(A1286,Pilot,4,0)","v":"CZ/M"},"13. JPJ 2017 - Klub","CZ",4,2953,3121,0.63,9386,5913,2017,null,null,"LS-1f","G2",{"$f":"VLOOKUP(A1286,Pilot,5,0)","v":"M"},""]
["Martin Ficnar",{"$f":"VLOOKUP(A1287,Pilot,2,0)","v":1971},{"$f":"VLOOKUP(A1287,Pilot,3,0)","v":"Šumperk"},{"$f":"VLOOKUP(A1287,Pilot,4,0)","v":"CZ/M"},"13. JPJ 2017 - Klub","CZ",5,2833,3121,0.63,9038,5694,2017,"x",null,"LS-3a 15m","S20",{"$f":"VLOOKUP(A1287,Pilot,5,0)","v":"M"},""]
["Boris Zorz",null,"Lesce","SL","13. JPJ 2017 - Klub","CZ",6,2688,3121,0.63,8634,5439,2017,null,null,"Std. Cirrus","IPF","M","Není v databázi"]
["Rene Hudak",{"$f":"VLOOKUP(A1289,Pilot,2,0)","v":1972},{"$f":"VLOOKUP(A1289,Pilot,3,0)","v":"Kunovice"},{"$f":"VLOOKUP(A1289,Pilot,4,0)","v":"CZ/M"},"13. JPJ 2017 - Klub","CZ",7,2669,3121,0.63,8513,5363,2017,"x",null,"Std. Cirrus","NK",{"$f":"VLOOKUP(A1289,Pilot,5,0)","v":"M"},""]
["Josef Novak",1981,"Kunovice","CZ/M","13. JPJ 2017 - Klub","CZ",8,2605,3121,0.63,8290,5223,2017,"x",null,"LS-1f","JT","M",""]
["Roman Schotli",1970,"Hranice","CZ/M","13. JPJ 2017 - Klub","CZ",9,2544,3121,0.63,8074,5087,2017,"x",null,"ASW-19B",19,"M",""]
["Martin Urner",1974,"Letňany","CZ/C1","13. JPJ 2017 - Klub","CZ",10,2448,3121,0.63,7780,4901,2017,"x",null,"ASW-15B","JJ","M",""]
["Libor Bednarik",1972,"Kunovice","CZ/M","13. JPJ 2017 - Klub","CZ",11,2310,3121,0.63,7392,4657,2017,"x",null,"Std. Cirrus","PIF","M",""]
["Jiri Koudela",1974,"Vyškov","CZ/M","13. JPJ 2017 - Klub","CZ",12,2262,3121,0.63,7205,4539,2017,"x",null,"G-102 Astir 77","AS","M",""]
["Michal Cupak",1991,"Medlánky","CZ/M","13. JPJ 2017 - Klub","CZ",13,2207,3121,0.63,7003,4412,2017,"x",null,"Std. Cirrus","MP","M",""]
["Jan Zahradka",1981,"Hodkovice","CZ/C2","13. JPJ 2017 - Klub","CZ",14,2163,3121,0.63,6825,4300,2017,null,null,"Std. Cirrus","UB","M",""]
["Jan Podhrazsky",1976,"Šumperk","CZ/M","13. JPJ 2017 - Klub","CZ",15,2158,3121,0.63,6735,4243,2017,"x",null,"Discus b","SJ","M",""]
["Matous Schmidt",1981,"Letňany","CZ/C1","13. JPJ 2017 - Klub","CZ",16,2143,3121,0.63,6622,4172,2017,"x",null,"Std. Cirrus","IMI","M",""]
["Ladislav Jozsa",1981,"Medlánky","CZ/M","13. JPJ 2017 - Klub","CZ",17,2040,3121,0.63,6312,3977,2017,null,null,"Std. Cirrus","LJ","M",""]
["Tomas Prikryl",1973,"Vyškov","CZ/M","13. JPJ 2017 - Klub","CZ",18,2025,3121,0.63,6200,3906,2017,"x",null,"DG-101 G","JR","M",""]
["Vit Prokop",1987,"Medlánky","CZ/M","13. JPJ 2017 - Klub","CZ",19,1919,3121,{"$f":"VLOOKUP(E1301,Soutez,8,0)","v":0.63},5883,3706,2017,"x",null,"Std. Cirrus","MF","M",""]
["Martin Kriz",1968,"Přibyslav","CZ/C2","13. JPJ 2017 - Klub","CZ",20,1916,3121,0.63,5797,3652,2017,null,null,"ASW-15B","BE","M",""]
["Petr Kolacek",1965,"Šumperk","CZ/M","13. JPJ 2017 - Klub","CZ",21,1904,3121,0.63,5691,3585,2017,"x",null,"Jantar std. 2","SU","M",""]
["Martin Svarc",1981,"Olomouc","CZ/M","13. JPJ 2017 - Klub","CZ",22,1875,3121,0.63,5547,3495,2017,"x",null,"DG-101 G","HE","M",""]
["Martin Hejny",1984,"Šumperk","CZ/M","13. JPJ 2017 - Klub","CZ",23,1865,3121,0.63,5446,3431,2017,"x",null,"ASW-15B","EZ","M",""]
["Jiri Vavrina",1958,"Kyjov","CZ/M","13. JPJ 2017 - Klub","CZ",24,1746,3121,0.63,5100,3213,2017,"x",null,"LS 1 f","BS","M",""]
["Tomas Prokop",1972,"Šumperk","CZ/M","13. JPJ 2017 - Klub","CZ",25,1643,3121,0.63,4790,3018,2017,"x",null,"ASW-15B","R5","M",""]
["Petr Jedlicka",1987,"Medlánky","CZ/M","13. JPJ 2017 - Klub","CZ",26,1627,3121,0.63,4675,2945,2017,"x",null,"Phoebus A1","NN","M",""]
["Jaromir Vlk",1959,"Šumperk","CZ/M","13. JPJ 2017 - Klub","CZ",27,1565,3121,0.63,4457,2808,2017,null,null,"VSO-10",4,"M",""]
["Jan Pokluda",1973,"Šumperk","CZ/M","13. JPJ 2017 - Klub","CZ",28,1532,3121,0.63,4304,2712,2017,"x",null,"ASW-15B WL","JG","M",""]
["Tomas Ondrisek",1970,"Kunovice","CZ/M","13. JPJ 2017 - Klub","CZ",29,1513,3121,0.63,4183,2635,2017,"x",null,"DG-400 15m","MR","M",""]
["Yvona Vyhnankova",1963,"Olomouc","CZ/M","13. JPJ 2017 - Klub","CZ",30,1505,3121,0.63,4086,2574,2017,"x","x","ASW-15","YZ","F",""]
["Ondrej Dvorak 87",1987,"Raná","CZ/C2","13. JPJ 2017 - Klub","CZ",31,1483,3121,0.63,3958,2494,2017,"x",null,"Std. Cirrus","FW","M",""]
["Miroslav Mancik",1976,"Kyjov","CZ/M","13. JPJ 2017 - Klub","CZ",32,1372,3121,0.63,3630,2287,2017,"x",null,"G-103 Twin Astir","KW","M",""]
["Lubomir Papezik",1951,"Luhačovice","CZ/M","13. JPJ 2017 - Klub","CZ",33,1369,3121,0.63,3544,2233,2017,"x",null,"LS-4","FP","M",""]
["Petr Havrlant",1965,"Šumperk","CZ/M","13. JPJ 2017 - Klub","CZ",34,913,3121,0.63,2442,1538,2017,"x",null,"SF-34 Delphin",77,"M",""]
["Matej Plch",1987,"Letkov","CZ/C1","13. JPJ 2017 - Klub","CZ",35,786,3121,0.63,2079,1310,2017,"x",null,"Std. Cirrus","AL","M",""]
["Petr Lonsky",1965,"Toužim","CZ/C1","13. JPJ 2017 - Klub","CZ",36,673,3121,0.63,1746,1100,2017,null,null,"LS-1d","CL","M",""]
["Martin Suchy",1969,"Hranice","CZ/M","13. JPJ 2017 - Klub","CZ",37,636,3121,0.63,1584,998,2017,"x",null,"G-103 Twin Astir","EH","M",""]
["Filip Vita",2001,"Kroměříž","CZ/M","13. JPJ 2017 - Klub","CZ",38,493,3121,0.63,{"$f":"ROUND(H1320/I1320*10000*0.7+(MAX($G$1283:$G$1321)-G1320)/(MAX($G$1283:$G$1321)-1)*10000*0.3,0)","v":1185},{"$f":"ROUND(J1320*K1320,0)","v":747},2017,"x",null,"G-102 Astir Jeans","2Y","M","Junior v roce 2019"]
["Libor Danhel",1966,"Kunovice","CZ/M","13. JPJ 2017 - Klub","CZ",39,374,3121,0.63,839,529,2017,"x",null,"Std. Cirrus","OKc","M",""]
["Jiri Steiger",{"$f":"VLOOKUP(A1322,Pilot,2,0)","v":1969},{"$f":"VLOOKUP(A1322,Pilot,3,0)","v":"Olomouc"},{"$f":"VLOOKUP(A1322,Pilot,4,0)","v":"CZ/M"},"13. JPJ 2017 - Kombi","CZ",1,3348,3348,0.6,{"$f":"ROUND(H1322/I1322*10000*0.7+(MAX($G$1322:$G$1350)-G1322)/(MAX($G$1322:$G$1350)-1)*10000*0.3,0)","v":10000},{"$f":"ROUND(J1322*K1322,0)","v":6000},2017,"x",null,"Ventus 2cxT/18m","JS",{"$f":"VLOOKUP(A1322,Pilot,5,0)","v":"M"},{"$f":"IF(ISERROR(VLOOKUP(A1322,Pilot,6,0)),\"Není v databázi\",VLOOKUP(A1322,Pilot,6,0))","v":""}]
["Pavel Zima",1979,"Břeclav","CZ/M","13. JPJ 2017 - Kombi","CZ",2,3293,3348,0.6,{"$f":"ROUND(H1323/I1323*10000*0.7+(MAX($G$1322:$G$1350)-G1323)/(MAX($G$1322:$G$1350)-1)*10000*0.3,0)","v":9778},{"$f":"ROUND(J1323*K1323,0)","v":5867},2017,"x",null,"Ventus cm 17,6m","RK","M",""]
["Frantisek Vancura",1966,"Hranice","CZ/M","13. JPJ 2017 - Kombi","CZ",3,3154,3348,0.6,9380,5628,2017,null,null,"Nimbus 3T 24,5m WL","A1","M",""]
["Jan Simon",1970,"Kralupy","CZ/C1","13. JPJ 2017 - Kombi","CZ",4,2900,3348,0.6,8742,5245,2017,"x",null,"Nimbus 3 24,5m","HS","M",""]
["Zdenek Schenk",1972,"Hranice","CZ/M","13. JPJ 2017 - Kombi","CZ",5,2777,3348,0.6,8378,5027,2017,null,null,"Ventus ct 17,6m","ŠNeK","M",""]
["Marek Blatak",1969,"Šumperk","CZ/M","13. JPJ 2017 - Kombi","CZ",6,2758,3348,0.6,8231,4939,2017,"x",null,"Duo Discus T","ZS","M",""]
["Antonin Konicek",1973,"Kunovice","CZ/M","13. JPJ 2017 - Kombi","CZ",7,2725,3348,0.6,8055,4833,2017,"x",null,"HpH 304M SHARK","KK","M",""]
["Boris Bachraty",1974,"Břeclav","CZ/M","13. JPJ 2017 - Kombi","CZ",8,2563,3348,0.6,7609,4565,2017,"x",null,"Jantar 2B",25,"M",""]
["Vladimir Kamensky",1983,"Břeclav","CZ/M","13. JPJ 2017 - Kombi","CZ",9,2403,3348,0.6,7167,4300,2017,"x",null,"Nimbus 2b","IK","M",""]
["Jaroslav Buryan",1953,"Zábřeh","CZ/M","13. JPJ 2017 - Kombi","CZ",10,2359,3348,0.6,6968,4181,2017,null,null,"ASW-20 15m WL","NS","M",""]
["Roman Cerny",1971,"Hranice","CZ/M","13. JPJ 2017 - Kombi","CZ",11,2303,3348,0.6,6744,4046,2017,"x",null,"ASW-20 15m WL",67,"M",""]
["Miroslav Koci",1961,"Žamberk","CZ/C2","13. JPJ 2017 - Kombi","CZ",12,2254,3348,0.6,6534,3920,2017,null,null,"Ventus 2cxm 18m","E8","M",""]
["Miroslav Sklenar",1964,"Žamberk","CZ/C2","13. JPJ 2017 - Kombi","CZ",13,2217,3348,0.6,6350,3810,2017,"x",null,"Duo Discus","VP","M",""]
["Tomas Fiala 77",1977,"Luhačovice","CZ/M","13. JPJ 2017 - Kombi","CZ",14,2188,3348,0.6,6182,3709,2017,"x",null,"Arcus","AR","M",""]
["Jan Matejovsky",1972,"Hranice","CZ/M","13. JPJ 2017 - Kombi","CZ",15,1985,3348,0.6,5650,3390,2017,"x",null,"Duo Discus","OK","M",""]
["Michal Cechmanek",1978,"Luhačovice","CZ/M","13. JPJ 2017 - Kombi","CZ",16,1934,3348,0.6,5436,3262,2017,"x",null,"KKB-15","N2","M",""]
["Vladimir Spilka",1940,"Hranice","CZ/M","13. JPJ 2017 - Kombi","CZ",17,1909,3348,0.6,5277,3166,2017,"x",null,"Nimbus 2b","AY","M",""]
["Jaroslav Hot",1965,"Toužim","CZ/C1","13. JPJ 2017 - Kombi","CZ",18,1772,3348,0.6,4883,2930,2017,"x",null,"Ventus ct 17,6m","EB","M",""]
["Jiri Prochazka",1971,"Toužim","CZ/C1","13. JPJ 2017 - Kombi","CZ",19,1744,3348,0.6,4718,2831,2017,null,null,"DG-500 22m","SR","M",""]
["Antonin Kutalek",1943,"Zábřeh","CZ/M","13. JPJ 2017 - Kombi","CZ",20,1602,3348,0.6,4314,2588,2017,null,null,"Mini-Nimbus c","GLk","M",""]
["Dusan Sys",1977,"Šumperk","CZ/M","13. JPJ 2017 - Kombi","CZ",21,1533,3348,0.6,4062,2437,2017,"x",null,"DG-808 C WL","MS","M",""]
["David Zapletal",1970,"Mladá Boleslav","CZ/C1","13. JPJ 2017 - Kombi","CZ",22,1515,3348,0.6,3918,2351,2017,"x",null,"Ventus c 17,6m","PUP","M",""]
["Albrecht Beat",1953,"Šumperk","CZ/M","13. JPJ 2017 - Kombi","CZ",23,1502,3348,0.6,3783,2270,2017,"x",null,"LS-8-18 18m","GL","M",""]
["Petr Kapounek",1977,"Kroměříž","CZ/M","13. JPJ 2017 - Kombi","CZ",24,1393,3348,0.6,3448,2069,2017,"x",null,"ASW-20 15m WL","MK","M",""]
["Kamil Sohr",1973,"Šumperk","CZ/M","13. JPJ 2017 - Kombi","CZ",25,1232,3348,0.6,3004,1802,2017,"x",null,"SZD-55 Promyk","BC","M",""]
["Christof Madory",1958,"Šumperk","CZ/M","13. JPJ 2017 - Kombi","CZ",26,1204,3348,0.6,2839,1703,2017,"x",null,"ASH-25","IQ","M",""]
["Pavel Haluza",1966,"Prostějov","CZ/M","13. JPJ 2017 - Kombi","CZ",27,1078,3348,0.6,2468,1481,2017,"x",null,"Nimbus 2b","HT","M",""]
["Roman Michalek",1974,"Toužim","CZ/C1","13. JPJ 2017 - Kombi","CZ",28,1018,3348,0.6,2236,1342,2017,"x",null,"DG-400 17m","TK","M",""]
["Martin Novak",1976,"Slaný","CZ/C1","13. JPJ 2017 - Kombi","CZ",29,804,3348,0.6,1681,1009,2017,"x",null,"DG-400 17m","ZX","M",""]
["Jaromir Hendrych",{"$f":"VLOOKUP(A1351,Pilot,2,0)","v":1954},{"$f":"VLOOKUP(A1351,Pilot,3,0)","v":"Raná"},{"$f":"VLOOKUP(A1351,Pilot,4,0)","v":"CZ/C2"},"Závody Šohajů 2017 - Klub","CZ",1,344,344,0.6,{"$f":"ROUND(H1351/I1351*10000*0.7+(MAX($G$1351:$G$1360)-G1351)/(MAX($G$1351:$G$1360)-1)*10000*0.3,0)","v":10000},{"$f":"ROUND(J1351*K1351,0)","v":6000},2017,"x",null,"Ka 7","K7",{"$f":"VLOOKUP(A1351,Pilot,5,0)","v":"M"},{"$f":"IF(ISERROR(VLOOKUP(A1351,Pilot,6,0)),\"Není v databázi\",VLOOKUP(A1351,Pilot,6,0))","v":""}]
["Jiri Klicnar",{"$f":"VLOOKUP(A1352,Pilot,2,0)","v":1965},{"$f":"VLOOKUP(A1352,Pilot,3,0)","v":"Medlánky"},{"$f":"VLOOKUP(A1352,Pilot,4,0)","v":"CZ/M"},"Závody Šohajů 2017 - Klub","CZ",2,286,344,0.6,{"$f":"ROUND(H1352/I1352*10000*0.7+(MAX($G$1351:$G$1360)-G1352)/(MAX($G$1351:$G$1360)-1)*10000*0.3,0)","v":8486},{"$f":"ROUND(J1352*K1352,0)","v":5092},2017,"x",null,"VT-125 Sohaj","S",{"$f":"VLOOKUP(A1352,Pilot,5,0)","v":"M"},""]
["Vaclav Cerny",{"$f":"VLOOKUP(A1353,Pilot,2,0)","v":1949},{"$f":"VLOOKUP(A1353,Pilot,3,0)","v":"Plasy"},{"$f":"VLOOKUP(A1353,Pilot,4,0)","v":"CZ/C1"},"Závody Šohajů 2017 - Klub","CZ",3,280,344,0.6,8031,4819,2017,"x",null,"VT-125 Sohaj","V",{"$f":"VLOOKUP(A1353,Pilot,5,0)","v":"M"},""]
["Jiri Slouka",{"$f":"VLOOKUP(A1354,Pilot,2,0)","v":1967},{"$f":"VLOOKUP(A1354,Pilot,3,0)","v":"Medlánky"},{"$f":"VLOOKUP(A1354,Pilot,4,0)","v":"CZ/M"},"Závody Šohajů 2017 - Klub","CZ",4,274,344,0.6,7576,4546,2017,"x",null,"VT-125 Sohaj","I",{"$f":"VLOOKUP(A1354,Pilot,5,0)","v":"M"},""]
["Jiri Lenik",{"$f":"VLOOKUP(A1355,Pilot,2,0)","v":1947},{"$f":"VLOOKUP(A1355,Pilot,3,0)","v":"Raná"},{"$f":"VLOOKUP(A1355,Pilot,4,0)","v":"CZ/C2"},"Závody Šohajů 2017 - Klub","CZ",5,269,344,0.6,7141,4285,2017,"x",null,"Olympia 2b","BKK",{"$f":"VLOOKUP(A1355,Pilot,5,0)","v":"M"},""]
["Tomas Mezera / Josef Mezera",null,"Raná","CZ","Závody Šohajů 2017 - Klub","CZ",6,258,344,0.6,6583,3950,2017,null,null,"VT-425 Sohaj","T",null,"Není v databázi"]
["Karel Lang",{"$f":"VLOOKUP(A1357,Pilot,2,0)","v":1967},{"$f":"VLOOKUP(A1357,Pilot,3,0)","v":"Medlánky"},{"$f":"VLOOKUP(A1357,Pilot,4,0)","v":"CZ/M"},"Závody Šohajů 2017 - Klub","CZ",7,214,344,0.6,5355,3213,2017,"x",null,"VT-425 Sohaj",77,{"$f":"VLOOKUP(A1357,Pilot,5,0)","v":"M"},""]
["Ulf Kern",{"$f":"VLOOKUP(A1358,Pilot,2,0)","v":1958},{"$f":"VLOOKUP(A1358,Pilot,3,0)","v":"Raná"},{"$f":"VLOOKUP(A1358,Pilot,4,0)","v":"CZ/C2"},"Závody Šohajů 2017 - Klub","CZ",8,206,344,0.6,4859,2915,2017,"x",null,"VT-125 Sohaj","L",{"$f":"VLOOKUP(A1358,Pilot,5,0)","v":"M"},""]
["Vladimir Abraham",{"$f":"VLOOKUP(A1359,Pilot,2,0)","v":1962},{"$f":"VLOOKUP(A1359,Pilot,3,0)","v":"Raná"},{"$f":"VLOOKUP(A1359,Pilot,4,0)","v":"CZ/C2"},"Závody Šohajů 2017 - Klub","CZ",9,184,344,0.6,4078,2447,2017,"x",null,"Ka 6","YZ",{"$f":"VLOOKUP(A1359,Pilot,5,0)","v":"M"},""]
["Vaclav Polivka / Miroslav Major",null,"GAC Benešov","CZ","Závody Šohajů 2017 - Klub","CZ",10,119,344,0.6,{"$f":"ROUND(H1360/I1360*10000*0.7+(MAX($G$1351:$G$1360)-G1360)/(MAX($G$1351:$G$1360)-1)*10000*0.3,0)","v":2422},1453,2017,null,null,"VT-125 Sohaj","F",null,"Není v databázi"]
["Sabrina Vogt",null,"Germany",null,"9. WGC Women 2017 - Klub","CZ",1,8662,8662,1.01,{"$f":"ROUND(H1361/I1361*10000*0.7+(MAX($G$1361:$G$1383)-G1361)/(MAX($G$1361:$G$1383)-1)*10000*0.3,0)","v":10000},{"$f":"ROUND(J1361*K1361,0)","v":10100},2017,null,null,"Std. Libelle","MT","F",{"$f":"IF(ISERROR(VLOOKUP(A1361,Pilot,6,0)),\"Není v databázi\",VLOOKUP(A1361,Pilot,6,0))","v":"Není v databázi"}]
["Sarah Arnold",null,"USA",null,"9. WGC Women 2017 - Klub","CZ",2,8555,8662,1.01,{"$f":"ROUND(H1362/I1362*10000*0.7+(MAX($G$1361:$G$1383)-G1362)/(MAX($G$1361:$G$1383)-1)*10000*0.3,0)","v":9777},{"$f":"ROUND(J1362*K1362,0)","v":9875},2017,null,null,"Std. Cirrus","FW","F","Není v databázi"]
["Sarah Drefenstedt",null,"Germany",null,"9. WGC Women 2017 - Klub","CZ",3,8478,8662,1.01,9579,9675,2017,null,null,"Std. Cirrus","R","F","Není v databázi"]
["Elena Fergnani",null,"Italy",null,"9. WGC Women 2017 - Klub","CZ",4,8329,8662,1.01,9322,9415,2017,null,null,"LS-1f","AM","F","Není v databázi"]
["Ailsa McMillan",null,"Australia",null,"9. WGC Women 2017 - Klub","CZ",5,8204,8662,{"$f":"VLOOKUP(E1365,Soutez,8,0)","v":1.01},9084,9175,2017,null,null,"Std. Cirrus",75,"F","Není v databázi"]
["Annemiek Koers",null,"Netherlands",null,"9. WGC Women 2017 - Klub","CZ",6,8108,8662,1.01,8870,8959,2017,null,null,"LS-4","8M","F","Není v databázi"]
["Ines Engelhardt",null,"Germany",null,"9. WGC Women 2017 - Klub","CZ",7,8001,8662,1.01,8648,8734,2017,null,null,"LS-1f","EF","F","Není v databázi"]
["Aude Untersee",null,"France",null,"9. WGC Women 2017 - Klub","CZ",8,7982,8662,1.01,8496,8581,2017,null,null,"Hornet H-206","H1","F","Není v databázi"]
["Claudia Hill",null,"United Kingdom",null,"9. WGC Women 2017 - Klub","CZ",9,7978,8662,1.01,8356,8440,2017,null,null,"LS-1f","KC","F","Není v databázi"]
["Petra Piskata",{"$f":"VLOOKUP(A1370,Pilot,2,0)","v":1989},{"$f":"VLOOKUP(A1370,Pilot,3,0)","v":"Hranice"},{"$f":"VLOOKUP(A1370,Pilot,4,0)","v":"CZ/M"},"9. WGC Women 2017 - Klub","CZ",10,7866,8662,1.01,{"$f":"ROUND(H1370/I1370*10000*0.7+(MAX($G$1361:$G$1383)-G1370)/(MAX($G$1361:$G$1383)-1)*10000*0.3,0)","v":8129},{"$f":"ROUND(J1370*K1370,0)","v":8210},2017,null,"x","Std. Cirrus","XC",{"$f":"VLOOKUP(A1370,Pilot,5,0)","v":"F"},""]
["Paula Drazul",null,"Argentina",null,"9. WGC Women 2017 - Klub","CZ",11,7839,8662,1.01,7971,8051,2017,null,null,"St.Libelle","PY","F","Není v databázi"]
["Elizabeth Sparrow",null,"United Kingdom",null,"9. WGC Women 2017 - Klub","CZ",12,7667,8662,1.01,7696,7773,2017,null,null,"Std. Cirrus",873,"F","Není v databázi"]
["Ayala Truelove",null,"United Kingdom",null,"9. WGC Women 2017 - Klub","CZ",13,7615,8662,1.01,7518,7593,2017,null,null,"Std. Libelle","J34","F","Není v databázi"]
["Eva Cerna",{"$f":"VLOOKUP(A1374,Pilot,2,0)","v":1964},{"$f":"VLOOKUP(A1374,Pilot,3,0)","v":"Příbram"},{"$f":"VLOOKUP(A1374,Pilot,4,0)","v":"CZ/C1"},"9. WGC Women 2017 - Klub","CZ",14,7489,8662,1.01,7279,7352,2017,null,"x","Std. Cirrus","CX",{"$f":"VLOOKUP(A1374,Pilot,5,0)","v":"F"},""]
["Monika Bobula",null,"Poland",null,"9. WGC Women 2017 - Klub","CZ",15,7364,8662,1.01,7042,7112,2017,null,null,"SZD-48 Brawo","BZ","F","Není v databázi"]
["Klara Teichmannova",{"$f":"VLOOKUP(A1376,Pilot,2,0)","v":1993},{"$f":"VLOOKUP(A1376,Pilot,3,0)","v":"Hronov"},{"$f":"VLOOKUP(A1376,Pilot,4,0)","v":"CZ/C2"},"9. WGC Women 2017 - Klub","CZ",16,7250,8662,1.01,6813,6881,2017,null,null,"Std. Cirrus","LY",{"$f":"VLOOKUP(A1376,Pilot,5,0)","v":"F"},""]
["Claire Scutter",null,"Australia",null,"9. WGC Women 2017 - Klub","CZ",17,7117,8662,1.01,6570,6636,2017,null,null,"Std. Cirrus","YF","F","Není v databázi"]
["Jenny Ganderton",null,"Australia",null,"9. WGC Women 2017 - Klub","CZ",18,7089,8662,1.01,6411,6475,2017,null,null,"Std. Cirrus","SN","F","Není v databázi"]
["Amelie Audier",null,"France",null,"9. WGC Women 2017 - Klub","CZ",19,6484,8662,1.01,5785,5843,2017,null,null,"Std. Cirrus","SV","F","Není v databázi"]
["Marta Marszalek",null,"Poland",null,"9. WGC Women 2017 - Klub","CZ",20,6479,8662,1.01,5645,5701,2017,null,null,"SZD-48 Brawo","BI","F","Není v databázi"]
["Lilian de Bruijn",null,"Netherlands",null,"9. WGC Women 2017 - Klub","CZ",21,5857,8662,1.01,5006,5056,2017,null,null,"LS-4b","VR","F","Není v databázi"]
["Alicija Awirzen",null,"Poland",null,"9. WGC Women 2017 - Klub","CZ",22,4821,8662,1.01,4032,4072,2017,null,null,"Jantar Std. 3","MN","F","Není v databázi"]
["Angelika Mayr",null,"Germany",null,"9. WGC Women 2017 - Klub","CZ",23,3606,8662,1.01,2914,2943,2017,null,null,"ASW-24","LX","F","Není v databázi"]
["Aude Grangeray",null,"France",null,"9. WGC Women 2017 - Std","CZ",1,8881,8881,1.0249999999999999,{"$f":"ROUND(H1384/I1384*10000*0.7+(MAX($G$1384:$G$1397)-G1384)/(MAX($G$1384:$G$1397)-1)*10000*0.3,0)","v":10000},{"$f":"ROUND(J1384*K1384,0)","v":10250},2017,null,null,"Discus 2A","ET","F",{"$f":"IF(ISERROR(VLOOKUP(A1384,Pilot,6,0)),\"Není v databázi\",VLOOKUP(A1384,Pilot,6,0))","v":"Není v databázi"}]
["Cornelia Schaich",null,"Germany",null,"9. WGC Women 2017 - Std","CZ",2,8736,8881,1.0249999999999999,{"$f":"ROUND(H1385/I1385*10000*0.7+(MAX($G$1384:$G$1397)-G1385)/(MAX($G$1384:$G$1397)-1)*10000*0.3,0)","v":9655},{"$f":"ROUND(J1385*K1385,0)","v":9896},2017,null,null,"LS-8","3S","F","Není v databázi"]
["Jana Veprekova",{"$f":"VLOOKUP(A1386,Pilot,2,0)","v":1961},{"$f":"VLOOKUP(A1386,Pilot,3,0)","v":"Dvůr Králové"},{"$f":"VLOOKUP(A1386,Pilot,4,0)","v":"CZ/C2"},"9. WGC Women 2017 - Std","CZ",3,8686,8881,1.0249999999999999,9385,9620,2017,null,"x","LS-8","W8",{"$f":"VLOOKUP(A1386,Pilot,5,0)","v":"F"},""]
["Ulrike Teichmann",null,"Germany",null,"9. WGC Women 2017 - Std","CZ",4,8489,8881,1.0249999999999999,8999,9224,2017,null,null,"LS-8","C","F","Není v databázi"]
["Judyta Czyż",null,"Poland",null,"9. WGC Women 2017 - Std","CZ",5,8369,8881,1.0249999999999999,8673,8890,2017,null,null,"LS-8 18","LOT","F","Není v databázi"]
["Magali De Cachard",null,"France",null,"9. WGC Women 2017 - Std","CZ",6,8318,8881,1.0249999999999999,8402,8612,2017,null,null,"Discus 2A","CFM1","F","Není v databázi"]
["Dana Novakova",{"$f":"VLOOKUP(A1390,Pilot,2,0)","v":1965},{"$f":"VLOOKUP(A1390,Pilot,3,0)","v":"Mladá Boleslav"},{"$f":"VLOOKUP(A1390,Pilot,4,0)","v":"CZ/C1"},"9. WGC Women 2017 - Std","CZ",7,8207,8881,1.0249999999999999,8084,8286,2017,null,null,"LS-8","FX",{"$f":"VLOOKUP(A1390,Pilot,5,0)","v":"F"},""]
["Hana Treslova",{"$f":"VLOOKUP(A1391,Pilot,2,0)","v":1991},{"$f":"VLOOKUP(A1391,Pilot,3,0)","v":"Raná"},{"$f":"VLOOKUP(A1391,Pilot,4,0)","v":"CZ/C2"},"9. WGC Women 2017 - Std","CZ",8,8109,8881,1.0249999999999999,7776,7970,2017,null,null,"Discus 2A","GX",{"$f":"VLOOKUP(A1391,Pilot,5,0)","v":"F"},""]
["Doortje Grunder",null,"Netherlands",null,"9. WGC Women 2017 - Std","CZ",9,7931,8881,1.0249999999999999,7405,7590,2017,null,null,"LS-8","XK","F","Není v databázi"]
["Orsolya Diofasi",null,"Hungary",null,"9. WGC Women 2017 - Std","CZ",10,7914,8881,1.0249999999999999,7161,7340,2017,null,null,"Discus 2A","HUN","F","Není v databázi"]
["Anna Michalak",null,"Poland",null,"9. WGC Women 2017 - Std","CZ",11,5859,8881,1.0249999999999999,5310,5443,2017,null,null,"Discus 2A","Y","F","Není v databázi"]
["Viktoria Vadaszi",null,"Hungary",null,"9. WGC Women 2017 - Std","CZ",12,5373,8881,1.0249999999999999,{"$f":"ROUND(H1395/I1395*10000*0.7+(MAX($G$1384:$G$1397)-G1395)/(MAX($G$1384:$G$1397)-1)*10000*0.3,0)","v":4697},4814,2017,null,null,"Discus 2A","HAL","F","Není v databázi"]
["Halina Rynkiewicz",null,"Poland",null,"9. WGC Women 2017 - Std","CZ",13,4990,8881,1.0249999999999999,4164,4268,2017,null,null,"Discus 2A","I","F","Není v databázi"]
["Sue Kussbach",null,"Germany",null,"9. WGC Women 2017 - Std","CZ",14,351,8881,1.0249999999999999,277,284,2017,null,null,"LS-8","KS","F","Není v databázi"]
["Katrin Senne",null,"Germany",null,"9. WGC Women 2017 - 18m","CZ",1,9297,9297,1.01,{"$f":"ROUND(H1398/I1398*10000*0.7+(MAX($G$1398:$G$1408)-G1398)/(MAX($G$1398:$G$1408)-1)*10000*0.3,0)","v":10000},{"$f":"ROUND(J1398*K1398,0)","v":10100},2017,null,null,"ASG-29E","BK","F",{"$f":"IF(ISERROR(VLOOKUP(A1398,Pilot,6,0)),\"Není v databázi\",VLOOKUP(A1398,Pilot,6,0))","v":"Není v databázi"}]
["Alena Netusilova",{"$f":"VLOOKUP(A1399,Pilot,2,0)","v":1970},{"$f":"VLOOKUP(A1399,Pilot,3,0)","v":"Zbraslavice"},{"$f":"VLOOKUP(A1399,Pilot,4,0)","v":"CZ/C1"},"9. WGC Women 2017 - 18m","CZ",2,9275,9297,1.01,{"$f":"ROUND(H1399/I1399*10000*0.7+(MAX($G$1398:$G$1408)-G1399)/(MAX($G$1398:$G$1408)-1)*10000*0.3,0)","v":9683},{"$f":"ROUND(J1399*K1399,0)","v":9780},2017,null,"x","JS-1C EVO","JX",{"$f":"VLOOKUP(A1399,Pilot,5,0)","v":"F"},""]
["Anne Ducarouge",null,"France",null,"9. WGC Women 2017 - 18m","CZ",3,9161,9297,1.01,9298,9391,2017,null,null,"JS-1C EVO","EVO","F","Není v databázi"]
["Marilyne Abadie-Berard",null,"France",null,"9. WGC Women 2017 - 18m","CZ",4,9135,9297,1.01,8978,9068,2017,null,null,"ASG-29E","2L","F","Není v databázi"]
["Melanie Gadoulet",null,"France",null,"9. WGC Women 2017 - 18m","CZ",5,9127,9297,1.01,8672,8759,2017,null,null,"JS-1C EVO","FD","F","Není v databázi"]
["Joanna Biedermann",null,"Poland",null,"9. WGC Women 2017 - 18m","CZ",6,8876,9297,1.01,8183,8265,2017,null,null,"ASG-29","PL","F","Není v databázi"]
["Jana Treslova",{"$f":"VLOOKUP(A1404,Pilot,2,0)","v":1963},{"$f":"VLOOKUP(A1404,Pilot,3,0)","v":"Raná"},{"$f":"VLOOKUP(A1404,Pilot,4,0)","v":"CZ/C2"},"9. WGC Women 2017 - 18m","CZ",7,7962,9297,1.01,7195,7267,2017,null,null,"ASG-29E","QZ",{"$f":"VLOOKUP(A1404,Pilot,5,0)","v":"F"},""]
["Lenka Kuthanova",{"$f":"VLOOKUP(A1405,Pilot,2,0)","v":1960},{"$f":"VLOOKUP(A1405,Pilot,3,0)","v":"LK Břeclav"},{"$f":"VLOOKUP(A1405,Pilot,4,0)","v":"CZ/M"},"9. WGC Women 2017 - 18m","CZ",8,7436,9297,1.01,{"$f":"ROUND(H1405/I1405*10000*0.7+(MAX($G$1398:$G$1408)-G1405)/(MAX($G$1398:$G$1408)-1)*10000*0.3,0)","v":6499},{"$f":"ROUND(J1405*K1405,0)","v":6564},2017,null,null,"JS-1C","LXI",{"$f":"VLOOKUP(A1405,Pilot,5,0)","v":"F"},""]
["Sandra Malzacher",null,"Germany",null,"9. WGC Women 2017 - 18m","CZ",9,5863,9297,1.01,5014,5064,2017,null,null,"Ventus 2c/18m","DR","F","Není v databázi"]
["Christin Nielsen",null,"Denmark",null,"9. WGC Women 2017 - 18m","CZ",10,1726,9297,1.01,1600,1616,2017,null,null,"Ventus 2 cxt","MO","F","Není v databázi"]
["Christine Grote",null,"Germany",null,"9. WGC Women 2017 - 18m","CZ",11,1372,9297,1.01,1033,1043,2017,null,null,"JS-1","YE","F","Není v databázi"]
["Jaroslav Tomana",{"$f":"VLOOKUP(A1409,Pilot,2,0)","v":1975},{"$f":"VLOOKUP(A1409,Pilot,3,0)","v":"Zbraslavice"},{"$f":"VLOOKUP(A1409,Pilot,4,0)","v":"CZ/C1"},"PMČR CON 2017 - Klub","CZ",1,4209,4209,1.03,{"$f":"ROUND(H1409/I1409*10000*0.7+(MAX($G$1409:$G$1433)-G1409)/(MAX($G$1409:$G$1433)-1)*10000*0.3,0)","v":10000},{"$f":"ROUND(J1409*K1409,0)","v":10300},2017,"x",null,"Std. Cirrus","SN",{"$f":"VLOOKUP(A1409,Pilot,5,0)","v":"M"},{"$f":"IF(ISERROR(VLOOKUP(A1409,Pilot,6,0)),\"Není v databázi\",VLOOKUP(A1409,Pilot,6,0))","v":""}]
["Ivan Novak",1962,"Mladá Boleslav","CZ/C1","PMČR CON 2017 - Klub","CZ",2,4045,4209,1.03,{"$f":"ROUND(H1410/I1410*10000*0.7+(MAX($G$1409:$G$1433)-G1410)/(MAX($G$1409:$G$1433)-1)*10000*0.3,0)","v":9602},{"$f":"ROUND(J1410*K1410,0)","v":9890},2017,"x",null,"Std. Cirrus","DI","M",""]
["Petr Stepanek",1989,"Moravská Třebová","CZ/M","PMČR CON 2017 - Klub","CZ",3,3946,4209,1.03,9313,9592,2017,"x",null,"ASW-19B","AE","M",""]
["Michal Lesinger",1966,"Moravská Třebová","CZ/M","PMČR CON 2017 - Klub","CZ",4,3902,4209,1.03,9114,9387,2017,"x",null,"ASW-19B","LL","M",""]
["Jan Pavlik",1987,"Křižanov","CZ/M","PMČR CON 2017 - Klub","CZ",5,3784,4209,1.03,8793,9057,2017,"x",null,"Std. Cirrus","ICQ","M",""]
["Richard Vlcek",1993,"Kunovice","CZ/M","PMČR CON 2017 - Klub","CZ",6,3561,4209,1.03,8297,8546,2017,"x",null,"Std. Cirrus","XC","M",""]
["Zdenek Balcarek",1967,"Kroměříž","CZ/M","PMČR CON 2017 - Klub","CZ",7,3433,4209,1.03,7959,8198,2017,"x",null,"Std. Cirrus","ZL","M",""]
["Barbora Moravcova",1994,"Zbraslavice","CZ/C1","PMČR CON 2017 - Klub","CZ",8,3403,4209,1.03,7785,8019,2017,"x","x","ASW-19B","CF","F","Junior v roce 2019"]
["Klara Teichmannova",1993,"Hronov","CZ/C2","PMČR CON 2017 - Klub","CZ",9,3318,4209,1.03,7518,7744,2017,null,null,"Std. Cirrus","LY","F",""]
["Ondrej Sindelar",1979,"Mladá Boleslav","CZ/C1","PMČR CON 2017 - Klub","CZ",10,3295,4209,1.03,7355,7576,2017,"x",null,"ASW-19B","OI","M",""]
["Jiri Fousek",1990,"Raná","CZ/C2","PMČR CON 2017 - Klub","CZ",11,3292,4209,1.03,7225,7442,2017,"x",null,"Std. Cirrus","LW","M",""]
["Jan Vavrin",1987,"Vysoké Mýto","CZ/C2","PMČR CON 2017 - Klub","CZ",12,3246,4209,1.03,7023,7234,2017,"x",null,"ASW-15B","IG","M",""]
["Lubor Zeleny",1957,"Přibyslav","CZ/C2","PMČR CON 2017 - Klub","CZ",13,3235,4209,1.03,6880,7086,2017,"x",null,"Std. Cirrus","AW","M",""]
["Pavlina Horackova",1965,"Šumperk","CZ/M","PMČR CON 2017 - Klub","CZ",14,3178,4209,1.03,6660,6860,2017,"x","x","SZD 48 Jantar Std. 2","SU","F",""]
["Martin Stepanek",1987,"Moravská Třebová","CZ/M","PMČR CON 2017 - Klub","CZ",15,3032,4209,1.03,6293,6482,2017,"x",null,"ASW-15B","LE","M",""]
["Jan Zapletal",1997,"Kroměříž","CZ/M","PMČR CON 2017 - Klub","CZ",16,2721,4209,1.03,5650,5820,2017,null,null,"Std. Cirrus","XII","M","Junior v roce 2019"]
["Martin Piskacek",1991,"Beroun","CZ/C1","PMČR CON 2017 - Klub","CZ",17,2707,4209,1.03,5502,5667,2017,"x",null,"Std. Cirrus",75,"M",""]
["Anna Hajkova",1989,"Mladá Boleslav","CZ/C1","PMČR CON 2017 - Klub","CZ",18,2594,4209,1.03,5189,5345,2017,null,null,"Std. Cirrus","BB","F",""]
["Daniel Ryba",1994,"Dvůr Králové","CZ/C2","PMČR CON 2017 - Klub","CZ",19,2531,4209,1.03,4959,5108,2017,null,null,"ASW-19B","L7","M","Junior v roce 2019"]
["Leos Strnadek",1983,"Hodkovice","CZ/C2","PMČR CON 2017 - Klub","CZ",20,2499,4209,1.03,4781,4924,2017,null,null,"ASW-19B","XZ","M",""]
["Ladislav Jozsa",1981,"Medlánky","CZ/M","PMČR CON 2017 - Klub","CZ",21,2339,4209,{"$f":"VLOOKUP(E1429,Soutez,8,0)","v":1.03},4390,4522,2017,null,null,"Std. Cirrus","LJ","M",""]
["Jan Vozeh",1995,"Rakovník","CZ/C1","PMČR CON 2017 - Klub","CZ",22,1555,4209,1.03,2961,3050,2017,null,null,"LS 1-d","HV","M","Junior v roce 2019"]
["Tomas Frinta",1970,"Hodkovice","CZ/C2","PMČR CON 2017 - Klub","CZ",23,1497,4209,1.03,2740,2822,2017,"x",null,"ASW-19B","XP","M",""]
["Jan Kotan",1982,"Letňany","CZ/C1","PMČR CON 2017 - Klub","CZ",24,270,4209,1.03,574,591,2017,null,null,"ASW-19B","WT","M",""]
["Marek Pechanec",1970,"Luhačovice","CZ/M","PMČR CON 2017 - Klub","CZ",25,122,4209,1.03,{"$f":"ROUND(H1433/I1433*10000*0.7+(MAX($G$1409:$G$1433)-G1433)/(MAX($G$1409:$G$1433)-1)*10000*0.3,0)","v":203},{"$f":"ROUND(J1433*K1433,0)","v":209},2017,null,null,"Std. Cirrus","SJ","M",""]
["Miloslav Cink",{"$f":"VLOOKUP(A1434,Pilot,2,0)","v":1987},{"$f":"VLOOKUP(A1434,Pilot,3,0)","v":"Letkov"},{"$f":"VLOOKUP(A1434,Pilot,4,0)","v":"CZ/C1"},"PMČR CON 2017 - Kombi 15m","CZ",1,5256,5256,1.0349999999999999,{"$f":"ROUND(H1434/I1434*10000*0.7+(MAX($G$1434:$G$1449)-G1434)/(MAX($G$1434:$G$1449)-1)*10000*0.3,0)","v":10000},{"$f":"ROUND(J1434*K1434,0)","v":10350},2017,"x",null,"LS-8","EU",{"$f":"VLOOKUP(A1434,Pilot,5,0)","v":"M"},{"$f":"IF(ISERROR(VLOOKUP(A1434,Pilot,6,0)),\"Není v databázi\",VLOOKUP(A1434,Pilot,6,0))","v":""}]
["Pavel Louzecky",1957,"Přibyslav","CZ/C2","PMČR CON 2017 - Kombi 15m","CZ",2,5147,5256,1.0349999999999999,{"$f":"ROUND(H1435/I1435*10000*0.7+(MAX($G$1434:$G$1449)-G1435)/(MAX($G$1434:$G$1449)-1)*10000*0.3,0)","v":9655},{"$f":"ROUND(J1435*K1435,0)","v":9993},2017,null,null,"LS-8","AU","M",""]
["Radek Krejcirik",1991,"Hranice","CZ/M","PMČR CON 2017 - Kombi 15m","CZ",3,4603,5256,1.0349999999999999,8730,9036,2017,null,null,"Ventus 2a 15m","AX","M",""]
["Petr Koutny",1971,"Křižanov","CZ/M","PMČR CON 2017 - Kombi 15m","CZ",4,4508,5256,1.0349999999999999,8404,8698,2017,"x",null,"LS-8","SK","M",""]
["Karel Novak",1993,"Mladá Boleslav","CZ/C1","PMČR CON 2017 - Kombi 15m","CZ",5,4424,5256,1.0349999999999999,8092,8375,2017,null,null,"LS-8","FX","M",""]
["Jan Horak",1971,"Zbraslavice","CZ/C1","PMČR CON 2017 - Kombi 15m","CZ",6,4263,5256,1.0349999999999999,7678,7947,2017,"x",null,"ASW-20(A) WL","WX","M",""]
["Jan Boruvka",1984,"Jičín","CZ/C2","PMČR CON 2017 - Kombi 15m","CZ",7,4245,5256,1.0349999999999999,7454,7715,2017,null,null,"Ventus c 15m","EG","M",""]
["David Mach",1994,"Hronov","CZ/C2","PMČR CON 2017 - Kombi 15m","CZ",8,4131,5256,1.0349999999999999,7102,7351,2017,null,null,"LS-8","JB","M","Junior v roce 2019"]
["Radek Kucirek",1973,"Havlíčkův Brod","CZ/C2","PMČR CON 2017 - Kombi 15m","CZ",9,4104,5256,1.0349999999999999,6866,7106,2017,"x",null,"Ventus 2bx 15m","YA","M",""]
["Radek Zima 78",1978,"Hodkovice","CZ/C2","PMČR CON 2017 - Kombi 15m","CZ",10,4012,5256,1.0349999999999999,6543,6772,2017,"x",null,"Ventus b/15m","7F","M",""]
["Hana Treslova",1991,"Raná","CZ/C2","PMČR CON 2017 - Kombi 15m","CZ",11,3781,5256,1.0349999999999999,6036,6247,2017,null,null,"Discus 2a 15m","GX","F",""]
["Zdenek Boruvka 54",1954,"Jičín","CZ/C2","PMČR CON 2017 - Kombi 15m","CZ",12,3608,5256,1.0349999999999999,5605,5801,2017,null,null,"LS-8","ZBI","M",""]
["Lukas Capek",1992,"Letňany","CZ/C1","PMČR CON 2017 - Kombi 15m","CZ",13,3258,5256,1.0349999999999999,4939,5112,2017,null,null,"Mosquito","LC","M",""]
["Jiri Kusbach",1959,"Luhačovice","CZ/M","PMČR CON 2017 - Kombi 15m","CZ",14,3159,5256,1.0349999999999999,4607,4768,2017,null,null,"KKB-15E FES","B","M",""]
["Jan Viskot",1995,"Břeclav","CZ/M","PMČR CON 2017 - Kombi 15m","CZ",15,2238,5256,1.0349999999999999,{"$f":"ROUND(H1448/I1448*10000*0.7+(MAX($G$1434:$G$1449)-G1448)/(MAX($G$1434:$G$1449)-1)*10000*0.3,0)","v":3181},{"$f":"ROUND(J1448*K1448,0)","v":3292},2017,null,null,"LS-8","W8","M","Junior v roce 2019"]
["Przemysław Bartczak",null,"Czestochowski","PL","PMČR CON 2017 - Kombi 15m","CZ",16,69,5256,1.0349999999999999,92,95,2017,null,null,"LS-8","A","M","Není v databázi"]
["Lukasz Wojcik",null,"Wloclawek","PL","PMČR CON 2017 - Kombi Open","CZ",1,5683,5683,1.085,{"$f":"ROUND(H1450/I1450*10000*0.7+(MAX($G$1450:$G$1472)-G1450)/(MAX($G$1450:$G$1472)-1)*10000*0.3,0)","v":10000},{"$f":"ROUND(J1450*K1450,0)","v":10850},2017,null,null,"JS-1CJ EVO 18m","P","M",{"$f":"IF(ISERROR(VLOOKUP(A1450,Pilot,6,0)),\"Není v databázi\",VLOOKUP(A1450,Pilot,6,0))","v":"Není v databázi"}]
["Petr Tichy",{"$f":"VLOOKUP(A1451,Pilot,2,0)","v":1973},{"$f":"VLOOKUP(A1451,Pilot,3,0)","v":"Zbraslavice"},{"$f":"VLOOKUP(A1451,Pilot,4,0)","v":"CZ/C1"},"PMČR CON 2017 - Kombi Open","CZ",2,5262,5683,1.085,{"$f":"ROUND(H1451/I1451*10000*0.7+(MAX($G$1450:$G$1472)-G1451)/(MAX($G$1450:$G$1472)-1)*10000*0.3,0)","v":9345},{"$f":"ROUND(J1451*K1451,0)","v":10139},2017,"x",null,"ASG-29E 18m","AJ",{"$f":"VLOOKUP(A1451,Pilot,5,0)","v":"M"},""]
["Petr Krejcirik",{"$f":"VLOOKUP(A1452,Pilot,2,0)","v":1960},{"$f":"VLOOKUP(A1452,Pilot,3,0)","v":"Hranice"},{"$f":"VLOOKUP(A1452,Pilot,4,0)","v":"CZ/M"},"PMČR CON 2017 - Kombi Open","CZ",3,4974,5683,1.085,8854,9607,2017,"x",null,"ASG-29E 18m","QZ",{"$f":"VLOOKUP(A1452,Pilot,5,0)","v":"M"},""]
["Roman Mracek",{"$f":"VLOOKUP(A1453,Pilot,2,0)","v":1980},{"$f":"VLOOKUP(A1453,Pilot,3,0)","v":"Letkov"},{"$f":"VLOOKUP(A1453,Pilot,4,0)","v":"CZ/C1"},"PMČR CON 2017 - Kombi Open","CZ",4,4968,5683,1.085,8710,9450,2017,null,null,"ASG-29E 18m","QX",{"$f":"VLOOKUP(A1453,Pilot,5,0)","v":"M"},""]
["Zdislaw Bednarczuk",null,"Bielsko-Biala","PL","PMČR CON 2017 - Kombi Open","CZ",5,4850,5683,1.085,8429,9145,2017,null,null,"ASG-29E 18m","ZB","M","Není v databázi"]
["Alena Netusilova",{"$f":"VLOOKUP(A1455,Pilot,2,0)","v":1970},{"$f":"VLOOKUP(A1455,Pilot,3,0)","v":"Zbraslavice"},{"$f":"VLOOKUP(A1455,Pilot,4,0)","v":"CZ/C1"},"PMČR CON 2017 - Kombi Open","CZ",6,4653,5683,1.085,8049,8733,2017,"x",null,"JS-1CJ EVO 18m","JX",{"$f":"VLOOKUP(A1455,Pilot,5,0)","v":"F"},""]
["Jiri Stepanek",{"$f":"VLOOKUP(A1456,Pilot,2,0)","v":1956},{"$f":"VLOOKUP(A1456,Pilot,3,0)","v":"Moravská Třebová"},{"$f":"VLOOKUP(A1456,Pilot,4,0)","v":"CZ/M"},"PMČR CON 2017 - Kombi Open","CZ",7,4530,5683,1.085,7762,8422,2017,"x",null,"Nimbus 2b","MT",{"$f":"VLOOKUP(A1456,Pilot,5,0)","v":"M"},""]
["Takeshi Maruyama",null,"Japan Soaring Club","JP","PMČR CON 2017 - Kombi Open","CZ",8,4527,5683,1.085,7622,8270,2017,null,null,"ASG-29E 18m","RI","M","Není v databázi"]
["Adam Woolley",null,"Kingaroy Soaring Club","AU","PMČR CON 2017 - Kombi Open","CZ",9,4493,5683,1.085,7443,8076,2017,null,null,"ASG-29 18m","AY","M","Není v databázi"]
["John Buchanan",null,"Kingaroy Soaring Club","AU","PMČR CON 2017 - Kombi Open","CZ",10,4467,5683,1.085,7275,7893,2017,null,null,"Ventus 2 cxt 18m 600kg","AB","M","Není v databázi"]
["Steven Raimond",null,"SZT Terlet","NL","PMČR CON 2017 - Kombi Open","CZ",11,4379,5683,1.085,{"$f":"ROUND(H1460/I1460*10000*0.7+(MAX($G$1450:$G$1472)-G1460)/(MAX($G$1450:$G$1472)-1)*10000*0.3,0)","v":7030},7628,2017,null,null,"ASG-29E 18m","1R","M","Není v databázi"]
["Pavel Trybenekr",{"$f":"VLOOKUP(A1461,Pilot,2,0)","v":1990},{"$f":"VLOOKUP(A1461,Pilot,3,0)","v":"Hořice"},{"$f":"VLOOKUP(A1461,Pilot,4,0)","v":"CZ/C2"},"PMČR CON 2017 - Kombi Open","CZ",12,4271,5683,1.085,6761,7336,2017,"x",null,"ASW-22BLE WL 850kg","RX",{"$f":"VLOOKUP(A1461,Pilot,5,0)","v":"M"},""]
["Martin Hrivna",1978,"Zbraslavice","CZ/C1","PMČR CON 2017 - Kombi Open","CZ",13,4062,5683,1.085,6367,6908,2017,null,null,"ASG-29E 18m","NX","M",""]
["Karel Mares",1974,"Slaný","CZ/C1","PMČR CON 2017 - Kombi Open","CZ",14,3835,5683,1.085,5951,6457,2017,"x",null,"LAK 17AT/18m","YF","M",""]
["Ondrej Dupal",1966,"GAC Benešov","CZ/C1","PMČR CON 2017 - Kombi Open","CZ",15,3770,5683,1.085,5735,6222,2017,"x",null,"ASG-29E 18m","GO","M",""]
["Lenka Kuthanova",1960,"LK Břeclav","CZ/M","PMČR CON 2017 - Kombi Open","CZ",16,3748,5683,1.085,5571,6045,2017,null,null,"JS-1CJ EVO 18m","LX","F",""]
["Petr Hotovy",1958,"Česká Lípa","CZ/C2","PMČR CON 2017 - Kombi Open","CZ",17,3477,5683,1.085,5101,5535,2017,null,null,"HPH 304MS Shark 18m 600kg","MH","M",""]
["Martin Pekar",1973,"Šumperk","CZ/M","PMČR CON 2017 - Kombi Open","CZ",18,3428,5683,1.085,4904,5321,2017,null,null,"HPH 304 eS 18m 573kg","ES","M",""]
["Eva Cerna",1964,"Příbram","CZ/C1","PMČR CON 2017 - Kombi Open","CZ",19,3375,5683,1.085,4703,5103,2017,"x",null,"Ventus 2 cxt 18m 600kg","EK","F",""]
["Adam Czeladzki",null,"Warszawski","PL","PMČR CON 2017 - Kombi Open","CZ",20,2290,5683,1.085,3230,3505,2017,null,null,"JS-1CJ EVO 18m","GOL","M","Není v databázi"]
["Michael Fik",{"$f":"VLOOKUP(A1470,Pilot,2,0)","v":1972},{"$f":"VLOOKUP(A1470,Pilot,3,0)","v":"Strakonice"},{"$f":"VLOOKUP(A1470,Pilot,4,0)","v":"CZ/C1"},"PMČR CON 2017 - Kombi Open","CZ",21,1291,5683,1.085,1863,2021,2017,"x",null,"Ventus c 17.6m","WL",{"$f":"VLOOKUP(A1470,Pilot,5,0)","v":"M"},""]
["Wolfgang Janowitsch",null,"FRA-Wiener Neustadt","AT","PMČR CON 2017 - Kombi Open","CZ",22,773,5683,1.085,1089,1182,2017,null,null,"Ventus 3T 18m","WO","M","Není v databázi"]
["Branko Blagojevic",null,"Zrenjanin","SR","PMČR CON 2017 - Kombi Open","CZ",23,194,5683,1.085,{"$f":"ROUND(H1472/I1472*10000*0.7+(MAX($G$1450:$G$1472)-G1472)/(MAX($G$1450:$G$1472)-1)*10000*0.3,0)","v":239},{"$f":"ROUND(J1472*K1472,0)","v":259},2017,null,null,"JS-1CJ EVO 18m","BP","M","Není v databázi"]
["Roman Konarik",{"$f":"VLOOKUP(A1473,Pilot,2,0)","v":1976},{"$f":"VLOOKUP(A1473,Pilot,3,0)","v":"Luhačovice"},{"$f":"VLOOKUP(A1473,Pilot,4,0)","v":"CZ/M"},"FL 2017 - Kombi","CZ",1,1556,1556,0.6,{"$f":"ROUND(H1473/I1473*10000*0.7+(MAX($G$1473:$G$1488)-G1473)/(MAX($G$1473:$G$1488)-1)*10000*0.3,0)","v":10000},{"$f":"ROUND(J1473*K1473,0)","v":6000},2017,"x",null,"Arcus M","AR",{"$f":"VLOOKUP(A1473,Pilot,5,0)","v":"M"},{"$f":"IF(ISERROR(VLOOKUP(A1473,Pilot,6,0)),\"Není v databázi\",VLOOKUP(A1473,Pilot,6,0))","v":""}]
["Frantisek Vancura",1966,"Hranice","CZ/M","FL 2017 - Kombi","CZ",2,1536,1556,0.6,{"$f":"ROUND(H1474/I1474*10000*0.7+(MAX($G$1473:$G$1488)-G1474)/(MAX($G$1473:$G$1488)-1)*10000*0.3,0)","v":9696},{"$f":"ROUND(J1474*K1474,0)","v":5818},2017,"x",null,"Nimbus 3T 24,5m (voda)","A1","M",""]
["Lumir Motyka",1955,"Frýdlant","CZ/M","FL 2017 - Kombi","CZ",3,1379,1556,0.6,8775,5265,2017,"x",null,"LAK 12 (voda)","DE","M",""]
["Vladimir Jirka",1965,"Zábřeh","CZ/M","FL 2017 - Kombi","CZ",4,1330,1556,0.6,8340,5004,2017,"x",null,"Ventus 2c 18m 525 kg","VJ","M",""]
["Milos Matejka",1956,"Beroun","CZ/C1","FL 2017 - Kombi","CZ",5,1252,1556,0.6,7775,4665,2017,"x",null,"Discus b +W (voda)","SH","M",""]
["Jaroslav Buryan",1953,"Zábřeh","CZ/M","FL 2017 - Kombi","CZ",6,1177,1556,0.6,7224,4334,2017,null,null,"ASW-20(A)+F 15m+W (voda)","NS","M",""]
["Jan Ratz",1987,"Plasy","CZ/C1","FL 2017 - Kombi","CZ",7,1162,1556,0.6,6942,4165,2017,null,null,"Ventus b 16,6m WL (voda)","JET","M",""]
["Michal Cechmanek",1978,"Luhačovice","CZ/M","FL 2017 - Kombi","CZ",8,1078,1556,0.6,6350,3810,2017,"x",null,"ASW-20(A)+F 15m+W (voda)","MK","M",""]
["Zdenek Schenk",1972,"Hranice","CZ/M","FL 2017 - Kombi","CZ",9,987,1556,0.6,5726,3436,2017,null,null,"Ventus ct 17,6m (voda)","SNeK","M",""]
["Jan Kristof",1962,"Frýdlant","CZ/M","FL 2017 - Kombi","CZ",10,922,1556,0.6,5219,3131,2017,"x",null,"DG-200 15m","AK","M",""]
["Oldrich Houzvicka",1975,"Frýdlant","CZ/M","FL 2017 - Kombi","CZ",11,801,1556,0.6,4461,2677,2017,null,null,"LS 4","FP","M",""]
["Jan Matejovsky",1972,"Hranice","CZ/M","FL 2017 - Kombi","CZ",12,494,1556,0.6,2865,1719,2017,null,null,"LS 3 15m (voda)","BT","M",""]
["Petr Baros",1974,"Hranice","CZ/M","FL 2017 - Kombi","CZ",13,235,1556,0.6,1486,892,2017,"x",null,"Duo Discus","OK","M",""]
["Antonin Kutalek",1943,"Zábřeh","CZ/M","FL 2017 - Kombi","CZ",14,166,1556,0.6,961,577,2017,null,null,"Mini-Nimbus c (voda)","GL","M",""]
["Pavel Foldyna",1976,"Frýdlant","CZ/M","FL 2017 - Kombi","CZ",15,0,1556,0.6,{"$f":"ROUND(H1487/I1487*10000*0.7+(MAX($G$1473:$G$1488)-G1487)/(MAX($G$1473:$G$1488)-1)*10000*0.3,0)","v":0},0,2017,null,null,"LS 3 15m (voda)","TX","M",""]
["Martin Urban",1971,"Frýdlant","CZ/M","FL 2017 - Kombi","CZ",15,0,1556,0.6,0,0,2017,null,null,"LS 3a 15m (voda)","SJ","M",""]
["Rostislav Stryk",{"$f":"VLOOKUP(A1489,Pilot,2,0)","v":1972},{"$f":"VLOOKUP(A1489,Pilot,3,0)","v":"Frýdlant"},{"$f":"VLOOKUP(A1489,Pilot,4,0)","v":"CZ/M"},"Adrenalin GP 2017 - Klub GP","CZ",1,25,25,0.6,{"$f":"ROUND((MAX($G$1489:$G$1499)-G1489)/(MAX($G$1489:$G$1499)-1)*10000,0)","v":10000},{"$f":"ROUND(J1489*K1489,0)","v":6000},2017,"x",null,"Std. Cirrus",22,{"$f":"VLOOKUP(A1489,Pilot,5,0)","v":"M"},{"$f":"IF(ISERROR(VLOOKUP(A1489,Pilot,6,0)),\"Není v databázi\",VLOOKUP(A1489,Pilot,6,0))","v":""}]
["Jan Sponer",1988,"Medlánky","CZ/M","Adrenalin GP 2017 - Klub GP","CZ",2,15,25,0.6,{"$f":"ROUND((MAX($G$1489:$G$1499)-G1490)/(MAX($G$1489:$G$1499)-1)*10000,0)","v":8889},{"$f":"ROUND(J1490*K1490,0)","v":5333},2017,"x",null,"Std. Cirrus","MI","M",""]
["Rene Hudak",1972,"Kunovice","CZ/M","Adrenalin GP 2017 - Klub GP","CZ",3,12,25,0.6,7778,4667,2017,"x",null,"Std. Cirrus WL","NK","M",""]
["Vit Prokop",1987,"Medlánky","CZ/M","Adrenalin GP 2017 - Klub GP","CZ",4,11,25,0.6,6667,4000,2017,"x",null,"Std. Cirrus","MF","M",""]
["Jan Mareth",1979,"Frýdlant","CZ/M","Adrenalin GP 2017 - Klub GP","CZ",5,8,25,{"$f":"VLOOKUP(E1493,Soutez,8,0)","v":0.6},5556,3334,2017,"x",null,"Astir CS","W7","M",""]
["Jiri Pelucha",1984,"Frýdlant","CZ/M","Adrenalin GP 2017 - Klub GP","CZ",6,6,25,0.6,{"$f":"ROUND((MAX($G$1489:$G$1499)-G1494)/(MAX($G$1489:$G$1499)-1)*10000,0)","v":4444},2666,2017,"x",null,"Std. Cirrus","IJ","M",""]
["Martin Svacina",1965,"Frýdlant","CZ/M","Adrenalin GP 2017 - Klub GP","CZ",7,4,25,0.6,3333,2000,2017,"x",null,"Std. Cirrus","E","M",""]
["Lubor Sobek",1979,"Frýdlant","CZ/M","Adrenalin GP 2017 - Klub GP","CZ",8,3,25,0.6,2222,1333,2017,"x",null,"LS 1 f","EM","M",""]
["Milan Svoboda 34",1934,"Letkov","CZ/C1","Adrenalin GP 2017 - Klub GP","CZ",9,1,25,0.6,{"$f":"ROUND((MAX($G$1489:$G$1499)-G1497)/(MAX($G$1489:$G$1499)-1)*10000,0)","v":1111},667,2017,"x",null,"Phobus A","VI","M",""]
["Stanislav Doskocil",1978,"Medlánky","CZ/M","Adrenalin GP 2017 - Klub GP","CZ",10,0,25,0.6,0,0,2017,null,null,"Std. Cirrus","SB","M",""]
["Radim Zielinski",1969,"Frýdlant","CZ/M","Adrenalin GP 2017 - Klub GP","CZ",10,0,25,0.6,0,0,2017,null,null,"Astir CS","BH","M",""]
["Vojtech Pivonka",{"$f":"VLOOKUP(A1500,Pilot,2,0)","v":1976},{"$f":"VLOOKUP(A1500,Pilot,3,0)","v":"Vrchlabí"},{"$f":"VLOOKUP(A1500,Pilot,4,0)","v":"CZ/C2"},"Safari 2017 - Duo Kombi","CZ",1,1738,1738,0.6,{"$f":"ROUND(H1500/I1500*10000*0.7+(MAX($G$1500:$G$1509)-G1500)/(MAX($G$1500:$G$1509)-1)*10000*0.3,0)","v":10000},{"$f":"ROUND(J1500*K1500,0)","v":6000},2017,"x",null,"L-13 Blaník","AY",{"$f":"VLOOKUP(A1500,Pilot,5,0)","v":"M"},{"$f":"IF(ISERROR(VLOOKUP(A1500,Pilot,6,0)),\"Není v databázi\",VLOOKUP(A1500,Pilot,6,0))","v":""}]
["Jan Sindelar",1946,"Kunovice","CZ/M","Safari 2017 - Duo Kombi","CZ",2,1670,1738,0.6,{"$f":"ROUND(H1501/I1501*10000*0.7+(MAX($G$1500:$G$1509)-G1501)/(MAX($G$1500:$G$1509)-1)*10000*0.3,0)","v":9393},{"$f":"ROUND(J1501*K1501,0)","v":5636},2017,"x",null,"L-13 Blaník","Z","M",""]
["Vladimir Prihoda",1953,"Kralupy","CZ/C1","Safari 2017 - Duo Kombi","CZ",3,1476,1738,0.6,8278,4967,2017,"x",null,"L 23 Superblanik","X","M",""]
["Josef Andrasovsky",1954,"Jaroměř","CZ/C2","Safari 2017 - Duo Kombi","CZ",4,1155,1738,0.6,6652,3991,2017,"x",null,"L.23 Superblaník","N","M",""]
["Vaclav Sehnal",1962,"Kolín","CZ/C1","Safari 2017 - Duo Kombi","CZ",5,1099,1738,0.6,6093,3656,2017,"x",null,"L-23 Superblaník","L23","M",""]
["Martin Markl",1960,"Kolín","CZ/C1","Safari 2017 - Duo Kombi","CZ",6,1067,1738,0.6,5631,3379,2017,"x",null,"L-13 Blaník","FL","M",""]
["Ivan Ladr",1940,"Dvůr Králové","CZ/C2","Safari 2017 - Duo Kombi","CZ",7,1056,1738,0.6,5253,3152,2017,"x",null,"L-13 Blaník","ET","M",""]
["Ondrej Teichman",1984,"Dvůr Králové","CZ/C2","Safari 2017 - Duo Kombi","CZ",8,887,1738,0.6,4239,2543,2017,"x",null,"L-23 Super Blaník","KM","M",""]
["Rostislav Broz",1968,"Vrchlabí","CZ/C2","Safari 2017 - Duo Kombi","CZ",9,790,1738,0.6,3515,2109,2017,"x",null,"L-13 Blaník","V","M",""]
["Martin Sehnoutka",1970,"Dvůr Králové","CZ/C2","Safari 2017 - Duo Kombi","CZ",10,0,1738,0.6,{"$f":"ROUND(H1509/I1509*10000*0.7+(MAX($G$1500:$G$1509)-G1509)/(MAX($G$1500:$G$1509)-1)*10000*0.3,0)","v":0},{"$f":"ROUND(J1509*K1509,0)","v":0},2017,null,null,"L-13 Blaník","MS","M",""]
["Marek Kornec",{"$f":"VLOOKUP(A1510,Pilot,2,0)","v":1957},{"$f":"VLOOKUP(A1510,Pilot,3,0)","v":"Dvůr Králové"},{"$f":"VLOOKUP(A1510,Pilot,4,0)","v":"CZ/C2"},"Safari 2017 - Klub","CZ",1,2247,2247,0.6,{"$f":"ROUND(H1510/I1510*10000*0.7+(MAX($G$1510:$G$1537)-G1510)/(MAX($G$1510:$G$1537)-1)*10000*0.3,0)","v":10000},{"$f":"ROUND(J1510*K1510,0)","v":6000},2017,"x",null,"SZD 50 Puchacz","KSS",{"$f":"VLOOKUP(A1510,Pilot,5,0)","v":"M"},{"$f":"IF(ISERROR(VLOOKUP(A1510,Pilot,6,0)),\"Není v databázi\",VLOOKUP(A1510,Pilot,6,0))","v":""}]
["Wolfgang Sluka",1942,"Liberec","CZ/C2","Safari 2017 - Klub","CZ",2,2188,2247,0.6,{"$f":"ROUND(H1511/I1511*10000*0.7+(MAX($G$1510:$G$1537)-G1511)/(MAX($G$1510:$G$1537)-1)*10000*0.3,0)","v":9696},{"$f":"ROUND(J1511*K1511,0)","v":5818},2017,"x",null,"Std. Cirrus","KA","M",""]
["Milan Dvorak",1965,"Liberec","CZ/C2","Safari 2017 - Klub","CZ",3,2170,2247,0.6,9520,5712,2017,"x",null,"VSO-10",78,"M",""]
["Jaroslav Sima",1972,"Chomutov","CZ/C2","Safari 2017 - Klub","CZ",4,2092,2247,0.6,9157,5494,2017,"x",null,"G-104 Speed Astir II","V2","M",""]
["Pavel Derda",1952,"Dvůr Králové","CZ/C2","Safari 2017 - Klub","CZ",5,2039,2247,0.6,8872,5323,2017,"x",null,"Cirrus VTC","VE","M",""]
["David Tejnora",1982,"Kolín","CZ/C1","Safari 2017 - Klub","CZ",6,1894,2247,0.6,8300,4980,2017,"x",null,"VSO-10","C5","M",""]
["Pavel Svoboda",1938,"Letňany","CZ/C1","Safari 2017 - Klub","CZ",7,1864,2247,0.6,8087,4852,2017,"x",null,"Discus b","LH","M",""]
["Petr Hybner",1951,"Liberec","CZ/C2","Safari 2017 - Klub","CZ",8,1546,2247,0.6,6976,4186,2017,"x",null,"HpH 304CZ 15 m","IH","M",""]
["Nikola Zizkovsky",1980,"Kralupy","CZ/C1","Safari 2017 - Klub","CZ",9,1500,2247,0.6,6713,4028,2017,"x",null,"G-104 Speed AstirIIb","NZ","M",""]
["Zdenek Bohm",1963,"Kolín","CZ/C1","Safari 2017 - Klub","CZ",10,1307,2247,0.6,5992,3595,2017,"x",null,"SZD-48 Jantar std. 2,3","VS","M",""]
["Jan Hybner",1977,"Liberec","CZ/C2","Safari 2017 - Klub","CZ",11,1288,2247,0.6,5812,3487,2017,"x",null,"HpH 304CZ 15 m","LB","M",""]
["Radmila Horacek Filakovska",1963,"Dvůr Králové","CZ/C2","Safari 2017 - Klub","CZ",12,1284,2247,0.6,5680,3408,2017,"x","x","Cirrus VTC","2W","F",""]
["Wojciech Domanski",null,"KSS/Nowy Targ","PL","Safari 2017 - Klub","CZ",13,1280,2247,0.6,5548,3329,2017,null,null,"LS 4","WW","M","Není v databázi"]
["Ryszard Bendkowski",null,"Warszawa","PL","Safari 2017 - Klub","CZ",14,1020,2247,0.6,4618,2771,2017,null,null,"SZD-48 Jantar std. 2,3","Fili","M","Není v databázi"]
["Zbigniew Oborowski",null,null,"PL","Safari 2017 - Klub","CZ",15,920,2247,0.6,4186,2512,2017,null,null,"Centrair C-101A,B","AJZ","M","Není v databázi"]
["Karel Ertl",{"$f":"VLOOKUP(A1525,Pilot,2,0)","v":1939},{"$f":"VLOOKUP(A1525,Pilot,3,0)","v":"LK Břeclav"},{"$f":"VLOOKUP(A1525,Pilot,4,0)","v":"CZ/M"},"Safari 2017 - Klub","CZ",16,882,2247,0.6,3948,2369,2017,"x",null,"TST-10M Atlas","KE",{"$f":"VLOOKUP(A1525,Pilot,5,0)","v":"M"},""]
["Jarmila Zatykova",{"$f":"VLOOKUP(A1526,Pilot,2,0)","v":1959},{"$f":"VLOOKUP(A1526,Pilot,3,0)","v":"Kralupy"},{"$f":"VLOOKUP(A1526,Pilot,4,0)","v":"CZ/C1"},"Safari 2017 - Klub","CZ",17,832,2247,0.6,3672,2203,2017,"x","x","G-102 Astir cs","IZZ",{"$f":"VLOOKUP(A1526,Pilot,5,0)","v":"F"},""]
["Jan Horky",{"$f":"VLOOKUP(A1527,Pilot,2,0)","v":1968},{"$f":"VLOOKUP(A1527,Pilot,3,0)","v":"Medlánky"},{"$f":"VLOOKUP(A1527,Pilot,4,0)","v":"CZ/M"},"Safari 2017 - Klub","CZ",18,736,2247,0.6,3253,1952,2017,"x",null,"ASW-15","SW",{"$f":"VLOOKUP(A1527,Pilot,5,0)","v":"M"},""]
["Jerzy Mikolajczyk",null,"AZM Płock","PL","Safari 2017 - Klub","CZ",19,599,2247,0.6,2706,1624,2017,null,null,"DG-300 WL","N5","M","Není v databázi"]
["Jan Repka",{"$f":"VLOOKUP(A1529,Pilot,2,0)","v":1959},{"$f":"VLOOKUP(A1529,Pilot,3,0)","v":"Liberec"},{"$f":"VLOOKUP(A1529,Pilot,4,0)","v":"CZ/C2"},"Safari 2017 - Klub","CZ",20,565,2247,0.6,2480,1488,2017,"x",null,"ASW-15B","BT",{"$f":"VLOOKUP(A1529,Pilot,5,0)","v":"M"},""]
["Petr Kejr",{"$f":"VLOOKUP(A1530,Pilot,2,0)","v":1959},{"$f":"VLOOKUP(A1530,Pilot,3,0)","v":"Kralupy"},{"$f":"VLOOKUP(A1530,Pilot,4,0)","v":"CZ/C1"},"Safari 2017 - Klub","CZ",21,443,2247,0.6,1980,1188,2017,"x",null,"Discus b","JD",{"$f":"VLOOKUP(A1530,Pilot,5,0)","v":"M"},""]
["Petra Retamozova",{"$f":"VLOOKUP(A1531,Pilot,2,0)","v":1990},{"$f":"VLOOKUP(A1531,Pilot,3,0)","v":"Kralupy"},{"$f":"VLOOKUP(A1531,Pilot,4,0)","v":"CZ/C1"},"Safari 2017 - Klub","CZ",22,431,2247,0.6,1823,1094,2017,"x","x","Std. Cirrus","UY",{"$f":"VLOOKUP(A1531,Pilot,5,0)","v":"F"},""]
["Krzystof Kostka",null,"Jelenia Góra","PL","Safari 2017 - Klub","CZ",23,395,2247,0.6,1591,955,2017,null,null,"SZD-41A Jantar std.","RDK","M","Není v databázi"]
["Jiri Donat",{"$f":"VLOOKUP(A1533,Pilot,2,0)","v":1983},{"$f":"VLOOKUP(A1533,Pilot,3,0)","v":"Chrudim"},{"$f":"VLOOKUP(A1533,Pilot,4,0)","v":"CZ/C2"},"Safari 2017 - Klub","CZ",24,272,2247,0.6,1087,652,2017,"x",null,"G-103 Twin Basic dvojí","VT",{"$f":"VLOOKUP(A1533,Pilot,5,0)","v":"M"},""]
["Vladimir Hampl",{"$f":"VLOOKUP(A1534,Pilot,2,0)","v":1970},{"$f":"VLOOKUP(A1534,Pilot,3,0)","v":"Dvůr Králové"},{"$f":"VLOOKUP(A1534,Pilot,4,0)","v":"CZ/C2"},"Safari 2017 - Klub","CZ",25,31,2247,0.6,217,130,2017,"x",null,"G-102 Astir cs77",77,{"$f":"VLOOKUP(A1534,Pilot,5,0)","v":"M"},""]
["Romuald Dorofieczyk",null,"Jelenia Góra","PL","Safari 2017 - Klub","CZ",26,0,2247,0.6,{"$f":"ROUND(H1535/I1535*10000*0.7+(MAX($G$1510:$G$1537)-G1535)/(MAX($G$1510:$G$1537)-1)*10000*0.3,0)","v":0},{"$f":"ROUND(J1535*K1535,0)","v":0},2017,null,null,"SZD-41A Jantar std.","RD","M","Není v databázi"]
["Petr Lonsky",{"$f":"VLOOKUP(A1536,Pilot,2,0)","v":1965},{"$f":"VLOOKUP(A1536,Pilot,3,0)","v":"Toužim"},{"$f":"VLOOKUP(A1536,Pilot,4,0)","v":"CZ/C1"},"Safari 2017 - Klub","CZ",26,0,2247,0.6,0,0,2017,null,null,"Std. Cirrus","FD",{"$f":"VLOOKUP(A1536,Pilot,5,0)","v":"M"},""]
["Aleksander Jedrosz",null,"Jelenia Góra","PL","Safari 2017 - Klub","CZ",26,0,2247,0.6,0,0,2017,null,null,"Centrair C-101A,B","AJ","M","Není v databázi"]
["Jiri Pesta",{"$f":"VLOOKUP(A1538,Pilot,2,0)","v":1973},{"$f":"VLOOKUP(A1538,Pilot,3,0)","v":"Dvůr Králové"},{"$f":"VLOOKUP(A1538,Pilot,4,0)","v":"CZ/C2"},"Safari 2017 - Kombi","CZ",1,3373,3373,0.6,{"$f":"ROUND(H1538/I1538*10000*0.7+(MAX($G$1538:$G$1548)-G1538)/(MAX($G$1538:$G$1548)-1)*10000*0.3,0)","v":10000},{"$f":"ROUND(J1538*K1538,0)","v":6000},2017,"x",null,"ASW 20L + FL16,6 voda","R",{"$f":"VLOOKUP(A1538,Pilot,5,0)","v":"M"},{"$f":"IF(ISERROR(VLOOKUP(A1538,Pilot,6,0)),\"Není v databázi\",VLOOKUP(A1538,Pilot,6,0))","v":""}]
["Milan Meisner",1961,"Dvůr Králové","CZ/C2","Safari 2017 - Kombi","CZ",2,3280,3373,0.6,{"$f":"ROUND(H1539/I1539*10000*0.7+(MAX($G$1538:$G$1548)-G1539)/(MAX($G$1538:$G$1548)-1)*10000*0.3,0)","v":9507},{"$f":"ROUND(J1539*K1539,0)","v":5704},2017,"x",null,"Ventus c 15 m + W (voda)","VV","M",""]
["Lukas Hynek",1979,"Dvůr Králové","CZ/C2","Safari 2017 - Kombi","CZ",3,3256,3373,0.6,9157,5494,2017,"x",null,"DG-200 17 m (voda)","IQ","M",""]
["Jan Simon",1970,"Kralupy","CZ/C1","Safari 2017 - Kombi","CZ",4,2425,3373,0.6,7133,4280,2017,null,null,"DuoDiscus T","ZS","M",""]
["Jan Dersak 69",1969,"Kralupy","CZ/C1","Safari 2017 - Kombi","CZ",5,2122,3373,0.6,6204,3722,2017,null,null,"HpH304CZ 17,4m (voda","DJ","M",""]
["Martin Cicvarek",1966,"Liberec","CZ/C2","Safari 2017 - Kombi","CZ",6,2111,3373,0.6,5881,3529,2017,null,null,"DG-400 17 m","AC","M",""]
["Slavomir Tanglmajer",1966,"Chomutov","CZ/C2","Safari 2017 - Kombi","CZ",7,2030,3373,0.6,5413,3248,2017,"x",null,"DG-400 17 m","ST","M",""]
["Tomas Ditrt",1969,"Podhořany","CZ/C2","Safari 2017 - Kombi","CZ",8,1513,3373,0.6,4040,2424,2017,"x",null,"ASW 20(A)+F 15 m","LS","M",""]
["Karel Policky",1950,"Kolín","CZ/C1","Safari 2017 - Kombi","CZ",9,1471,3373,0.6,3653,2192,2017,null,null,"DuoDiscus",777,"M",""]
["Frantisek Sindelar",1954,"Kralupy","CZ/C1","Safari 2017 - Kombi","CZ",10,1313,3373,0.6,3025,1815,2017,"x",null,"ASW-20CL 16,59 m","III","M",""]
["Jan Dersak 92",1992,"Kralupy","CZ/C1","Safari 2017 - Kombi","CZ",11,475,3373,0.6,{"$f":"ROUND(H1548/I1548*10000*0.7+(MAX($G$1538:$G$1548)-G1548)/(MAX($G$1538:$G$1548)-1)*10000*0.3,0)","v":986},{"$f":"ROUND(J1548*K1548,0)","v":592},2017,"x",null,"HpH 304CZ 17,4 m","DJJ","M",""]
["Jiri Maier 66",{"$f":"VLOOKUP(A1549,Pilot,2,0)","v":1966},{"$f":"VLOOKUP(A1549,Pilot,3,0)","v":"Raná"},{"$f":"VLOOKUP(A1549,Pilot,4,0)","v":"CZ/C2"},"Ranský Pohár 2017 - Klub","CZ",1,600,600,0,{"$f":"ROUND(H1549/I1549*10000*0.7+(MAX($G$1549:$G$1562)-G1549)/(MAX($G$1549:$G$1562)-1)*10000*0.3,0)","v":10000},{"$f":"ROUND(J1549*K1549,0)","v":0},2017,null,null,"ASW 15","TZ",{"$f":"VLOOKUP(A1549,Pilot,5,0)","v":"M"},{"$f":"IF(ISERROR(VLOOKUP(A1549,Pilot,6,0)),\"Není v databázi\",VLOOKUP(A1549,Pilot,6,0))","v":""}]
["Eduard Svoboda",1957,"Raná","CZ/C2","Ranský Pohár 2017 - Klub","CZ",2,586,600,0,{"$f":"ROUND(H1550/I1550*10000*0.7+(MAX($G$1549:$G$1562)-G1550)/(MAX($G$1549:$G$1562)-1)*10000*0.3,0)","v":9606},{"$f":"ROUND(J1550*K1550,0)","v":0},2017,null,null,"ASW 15B","HL","M",""]
["Tomas Mezera",1973,"Raná","CZ/C2","Ranský Pohár 2017 - Klub","CZ",3,585,600,0,9363,0,2017,null,null,"VSO-10","I9","M",""]
["Radovan Otto",1968,"Ústí nad Labem","CZ/C2","Ranský Pohár 2017 - Klub","CZ",4,573,600,0,8993,0,2017,null,null,"TST-10 Atlas M",7,"M",""]
["Petr Kohr",1970,"Raná","CZ/C2","Ranský Pohár 2017 - Klub","CZ",5,544,600,0,8424,0,2017,null,null,"Std. Cirrus","YF","M",""]
["Dalibor Pek",1968,"Raná","CZ/C2","Ranský Pohár 2017 - Klub","CZ",6,528,600,0,8006,0,2017,null,null,"Std. Cirrus","A1","M",""]
["Zbynek Bican",1961,"Raná","CZ/C2","Ranský Pohár 2017 - Klub","CZ",7,521,600,0,7694,0,2017,null,null,"VSO-10",75,"M",""]
["Jana Mezerova",1975,"Raná","CZ/C2","Ranský Pohár 2017 - Klub","CZ",8,513,600,0,7370,0,2017,null,null,"VSO-10 C","C8","F",""]
["Jaromir Vlk",1959,"Šumperk","CZ/M","Ranský Pohár 2017 - Klub","CZ",9,484,600,{"$f":"VLOOKUP(E1557,Soutez,8,0)","v":0},6801,0,2017,null,null,"ASW 15B","B","M",""]
["Rostislav Fric",1973,"Raná","CZ/C2","Ranský Pohár 2017 - Klub","CZ",10,430,600,0,5940,0,2017,null,null,"Cobra 15",10,"M",""]
["Sarka Lochova",1966,"Šumperk","CZ/M","Ranský Pohár 2017 - Klub","CZ",11,318,600,0,4402,0,2017,null,null,"ASW 15B","EZ","F",""]
["Martin Zvonicek",1972,"Raná","CZ/C2","Ranský Pohár 2017 - Klub","CZ",12,208,600,0,2888,0,2017,null,null,"ASW 15","ET","M",""]
["Jaroslav Hendrych",1946,"Příbram","CZ/C1","Ranský Pohár 2017 - Klub","CZ",13,115,600,0,1572,0,2017,null,null,"VT-116 Orlik 2",38,"M",""]
["Jiri Maier 99",1999,"Raná","CZ/C2","Ranský Pohár 2017 - Klub","CZ",14,90,600,0,{"$f":"ROUND(H1562/I1562*10000*0.7+(MAX($G$1549:$G$1562)-G1562)/(MAX($G$1549:$G$1562)-1)*10000*0.3,0)","v":1050},{"$f":"ROUND(J1562*K1562,0)","v":0},2017,null,null,"VT-116 Orlik 2",3,"M","Junior v roce 2019"]
["Jan Pubec",{"$f":"VLOOKUP(A1563,Pilot,2,0)","v":1979},{"$f":"VLOOKUP(A1563,Pilot,3,0)","v":"Plzeň Bory"},{"$f":"VLOOKUP(A1563,Pilot,4,0)","v":"CZ/C1"},"Toužim Cup 2017 - Klub","CZ",1,1147,1147,0,{"$f":"ROUND(H1563/I1563*10000*0.7+(MAX($G$1563:$G$1588)-G1563)/(MAX($G$1563:$G$1588)-1)*10000*0.3,0)","v":10000},{"$f":"ROUND(J1563*K1563,0)","v":0},2017,null,null,"Std. Cirrus","LM",{"$f":"VLOOKUP(A1563,Pilot,5,0)","v":"M"},{"$f":"IF(ISERROR(VLOOKUP(A1563,Pilot,6,0)),\"Není v databázi\",VLOOKUP(A1563,Pilot,6,0))","v":""}]
["Pavel Jiranek",1993,"Toužim","CZ/C1","Toužim Cup 2017 - Klub","CZ",2,1097,1147,0,{"$f":"ROUND(H1564/I1564*10000*0.7+(MAX($G$1563:$G$1588)-G1564)/(MAX($G$1563:$G$1588)-1)*10000*0.3,0)","v":9570},{"$f":"ROUND(J1564*K1564,0)","v":0},2017,null,null,"Std. Cirrus","IYD","M",""]
["Petr Bartak",1984,"Letkov","CZ/C1","Toužim Cup 2017 - Klub","CZ",3,1071,1147,0,9286,0,2017,null,null,"Std. Cirrus","SP","M",""]
["Martin Nejezchleb",1979,"Plzeň Bory","CZ/C1","Toužim Cup 2017 - Klub","CZ",4,1021,1147,0,8856,0,2017,null,null,"ASW 15B",90,"M",""]
["Michal Drab",1969,"Letkov","CZ/C1","Toužim Cup 2017 - Klub","CZ",5,861,1147,0,7755,0,2017,null,null,"LS 1-d","S3","M",""]
["Martin Zahalka",1987,"Staňkov","CZ/C1","Toužim Cup 2017 - Klub","CZ",6,855,1147,0,7593,0,2017,null,null,"DG 100","8B","M",""]
["Ivan Harasta 98",1998,"Toužim","CZ/C1","Toužim Cup 2017 - Klub","CZ",7,844,1147,0,7401,0,2017,null,null,"ASW 15B","HI","M","Junior v roce 2019"]
["Roman Jokl",1979,"Letkov","CZ/C1","Toužim Cup 2017 - Klub","CZ",8,828,1147,0,7178,0,2017,null,null,"ASW 19B","JL","M",""]
["Daniel Dvorak",1980,"Letkov","CZ/C1","Toužim Cup 2017 - Klub","CZ",9,824,1147,0,7029,0,2017,null,null,"Std. Cirrus","LD","M",""]
["Petr Jiranek 91",1991,"Toužim","CZ/C1","Toužim Cup 2017 - Klub","CZ",10,612,1147,0,5610,0,2017,null,null,"Astir CS","PJ","M",""]
["Martin Valenta",1969,"Toužim","CZ/C1","Toužim Cup 2017 - Klub","CZ",11,556,1147,0,5143,0,2017,null,null,"LS 1-c","T2","M",""]
["Tomas Talanda",1988,"Křižanov","CZ/M","Toužim Cup 2017 - Klub","CZ",12,536,1147,0,4896,0,2017,null,null,"ASW 19B","A1","M",""]
["Frantisek Brozman",1960,"Tachov","CZ/C1","Toužim Cup 2017 - Klub","CZ",13,489,1147,0,4484,0,2017,null,null,"VT-116 Orlik 2","TI","M",""]
["Josef Kreutzer",1992,"Letkov","CZ/C1","Toužim Cup 2017 - Klub","CZ",14,399,1147,0,3810,0,2017,null,null,"ASW 15B","LA","M",""]
["Vaclav Svoboda",1970,"Letkov","CZ/C1","Toužim Cup 2017 - Klub","CZ",15,393,1147,0,3648,0,2017,null,null,"Std. Cirrus","W1","M",""]
["Martin Fric",1967,"Raná","CZ/C2","Toužim Cup 2017 - Klub","CZ",16,380,1147,0,3444,0,2017,null,null,"ASW 19B","FR","M",""]
["Tomas Seifert",1972,"Raná","CZ/C2","Toužim Cup 2017 - Klub","CZ",17,372,1147,0,3270,0,2017,null,null,"ASW 15B","MC","M",""]
["Petr Lonsky",1965,"Toužim","CZ/C1","Toužim Cup 2017 - Klub","CZ",18,363,1147,0,3090,0,2017,null,null,"Std. Cirrus WL","FD","M",""]
["Antonin Kutalek",1943,"Zábřeh","CZ/M","Toužim Cup 2017 - Klub","CZ",19,349,1147,0,2880,0,2017,null,null,"Mini Nimbus","GL","M",""]
["Rudolf Jung",1954,"Zbraslavice","CZ/C1","Toužim Cup 2017 - Klub","CZ",20,311,1147,0,2523,0,2017,null,null,"G 103 Twin III","TO","M",""]
["Jan Zanda",1983,"Letkov","CZ/C1","Toužim Cup 2017 - Klub","CZ",21,300,1147,0,2331,0,2017,null,null,"Std. Cirrus","AL","M",""]
["Frantisek Kriz",1961,"Toužim","CZ/C1","Toužim Cup 2017 - Klub","CZ",22,172,1147,0,1425,0,2017,null,null,"LS 1-d","CL","M",""]
["Jiri Cincera",1966,"Toužim","CZ/C1","Toužim Cup 2017 - Klub","CZ",23,149,1147,0,1159,0,2017,null,null,"ASW 15B","TT","M",""]
["Jan Turek",1987,"Toužim","CZ/C1","Toužim Cup 2017 - Klub","CZ",24,5,1147,0,{"$f":"ROUND(H1586/I1586*10000*0.7+(MAX($G$1563:$G$1588)-G1586)/(MAX($G$1563:$G$1588)-1)*10000*0.3,0)","v":156},0,2017,null,null,"Astir CS","PB","M",""]
["Jaroslav Hot",1965,"Toužim","CZ/C1","Toužim Cup 2017 - Klub","CZ",25,0,1147,0,0,0,2017,null,null,"TST-10 Atlas","ST","M",""]
["Karel Grotz",1934,"Toužim","CZ/C1","Toužim Cup 2017 - Klub","CZ",25,0,1147,0,0,0,2017,null,null,"VT-16 Orlik",16,"M",""]
["Jan Kantor",{"$f":"VLOOKUP(A1589,Pilot,2,0)","v":1983},{"$f":"VLOOKUP(A1589,Pilot,3,0)","v":"Letňany"},{"$f":"VLOOKUP(A1589,Pilot,4,0)","v":"CZ/C1"},"Toužim Cup 2017 - Kombi","CZ",1,1510,1510,0,{"$f":"ROUND(H1589/I1589*10000*0.7+(MAX($G$1589:$G$1600)-G1589)/(MAX($G$1589:$G$1600)-1)*10000*0.3,0)","v":10000},{"$f":"ROUND(J1589*K1589,0)","v":0},2017,null,null,"Ventus 17.6m","UC",{"$f":"VLOOKUP(A1589,Pilot,5,0)","v":"M"},{"$f":"IF(ISERROR(VLOOKUP(A1589,Pilot,6,0)),\"Není v databázi\",VLOOKUP(A1589,Pilot,6,0))","v":""}]
["Martin Vnoucek",1972,"Vlašim","CZ/C1","Toužim Cup 2017 - Kombi","CZ",2,1451,1510,0,{"$f":"ROUND(H1590/I1590*10000*0.7+(MAX($G$1589:$G$1600)-G1590)/(MAX($G$1589:$G$1600)-1)*10000*0.3,0)","v":9454},{"$f":"ROUND(J1590*K1590,0)","v":0},2017,null,null,"Ventus 2cT/18m","PX","M",""]
["Karel Benisek 76",1976,"Toužim","CZ/C1","Toužim Cup 2017 - Kombi","CZ",3,1403,1510,0,8959,0,2017,null,null,"Ventus cT 17.6m","KB","M",""]
["Petr Jiranek 63",1962,"Toužim","CZ/C1","Toužim Cup 2017 - Kombi","CZ",4,1348,1510,0,8431,0,2017,null,null,"DG 500 22m","SR","M",""]
["Zdenek Schenk",1972,"Hranice","CZ/M","Toužim Cup 2017 - Kombi","CZ",5,1134,1510,0,7166,0,2017,null,null,"Ventus cT 17.6m","SNK","M",""]
["Daniel Novak",1971,"Letkov","CZ/C1","Toužim Cup 2017 - Kombi","CZ",6,1085,1510,0,6666,0,2017,null,null,"Duo Discus","DL","M",""]
["Jiri Prochazka",1971,"Toužim","CZ/C1","Toužim Cup 2017 - Kombi","CZ",7,1010,1510,0,6046,0,2017,null,null,"Ventus cT 17.6m","EB","M",""]
["Frantisek Myska",1968,"Most","CZ/C2","Toužim Cup 2017 - Kombi","CZ",8,780,1510,0,4707,0,2017,null,null,"Ventus bT 16.6m","SK","M",""]
["Marek Blatak",1969,"Šumperk","CZ/M","Toužim Cup 2017 - Kombi","CZ",9,774,1510,0,4406,0,2017,null,null,"Ventus 17.6m","FB","M",""]
["Roman Lanzendorf",1964,"Letkov","CZ/C1","Toužim Cup 2017 - Kombi","CZ",10,739,1510,0,3971,0,2017,null,null,"Ventus cT 17.6m","AS","M",""]
["Roman Michalek",1974,"Toužim","CZ/C1","Toužim Cup 2017 - Kombi","CZ",11,565,1510,0,2892,0,2017,null,null,"DG 400/17","TK","M",""]
["Uwe Tolkmitt",null,"LSV Greiz","DE","Toužim Cup 2017 - Kombi","CZ",12,497,1510,0,{"$f":"ROUND(H1600/I1600*10000*0.7+(MAX($G$1589:$G$1600)-G1600)/(MAX($G$1589:$G$1600)-1)*10000*0.3,0)","v":2304},{"$f":"ROUND(J1600*K1600,0)","v":0},2017,null,null,"DG 400/17","JO","M","Není v databázi"]
["Jan Viskot",{"$f":"VLOOKUP(A1601,Pilot,2,0)","v":1995},{"$f":"VLOOKUP(A1601,Pilot,3,0)","v":"Břeclav"},{"$f":"VLOOKUP(A1601,Pilot,4,0)","v":"CZ/M"},"PMČRj 2017 - Klub","CZ",1,4173,4173,0.90500000000000003,{"$f":"ROUND(H1601/I1601*10000*0.7+(MAX($G$1601:$G$1631)-G1601)/(MAX($G$1601:$G$1631)-1)*10000*0.3,0)","v":10000},{"$f":"ROUND(J1601*K1601,0)","v":9050},2017,"x",null,"LS 8","W8",{"$f":"VLOOKUP(A1601,Pilot,5,0)","v":"M"},{"$f":"IF(ISERROR(VLOOKUP(A1601,Pilot,6,0)),\"Není v databázi\",VLOOKUP(A1601,Pilot,6,0))","v":"Junior v roce 2019"}]
["Karel Novak",1993,{"$f":"VLOOKUP(A1602,Pilot,3,0)","v":"Mladá Boleslav"},{"$f":"VLOOKUP(A1602,Pilot,4,0)","v":"CZ/C1"},"PMČRj 2017 - Klub","CZ",2,4152,4173,0.90500000000000003,{"$f":"ROUND(H1602/I1602*10000*0.7+(MAX($G$1601:$G$1631)-G1602)/(MAX($G$1601:$G$1631)-1)*10000*0.3,0)","v":9865},{"$f":"ROUND(J1602*K1602,0)","v":8928},2017,null,null,"Std. Cirrus","DI","M",""]
["Jaromir Macoun",1999,"Jičín","CZ/C2","PMČRj 2017 - Klub","CZ",3,4092,4173,0.90500000000000003,9664,8746,2017,"x",null,"Std. Cirrus","SC","M","Junior v roce 2019"]
["Daniel Ryba",1994,"Dvůr Králové","CZ/C2","PMČRj 2017 - Klub","CZ",4,4066,4173,0.90500000000000003,9521,8617,2017,"x",null,"ASW 19","L7","M","Junior v roce 2019"]
["Jan Zapletal",1997,"Kroměříž","CZ/M","PMČRj 2017 - Klub","CZ",5,3911,4173,0.90500000000000003,9161,8291,2017,"x",null,"Std. Cirrus","YU","M","Junior v roce 2019"]
["Vojtech Novotny",1992,"Kralupy","CZ/C1","PMČRj 2017 - Klub","CZ",6,3730,4173,0.90500000000000003,8757,7925,2017,"x",null,"LS 1 f","EF","M",""]
["Pavel Brodsky",1992,"Hořice","CZ/C2","PMČRj 2017 - Klub","CZ",7,3701,4173,0.90500000000000003,8608,7790,2017,"x",null,"Cirrus/Cirrus VTC 17.74","JP","M",""]
["Lukas Capek",1992,"Letňany","CZ/C1","PMČRj 2017 - Klub","CZ",8,3618,4173,0.90500000000000003,8369,7574,2017,"x",null,"Std. Cirrus","CX","M",""]
["Marek Pechar",1995,"Chrudim","CZ/C2","PMČRj 2017 - Klub","CZ",9,3483,4173,0.90500000000000003,8043,7279,2017,"x",null,"Std. Cirrus","FF","M","Junior v roce 2019"]
["Tomas Jilek",1995,"Raná","CZ/C2","PMČRj 2017 - Klub","CZ",10,3333,4173,0.90500000000000003,7691,6960,2017,"x",null,"Cirrus/Cirrus VTC 17.74","1W","M","Junior v roce 2019"]
["Jan Vozeh",1995,"Rakovník","CZ/C1","PMČRj 2017 - Klub","CZ",11,3197,4173,0.90500000000000003,7363,6664,2017,"x",null,"Std. Cirrus","OG","M","Junior v roce 2019"]
["Lukas Maly",1998,"Vysoké Mýto","CZ/C2","PMČRj 2017 - Klub","CZ",12,3033,4173,0.90500000000000003,6988,6324,2017,"x",null,"VSO-10","VM","M","Junior v roce 2019"]
["Ivan Tvrdik",1997,"Letňany","CZ/C1","PMČRj 2017 - Klub","CZ",13,3025,4173,0.90500000000000003,6874,6221,2017,"x",null,"ASW 19","IHD","M","Junior v roce 2019"]
["Petr Valenta",1994,"Kunovice","CZ/M","PMČRj 2017 - Klub","CZ",14,2927,4173,0.90500000000000003,6610,5982,2017,"x",null,"Std. Cirrus","OK","M","Junior v roce 2019"]
["Vit Morkovsky",2000,"Polička","CZ/C2","PMČRj 2017 - Klub","CZ",15,2926,4173,0.90500000000000003,6508,5890,2017,"x",null,"VSO-10 C","D2","M","Junior v roce 2019"]
["Barbora Kubickova",1993,"Medlánky","CZ/M","PMČRj 2017 - Klub","CZ",16,2828,4173,0.90500000000000003,6244,5651,2017,"x","x","ASW 15B","Y","F",""]
["Josef Hlusek",1993,"Kunovice","CZ/M","PMČRj 2017 - Klub","CZ",17,2792,4173,0.90500000000000003,6083,5505,2017,"x",null,"Std. Cirrus","WO","M",""]
["Michaela Vlacilikova",1993,"Luhačovice","CZ/M","PMČRj 2017 - Klub","CZ",18,2581,4173,0.90500000000000003,5629,5094,2017,null,null,"Std. Cirrus",84,"F",""]
["Daniel Suchy",1995,"Hranice","CZ/M","PMČRj 2017 - Klub","CZ",19,2573,4173,0.90500000000000003,5516,4992,2017,"x",null,"G 102 Club Astir","W7","M","Junior v roce 2019"]
["Ondrej Dvorak 98",1998,"Mladá Boleslav","CZ/C1","PMČRj 2017 - Klub","CZ",20,2503,4173,0.90500000000000003,5299,4796,2017,"x",null,"ASW 15B","MB","M","Junior v roce 2019"]
["Jan Kostka",1996,"Kladno","CZ/C1","PMČRj 2017 - Klub","CZ",21,2502,4173,{"$f":"VLOOKUP(E1621,Soutez,8,0)","v":0.90500000000000003},5197,4703,2017,"x",null,"VSO-10","F8","M","Junior v roce 2019"]
["Tomas Moravec",2000,"Žamberk","CZ/C2","PMČRj 2017 - Klub","CZ",22,2488,4173,0.90500000000000003,5073,4591,2017,"x",null,"Std. Cirrus","ZM","M","Junior v roce 2019"]
["Jakub Kohn",1992,"Prostějov","CZ/M","PMČRj 2017 - Klub","CZ",23,2474,4173,0.90500000000000003,4950,4480,2017,"x",null,"ASW 15B","FK","M",""]
["Lukas Kotek",1994,"Frýdlant","CZ/M","PMČRj 2017 - Klub","CZ",24,2086,4173,0.90500000000000003,4199,3800,2017,"x",null,"DG 200","AK","M","Junior v roce 2019"]
["Filip Vita",2001,"Kroměříž","CZ/M","PMČRj 2017 - Klub","CZ",25,1636,4173,0.90500000000000003,3344,3026,2017,"x",null,"G 102 Club Astir","IT","M","Junior v roce 2019"]
["Daniela Frankova",1997,"Hořice","CZ/C2","PMČRj 2017 - Klub","CZ",26,1342,4173,0.90500000000000003,2751,2490,2017,"x",null,"VSO-10","E1","M","Junior v roce 2019"]
["Zuzana Kutilkova",1993,"Křižanov","CZ/M","PMČRj 2017 - Klub","CZ",27,1251,4173,0.90500000000000003,2498,2261,2017,"x","x","LS 1 f","R7","F",""]
["Kristina Santruckova",1996,"Podhořany","CZ/C2","PMČRj 2017 - Klub","CZ",28,1158,4173,0.90500000000000003,2242,2029,2017,"x","x","VSO-10","I1","F","Junior v roce 2019"]
["Tereza Novakova",1993,"Chrudim","CZ/C2","PMČRj 2017 - Klub","CZ",29,1144,4173,0.90500000000000003,2119,1918,2017,"x","x","VSO-10","F1","F",""]
["Sabina Vitova",1998,"Kroměříž","CZ/M","PMČRj 2017 - Klub","CZ",30,858,4173,0.90500000000000003,1539,1393,2017,"x","x","G 102 Club Astir","2Y","F","Junior v roce 2019"]
["Filip Sirc",1993,"Letňany","CZ/C1","PMČRj 2017 - Klub","CZ",31,0,4173,0.90500000000000003,{"$f":"ROUND(H1631/I1631*10000*0.7+(MAX($G$1601:$G$1631)-G1631)/(MAX($G$1601:$G$1631)-1)*10000*0.3,0)","v":0},0,2017,null,null,"Std. Cirrus",77,{"$f":"VLOOKUP(A1631,Pilot,5,0)","v":"M"},{"$f":"IF(ISERROR(VLOOKUP(A1631,Pilot,6,0)),\"Není v databázi\",VLOOKUP(A1631,Pilot,6,0))","v":""}]
["Petr Hofman",1984,{"$f":"VLOOKUP(A1632,Pilot,3,0)","v":"Letňany"},{"$f":"VLOOKUP(A1632,Pilot,4,0)","v":"CZ/C1"},"Pohár Vysočiny 2017 - Klub","CZ",1,1821,1821,0,{"$f":"ROUND(H1632/I1632*10000*0.7+(MAX($G$1632:$G$1678)-G1632)/(MAX($G$1632:$G$1678)-1)*10000*0.3,0)","v":10000},{"$f":"ROUND(J1632*K1632,0)","v":0},2017,null,null,"ASW-15B","MA",{"$f":"VLOOKUP(A1632,Pilot,5,0)","v":"M"},{"$f":"IF(ISERROR(VLOOKUP(A1632,Pilot,6,0)),\"Není v databázi\",VLOOKUP(A1632,Pilot,6,0))","v":""}]
["Jindrich Svorc",1978,"Letňany","CZ/C1","Pohár Vysočiny 2017 - Klub","CZ",2,1796,1821,0,{"$f":"ROUND(H1633/I1633*10000*0.7+(MAX($G$1632:$G$1678)-G1633)/(MAX($G$1632:$G$1678)-1)*10000*0.3,0)","v":9839},{"$f":"ROUND(J1633*K1633,0)","v":0},2017,null,null,"Std. Cirrus","IMI","M",""]
["Vaclav Marel",1974,"Jaroměř","CZ/C2","Pohár Vysočiny 2017 - Klub","CZ",3,1759,1821,0,9631,0,2017,null,null,"Std. Cirrus","IF","M",""]
["Josef Kolman",1983,"Letňany","CZ/C1","Pohár Vysočiny 2017 - Klub","CZ",4,1602,1821,0,8963,0,2017,null,null,"ASW-15B","BA4","M",""]
["Hana Treslova",1991,"Raná","CZ/C2","Pohár Vysočiny 2017 - Klub","CZ",5,1589,1821,0,8847,0,2017,null,null,"Std. Cirrus","CI","F",""]
["Vojtech Hajek",1987,"Mladá Boleslav","CZ/C1","Pohár Vysočiny 2017 - Klub","CZ",6,1587,1821,0,8774,0,2017,null,null,"Std. Cirrus","BW","M",""]
["Michal Kodousek",1983,"Jaroměř","CZ/C2","Pohár Vysočiny 2017 - Klub","CZ",7,1576,1821,0,8667,0,2017,null,null,"LS-3 15m","RI","M",""]
["Jan Hruska",1988,"Tábor","CZ/C1","Pohár Vysočiny 2017 - Klub","CZ",8,1560,1821,0,8540,0,2017,null,null,"ASW-15B","LF","M",""]
["Jiri Fousek",1990,"Raná","CZ/C2","Pohár Vysočiny 2017 - Klub","CZ",9,1546,1821,0,8421,0,2017,null,null,"Std. Cirrus","LW","M",""]
["Jaromir Pauer",1974,{"$f":"VLOOKUP(A1641,Pilot,3,0)","v":"Hosín"},{"$f":"VLOOKUP(A1641,Pilot,4,0)","v":"CZ/C1"},"Pohár Vysočiny 2017 - Klub","CZ",10,1464,1821,0,8041,0,2017,null,null,"DG-100",78,"M",""]
["Matous Schmidt",1981,"Letňany","CZ/C1","Pohár Vysočiny 2017 - Klub","CZ",11,1436,1821,0,7868,0,2017,null,null,"Discus b","LH","M",""]
["Tomas Ptacovsky",1981,"Letňany","CZ/C1","Pohár Vysočiny 2017 - Klub","CZ",12,1430,1821,0,7780,0,2017,null,null,"ASW-19B","WTF","M",""]
["Jan Zezula",1979,"Letňany","CZ/C1","Pohár Vysočiny 2017 - Klub","CZ",13,1426,1821,0,7699,0,2017,null,null,"ASW-19B","IHD","M",""]
["Rene Hudak",1972,"Kunovice","CZ/M","Pohár Vysočiny 2017 - Klub","CZ",14,1423,1821,0,7622,0,2017,null,null,"Std. Cirrus","NK","M",""]
["Libor Bednarik",1972,"Kunovice","CZ/M","Pohár Vysočiny 2017 - Klub","CZ",15,1412,1821,0,7515,0,2017,null,null,"Std. Cirrus","PIF","M",""]
["Martin Svarc",1981,"Olomouc","CZ/M","Pohár Vysočiny 2017 - Klub","CZ",16,1383,1821,0,7338,0,2017,null,null,"DG-100","HE","M",""]
["David Vrchota",1976,"Jaroměř","CZ/C2","Pohár Vysočiny 2017 - Klub","CZ",17,1379,1821,0,7257,0,2017,null,null,"Discus b","JA","M",""]
["Ota Vavrin",1947,"Vysoké Mýto","CZ/C2","Pohár Vysočiny 2017 - Klub","CZ",18,1347,1821,0,7069,0,2017,null,null,"ASW-15B","AM","M",""]
["Yvona Vyhnankova",1963,"Olomouc","CZ/M","Pohár Vysočiny 2017 - Klub","CZ",19,1290,1821,0,6785,0,2017,null,null,"ASW-15","YZ","F",""]
["Ondrej Blaha",1976,"Letňany","CZ/C1","Pohár Vysočiny 2017 - Klub","CZ",19,1290,1821,0,6785,0,2017,null,null,"VT-116 Orlik 2",44,"M",""]
["Petr Vodicka",1965,"Jaroměř","CZ/C2","Pohár Vysočiny 2017 - Klub","CZ",21,1259,1821,0,6535,0,2017,null,null,"Janus b","BV","M",""]
["Jakub Kohn",1992,"Prostějov","CZ/M","Pohár Vysočiny 2017 - Klub","CZ",22,1253,1821,0,6447,0,2017,null,null,"ASW-15B","FK","M",""]
["Miloslav Hulmak",1963,"Hosín","CZ/C1","Pohár Vysočiny 2017 - Klub","CZ",23,1227,1821,0,6282,0,2017,null,null,"ASW-15B","HH","M",""]
["Pavel Liska",1965,"Roudnice","CZ/C2","Pohár Vysočiny 2017 - Klub","CZ",24,1177,1821,0,6024,0,2017,null,null,"ASW-19B","RCE","M",""]
["Libor Danhel",1966,"Kunovice","CZ/M","Pohár Vysočiny 2017 - Klub","CZ",25,1120,1821,0,5740,0,2017,null,null,"Std. Cirrus","OK","M",""]
["Tomas Hulmak",1999,"Hosín","CZ/C1","Pohár Vysočiny 2017 - Klub","CZ",26,1091,1821,0,5563,0,2017,null,null,"G-102 Astir CS","TOM","M","Junior v roce 2019"]
["Radek Zima 75",1975,"Břeclav","CZ/M","Pohár Vysočiny 2017 - Klub","CZ",27,1063,1821,0,5391,0,2017,null,null,"DG-100 Club","M","M",""]
["Milan Svoboda 80",1980,"Havlíčkův Brod","CZ/C2","Pohár Vysočiny 2017 - Klub","CZ",28,1054,1821,0,5291,0,2017,null,null,"VT-116 Orlik 2",46,"M",""]
["Jiri Vavrina",1958,"Kyjov","CZ/M","Pohár Vysočiny 2017 - Klub","CZ",29,988,1821,0,4972,0,2017,null,null,"LS-1f","BS","M",""]
["Ales Holoubek",1966,"Jičín","CZ/C2","Pohár Vysočiny 2017 - Klub","CZ",30,957,1821,0,4787,0,2017,null,null,"ASW-15B","T","M",""]
["Ivan Kuzelka",1945,"Havlíčkův Brod","CZ/C2","Pohár Vysočiny 2017 - Klub","CZ",31,950,1821,0,4695,0,2017,null,null,"VT-116 Orlik 2","OREL","M",""]
["Vilem Riha",1990,"Letňany","CZ/C1","Pohár Vysočiny 2017 - Klub","CZ",32,936,1821,0,4576,0,2017,null,null,"Std. Cirrus","WY","M",""]
["Petr Lonsky",{"$f":"VLOOKUP(A1664,Pilot,2,0)","v":1965},"Toužim","CZ/C1","Pohár Vysočiny 2017 - Klub","CZ",33,846,1821,0,4165,0,2017,null,null,"LS-1d","CL","M",""]
["Lubomir Papezik",1951,"Luhačovice","CZ/M","Pohár Vysočiny 2017 - Klub","CZ",34,838,1821,0,4069,0,2017,null,null,"LS-4","FP","M",""]
["Radek Jaksa",1979,"Prostějov","CZ/M","Pohár Vysočiny 2017 - Klub","CZ",35,756,1821,0,3689,0,2017,null,null,"Std. Cirrus","ER","M",""]
["Martin Urner",1974,"Letňany","CZ/C1","Pohár Vysočiny 2017 - Klub","CZ",36,719,1821,0,3481,0,2017,null,null,"ASW-15B","JJ","M",""]
["Radoslav Pur",1973,"Hosín","CZ/C1","Pohár Vysočiny 2017 - Klub","CZ",37,718,1821,0,3412,0,2017,null,null,"DG-200m 15m","EK","M",""]
["Jan Zahradka",1981,"Hodkovice","CZ/C2","Pohár Vysočiny 2017 - Klub","CZ",38,712,1821,0,3324,0,2017,null,null,"Std. Cirrus","UB","M",""]
["Vaclav Petru",1974,"Letňany","CZ/C1","Pohár Vysočiny 2017 - Klub","CZ",39,702,1821,0,3220,0,2017,null,null,"TST-3 Alpin TM","AI","M",""]
["Milos Hrabe",1979,"Letňany","CZ/C1","Pohár Vysočiny 2017 - Klub","CZ",40,698,1821,0,3140,0,2017,null,null,"Std. Cirrus","L8","M",""]
["Filip Vita",2001,"Kroměříž","CZ/M","Pohár Vysočiny 2017 - Klub","CZ",41,652,1821,0,2898,0,2017,null,null,"G-102 Astir Jeans","2Y","M","Junior v roce 2019"]
["Lukas Kotek",1994,"Frýdlant","CZ/M","Pohár Vysočiny 2017 - Klub","CZ",42,495,1821,0,2229,0,2017,null,null,"DG-200 15m","AK","M","Junior v roce 2019"]
["Petr Brezina",1963,"Frýdlant","CZ/M","Pohár Vysočiny 2017 - Klub","CZ",43,487,1821,0,2133,0,2017,null,null,"G-102 Astir CS","BH","M",""]
["Tomas Hlavacek",1984,"Kolín","CZ/C1","Pohár Vysočiny 2017 - Klub","CZ",44,475,1821,0,2022,0,2017,null,null,"VSO-10",94,"M",""]
["Pavel Laznicka",1955,"Letňany","CZ/C1","Pohár Vysočiny 2017 - Klub","CZ",45,341,1821,0,1441,0,2017,null,null,"Std. Cirrus",77,"M",""]
["Jiri Holcman",1976,"Hosín","CZ/C1","Pohár Vysočiny 2017 - Klub","CZ",46,117,1821,0,515,0,2017,null,null,"ASW-19B","BO","M",""]
["Vaclav Zak",1962,"GAC Benešov","CZ/C1","Pohár Vysočiny 2017 - Klub","CZ",47,0,1821,0,{"$f":"ROUND(H1678/I1678*10000*0.7+(MAX($G$1632:$G$1678)-G1678)/(MAX($G$1632:$G$1678)-1)*10000*0.3,0)","v":0},{"$f":"ROUND(J1678*K1678,0)","v":0},2017,null,null,"Std. Cirrus","TS","M",""]
["Niko & Darnady",null,"SK","SK","Pohár Vysočiny 2017 - Kombi","CZ",1,2091,2091,0,{"$f":"ROUND(H1679/I1679*10000*0.7+(MAX($G$1679:$G$1695)-G1679)/(MAX($G$1679:$G$1695)-1)*10000*0.3,0)","v":10000},{"$f":"ROUND(J1679*K1679,0)","v":0},2017,null,null,"DuoDiscus",777,"M","Není v databázi"]
["Jan Boruvka",1984,{"$f":"VLOOKUP(A1680,Pilot,3,0)","v":"Jičín"},{"$f":"VLOOKUP(A1680,Pilot,4,0)","v":"CZ/C2"},"Pohár Vysočiny 2017 - Kombi","CZ",2,2053,2091,0,{"$f":"ROUND(H1680/I1680*10000*0.7+(MAX($G$1679:$G$1695)-G1680)/(MAX($G$1679:$G$1695)-1)*10000*0.3,0)","v":9685},{"$f":"ROUND(J1680*K1680,0)","v":0},2017,null,null,"Ventus c 15m","EG","M",""]
["Zdenek Schenk",1972,"Hranice","CZ/M","Pohár Vysočiny 2017 - Kombi","CZ",3,1979,2091,0,9250,0,2017,null,null,"Ventus ct 17,6m","SNK","M",""]
["Zdenek Boruvka 54",1954,"Jičín","CZ/C2","Pohár Vysočiny 2017 - Kombi","CZ",4,1892,2091,0,8771,0,2017,null,null,"LS-8-18 15m","ZB","M",""]
["Josef Busek",1967,"Hosín","CZ/C1","Pohár Vysočiny 2017 - Kombi","CZ",5,1878,2091,0,8537,0,2017,null,null,"DuoDiscus XT 750kg","BB","M",""]
["Jan Dersak 69",1969,"Kralupy","CZ/C1","Pohár Vysočiny 2017 - Kombi","CZ",6,1800,2091,0,8088,0,2017,null,null,"HPH 304CZ 17,4m","DJ","M",""]
["Vaclav Hruza",1965,"Břeclav","CZ/M","Pohár Vysočiny 2017 - Kombi","CZ",7,1762,2091,{"$f":"VLOOKUP(E1685,Soutez,8,0)","v":0},7774,0,2017,null,null,"HPH 304 Shark SJ 18m 573kg","TH","M",""]
["Jan Simon",1970,"Kralupy","CZ/C1","Pohár Vysočiny 2017 - Kombi","CZ",8,1721,2091,0,7449,0,2017,null,null,"Nimbus 3/22.9m WL 750 kg","HS","M",""]
["Radek Kucirek",1973,"Havlíčkův Brod","CZ/C2","Pohár Vysočiny 2017 - Kombi","CZ",9,1645,2091,0,7007,0,2017,null,null,"Ventus 2b 15m","YA","M",""]
["Vratislav Sram",1966,"Broumov","CZ/C2","Pohár Vysočiny 2017 - Kombi","CZ",10,1560,2091,0,6535,0,2017,null,null,"Nimbus 2M","NB","M",""]
["David Zapletal",1970,"Mladá Boleslav","CZ/C1","Pohár Vysočiny 2017 - Kombi","CZ",11,1477,2091,0,6070,0,2017,null,null,"Ventus c 17,6m","PUP","M",""]
["Tomas Profeld",1964,"Jičín","CZ/C2","Pohár Vysočiny 2017 - Kombi","CZ",12,1472,2091,0,5865,0,2017,null,null,"Ventus 2 cm 18m 525kg","OZ","M",""]
["Roman Lanzendorf",1964,"Letkov","CZ/C1","Pohár Vysočiny 2017 - Kombi","CZ",13,1321,2091,0,5172,0,2017,null,null,"Ventus c 17,6m","AS","M",""]
["Pavel Haluza",1966,"Prostějov","CZ/M","Pohár Vysočiny 2017 - Kombi","CZ",14,1110,2091,0,4278,0,2017,null,null,"Nimbus 2b","HT","M",""]
["Petr Hrebec",1972,"Točná","CZ/C1","Pohár Vysočiny 2017 - Kombi","CZ",15,932,2091,0,3495,0,2017,null,null,"Ventus b 15m","TB","M",""]
["Milos Mach",null,"Nove Zamky","SK","Pohár Vysočiny 2017 - Kombi","CZ",16,874,2091,0,3113,0,2017,null,null,"Discus 2T 18m","JH","M","Není v databázi"]
["Martin Holik",1959,{"$f":"VLOOKUP(A1695,Pilot,3,0)","v":"Letňany"},{"$f":"VLOOKUP(A1695,Pilot,4,0)","v":"CZ/C1"},"Pohár Vysočiny 2017 - Kombi","CZ",17,388,2091,0,{"$f":"ROUND(H1695/I1695*10000*0.7+(MAX($G$1679:$G$1695)-G1695)/(MAX($G$1679:$G$1695)-1)*10000*0.3,0)","v":1299},{"$f":"ROUND(J1695*K1695,0)","v":0},2017,null,null,"LS-6c 18m+W","F5",{"$f":"VLOOKUP(A1695,Pilot,5,0)","v":"M"},{"$f":"IF(ISERROR(VLOOKUP(A1695,Pilot,6,0)),\"Není v databázi\",VLOOKUP(A1695,Pilot,6,0))","v":""}]
["Tim Kuijpers",null,"Netherlands","NE","19. EGC 2017 - Klub","CZ",1,4248,4248,1.075,{"$f":"ROUND(H1696/I1696*10000*0.7+(MAX($G$1696:$G$1726)-G1696)/(MAX($G$1696:$G$1726)-1)*10000*0.3,0)","v":10000},{"$f":"ROUND(J1696*K1696,0)","v":10750},2017,null,null,"Std. Cirrus","2C","M",{"$f":"IF(ISERROR(VLOOKUP(A1696,Pilot,6,0)),\"Není v databázi\",VLOOKUP(A1696,Pilot,6,0))","v":"Není v databázi"}]
["Boris Zorz",null,"Slovenia","SL","19. EGC 2017 - Klub","CZ",2,4158,4248,1.075,{"$f":"ROUND(H1697/I1697*10000*0.7+(MAX($G$1696:$G$1726)-G1697)/(MAX($G$1696:$G$1726)-1)*10000*0.3,0)","v":9752},{"$f":"ROUND(J1697*K1697,0)","v":10483},2017,null,null,"Std. Cirrus","IPF","M","Není v databázi"]
["Fabian Peitz",null,"Germany","DE","19. EGC 2017 - Klub","CZ",3,4048,4248,1.075,9470,10180,2017,null,null,"Std. Libelle WL","FH","M","Není v databázi"]
["Sergey Serov",null,"Russian Federation","RF","19. EGC 2017 - Klub","CZ",4,4031,4248,1.075,9342,10043,2017,null,null,"Std. Cirrus",75,"M","Není v databázi"]
["Tomas Suchanek",{"$f":"VLOOKUP(A1700,Pilot,2,0)","v":1964},{"$f":"VLOOKUP(A1700,Pilot,3,0)","v":"GAC Benešov"},{"$f":"VLOOKUP(A1700,Pilot,4,0)","v":"CZ/C1"},"19. EGC 2017 - Klub","CZ",5,3935,4248,1.075,9084,9765,2017,null,null,"Std. Cirrus","GT",{"$f":"VLOOKUP(A1700,Pilot,5,0)","v":"M"},""]
["Rasmus Ørskov",null,"Denmark","DN","19. EGC 2017 - Klub","CZ",6,3920,4248,1.075,8960,9632,2017,null,null,"LS 1f","1F","M","Není v databázi"]
["Valentin Leleu-Lambour",null,"France","FR","19. EGC 2017 - Klub","CZ",7,3917,4248,1.075,8855,9519,2017,null,null,"Std. Cirrus","C11","M","Není v databázi"]
["Josef Kozar",null,"Slovakia","SK","19. EGC 2017 - Klub","CZ",8,3865,4248,1.075,8669,9319,2017,null,null,"LS-1f","MF","M","Není v databázi"]
["Sandor Laurinyecz",null,"Hungary","HU","19. EGC 2017 - Klub","CZ",9,3852,4248,1.075,8547,9188,2017,null,null,"LS-1f","V2","M","Není v databázi"]
["Dennis Behnke",null,"Germany","DE","19. EGC 2017 - Klub","CZ",10,3843,4248,1.075,8433,9065,2017,null,null,"Std. Libelle H201b WL","Y6","M","Není v databázi"]
["Tomasz Krok",null,"Poland","PL","19. EGC 2017 - Klub","CZ",11,3841,4248,1.075,8329,8954,2017,null,null,"Pegase 101A","N","M","Není v databázi"]
["Michal Lesinger",{"$f":"VLOOKUP(A1707,Pilot,2,0)","v":1966},{"$f":"VLOOKUP(A1707,Pilot,3,0)","v":"Moravská Třebová"},{"$f":"VLOOKUP(A1707,Pilot,4,0)","v":"CZ/M"},"19. EGC 2017 - Klub","CZ",12,3768,4248,1.075,8109,8717,2017,null,null,"ASW-19B","LL",{"$f":"VLOOKUP(A1707,Pilot,5,0)","v":"M"},""]
["Davide Schiavotto",null,"Italy","IT","19. EGC 2017 - Klub","CZ",13,3767,4248,1.075,8007,8608,2017,null,null,"Std. Cirrus 11-75L","C71","M","Není v databázi"]
["Gerrard G Dale",null,"United Kingdom","UK","19. EGC 2017 - Klub","CZ",14,3740,4248,1.075,7863,8453,2017,null,null,"Std. Libelle WL",528,"M","Není v databázi"]
["Mario Schupfer",null,"Austria","AT","19. EGC 2017 - Klub","CZ",15,3736,4248,1.075,7756,8338,2017,null,null,"ASW-15B","MS","M","Není v databázi"]
["Riccardo Brigliadori",null,"Italy","IT","19. EGC 2017 - Klub","CZ",16,3715,4248,1.075,7622,8194,2017,null,null,"Std. Cirrus","RB","M","Není v databázi"]
["Gvidas Sabeckis",null,"Lithuania","LT","19. EGC 2017 - Klub","CZ",17,3713,4248,1.075,7518,8082,2017,null,null,"Jantar Std. 2","KG","M","Není v databázi"]
["Lucas Delobel",null,"France","FR","19. EGC 2017 - Klub","CZ",18,3686,4248,1.075,7374,7927,2017,null,null,"Std. Cirrus","C12","M","Není v databázi"]
["Anton Minskiy",null,"Russian Federation","RF","19. EGC 2017 - Klub","CZ",19,3672,4248,1.075,7251,7795,2017,null,null,"Std. Cirrus","AM","M","Není v databázi"]
["Jakub Barszcz",null,"Poland","PL","19. EGC 2017 - Klub","CZ",20,3665,4248,1.075,7139,7674,2017,null,null,"Pegase","J7","M","Není v databázi"]
["Ayala Truelove",null,"United Kingdom","UK","19. EGC 2017 - Klub","CZ",21,3632,4248,1.075,6985,7509,2017,null,null,"Std. Libelle","J34","F","Není v databázi"]
["Frank Hiemstra",null,"Netherlands","NE","19. EGC 2017 - Klub","CZ",22,3596,4248,1.075,6826,7338,2017,null,null,"Std. Cirrus",74,"M","Není v databázi"]
["Per Carlin",null,"Sweden","SW","19. EGC 2017 - Klub","CZ",23,3579,4248,1.075,6698,7200,2017,null,null,"LS-1f","G7","M","Není v databázi"]
["Gunnar Axelsson",null,"Sweden","SW","19. EGC 2017 - Klub","CZ",24,3562,4248,1.075,6570,7063,2017,null,null,"Std. Cirrus 75","XII","M","Není v databázi"]
["Szekely Szilard",null,"Romania","RO","19. EGC 2017 - Klub","CZ",25,3482,4248,1.075,6338,6813,2017,null,null,"Jantar Std. 1","YE","M","Není v databázi"]
["Nick Fremau",null,"Belgium","BE","19. EGC 2017 - Klub","CZ",26,3012,4248,1.075,5463,5873,2017,null,null,"Std. Libelle 201B","2S","M","Není v databázi"]
["Thomas Hansen",null,"Norway","NO","19. EGC 2017 - Klub","CZ",27,2933,4248,1.075,5233,5625,2017,null,null,"Std. Cirrus WL","T","M","Není v databázi"]
["Edmund Schuller",null,"Slovakia","SK","19. EGC 2017 - Klub","CZ",28,2853,4248,1.075,5001,5376,2017,null,null,"ASW-24","ZS","M","Není v databázi"]
["Helmut Koeglbauer",null,"Austria","AT","19. EGC 2017 - Klub","CZ",29,2591,4248,1.075,4470,4805,2017,null,null,"Std. Cirrus B WL","4ME","M","Není v databázi"]
["Frane Franic",null,"Croatia","CR","19. EGC 2017 - Klub","CZ",30,2439,4248,1.075,4119,4428,2017,null,null,"Jantar Std. 3","FF","M","Není v databázi"]
["Dani Zaninovic",null,"Croatia","CR","19. EGC 2017 - Klub","CZ",31,1923,4248,1.075,{"$f":"ROUND(H1726/I1726*10000*0.7+(MAX($G$1696:$G$1726)-G1726)/(MAX($G$1696:$G$1726)-1)*10000*0.3,0)","v":3169},{"$f":"ROUND(J1726*K1726,0)","v":3407},2017,null,null,"ASW-24","ZZ","M","Není v databázi"]
["Pavel Louzecky",{"$f":"VLOOKUP(A1727,Pilot,2,0)","v":1957},{"$f":"VLOOKUP(A1727,Pilot,3,0)","v":"Přibyslav"},{"$f":"VLOOKUP(A1727,Pilot,4,0)","v":"CZ/C2"},"19. EGC 2017 - Std","CZ",1,4024,4024,1.0900000000000001,{"$f":"ROUND(H1727/I1727*10000*0.7+(MAX($G$1727:$G$1753)-G1727)/(MAX($G$1727:$G$1753)-1)*10000*0.3,0)","v":10000},{"$f":"ROUND(J1727*K1727,0)","v":10900},2017,"x",null,"LS-8","AU",{"$f":"VLOOKUP(A1727,Pilot,5,0)","v":"M"},{"$f":"IF(ISERROR(VLOOKUP(A1727,Pilot,6,0)),\"Není v databázi\",VLOOKUP(A1727,Pilot,6,0))","v":""}]
["Miloslav Cink",{"$f":"VLOOKUP(A1728,Pilot,2,0)","v":1987},{"$f":"VLOOKUP(A1728,Pilot,3,0)","v":"Letkov"},{"$f":"VLOOKUP(A1728,Pilot,4,0)","v":"CZ/C1"},"19. EGC 2017 - Std","CZ",2,4016,4024,1.0900000000000001,{"$f":"ROUND(H1728/I1728*10000*0.7+(MAX($G$1727:$G$1753)-G1728)/(MAX($G$1727:$G$1753)-1)*10000*0.3,0)","v":9871},{"$f":"ROUND(J1728*K1728,0)","v":10759},2017,"x",null,"LS-8","EU",{"$f":"VLOOKUP(A1728,Pilot,5,0)","v":"M"},""]
["Jeroen Jennen",null,"Belgium","BE","19. EGC 2017 - Std","CZ",3,3846,4024,1.0900000000000001,9460,10311,2017,null,null,"LS-8","LT","M","Není v databázi"]
["Dennis Huybreckx",null,"Belgium","BE","19. EGC 2017 - Std","CZ",4,3843,4024,1.0900000000000001,9339,10180,2017,null,null,"LS-8","CM","M","Není v databázi"]
["Maros Divok",null,"Slovakia","SK","19. EGC 2017 - Std","CZ",5,3783,4024,1.0900000000000001,9119,9940,2017,null,null,"Discus 2","DI","M","Není v databázi"]
["Juha Sorri",null,"Finland","FI","19. EGC 2017 - Std","CZ",6,3778,4024,1.0900000000000001,8995,9805,2017,null,null,"Discus 2b","JS","M","Není v databázi"]
["Norbert Scarlat",null,"Romania","RO","19. EGC 2017 - Std","CZ",7,3768,4024,1.0900000000000001,8862,9660,2017,null,null,"Discus 2A","YB","M","Není v databázi"]
["Andreas Belz",null,"Germany","DE","19. EGC 2017 - Std","CZ",8,3738,4024,1.0900000000000001,8695,9478,2017,null,null,"Discus 2A","AIB","M","Není v databázi"]
["Louis Bouderlique",null,"France","FR","19. EGC 2017 - Std","CZ",9,3724,4024,1.0900000000000001,8555,9325,2017,null,null,"Discus 2a","ET","M","Není v databázi"]
["Marko Zettier",null,"Germany","DE","19. EGC 2017 - Std","CZ",10,3723,4024,1.0900000000000001,8438,9197,2017,null,null,"Discus 2A","MK","M","Není v databázi"]
["Sjaak Selen",null,"Netherlands","NE","19. EGC 2017 - Std","CZ",11,3640,4024,1.0900000000000001,8178,8914,2017,null,null,"Discus 2A","2SI","M","Není v databázi"]
["Mateusz Siodloczek",null,"Poland","PL","19. EGC 2017 - Std","CZ",12,3627,4024,1.0900000000000001,8040,8764,2017,null,null,"Discus 2A","Y","M","Není v databázi"]
["Aku Jaakkola",null,"Finland","FI","19. EGC 2017 - Std","CZ",13,3570,4024,1.0900000000000001,7826,8530,2017,null,null,"Discus 2A","AJ","M","Není v databázi"]
["Dominik Jancik",null,"Slovakia","SK","19. EGC 2017 - Std","CZ",14,3528,4024,1.0900000000000001,7637,8324,2017,null,null,"LS-8s","SI","M","Není v databázi"]
["Lukasz Błaszczyk",null,"Poland","PL","19. EGC 2017 - Std","CZ",15,3516,4024,1.0900000000000001,7501,8176,2017,null,null,"Discus 2A","I","M","Není v databázi"]
["Guillaume Girard",null,"France","FR","19. EGC 2017 - Std","CZ",16,3513,4024,1.0900000000000001,7380,8044,2017,null,null,"Discus 2a","CFM1","M","Není v databázi"]
["Howard Jones",null,"United Kingdom","UK","19. EGC 2017 - Std","CZ",17,3476,4024,1.0900000000000001,7201,7849,2017,null,null,"Discus 2A",6,"M","Není v databázi"]
["Alex Pop",null,"Romania","RO","19. EGC 2017 - Std","CZ",18,3454,4024,1.0900000000000001,7047,7681,2017,null,null,"Discus 2A","YA","M","Není v databázi"]
["Jan-Ola Nordh",null,"Sweden","SW","19. EGC 2017 - Std","CZ",19,3450,4024,1.0900000000000001,6925,7548,2017,null,null,"Discus 2T","TA","M","Není v databázi"]
["Dmitriy Timoshenko",null,"Russian Federation","RF","19. EGC 2017 - Std","CZ",20,3436,4024,1.0900000000000001,6785,7396,2017,null,null,"Discus 2A","DT","M","Není v databázi"]
["Richard Swanstrom",null,"Sweden","SW","19. EGC 2017 - Std","CZ",21,3275,4024,1.0900000000000001,6389,6964,2017,null,null,"Discus 2T","IKI","M","Není v databázi"]
["Robbie Seton",null,"Netherlands","NE","19. EGC 2017 - Std","CZ",22,3258,4024,1.0900000000000001,6244,6806,2017,null,null,"LS-8A","SR","M","Není v databázi"]
["Mogens Hoelgaard",null,"Denmark","DN","19. EGC 2017 - Std","CZ",23,3018,4024,{"$f":"VLOOKUP(E1749,Soutez,8,0)","v":1.0900000000000001},5712,6226,2017,null,null,"Discus 2A","AX","M","Není v databázi"]
["Luca Urbani",null,"Italy","IT","19. EGC 2017 - Std","CZ",24,2910,4024,1.0900000000000001,5408,5895,2017,null,null,"Discus 2a","LR","M","Není v databázi"]
["George Metcalfe",null,"United Kingdom","UK","19. EGC 2017 - Std","CZ",25,2905,4024,1.0900000000000001,5284,5760,2017,null,null,"ASW-28",104,"M","Není v databázi"]
["Yves Gerster",null,"Switzerland","SW","19. EGC 2017 - Std","CZ",26,2890,4024,1.0900000000000001,{"$f":"ROUND(H1752/I1752*10000*0.7+(MAX($G$1727:$G$1753)-G1752)/(MAX($G$1727:$G$1753)-1)*10000*0.3,0)","v":5143},{"$f":"ROUND(J1752*K1752,0)","v":5606},2017,null,null,"LS-8","AB","M","Není v databázi"]
["Vittorio Squarciafico",null,"Italy","IT","19. EGC 2017 - Std","CZ",27,2570,4024,1.0900000000000001,4471,4873,2017,null,null,"LS-8","V","M","Není v databázi"]
["Kawa & Matkowski",null,"Poland","PL","19. EGC 2017 - Duo","CZ",1,4101,4101,1.01,{"$f":"ROUND(H1754/I1754*10000*0.7+(MAX($G$1754:$G$1769)-G1754)/(MAX($G$1754:$G$1769)-1)*10000*0.3,0)","v":10000},{"$f":"ROUND(J1754*K1754,0)","v":10100},2017,null,null,"ASG-32 Mi","MD","M",{"$f":"IF(ISERROR(VLOOKUP(A1754,Pilot,6,0)),\"Není v databázi\",VLOOKUP(A1754,Pilot,6,0))","v":"Není v databázi"}]
["Jones & Coppin",null,"United Kingdom","UK","19. EGC 2017 - Duo","CZ",2,3973,4101,1.01,{"$f":"ROUND(H1755/I1755*10000*0.7+(MAX($G$1754:$G$1769)-G1755)/(MAX($G$1754:$G$1769)-1)*10000*0.3,0)","v":9582},{"$f":"ROUND(J1755*K1755,0)","v":9678},2017,null,null,"Arcus T",54,"M","Není v databázi"]
["Cronjaeger & Heidemeyer",null,"Switzerland","SW","19. EGC 2017 - Duo","CZ",3,3895,4101,1.01,9248,9340,2017,null,null,"Arcus T","KA","M","Není v databázi"]
["Akkermans & Vandebeeck",null,"Belgium","BE","19. EGC 2017 - Duo","CZ",4,3822,4101,1.01,8924,9013,2017,null,null,"Arcus M","ZZZ","M","Není v databázi"]
["Walbrou & Corbille",null,"France","FR","19. EGC 2017 - Duo","CZ",5,3768,4101,1.01,8632,8718,2017,null,null,"Arcus T","FP","M","Není v databázi"]
["Viehmann & Glappa",null,"Germany","DE","19. EGC 2017 - Duo","CZ",6,3442,4101,1.01,7875,7954,2017,null,null,"Arcus T","HLB","M","Není v databázi"]
["Kessler & Jurca",null,"Romania","RO","19. EGC 2017 - Duo","CZ",7,3371,4101,1.01,7554,7630,2017,null,null,"ASG-32 Mi",32,"M","Není v databázi"]
["Sommer & Theisinger",null,"Germany","DE","19. EGC 2017 - Duo","CZ",8,3342,4101,1.01,7304,7377,2017,null,null,"Arcus M","ARC","M","Není v databázi"]
["Hirvola & Leinikki",null,"Finland","FI","19. EGC 2017 - Duo","CZ",9,3209,4101,1.01,6877,6946,2017,null,null,"Arcus T","KAI","M","Není v databázi"]
["Somol & Siska",null,"Slovakia","SK","19. EGC 2017 - Duo","CZ",10,2959,4101,1.01,6251,6314,2017,null,null,"Duo Discus 700kg","SGC","M","Není v databázi"]
["Jorgensen & Nielsen",null,"Denmark","DN","19. EGC 2017 - Duo","CZ",11,2912,4101,1.01,5970,6030,2017,null,null,"Arcus T","JT","M","Není v databázi"]
["Szabadfi & Szabadfi",null,"Hungary","HU","19. EGC 2017 - Duo","CZ",12,2908,4101,1.01,5764,5822,2017,null,null,"Arcus T","ABI","M","Není v databázi"]
["Brunazzo & Della Rosa",null,"Italy","IT","19. EGC 2017 - Duo","CZ",13,2856,4101,1.01,5475,5530,2017,null,null,"Arcus T","PP","M","Není v databázi"]
["Divok & Divokova",null,"Slovakia","SK","19. EGC 2017 - Duo","CZ",14,2793,4101,1.01,5167,5219,2017,null,null,"Arcus M","TWO","M","Není v databázi"]
["Tomas Rendla",{"$f":"VLOOKUP(A1768,Pilot,2,0)","v":1973},{"$f":"VLOOKUP(A1768,Pilot,3,0)","v":"Zbraslavice"},{"$f":"VLOOKUP(A1768,Pilot,4,0)","v":"CZ/C1"},"19. EGC 2017 - Duo","CZ",15,2416,4101,1.01,{"$f":"ROUND(H1768/I1768*10000*0.7+(MAX($G$1754:$G$1769)-G1768)/(MAX($G$1754:$G$1769)-1)*10000*0.3,0)","v":4324},{"$f":"ROUND(J1768*K1768,0)","v":4367},2017,null,null,"Arcus M","EY",{"$f":"VLOOKUP(A1768,Pilot,5,0)","v":"M"},""]
["Jan Horak",1971,{"$f":"VLOOKUP(A1769,Pilot,3,0)","v":"Zbraslavice"},{"$f":"VLOOKUP(A1769,Pilot,4,0)","v":"CZ/C1"},"19. EGC 2017 - Duo","CZ",16,2395,4101,1.01,4088,4129,2017,null,null,"Arcus E","AR",{"$f":"VLOOKUP(A1769,Pilot,5,0)","v":"M"},""]
["Jiri Slemr",1979,{"$f":"VLOOKUP(A1770,Pilot,3,0)","v":"Vysoké Mýto"},{"$f":"VLOOKUP(A1770,Pilot,4,0)","v":"CZ/C2"},"Pohár Českého Ráje 2017 - Kombi","CZ",1,1195,1195,0.6,{"$f":"ROUND(H1770/I1770*10000*0.7+(MAX($G$1770:$G$1781)-G1770)/(MAX($G$1770:$G$1781)-1)*10000*0.3,0)","v":10000},{"$f":"ROUND(J1770*K1770,0)","v":6000},2017,"x",null,"Discus",65,{"$f":"VLOOKUP(A1770,Pilot,5,0)","v":"M"},{"$f":"IF(ISERROR(VLOOKUP(A1770,Pilot,6,0)),\"Není v databázi\",VLOOKUP(A1770,Pilot,6,0))","v":""}]
["Ilja Kopacek",1943,"Jičín","CZ/C2","Pohár Českého Ráje 2017 - Kombi","CZ",2,960,1195,0.6,{"$f":"ROUND(H1771/I1771*10000*0.7+(MAX($G$1770:$G$1781)-G1771)/(MAX($G$1770:$G$1781)-1)*10000*0.3,0)","v":8323},{"$f":"ROUND(J1771*K1771,0)","v":4994},2017,"x",null,"Std. Cirrus","XL","M",""]
["Pavel Derda",1952,"Dvůr Králové","CZ/C2","Pohár Českého Ráje 2017 - Kombi","CZ",3,949,1195,0.6,7959,4775,2017,"x",null,"Cirrus/Cirrus VTC 17.74","VE","M",""]
["Petra Diepoldova",1978,"Vysoké Mýto","CZ/C2","Pohár Českého Ráje 2017 - Kombi","CZ",4,527,1195,0.6,5187,3112,2017,"x","x","ASW 15","TX","F",""]
["Radek Tobolka",1977,"Jičín","CZ/C2","Pohár Českého Ráje 2017 - Kombi","CZ",5,306,1195,0.6,3592,2155,2017,"x",null,"Std. Cirrus","SC","M",""]
["Petr Rygl",1966,"Jičín","CZ/C2","Pohár Českého Ráje 2017 - Kombi","CZ",6,272,1195,0.6,3093,1856,2017,"x",null,"ASW 15","A18","M",""]
["Lubos Florian",1966,"Jičín","CZ/C2","Pohár Českého Ráje 2017 - Kombi","CZ",7,162,1195,0.6,2149,1289,2017,"x",null,"Janus 18.2m","JC","M",""]
["Petr Kyzivat",1970,"Jičín","CZ/C2","Pohár Českého Ráje 2017 - Kombi","CZ",8,131,1195,0.6,1667,1000,2017,"x",null,"Std. Cirrus","FS","M",""]
["Karel Ertl",1939,"LK Břeclav","CZ/M","Pohár Českého Ráje 2017 - Kombi","CZ",9,49,1195,0.6,887,532,2017,"x",null,"TST-10 Atlas M","KE","M",""]
["Jaromir Macoun",1999,"Jičín","CZ/C2","Pohár Českého Ráje 2017 - Kombi","CZ",10,35,1195,0.6,505,303,2017,null,null,"Std. Cirrus","FS","M","Junior v roce 2019"]
["Zdenek Boruvka 54",1954,"Jičín","CZ/C2","Pohár Českého Ráje 2017 - Kombi","CZ",11,0,1195,0.6,0,0,2017,null,null,"LS 8/18m","ZB","M",""]
["Miroslav Trybucek",1965,"Jičín","CZ/C2","Pohár Českého Ráje 2017 - Kombi","CZ",11,0,1195,0.6,{"$f":"ROUND(H1781/I1781*10000*0.7+(MAX($G$1770:$G$1781)-G1781)/(MAX($G$1770:$G$1781)-1)*10000*0.3,0)","v":0},{"$f":"ROUND(J1781*K1781,0)","v":0},2017,null,null,"Ventus 2cM/18m","OZ","M",""]
["Ivan Novak",1962,{"$f":"VLOOKUP(A1782,Pilot,3,0)","v":"Mladá Boleslav"},{"$f":"VLOOKUP(A1782,Pilot,4,0)","v":"CZ/C1"},"PMRg 2017 - Klub","CZ",1,5132,5132,0.97499999999999998,{"$f":"ROUND(H1782/I1782*10000*0.7+(MAX($G$1782:$G$1828)-G1782)/(MAX($G$1782:$G$1828)-1)*10000*0.3,0)","v":10000},{"$f":"ROUND(J1782*K1782,0)","v":9750},2017,null,null,"Std. Cirrus","DI",{"$f":"VLOOKUP(A1782,Pilot,5,0)","v":"M"},{"$f":"IF(ISERROR(VLOOKUP(A1782,Pilot,6,0)),\"Není v databázi\",VLOOKUP(A1782,Pilot,6,0))","v":""}]
["Hana Treslova",1991,"Raná","CZ/C2","PMRg 2017 - Klub","CZ",2,5049,5132,0.97499999999999998,{"$f":"ROUND(H1783/I1783*10000*0.7+(MAX($G$1782:$G$1828)-G1783)/(MAX($G$1782:$G$1828)-1)*10000*0.3,0)","v":9822},{"$f":"ROUND(J1783*K1783,0)","v":9576},2017,"x","x","Std. Cirrus","CI","F",""]
["Daniel Ryba",1994,"Dvůr Králové","CZ/C2","PMRg 2017 - Klub","CZ",3,5030,5132,0.97499999999999998,9730,9487,2017,"x",null,"ASW-19B","L7","M","Junior v roce 2019"]
["Josef Novotny",1983,"Přibyslav","CZ/C2","PMRg 2017 - Klub","CZ",4,4967,5132,0.97499999999999998,9579,9340,2017,"x",null,"Std. Cirrus","AW","M",""]
["Leos Strnadek",1983,"Hodkovice","CZ/C2","PMRg 2017 - Klub","CZ",5,4958,5132,0.97499999999999998,9502,9264,2017,"x",null,"ASW-19B","XZ","M",""]
["Marek Svancara",1976,"GAC Benešov","CZ/C1","PMRg 2017 - Klub","CZ",6,4925,5132,0.97499999999999998,9392,9157,2017,"x",null,"Std. Cirrus","GT","M",""]
["Zdenek Balcarek",1967,"Kroměříž","CZ/M","PMRg 2017 - Klub","CZ",7,4908,5132,0.97499999999999998,9303,9070,2017,"x",null,"Std. Cirrus","ZL","M",""]
["Lubomir Motl",1959,"Kyjov","CZ/M","PMRg 2017 - Klub","CZ",8,4863,5132,0.97499999999999998,9177,8948,2017,"x",null,"LS-1f","G2","M",""]
["Zdenek Boruvka 86",1986,"Jičín","CZ/C2","PMRg 2017 - Klub","CZ",9,4830,5132,0.97499999999999998,9066,8839,2017,null,null,"Std. Cirrus","BJ","M",""]
["Michal Navratil",1985,"Křižanov","CZ/M","PMRg 2017 - Klub","CZ",10,4718,5132,0.97499999999999998,8848,8627,2017,"x",null,"Std. Cirrus","IJ","M",""]
["Matej Krestes",1986,"Slaný","CZ/C1","PMRg 2017 - Klub","CZ",11,4435,5132,0.97499999999999998,8397,8187,2017,"x",null,"Centrair C-201B Marianne","II","M",""]
["Michal Krupicka",1975,"Most","CZ/C2","PMRg 2017 - Klub","CZ",12,4320,5132,0.97499999999999998,8175,7971,2017,"x",null,"Std. Cirrus","K","M",""]
["David Sachl",1978,"Kralupy","CZ/C1","PMRg 2017 - Klub","CZ",13,4288,5132,0.97499999999999998,8066,7864,2017,"x",null,"DG-200 15m","RZ","M",""]
["Antonin Novotny",1972,"Luhačovice","CZ/M","PMRg 2017 - Klub","CZ",14,4237,5132,0.97499999999999998,7931,7733,2017,"x",null,"Std. Cirrus","SP","M",""]
["Petr Panek",1975,"Dvůr Králové","CZ/C2","PMRg 2017 - Klub","CZ",15,4216,5132,0.97499999999999998,7838,7642,2017,null,null,"Std. Cirrus","YU","M",""]
["Jan Smaha",1958,"Česká Lípa","CZ/C2","PMRg 2017 - Klub","CZ",16,4189,5132,0.97499999999999998,7735,7542,2017,"x",null,"ASW-15B","CW","M",""]
["Karel Knotek",1961,"Soběslav","CZ/C1","PMRg 2017 - Klub","CZ",17,4171,5132,0.97499999999999998,7646,7455,2017,"x",null,"ASW-19B","SO","M",""]
["Vaclav Marel",1974,"Jaroměř","CZ/C2","PMRg 2017 - Klub","CZ",18,4162,5132,0.97499999999999998,7568,7379,2017,null,null,"Std. Cirrus","IF","M",""]
["Radim Vadasz",1989,"Soběslav","CZ/C1","PMRg 2017 - Klub","CZ",19,4066,5132,0.97499999999999998,7372,7188,2017,"x",null,"ASW-15","ASW","M",""]
["Barbora Moravcova",1994,"Zbraslavice","CZ/C1","PMRg 2017 - Klub","CZ",20,4020,5132,0.97499999999999998,7244,7063,2017,null,null,"ASW-19B","CF","F","Junior v roce 2019"]
["Jan Vozeh",1995,"Rakovník","CZ/C1","PMRg 2017 - Klub","CZ",21,3978,5132,0.97499999999999998,7122,6944,2017,"x",null,"Std. Cirrus","OG","M","Junior v roce 2019"]
["Jan Zahradka",1981,"Hodkovice","CZ/C2","PMRg 2017 - Klub","CZ",22,3792,5132,0.97499999999999998,6803,6633,2017,"x",null,"Std. Cirrus","UB","M",""]
["Ivan Bajana",null,"Martin","SK","PMRg 2017 - Klub","CZ",23,3775,5132,0.97499999999999998,6714,6546,2017,null,null,"Std. Cirrus WL","DZ","M","Není v databázi"]
["Petr Rajda",1970,{"$f":"VLOOKUP(A1805,Pilot,3,0)","v":"Křižanov"},{"$f":"VLOOKUP(A1805,Pilot,4,0)","v":"CZ/M"},"PMRg 2017 - Klub","CZ",24,3773,5132,0.97499999999999998,6646,6480,2017,"x",null,"DG-200 15m","CK",{"$f":"VLOOKUP(A1805,Pilot,5,0)","v":"M"},""]
["Miroslav Kudlacek",1986,"Polička","CZ/C2","PMRg 2017 - Klub","CZ",25,3650,5132,0.97499999999999998,6413,6253,2017,"x",null,"ASW-24(\"A\") WL (-bez modif TN8)","SM","M",""]
["Pavel Koudelka",1973,"Křižanov","CZ/M","PMRg 2017 - Klub","CZ",26,3529,5132,0.97499999999999998,6183,6028,2017,"x",null,"LS-1f","R7","M",""]
["Marek Pechanec",1970,"Luhačovice","CZ/M","PMRg 2017 - Klub","CZ",27,3510,5132,0.97499999999999998,6092,5940,2017,null,null,"Std. Cirrus","SJ","M",""]
["Ivan Tvrdik",1997,"Letňany","CZ/C1","PMRg 2017 - Klub","CZ",28,3476,5132,0.97499999999999998,5980,5831,2017,null,null,"ASW-19B","IHD","M","Junior v roce 2019"]
["Jiri Peterka",1951,"Křižanov","CZ/M","PMRg 2017 - Klub","CZ",29,3414,5132,0.97499999999999998,5831,5685,2017,"x",null,"Std. Cirrus","M","M",""]
["Miroslav Cervenka",1980,"Křižanov","CZ/M","PMRg 2017 - Klub","CZ",30,3412,5132,0.97499999999999998,5763,5619,2017,"x",null,"LS-1f","AF","M",""]
["Jindrich Hruska",1986,"Soběslav","CZ/C1","PMRg 2017 - Klub","CZ",31,3389,5132,0.97499999999999998,5666,5524,2017,"x",null,"303 Mosquito","UFO","M",""]
["Rene Gabris",null,"Partizánské","SK","PMRg 2017 - Klub","CZ",32,3340,5132,{"$f":"VLOOKUP(E1813,Soutez,8,0)","v":0.97499999999999998},5534,5396,2017,null,null,"Std. Cirrus","2C","M","Není v databázi"]
["Tomas Jilek",1995,{"$f":"VLOOKUP(A1814,Pilot,3,0)","v":"Raná"},{"$f":"VLOOKUP(A1814,Pilot,4,0)","v":"CZ/C2"},"PMRg 2017 - Klub","CZ",33,3305,5132,0.97499999999999998,5421,5285,2017,null,null,"Cirrus VTC","1W",{"$f":"VLOOKUP(A1814,Pilot,5,0)","v":"M"},"Junior v roce 2019"]
["Daniel Suchy",1995,{"$f":"VLOOKUP(A1815,Pilot,3,0)","v":"Hranice"},{"$f":"VLOOKUP(A1815,Pilot,4,0)","v":"CZ/M"},"PMRg 2017 - Klub","CZ",34,3296,5132,0.97499999999999998,5344,5210,2017,"x",null,"G-102 Astir cs","W7",{"$f":"VLOOKUP(A1815,Pilot,5,0)","v":"M"},"Junior v roce 2019"]
["Miroslav Beliansky",null,"Partizánské","SK","PMRg 2017 - Klub","CZ",35,3132,5132,0.97499999999999998,5055,4929,2017,null,null,"Std. Cirrus","SZ","M","Není v databázi"]
["Jan Hruska",1988,{"$f":"VLOOKUP(A1817,Pilot,3,0)","v":"Tábor"},{"$f":"VLOOKUP(A1817,Pilot,4,0)","v":"CZ/C1"},"PMRg 2017 - Klub","CZ",36,3086,5132,0.97499999999999998,4927,4804,2017,"x",null,"ASW-15B","LittleFo",{"$f":"VLOOKUP(A1817,Pilot,5,0)","v":"M"},""]
["Barbora Kubickova",1993,"Medlánky","CZ/M","PMRg 2017 - Klub","CZ",37,3042,5132,0.97499999999999998,4801,4681,2017,"x","x","ASW-15B","Y","F",""]
["Tomas Talanda",1988,"Křižanov","CZ/M","PMRg 2017 - Klub","CZ",38,3007,5132,0.97499999999999998,4688,4571,2017,"x",null,"ASW-19B","A1","M",""]
["Veronika Ambrozova",1984,"Křižanov","CZ/M","PMRg 2017 - Klub","CZ",39,2924,5132,0.97499999999999998,4510,4397,2017,"x","x","ASW-15B",17,"F",""]
["Jana Krejcova",1972,"Křižanov","CZ/M","PMRg 2017 - Klub","CZ",40,2922,5132,0.97499999999999998,4442,4331,2017,"x","x","Std. Cirrus","ICQ","F",""]
["Martin Kriz",1968,"Přibyslav","CZ/C2","PMRg 2017 - Klub","CZ",41,2898,5132,0.97499999999999998,4344,4235,2017,"x",null,"ASW-15B","BE","M",""]
["Jan Kotan",1982,"Letňany","CZ/C1","PMRg 2017 - Klub","CZ",42,2766,5132,0.97499999999999998,4099,3997,2017,"x",null,"ASW-19","WT","M",""]
["Lukas Plocek",1990,"Mladá Boleslav","CZ/C1","PMRg 2017 - Klub","CZ",43,2632,5132,0.97499999999999998,3851,3755,2017,"x",null,"ASW-19B","AH","M",""]
["Tomas Laso",null,"Martin","SK","PMRg 2017 - Klub","CZ",44,1927,5132,0.97499999999999998,2824,2753,2017,null,null,"H-201b Std. Libelle WL",48,"M","Není v databázi"]
["Petr Lonsky",1965,{"$f":"VLOOKUP(A1826,Pilot,3,0)","v":"Toužim"},{"$f":"VLOOKUP(A1826,Pilot,4,0)","v":"CZ/C1"},"PMRg 2017 - Klub","CZ",45,1765,5132,0.97499999999999998,2538,2475,2017,null,null,"Std. Cirrus WL","FD",{"$f":"VLOOKUP(A1826,Pilot,5,0)","v":"M"},""]
["Petr Havrlant",1965,{"$f":"VLOOKUP(A1827,Pilot,3,0)","v":"Šumperk"},{"$f":"VLOOKUP(A1827,Pilot,4,0)","v":"CZ/M"},"PMRg 2017 - Klub","CZ",46,1729,5132,0.97499999999999998,2424,2363,2017,"x",null,"ASW-15B","Q1",{"$f":"VLOOKUP(A1827,Pilot,5,0)","v":"M"},""]
["Martin Kozina",1970,{"$f":"VLOOKUP(A1828,Pilot,3,0)","v":"Křižanov"},{"$f":"VLOOKUP(A1828,Pilot,4,0)","v":"CZ/M"},"PMRg 2017 - Klub","CZ",47,1583,5132,0.97499999999999998,{"$f":"ROUND(H1828/I1828*10000*0.7+(MAX($G$1782:$G$1828)-G1828)/(MAX($G$1782:$G$1828)-1)*10000*0.3,0)","v":2159},{"$f":"ROUND(J1828*K1828,0)","v":2105},2017,"x",null,"LS-1f","PK",{"$f":"VLOOKUP(A1828,Pilot,5,0)","v":"M"},""]
["Karel Mares",{"$f":"VLOOKUP(A1829,Pilot,2,0)","v":1974},{"$f":"VLOOKUP(A1829,Pilot,3,0)","v":"Slaný"},{"$f":"VLOOKUP(A1829,Pilot,4,0)","v":"CZ/C1"},"PMRg 2017 - Kombi","CZ",1,5750,5750,0.96499999999999997,{"$f":"ROUND(H1829/I1829*10000*0.7+(MAX($G$1829:$G$1847)-G1829)/(MAX($G$1829:$G$1847)-1)*10000*0.3,0)","v":10000},{"$f":"ROUND(J1829*K1829,0)","v":9650},2017,"x",null,"Ventus c /17,6m (voda)","7F",{"$f":"VLOOKUP(A1829,Pilot,5,0)","v":"M"},{"$f":"IF(ISERROR(VLOOKUP(A1829,Pilot,6,0)),\"Není v databázi\",VLOOKUP(A1829,Pilot,6,0))","v":""}]
["Zdenek Boruvka 54",1954,"Jičín","CZ/C2","PMRg 2017 - Kombi","CZ",2,5538,5750,0.96499999999999997,{"$f":"ROUND(H1830/I1830*10000*0.7+(MAX($G$1829:$G$1847)-G1830)/(MAX($G$1829:$G$1847)-1)*10000*0.3,0)","v":9575},{"$f":"ROUND(J1830*K1830,0)","v":9240},2017,"x",null,"LS 8,a,b,s,st,18 /15m (voda)","ZB","M",""]
["Jana Veprekova",1961,"Dvůr Králové","CZ/C2","PMRg 2017 - Kombi","CZ",3,5410,5750,0.96499999999999997,9253,8929,2017,"x",null,"LS 8,a,b,s,st,18 /15m (voda)","AU","F",""]
["Frantisek Marek",1960,"Křižanov","CZ/M","PMRg 2017 - Kombi","CZ",4,5355,5750,0.96499999999999997,9019,8703,2017,"x",null,"T-59D Kestrel 19m (voda)","XJ","M",""]
["Petr Hotovy",1958,"Česká Lípa","CZ/C2","PMRg 2017 - Kombi","CZ",5,5341,5750,0.96499999999999997,8835,8526,2017,"x",null,"HpH 304M SHARK (600kg) /18m (voda)","MH","M",""]
["Dana Novakova",1965,"Mladá Boleslav","CZ/C1","PMRg 2017 - Kombi","CZ",6,5307,5750,0.96499999999999997,8627,8325,2017,null,null,"LS 8,a,b,s,st,18 /15m (voda)","EU","F",""]
["Jana Treslova",1963,"Raná","CZ/C2","PMRg 2017 - Kombi","CZ",7,5212,5750,0.96499999999999997,8345,8053,2017,"x","x","Ventus bt /16,6m (voda)","VT","F",""]
["Jaroslav Buryan",1953,"Zábřeh","CZ/M","PMRg 2017 - Kombi","CZ",8,4600,5750,0.96499999999999997,7433,7173,2017,"x",null,"ASW-20 (A)+F /15m WL (voda)","NS","M",""]
["Radek Zima 78",1978,"Hodkovice","CZ/C2","PMRg 2017 - Kombi","CZ",9,4578,5750,0.96499999999999997,7240,6987,2017,"x",null,"Ventus b /16,6m WL (voda)","7E","M",""]
["Dusan Gadas",1960,"Hranice","CZ/M","PMRg 2017 - Kombi","CZ",10,4309,5750,0.96499999999999997,6746,6510,2017,"x",null,"LAK 17B FES /21m (voda)","TF","M",""]
["Zdenek Schenk",1972,"Hranice","CZ/M","PMRg 2017 - Kombi","CZ",11,4269,5750,0.96499999999999997,6530,6301,2017,"x",null,"Ventus ct /17,6m (voda)","ŠNeK","M",""]
["Jan Zapletal",1997,"Kroměříž","CZ/M","PMRg 2017 - Kombi","CZ",12,4267,5750,0.96499999999999997,6361,6138,2017,null,null,"Discus 2b /15m (voda)","SH","M","Junior v roce 2019"]
["Slavomir Piskaty 58",1958,"Kunovice","CZ/M","PMRg 2017 - Kombi","CZ",13,3761,5750,0.96499999999999997,5579,5384,2017,"x",null,"Discus b WL (voda)","KAL","M",""]
["Petr Frycek",1960,"Most","CZ/C2","PMRg 2017 - Kombi","CZ",14,3684,5750,0.96499999999999997,5318,5132,2017,"x",null,"Nimbus 3 /25,5m - 700kg (voda)","F","M",""]
["Jan Ratz",1987,"Plasy","CZ/C1","PMRg 2017 - Kombi","CZ",15,3653,5750,0.96499999999999997,5114,4935,2017,null,null,"Ventus b /16,6m WL (voda)","JET","M",""]
["Miroslav Koci",1961,"Žamberk","CZ/C2","PMRg 2017 - Kombi","CZ",16,3478,5750,0.96499999999999997,4734,4568,2017,"x",null,"Ventus 2cxm /18m - 565 kg (voda)","E8","M",""]
["Vladimir Spilka",1940,"Hranice","CZ/M","PMRg 2017 - Kombi","CZ",17,2343,5750,0.96499999999999997,3186,3074,2017,"x",null,"Nimbus 2, 2b, 2M (voda)","AY","M",""]
["Antonin Kutalek",1943,"Zábřeh","CZ/M","PMRg 2017 - Kombi","CZ",18,2200,5750,0.96499999999999997,2845,2745,2017,null,null,"Mini-Nimbus c (voda)","GL","M",""]
["Olga Mokosova",1970,"Jihlava","CZ/M","PMRg 2017 - Kombi","CZ",19,1971,5750,0.96499999999999997,{"$f":"ROUND(H1847/I1847*10000*0.7+(MAX($G$1829:$G$1847)-G1847)/(MAX($G$1829:$G$1847)-1)*10000*0.3,0)","v":2399},{"$f":"ROUND(J1847*K1847,0)","v":2315},2017,"x","x","LS 6c /18m WL (voda)","MM","F",""]
["David Mach",1994,{"$f":"VLOOKUP(A1848,Pilot,3,0)","v":"Hronov"},{"$f":"VLOOKUP(A1848,Pilot,4,0)","v":"CZ/C2"},"16. HOP 2017 - Klub","CZ",1,2194,2194,0.60499999999999998,{"$f":"ROUND(H1848/I1848*10000*0.7+(MAX($G$1848:$G$1874)-G1848)/(MAX($G$1848:$G$1874)-1)*10000*0.3,0)","v":10000},{"$f":"ROUND(J1848*K1848,0)","v":6050},2017,null,null,"VT-116 Orlik 2",6922,{"$f":"VLOOKUP(A1848,Pilot,5,0)","v":"M"},{"$f":"IF(ISERROR(VLOOKUP(A1848,Pilot,6,0)),\"Není v databázi\",VLOOKUP(A1848,Pilot,6,0))","v":"Junior v roce 2019"}]
["Milan Svoboda 80",1980,"Havlíčkův Brod","CZ/C2","16. HOP 2017 - Klub","CZ",2,2030,2194,0.60499999999999998,{"$f":"ROUND(H1849/I1849*10000*0.7+(MAX($G$1848:$G$1874)-G1849)/(MAX($G$1848:$G$1874)-1)*10000*0.3,0)","v":9361},{"$f":"ROUND(J1849*K1849,0)","v":5663},2017,"x",null,"VT-116 Orlik 2",6446,"M",""]
["Ondrej Blaha",1976,"Letňany","CZ/C1","16. HOP 2017 - Klub","CZ",3,1910,2194,0.60499999999999998,8863,5362,2017,"x",null,"VT-116 Orlik 2",6444,"M",""]
["Jan Sindelar",1946,"Kunovice","CZ/M","16. HOP 2017 - Klub","CZ",4,1881,2194,0.60499999999999998,8655,5236,2017,null,null,"VT-116 Orlik 2",7410,"M",""]
["Miroslav Stepan",1955,"Žamberk","CZ/C2","16. HOP 2017 - Klub","CZ",5,1865,2194,0.60499999999999998,8489,5136,2017,"x",null,"VT-116 Orlik 2",8412,"M",""]
["Wolfgang Sluka",1942,"Liberec","CZ/C2","16. HOP 2017 - Klub","CZ",6,1773,2194,0.60499999999999998,8080,4888,2017,null,null,"VT-116 Orlik 2",8425,"M",""]
["Jiri Klicnar",1965,"Medlánky","CZ/M","16. HOP 2017 - Klub","CZ",7,1731,2194,0.60499999999999998,7830,4737,2017,"x",null,"M-28",2903,"M",""]
["Michal Janda",1972,"Broumov","CZ/C2","16. HOP 2017 - Klub","CZ",8,1683,2194,0.60499999999999998,7562,4575,2017,"x",null,"VT-116 Orlik 2",7402,"M",""]
["Ivan Kuzelka",1945,"Havlíčkův Brod","CZ/C2","16. HOP 2017 - Klub","CZ",9,1671,2194,0.60499999999999998,7408,4482,2017,"x",null,"VT-116 Orlik 2",4314,"M",""]
["Oldrich Slavicek",1959,"Hronov","CZ/C2","16. HOP 2017 - Klub","CZ",10,1587,2194,0.60499999999999998,7025,4250,2017,"x",null,"VT-116 Orlik 2",4310,"M",""]
["Tomas Mezera",1973,"Raná","CZ/C2","16. HOP 2017 - Klub","CZ",11,1503,2194,0.60499999999999998,6642,4018,2017,"x",null,"Cobra 15",6610,"M",""]
["Jaromir Vlk",1959,"Šumperk","CZ/M","16. HOP 2017 - Klub","CZ",12,1335,2194,0.60499999999999998,5990,3624,2017,"x",null,"VT-16 Orlik",2412,"M",""]
["Karel Kotlan",1957,"Medlánky","CZ/M","16. HOP 2017 - Klub","CZ",13,1325,2194,0.60499999999999998,5843,3535,2017,"x",null,"VT-116 Orlik 2",8406,"M",""]
["Sarka Lochova",1966,"Šumperk","CZ/M","16. HOP 2017 - Klub","CZ",14,1280,2194,0.60499999999999998,5584,3378,2017,null,null,"VT-116 Orlik 2",7445,"F",""]
["Zdenek Mach",1976,"Broumov","CZ/C2","16. HOP 2017 - Klub","CZ",15,1254,2194,0.60499999999999998,5386,3259,2017,"x",null,"VT-16 Orlik",2909,"M",""]
["Vaclav Kysilka",1979,"GAC Benešov","CZ/C1","16. HOP 2017 - Klub","CZ",16,1215,2194,0.60499999999999998,5146,3113,2017,"x",null,"VT-116 Orlik 2",7403,"M",""]
["Oldrich Hlavacek",1973,"Medlánky","CZ/M","16. HOP 2017 - Klub","CZ",17,1211,2194,0.60499999999999998,5018,3036,2017,"x",null,"VT-116 Orlik 2",8439,"M",""]
["Petr Vlasak",1974,"Medlánky","CZ/M","16. HOP 2017 - Klub","CZ",18,1187,2194,0.60499999999999998,4826,2920,2017,"x",null,"VT-116 Orlik 2",4307,"M",""]
["Bohumil Rikal",1946,"Hronov","CZ/C2","16. HOP 2017 - Klub","CZ",19,1022,2194,0.60499999999999998,4184,2531,2017,"x",null,"VT-16 Orlik",3405,"M",""]
["Ondrej Teichman",1984,"Dvůr Králové","CZ/C2","16. HOP 2017 - Klub","CZ",20,997,2194,0.60499999999999998,3989,2413,2017,null,null,"VT-116 Orlik 2",6445,"M",""]
["Jiri Maier 66",1966,"Raná","CZ/C2","16. HOP 2017 - Klub","CZ",21,981,2194,0.60499999999999998,3822,2312,2017,"x",null,"VT-116 Orlik 2",8401,"M",""]
["Tereza Jirsakova",1997,"Hronov","CZ/C2","16. HOP 2017 - Klub","CZ",22,945,2194,0.60499999999999998,3592,2173,2017,"x","x","Bergfalke IV",2157,"F","Junior v roce 2019"]
["Jana Mezerova",1975,"Raná","CZ/C2","16. HOP 2017 - Klub","CZ",23,914,2194,0.60499999999999998,3378,2044,2017,"x","x","VT-116 Orlik 2",7425,"F",""]
["Miroslav Major",1968,"GAC Benešov","CZ/C1","16. HOP 2017 - Klub","CZ",24,892,2194,0.60499999999999998,3192,1931,2017,"x",null,"VT-116 Orlik 2",8430,"M",""]
["Jiri Slouka",1967,"Medlánky","CZ/M","16. HOP 2017 - Klub","CZ",25,880,2194,0.60499999999999998,3038,1838,2017,null,null,"M-35",2901,"M",""]
["Jaromir Hendrych",1954,"Raná","CZ/C2","16. HOP 2017 - Klub","CZ",26,556,2194,0.60499999999999998,1889,1143,2017,null,null,"M-35",2403,"M",""]
["Petr Gryc",1949,"Medlánky","CZ/M","16. HOP 2017 - Klub","CZ",27,1,2194,0.60499999999999998,{"$f":"ROUND(H1874/I1874*10000*0.7+(MAX($G$1848:$G$1874)-G1874)/(MAX($G$1848:$G$1874)-1)*10000*0.3,0)","v":3},{"$f":"ROUND(J1874*K1874,0)","v":2},2017,"x",null,"VT-116 Orlik 2",8436,"M",""]
["Vratislav Sram",1966,{"$f":"VLOOKUP(A1875,Pilot,3,0)","v":"Broumov"},{"$f":"VLOOKUP(A1875,Pilot,4,0)","v":"CZ/C2"},"16. HOP 2017 - Kombi","CZ",1,2535,2535,0.6,{"$f":"ROUND(H1875/I1875*10000*0.7+(MAX($G$1875:$G$1887)-G1875)/(MAX($G$1875:$G$1887)-1)*10000*0.3,0)","v":10000},{"$f":"ROUND(J1875*K1875,0)","v":6000},2017,null,null,"Nimbus 2 M (bez vody)","NB",{"$f":"VLOOKUP(A1875,Pilot,5,0)","v":"M"},{"$f":"IF(ISERROR(VLOOKUP(A1875,Pilot,6,0)),\"Není v databázi\",VLOOKUP(A1875,Pilot,6,0))","v":""}]
["Timo Jakl",null,"AK Pivo","DE","16. HOP 2017 - Kombi","CZ",2,2509,2535,0.6,{"$f":"ROUND(H1876/I1876*10000*0.7+(MAX($G$1875:$G$1887)-G1876)/(MAX($G$1875:$G$1887)-1)*10000*0.3,0)","v":9678},{"$f":"ROUND(J1876*K1876,0)","v":5807},2017,null,null,"ASW 22B/25m (bez vody)","IGJ","M","Není v databázi"]
["Martin Koci",1975,{"$f":"VLOOKUP(A1877,Pilot,3,0)","v":"Ústí nad Orlicí"},{"$f":"VLOOKUP(A1877,Pilot,4,0)","v":"CZ/C2"},"16. HOP 2017 - Kombi","CZ",3,2097,2535,{"$f":"VLOOKUP(E1877,Soutez,8,0)","v":0.6},8291,4975,2017,"x",null,"Ventus c /17,6m (voda)","XE",{"$f":"VLOOKUP(A1877,Pilot,5,0)","v":"M"},""]
["Jan Rott",1962,{"$f":"VLOOKUP(A1878,Pilot,3,0)","v":"Plasy"},{"$f":"VLOOKUP(A1878,Pilot,4,0)","v":"CZ/C1"},"16. HOP 2017 - Kombi","CZ",4,2006,2535,0.6,7789,4673,2017,"x",null,"Nimbus 2 b (bez vody)","WM",{"$f":"VLOOKUP(A1878,Pilot,5,0)","v":"M"},""]
["Michal Maly",1982,{"$f":"VLOOKUP(A1879,Pilot,3,0)","v":"Broumov"},{"$f":"VLOOKUP(A1879,Pilot,4,0)","v":"CZ/C2"},"16. HOP 2017 - Kombi","CZ",5,1947,2535,0.6,7376,4426,2017,"x",null,"ASW 20 (A)+F/ 15 m WL (voda)","WL",{"$f":"VLOOKUP(A1879,Pilot,5,0)","v":"M"},""]
["Vaclav Kult",1973,{"$f":"VLOOKUP(A1880,Pilot,3,0)","v":"Broumov"},{"$f":"VLOOKUP(A1880,Pilot,4,0)","v":"CZ/C2"},"16. HOP 2017 - Kombi","CZ",6,1684,2535,0.6,6400,3840,2017,"x",null,"Nimbus 2 b (voda)","VK",{"$f":"VLOOKUP(A1880,Pilot,5,0)","v":"M"},""]
["Miroslav + Josef Plechac",null,"Hronov","CZ","16. HOP 2017 - Kombi","CZ",7,1587,2535,0.6,5882,3529,2017,null,null,"Nimbus 2 (voda)","SP","M","Není v databázi"]
["Petr Fisar",1974,{"$f":"VLOOKUP(A1882,Pilot,3,0)","v":"Ústí nad Orlicí"},{"$f":"VLOOKUP(A1882,Pilot,4,0)","v":"CZ/C2"},"16. HOP 2017 - Kombi","CZ",8,1585,2535,0.6,5627,3376,2017,"x",null,"Mosquito","PF",{"$f":"VLOOKUP(A1882,Pilot,5,0)","v":"M"},""]
["Jiri Jakl",null,"AK Pivo","DE","16. HOP 2017 - Kombi","CZ",9,1549,2535,0.6,5277,3166,2017,null,null,"Janus b (bez vody)","GJ","M","Není v databázi"]
["Carsten Tietz",{"$f":"VLOOKUP(A1884,Pilot,2,0)","v":1966},{"$f":"VLOOKUP(A1884,Pilot,3,0)","v":"Hronov"},{"$f":"VLOOKUP(A1884,Pilot,4,0)","v":"CZ/C2"},"16. HOP 2017 - Kombi","CZ",10,1467,2535,0.6,4801,2881,2017,"x",null,"Ventus 2cxm 18Meter (bez vody)","WE","M",""]
["Denny Bernsee",null,"AK Pivo","DE","16. HOP 2017 - Kombi","CZ",11,1447,2535,0.6,4496,2698,2017,null,null,"ASW 15 (bez vody)",14,"M","Není v databázi"]
["Miloslav Cindr",1974,{"$f":"VLOOKUP(A1886,Pilot,3,0)","v":"Ústí nad Orlicí"},{"$f":"VLOOKUP(A1886,Pilot,4,0)","v":"CZ/C2"},"16. HOP 2017 - Kombi","CZ",12,1044,2535,0.6,3133,1880,2017,"x",null,"Speed Astir II b (bez vody)","XM",{"$f":"VLOOKUP(A1886,Pilot,5,0)","v":"M"},""]
["Jan Cerveny",1984,{"$f":"VLOOKUP(A1887,Pilot,3,0)","v":"Jaroměř"},{"$f":"VLOOKUP(A1887,Pilot,4,0)","v":"CZ/C2"},"16. HOP 2017 - Kombi","CZ",13,176,2535,0.6,{"$f":"ROUND(H1887/I1887*10000*0.7+(MAX($G$1875:$G$1887)-G1887)/(MAX($G$1875:$G$1887)-1)*10000*0.3,0)","v":486},{"$f":"ROUND(J1887*K1887,0)","v":292},2017,"x",null,"LS 3a (bez vody)","EI",{"$f":"VLOOKUP(A1887,Pilot,5,0)","v":"M"},""]
["Michal Kratochvil",1984,{"$f":"VLOOKUP(A1888,Pilot,3,0)","v":"Slaný"},{"$f":"VLOOKUP(A1888,Pilot,4,0)","v":"CZ/C1"},"GGP MB 2017 - Gradient GP","CZ",1,14,14,0,{"$f":"ROUND((MAX($G$1888:$G$1893)-G1888)/(MAX($G$1888:$G$1893)-1)*10000,0)","v":10000},{"$f":"ROUND(J1888*K1888,0)","v":0},2017,null,null,"VSO-10",56,{"$f":"VLOOKUP(A1888,Pilot,5,0)","v":"M"},{"$f":"IF(ISERROR(VLOOKUP(A1888,Pilot,6,0)),\"Není v databázi\",VLOOKUP(A1888,Pilot,6,0))","v":""}]
["Petr Valenta",1994,"Kunovice","CZ/M","GGP MB 2017 - Gradient GP","CZ",2,7,14,0,8000,0,2017,null,null,"VSO-10",94,"M","Junior v roce 2019"]
["Libor Bednarik",{"$f":"VLOOKUP(A1890,Pilot,2,0)","v":1972},"Kunovice","CZ/M","GGP MB 2017 - Gradient GP","CZ",3,4,14,0,6000,0,2017,null,null,"VSO-10",65,"M",""]
["Ondrej Dvorak 98",1998,"Mladá Boleslav","CZ/C1","GGP MB 2017 - Gradient GP","CZ",4,2,14,0,4000,0,2017,null,null,"VSO-10","C3","M","Junior v roce 2019"]
["Martin Vana",1979,"Mladá Boleslav","CZ/C1","GGP MB 2017 - Gradient GP","CZ",4,2,14,0,4000,0,2017,null,null,"VSO-10 C","C9","M",""]
["Martin Markl",1960,"Kolín","CZ/C1","GGP MB 2017 - Gradient GP","CZ",6,1,14,0,0,0,2017,null,null,"VSO-10",73,"M",""]
["Leos Strnadek",1983,{"$f":"VLOOKUP(A1894,Pilot,3,0)","v":"Hodkovice"},{"$f":"VLOOKUP(A1894,Pilot,4,0)","v":"CZ/C2"},"GGP MB 2017 - Klub GP","CZ",1,9,9,0,{"$f":"ROUND((MAX($G$1894:$G$1899)-G1894)/(MAX($G$1894:$G$1899)-1)*10000,0)","v":10000},{"$f":"ROUND(J1894*K1894,0)","v":0},2017,null,null,"ASW 19 b","XZ",{"$f":"VLOOKUP(A1894,Pilot,5,0)","v":"M"},{"$f":"IF(ISERROR(VLOOKUP(A1894,Pilot,6,0)),\"Není v databázi\",VLOOKUP(A1894,Pilot,6,0))","v":""}]
["Linda Vasatova",1990,"Mladá Boleslav","CZ/C1","GGP MB 2017 - Klub GP","CZ",2,8,9,0,8000,0,2017,null,null,"ASW 19","OI","F",""]
["Petr Lonsky",1965,"Toužim","CZ/C1","GGP MB 2017 - Klub GP","CZ",3,6,9,0,6000,0,2017,null,null,"Std. Cirrus WL","FD","M",""]
["Milada Moudra",1991,"Hodkovice","CZ/C2","GGP MB 2017 - Klub GP","CZ",4,4,9,0,4000,0,2017,null,null,"ASW 19","XP","F",""]
["Petr Gebauer",1999,"Mladá Boleslav","CZ/C1","GGP MB 2017 - Klub GP","CZ",4,4,9,0,4000,0,2017,null,null,"ASW 15","MB","M","Junior v roce 2019"]
["Karel Ertl",1939,"LK Břeclav","CZ/M","GGP MB 2017 - Klub GP","CZ",6,1,9,0,0,0,2017,null,null,"TST-10 Atlas M","KE","M",""]
["Jan Louda",1986,{"$f":"VLOOKUP(A1900,Pilot,3,0)","v":"Mladá Boleslav"},{"$f":"VLOOKUP(A1900,Pilot,4,0)","v":"CZ/C1"},"GGP MB 2017 - Pohár MV - Kombi","CZ",1,2442,2442,0.62,{"$f":"ROUND(H1900/I1900*10000*0.7+(MAX($G$1900:$G$1910)-G1900)/(MAX($G$1900:$G$1910)-1)*10000*0.3,0)","v":10000},{"$f":"ROUND(J1900*K1900,0)","v":6200},2017,null,null,"Ventus b 16.6m WL","7E",{"$f":"VLOOKUP(A1900,Pilot,5,0)","v":"M"},{"$f":"IF(ISERROR(VLOOKUP(A1900,Pilot,6,0)),\"Není v databázi\",VLOOKUP(A1900,Pilot,6,0))","v":""}]
["Karel Novak",1993,"Mladá Boleslav","CZ/C1","GGP MB 2017 - Pohár MV - Kombi","CZ",2,2114,2442,0.62,{"$f":"ROUND(H1901/I1901*10000*0.7+(MAX($G$1900:$G$1910)-G1901)/(MAX($G$1900:$G$1910)-1)*10000*0.3,0)","v":8760},{"$f":"ROUND(J1901*K1901,0)","v":5431},2017,null,null,"LS 8-18m","FX","M",""]
["Jiri slemr",1979,"Vysoké Mýto","CZ/C2","GGP MB 2017 - Pohár MV - Kombi","CZ",3,2061,2442,0.62,8308,5151,2017,null,null,"Discus CS",65,"M",""]
["Martin Soucek",1975,"Mladá Boleslav","CZ/C1","GGP MB 2017 - Pohár MV - Kombi","CZ",4,2056,2442,0.62,7994,4956,2017,"x",null,"DG 200/17","MS","M",""]
["Jan smaha",1958,"Česká Lípa","CZ/C2","GGP MB 2017 - Pohár MV - Kombi","CZ",5,1900,2442,0.62,7246,4493,2017,null,null,"ASW 15b","CW","M",""]
["Jan Dersak 69",1969,"Kralupy","CZ/C1","GGP MB 2017 - Pohár MV - Kombi","CZ",6,1881,2442,0.62,6892,4273,2017,null,null,"HPH 304 cz 17,4m","DJ","M",""]
["Frantisek Filandr",1956,"Most","CZ/C2","GGP MB 2017 - Pohár MV - Kombi","CZ",7,1581,2442,0.62,5732,3554,2017,null,null,"Std. Cirrus","FF","M",""]
["Josef Rydl",1940,"Turnov","CZ/C2","GGP MB 2017 - Pohár MV - Kombi","CZ",8,1549,2442,0.62,5340,3311,2017,"x",null,"Discus b","TD","M",""]
["Petra Diepoldova",1978,"Vysoké Mýto","CZ/C2","GGP MB 2017 - Pohár MV - Kombi","CZ",9,1154,2442,0.62,3908,2423,2017,"x","x","ASW 15b","TX","F",""]
["Jan Zezula",1979,"Letňany","CZ/C1","GGP MB 2017 - Pohár MV - Kombi","CZ",10,843,2442,0.62,2716,1684,2017,null,null,"ASW 19 b","IHD","M",""]
["David Londa",1973,"Mladá Boleslav","CZ/C1","GGP MB 2017 - Pohár MV - Kombi","CZ",11,639,2442,0.62,{"$f":"ROUND(H1910/I1910*10000*0.7+(MAX($G$1900:$G$1910)-G1910)/(MAX($G$1900:$G$1910)-1)*10000*0.3,0)","v":1832},{"$f":"ROUND(J1910*K1910,0)","v":1136},2017,"x",null,"ASW 19 b","AH","M",""]
["Gerrit Feige",null,null,null,"Pribina Cup 2017 - Klub","SK",1,2888,2888,0.94000000000000006,{"$f":"ROUND(H1911/I1911*10000*0.7+(MAX($G$1911:$G$1955)-G1911)/(MAX($G$1911:$G$1955)-1)*10000*0.3,0)","v":10000},{"$f":"ROUND(J1911*K1911,0)","v":9400},2017,null,null,"Std. Libelle","4F","M",{"$f":"IF(ISERROR(VLOOKUP(A1911,Pilot,6,0)),\"Není v databázi\",VLOOKUP(A1911,Pilot,6,0))","v":"Není v databázi"}]
["Stefan Langer",null,null,null,"Pribina Cup 2017 - Klub","SK",2,2881,2888,0.94000000000000006,{"$f":"ROUND(H1912/I1912*10000*0.7+(MAX($G$1911:$G$1955)-G1912)/(MAX($G$1911:$G$1955)-1)*10000*0.3,0)","v":9915},{"$f":"ROUND(J1912*K1912,0)","v":9320},2017,null,null,"Std. Libelle","SL","M","Není v databázi"]
["Gunnar Axelsson",null,null,null,"Pribina Cup 2017 - Klub","SK",3,2813,2888,0.94000000000000006,9682,9101,2017,null,null,"Std. Cirrus","XII","M","Není v databázi"]
["Jan Pavlik",{"$f":"VLOOKUP(A1914,Pilot,2,0)","v":1987},{"$f":"VLOOKUP(A1914,Pilot,3,0)","v":"Křižanov"},{"$f":"VLOOKUP(A1914,Pilot,4,0)","v":"CZ/M"},"Pribina Cup 2017 - Klub","SK",4,2739,2888,0.94000000000000006,9434,8868,2017,null,null,"Std. Cirrus","ICQ",{"$f":"VLOOKUP(A1914,Pilot,5,0)","v":"M"},""]
["Michal Lesinger",{"$f":"VLOOKUP(A1915,Pilot,2,0)","v":1966},{"$f":"VLOOKUP(A1915,Pilot,3,0)","v":"Moravská Třebová"},{"$f":"VLOOKUP(A1915,Pilot,4,0)","v":"CZ/M"},"Pribina Cup 2017 - Klub","SK",5,2685,2888,0.94000000000000006,9235,8681,2017,null,null,"ASW 19","LLI",{"$f":"VLOOKUP(A1915,Pilot,5,0)","v":"M"},""]
["Zbigniew Górecki",null,null,null,"Pribina Cup 2017 - Klub","SK",6,2630,2888,0.94000000000000006,9034,8492,2017,null,null,"LS 1f","C","M","Není v databázi"]
["Stefano Ghiorzo",null,null,null,"Pribina Cup 2017 - Klub","SK",7,2623,2888,0.94000000000000006,8949,8412,2017,null,null,"Silent 2","ER","M","Není v databázi"]
["Julia Wanninger",null,null,null,"Pribina Cup 2017 - Klub","SK",8,2607,2888,0.94000000000000006,8842,8311,2017,null,null,"LS 1f","W","M","Není v databázi"]
["Artur Lonczuk",null,null,null,"Pribina Cup 2017 - Klub","SK",9,2604,2888,0.94000000000000006,8766,8240,2017,null,null,"Jantar Std.","AL","M","Není v databázi"]
["Michal Lewczuk",null,null,null,"Pribina Cup 2017 - Klub","SK",10,2565,2888,0.94000000000000006,8603,8087,2017,null,null,"Jantar 3","IM","M","Není v databázi"]
["Jan Kovalcik",null,null,null,"Pribina Cup 2017 - Klub","SK",11,2559,2888,0.94000000000000006,8521,8010,2017,null,null,"Pegase C101","H5","M","Není v databázi"]
["Vytautas Sabeckis",null,null,null,"Pribina Cup 2017 - Klub","SK",12,2429,2888,0.94000000000000006,8137,7649,2017,null,null,"Jantar Std.","JM","M","Není v databázi"]
["Per Carlin",null,null,null,"Pribina Cup 2017 - Klub","SK",12,2429,2888,0.94000000000000006,8137,7649,2017,null,null,"LS 1f","G7","M","Není v databázi"]
["Marek Sawczuk",null,null,null,"Pribina Cup 2017 - Klub","SK",14,2404,2888,0.94000000000000006,7941,7465,2017,null,null,"Jantar 3","PT","M","Není v databázi"]
["Tim Milner",null,null,null,"Pribina Cup 2017 - Klub","SK",15,2340,2888,0.94000000000000006,7717,7254,2017,null,null,"Std. Cirrus","VS","M","Není v databázi"]
["Jan Hertrich,",null,null,null,"Pribina Cup 2017 - Klub","SK",16,2310,2888,0.94000000000000006,7576,7121,2017,null,null,"LS 7","7J","M","Není v databázi"]
["Markus Uhlig",null,null,null,"Pribina Cup 2017 - Klub","SK",17,2297,2888,0.94000000000000006,7477,7028,2017,null,null,"Jantar 3","M4","M","Není v databázi"]
["Wojciech Wojtaczka",null,null,null,"Pribina Cup 2017 - Klub","SK",18,2276,2888,0.94000000000000006,7358,6917,2017,null,null,"Jantar 2","WR","M","Není v databázi"]
["Simon Gantner",null,null,null,"Pribina Cup 2017 - Klub","SK",19,2254,2888,0.94000000000000006,7236,6802,2017,null,null,"LS 4","MN","M","Není v databázi"]
["Marek Bialy",null,null,null,"Pribina Cup 2017 - Klub","SK",20,2244,2888,0.94000000000000006,7144,6715,2017,null,null,"Jantar 3","WX","M","Není v databázi"]
["Jiri Fousek",{"$f":"VLOOKUP(A1931,Pilot,2,0)","v":1990},{"$f":"VLOOKUP(A1931,Pilot,3,0)","v":"Raná"},{"$f":"VLOOKUP(A1931,Pilot,4,0)","v":"CZ/C2"},"Pribina Cup 2017 - Klub","SK",21,2215,2888,0.94000000000000006,7005,6585,2017,null,null,"Std. Cirrus","LW",{"$f":"VLOOKUP(A1931,Pilot,5,0)","v":"M"},""]
["Milan Surovcík",null,null,null,"Pribina Cup 2017 - Klub","SK",22,2182,2888,0.94000000000000006,6857,6446,2017,null,null,"Std. Cirrus","GL","M","Není v databázi"]
["Martin Jurovic",null,null,null,"Pribina Cup 2017 - Klub","SK",23,2177,2888,0.94000000000000006,6777,6370,2017,null,null,"Pegase C101","J2","M","Není v databázi"]
["Ales Fink",null,null,null,"Pribina Cup 2017 - Klub","SK",24,2159,2888,0.94000000000000006,6665,6265,2017,null,null,"DG 300","KO","M","Není v databázi"]
["Mark Travner",null,null,null,"Pribina Cup 2017 - Klub","SK",25,2158,2888,0.94000000000000006,6594,6198,2017,null,null,"DG 300","CE","M","Není v databázi"]
["Jernej Lokovsek",null,null,null,"Pribina Cup 2017 - Klub","SK",26,2115,2888,0.94000000000000006,6422,6037,2017,null,null,"Discus","NL","M","Není v databázi"]
["Ivan Novak",{"$f":"VLOOKUP(A1937,Pilot,2,0)","v":1962},{"$f":"VLOOKUP(A1937,Pilot,3,0)","v":"Mladá Boleslav"},{"$f":"VLOOKUP(A1937,Pilot,4,0)","v":"CZ/C1"},"Pribina Cup 2017 - Klub","SK",27,2111,2888,0.94000000000000006,6344,5963,2017,null,null,"Std. Cirrus","DII",{"$f":"VLOOKUP(A1937,Pilot,5,0)","v":"M"},""]
["Martin Picka",{"$f":"VLOOKUP(A1938,Pilot,2,0)","v":1974},{"$f":"VLOOKUP(A1938,Pilot,3,0)","v":"Letkov"},{"$f":"VLOOKUP(A1938,Pilot,4,0)","v":"CZ/C1"},"Pribina Cup 2017 - Klub","SK",28,2102,2888,0.94000000000000006,6254,5879,2017,"x",null,"ASW 19","BU",{"$f":"VLOOKUP(A1938,Pilot,5,0)","v":"M"},""]
["Pawel Glowacki",null,null,null,"Pribina Cup 2017 - Klub","SK",29,2092,2888,0.94000000000000006,6162,5792,2017,null,null,"Pegase C101","J7","M","Není v databázi"]
["Bernard Jakubowski",null,null,null,"Pribina Cup 2017 - Klub","SK",30,1984,2888,0.94000000000000006,5832,5482,2017,null,null,"Jantar 3","F1","M","Není v databázi"]
["Anna Hajkova",{"$f":"VLOOKUP(A1941,Pilot,2,0)","v":1989},{"$f":"VLOOKUP(A1941,Pilot,3,0)","v":"Mladá Boleslav"},{"$f":"VLOOKUP(A1941,Pilot,4,0)","v":"CZ/C1"},"Pribina Cup 2017 - Klub","SK",31,1929,2888,{"$f":"VLOOKUP(E1941,Soutez,8,0)","v":0.94000000000000006},5630,5292,2017,null,null,"Std. Cirrus","BW",{"$f":"VLOOKUP(A1941,Pilot,5,0)","v":"F"},""]
["Piotr Jaszczuk",null,null,null,"Pribina Cup 2017 - Klub","SK",32,1928,2888,0.94000000000000006,5559,5225,2017,null,null,"ASW 19","JAY","M","Není v databázi"]
["Gvidas Sabeckis",null,null,null,"Pribina Cup 2017 - Klub","SK",33,1910,2888,0.94000000000000006,5448,5121,2017,null,null,"Jantar 3","CI","M","Není v databázi"]
["Nico Jaegli",null,null,null,"Pribina Cup 2017 - Klub","SK",34,1782,2888,0.94000000000000006,5069,4765,2017,null,null,"LS 4","WG","M","Není v databázi"]
["Rudolf Schlesinger",null,null,null,"Pribina Cup 2017 - Klub","SK",35,1707,2888,0.94000000000000006,4819,4530,2017,null,null,"Silent 2","S2E","M","Není v databázi"]
["Jan Vavrin",{"$f":"VLOOKUP(A1946,Pilot,2,0)","v":1987},{"$f":"VLOOKUP(A1946,Pilot,3,0)","v":"Vysoké Mýto"},{"$f":"VLOOKUP(A1946,Pilot,4,0)","v":"CZ/C2"},"Pribina Cup 2017 - Klub","SK",36,1616,2888,0.94000000000000006,4531,4259,2017,null,null,"ASW 15","IG",{"$f":"VLOOKUP(A1946,Pilot,5,0)","v":"M"},""]
["Marcin Maludzinski",null,null,null,"Pribina Cup 2017 - Klub","SK",37,1520,2888,0.94000000000000006,4230,3976,2017,null,null,"Jantar 3","SO","M","Není v databázi"]
["Martynas Slizys",null,null,null,"Pribina Cup 2017 - Klub","SK",38,1497,2888,0.94000000000000006,4106,3860,2017,null,null,"Jantar Std.","NH","M","Není v databázi"]
["Krzysztof Figiel",null,null,null,"Pribina Cup 2017 - Klub","SK",39,1482,2888,0.94000000000000006,4001,3761,2017,null,null,"Jantar 2","ABI","M","Není v databázi"]
["Monika Bobula",null,null,null,"Pribina Cup 2017 - Klub","SK",40,1452,2888,0.94000000000000006,3860,3628,2017,null,null,"Brawo","BZI","F","Není v databázi"]
["Adam Bialy",null,null,null,"Pribina Cup 2017 - Klub","SK",41,1284,2888,0.94000000000000006,3385,3182,2017,null,null,"Jantar 3","W2","M","Není v databázi"]
["Ulrich Luta",null,null,null,"Pribina Cup 2017 - Klub","SK",42,978,2888,0.94000000000000006,2575,2421,2017,null,null,"LS 1d","XN","M","Není v databázi"]
["Gerhard Cieply",null,null,null,"Pribina Cup 2017 - Klub","SK",43,858,2888,0.94000000000000006,2216,2083,2017,null,null,"LS 1f","GC","M","Není v databázi"]
["Niko Golinski",null,null,null,"Pribina Cup 2017 - Klub","SK",44,840,2888,0.94000000000000006,2104,1978,2017,null,null,"Jantar 3","DW","M","Není v databázi"]
["Marek Pechanec",{"$f":"VLOOKUP(A1955,Pilot,2,0)","v":1970},{"$f":"VLOOKUP(A1955,Pilot,3,0)","v":"Luhačovice"},{"$f":"VLOOKUP(A1955,Pilot,4,0)","v":"CZ/M"},"Pribina Cup 2017 - Klub","SK",45,219,2888,0.94000000000000006,{"$f":"ROUND(H1955/I1955*10000*0.7+(MAX($G$1911:$G$1955)-G1955)/(MAX($G$1911:$G$1955)-1)*10000*0.3,0)","v":531},{"$f":"ROUND(J1955*K1955,0)","v":499},2017,null,null,"Std. Cirrus","SJ",{"$f":"VLOOKUP(A1955,Pilot,5,0)","v":"M"},""]
["Simon Schröder",null,null,null,"Pribina Cup 2017 - Kombi 15m","SK",1,3112,3112,0.94500000000000006,{"$f":"ROUND(H1956/I1956*10000*0.7+(MAX($G$1956:$G$1989)-G1956)/(MAX($G$1956:$G$1989)-1)*10000*0.3,0)","v":10000},{"$f":"ROUND(J1956*K1956,0)","v":9450},2017,null,null,"LS 8/15m","S2","M",{"$f":"IF(ISERROR(VLOOKUP(A1956,Pilot,6,0)),\"Není v databázi\",VLOOKUP(A1956,Pilot,6,0))","v":"Není v databázi"}]
["Dennis Huybreckx",null,null,null,"Pribina Cup 2017 - Kombi 15m","SK",2,3039,3112,0.94500000000000006,{"$f":"ROUND(H1957/I1957*10000*0.7+(MAX($G$1956:$G$1989)-G1957)/(MAX($G$1956:$G$1989)-1)*10000*0.3,0)","v":9745},{"$f":"ROUND(J1957*K1957,0)","v":9209},2017,null,null,"LS 8/15m","CM","M","Není v databázi"]
["Jeroen Jennen",null,null,null,"Pribina Cup 2017 - Kombi 15m","SK",3,3024,3112,0.94500000000000006,9620,9091,2017,null,null,"LS 8/15m","LT","M","Není v databázi"]
["David Mach",{"$f":"VLOOKUP(A1959,Pilot,2,0)","v":1994},{"$f":"VLOOKUP(A1959,Pilot,3,0)","v":"Hronov"},{"$f":"VLOOKUP(A1959,Pilot,4,0)","v":"CZ/C2"},"Pribina Cup 2017 - Kombi 15m","SK",4,2993,3112,0.94500000000000006,9460,8940,2017,null,null,"LS 8/15m","JB",{"$f":"VLOOKUP(A1959,Pilot,5,0)","v":"M"},"Junior v roce 2019"]
["Bjorn Gintzel",null,null,null,"Pribina Cup 2017 - Kombi 15m","SK",5,2984,3112,0.94500000000000006,9348,8834,2017,null,null,"LS 8/15m","AR","M","Není v databázi"]
["Karsten Leucker",null,null,null,"Pribina Cup 2017 - Kombi 15m","SK",6,2923,3112,0.94500000000000006,9120,8618,2017,null,null,"Discus 2b","CX","M","Není v databázi"]
["Alexander Späth",null,null,null,"Pribina Cup 2017 - Kombi 15m","SK",7,2874,3112,0.94500000000000006,8919,8428,2017,null,null,"Ventus 2a","AS","M","Není v databázi"]
["Jef Kell",null,null,null,"Pribina Cup 2017 - Kombi 15m","SK",8,2858,3112,0.94500000000000006,8792,8308,2017,null,null,"Discus 2b","YU","M","Není v databázi"]
["Karel Novak",{"$f":"VLOOKUP(A1964,Pilot,2,0)","v":1993},{"$f":"VLOOKUP(A1964,Pilot,3,0)","v":"Mladá Boleslav"},{"$f":"VLOOKUP(A1964,Pilot,4,0)","v":"CZ/C1"},"Pribina Cup 2017 - Kombi 15m","SK",9,2800,3112,0.94500000000000006,8571,8100,2017,null,null,"LS 8/15m","W8",{"$f":"VLOOKUP(A1964,Pilot,5,0)","v":"M"},""]
["Franz Poch",null,null,null,"Pribina Cup 2017 - Kombi 15m","SK",10,2689,3112,0.94500000000000006,8230,7777,2017,null,null,"Discus 2b","BP","M","Není v databázi"]
["Jan Boruvka",{"$f":"VLOOKUP(A1966,Pilot,2,0)","v":1984},{"$f":"VLOOKUP(A1966,Pilot,3,0)","v":"Jičín"},{"$f":"VLOOKUP(A1966,Pilot,4,0)","v":"CZ/C2"},"Pribina Cup 2017 - Kombi 15m","SK",11,2651,3112,0.94500000000000006,8054,7611,2017,null,null,"Ventus c","EG",{"$f":"VLOOKUP(A1966,Pilot,5,0)","v":"M"},""]
["Jakub Pulawski",null,null,null,"Pribina Cup 2017 - Kombi 15m","SK",12,2542,3112,0.94500000000000006,7718,7294,2017,null,null,"Discus 2a","Y","M","Není v databázi"]
["Joris Vainius",null,null,null,"Pribina Cup 2017 - Kombi 15m","SK",13,2502,3112,0.94500000000000006,7537,7122,2017,null,null,"LS 8/15m","P2","M","Není v databázi"]
["Lukas Schmidt",null,null,null,"Pribina Cup 2017 - Kombi 15m","SK",14,2483,3112,0.94500000000000006,7403,6996,2017,null,null,"Discus 2c/15m","IYB","M","Není v databázi"]
["Dana Novakova",{"$f":"VLOOKUP(A1970,Pilot,2,0)","v":1965},{"$f":"VLOOKUP(A1970,Pilot,3,0)","v":"Mladá Boleslav"},{"$f":"VLOOKUP(A1970,Pilot,4,0)","v":"CZ/C1"},"Pribina Cup 2017 - Kombi 15m","SK",15,2473,3112,0.94500000000000006,7290,6889,2017,null,null,"LS 8/15m","FX",{"$f":"VLOOKUP(A1970,Pilot,5,0)","v":"F"},""]
["Piotr Jarysz",null,null,null,"Pribina Cup 2017 - Kombi 15m","SK",16,2467,3112,0.94500000000000006,7186,6791,2017,null,null,"LS 6a","BB","M","Není v databázi"]
["Radek Krejcirik",{"$f":"VLOOKUP(A1972,Pilot,2,0)","v":1991},{"$f":"VLOOKUP(A1972,Pilot,3,0)","v":"Hranice"},{"$f":"VLOOKUP(A1972,Pilot,4,0)","v":"CZ/M"},"Pribina Cup 2017 - Kombi 15m","SK",17,2394,3112,0.94500000000000006,6930,6549,2017,null,null,"Ventus 2a","FAX",{"$f":"VLOOKUP(A1972,Pilot,5,0)","v":"M"},""]
["Witold Czarnik",null,null,null,"Pribina Cup 2017 - Kombi 15m","SK",18,2353,3112,0.94500000000000006,6747,6376,2017,null,null,"Ventus 2b","VI","M","Není v databázi"]
["Hana Treslova",{"$f":"VLOOKUP(A1974,Pilot,2,0)","v":1991},{"$f":"VLOOKUP(A1974,Pilot,3,0)","v":"Raná"},{"$f":"VLOOKUP(A1974,Pilot,4,0)","v":"CZ/C2"},"Pribina Cup 2017 - Kombi 15m","SK",19,2296,3112,0.94500000000000006,6528,6169,2017,null,null,"Discus 2a","GX",{"$f":"VLOOKUP(A1974,Pilot,5,0)","v":"F"},""]
["Hans Buhlmann",null,null,null,"Pribina Cup 2017 - Kombi 15m","SK",20,2199,3112,0.94500000000000006,6219,5877,2017,null,null,"LS 8/15m","NF","M","Není v databázi"]
["Sorin Lingureanu",null,null,null,"Pribina Cup 2017 - Kombi 15m","SK",21,2150,3112,0.94500000000000006,6018,5687,2017,null,null,"Ventus 2c/15m","ZR","M","Není v databázi"]
["Ambrus Vancso",null,null,null,"Pribina Cup 2017 - Kombi 15m","SK",22,2092,3112,0.94500000000000006,5797,5478,2017,null,null,"Ventus bt/15m","PB","M","Není v databázi"]
["Mogens Hoelgaard",null,null,null,"Pribina Cup 2017 - Kombi 15m","SK",23,2017,3112,0.94500000000000006,5537,5232,2017,null,null,"Discus 2a","AX","M","Není v databázi"]
["Aude Grangeray",null,null,null,"Pribina Cup 2017 - Kombi 15m","SK",24,2014,3112,0.94500000000000006,5439,5140,2017,null,null,"Discus 2a","ET","M","Není v databázi"]
["Daniel Arday",null,null,null,"Pribina Cup 2017 - Kombi 15m","SK",25,2003,3112,0.94500000000000006,5324,5031,2017,null,null,"Discus 2a","HAL","M","Není v databázi"]
["Tim Huybreckx",null,null,null,"Pribina Cup 2017 - Kombi 15m","SK",26,1933,3112,0.94500000000000006,5075,4796,2017,null,null,"Discus 2b","TH","M","Není v databázi"]
["Magali Decachard",null,null,null,"Pribina Cup 2017 - Kombi 15m","SK",27,1906,3112,0.94500000000000006,4924,4653,2017,null,null,"Discus 2a","CFM1","M","Není v databázi"]
["Attila Korom",null,null,null,"Pribina Cup 2017 - Kombi 15m","SK",28,1714,3112,0.94500000000000006,4401,4159,2017,null,null,"ASW 20/15m","MC","M","Není v databázi"]
["Istvan Reti",null,null,null,"Pribina Cup 2017 - Kombi 15m","SK",29,1698,3112,0.94500000000000006,4274,4039,2017,null,null,"Ventus 2a","IR","M","Není v databázi"]
["Daniela Wilden",null,null,null,"Pribina Cup 2017 - Kombi 15m","SK",30,1630,3112,0.94500000000000006,4030,3808,2017,null,null,"LS 8/15m","N6","F","Není v databázi"]
["Pascal Brunner",null,null,null,"Pribina Cup 2017 - Kombi 15m","SK",31,1627,3112,0.94500000000000006,3932,3716,2017,null,null,"Discus 2b","ST","M","Není v databázi"]
["Tizian Steiger",null,null,null,"Pribina Cup 2017 - Kombi 15m","SK",32,1365,3112,0.94500000000000006,3252,3073,2017,null,null,"Discus 2b","B2","M","Není v databázi"]
["Mike Hurlimann",null,null,null,"Pribina Cup 2017 - Kombi 15m","SK",33,962,3112,0.94500000000000006,2255,2131,2017,null,null,"Discus 2b","9S","M","Není v databázi"]
["Philip Joens",null,null,null,"Pribina Cup 2017 - Kombi 15m","SK",34,942,3112,0.94500000000000006,{"$f":"ROUND(H1989/I1989*10000*0.7+(MAX($G$1956:$G$1989)-G1989)/(MAX($G$1956:$G$1989)-1)*10000*0.3,0)","v":2119},{"$f":"ROUND(J1989*K1989,0)","v":2002},2017,null,null,"LS 7","AP","M","Není v databázi"]
["Roman Mracek",{"$f":"VLOOKUP(A1990,Pilot,2,0)","v":1980},{"$f":"VLOOKUP(A1990,Pilot,3,0)","v":"Letkov"},{"$f":"VLOOKUP(A1990,Pilot,4,0)","v":"CZ/C1"},"Pribina Cup 2017 - Kombi Open","SK",1,3003,3003,0.97499999999999998,{"$f":"ROUND(H1990/I1990*10000*0.7+(MAX($G$1990:$G$2021)-G1990)/(MAX($G$1990:$G$2021)-1)*10000*0.3,0)","v":10000},{"$f":"ROUND(J1990*K1990,0)","v":9750},2017,null,null,"ASG 29/18m","QX",{"$f":"VLOOKUP(A1990,Pilot,5,0)","v":"M"},{"$f":"IF(ISERROR(VLOOKUP(A1990,Pilot,6,0)),\"Není v databázi\",VLOOKUP(A1990,Pilot,6,0))","v":""}]
["Bert Schmelzer",null,null,null,"Pribina Cup 2017 - Kombi Open","SK",2,2940,3003,0.97499999999999998,{"$f":"ROUND(H1991/I1991*10000*0.7+(MAX($G$1990:$G$2021)-G1991)/(MAX($G$1990:$G$2021)-1)*10000*0.3,0)","v":9756},{"$f":"ROUND(J1991*K1991,0)","v":9512},2017,null,null,"ASG 29/18m","F2","M","Není v databázi"]
["Robin Sittmann",null,null,null,"Pribina Cup 2017 - Kombi Open","SK",3,2922,3003,0.97499999999999998,9618,9378,2017,null,null,"Discus 2c/18m","MA","M","Není v databázi"]
["Maximilian Schäfer",null,null,null,"Pribina Cup 2017 - Kombi Open","SK",4,2884,3003,0.97499999999999998,9432,9196,2017,null,null,"Quintus/23m","V","M","Není v databázi"]
["Petr Krejcirik",{"$f":"VLOOKUP(A1994,Pilot,2,0)","v":1960},{"$f":"VLOOKUP(A1994,Pilot,3,0)","v":"Hranice"},{"$f":"VLOOKUP(A1994,Pilot,4,0)","v":"CZ/M"},"Pribina Cup 2017 - Kombi Open","SK",5,2735,3003,0.97499999999999998,8988,8763,2017,null,null,"ASW 22BL","RX",{"$f":"VLOOKUP(A1994,Pilot,5,0)","v":"M"},""]
["Heimo Demmerer",null,null,null,"Pribina Cup 2017 - Kombi Open","SK",6,2725,3003,0.97499999999999998,8868,8646,2017,null,null,"Ventus 2cM/18m","OD","M","Není v databázi"]
["Bostjan Pristavec",null,null,null,"Pribina Cup 2017 - Kombi Open","SK",7,2628,3003,0.97499999999999998,8545,8331,2017,null,null,"EB 28 edition",7,"M","Není v databázi"]
["Florian Heilmann,",null,null,null,"Pribina Cup 2017 - Kombi Open","SK",8,2596,3003,0.97499999999999998,8374,8165,2017,null,null,"Nimbus 4","EP","M","Není v databázi"]
["Zdislaw Bednarczuk",null,null,null,"Pribina Cup 2017 - Kombi Open","SK",9,2562,3003,0.97499999999999998,8198,7993,2017,null,null,"ASG 29/18m","ZB","M","Není v databázi"]
["Sven Kolb",null,null,null,"Pribina Cup 2017 - Kombi Open","SK",10,2556,3003,0.97499999999999998,8087,7885,2017,null,null,"Antares/20m","ZF","M","Není v databázi"]
["Anton Sibanc",null,null,null,"Pribina Cup 2017 - Kombi Open","SK",11,2521,3003,0.97499999999999998,7909,7711,2017,null,null,"Discus 2c/18m","CH","M","Není v databázi"]
["Adam Czeladzki",null,null,null,"Pribina Cup 2017 - Kombi Open","SK",12,2495,3003,0.97499999999999998,7751,7557,2017,null,null,"JS 1/21m","GOL","M","Není v databázi"]
["Werner Danz",null,null,null,"Pribina Cup 2017 - Kombi Open","SK",13,2446,3003,0.97499999999999998,7540,7352,2017,null,null,"Antares/18m","BT","M","Není v databázi"]
["Mark Käppeli",null,null,null,"Pribina Cup 2017 - Kombi Open","SK",14,2408,3003,0.97499999999999998,7355,7171,2017,null,null,"Nimbus 4D","XXL","M","Není v databázi"]
["Andreas Sandhöfner",null,null,null,"Pribina Cup 2017 - Kombi Open","SK",15,2403,3003,0.97499999999999998,7247,7066,2017,null,null,"ASG 29/18m","AY","M","Není v databázi"]
["Bernhard Leitner",null,null,null,"Pribina Cup 2017 - Kombi Open","SK",16,2378,3003,{"$f":"VLOOKUP(E2005,Soutez,8,0)","v":0.97499999999999998},7092,6915,2017,null,null,"Ventus 2cM/18m","LV","M","Není v databázi"]
["Rene Schoenmann",null,null,null,"Pribina Cup 2017 - Kombi Open","SK",17,2360,3003,0.97499999999999998,6953,6779,2017,null,null,"JS 1/21m","RS","M","Není v databázi"]
["Rainer Cronjaeger",null,null,null,"Pribina Cup 2017 - Kombi Open","SK",18,2253,3003,0.97499999999999998,6607,6442,2017,null,null,"ASH 31 Mi/18m","I","M","Není v databázi"]
["Mathias Muench",null,null,null,"Pribina Cup 2017 - Kombi Open","SK",19,2224,3003,0.97499999999999998,6442,6281,2017,null,null,"DG 800/18m","MU","M","Není v databázi"]
["Henning Kjersgaard Nielsen",null,null,null,"Pribina Cup 2017 - Kombi Open","SK",20,2179,3003,0.97499999999999998,6241,6085,2017,null,null,"Ventus 2c/18m","T","M","Není v databázi"]
["Martin Fürješ",null,null,null,"Pribina Cup 2017 - Kombi Open","SK",21,2138,3003,0.97499999999999998,6048,5897,2017,null,null,"LS 10/18m",10,"M","Není v databázi"]
["Wolfert Voet",null,null,null,"Pribina Cup 2017 - Kombi Open","SK",22,2004,3003,0.97499999999999998,5639,5498,2017,null,null,"Ventus 2cT/18m","7L","M","Není v databázi"]
["Jana Treslova",{"$f":"VLOOKUP(A2012,Pilot,2,0)","v":1963},{"$f":"VLOOKUP(A2012,Pilot,3,0)","v":"Raná"},{"$f":"VLOOKUP(A2012,Pilot,4,0)","v":"CZ/C2"},"Pribina Cup 2017 - Kombi Open","SK",23,1824,3003,0.97499999999999998,5123,4995,2017,null,null,"ASG 29/18m","QZ",{"$f":"VLOOKUP(A2012,Pilot,5,0)","v":"F"},""]
["Egidio Babbi",null,null,null,"Pribina Cup 2017 - Kombi Open","SK",24,1763,3003,0.97499999999999998,4884,4762,2017,null,null,"ASG 29/18m","EB","M","Není v databázi"]
["Viliam Kubovcik",null,null,null,"Pribina Cup 2017 - Kombi Open","SK",25,1754,3003,0.97499999999999998,4766,4647,2017,null,null,"Ventus 2cxT/18m","VV","M","Není v databázi"]
["Jan Gevad",null,null,null,"Pribina Cup 2017 - Kombi Open","SK",26,1739,3003,0.97499999999999998,4634,4518,2017,null,null,"LAK 17A/18m","AT","M","Není v databázi"]
["Laszlo Kapuy",null,null,null,"Pribina Cup 2017 - Kombi Open","SK",27,1475,3003,0.97499999999999998,3922,3824,2017,null,null,"Ventus 2cT/18m","GE","M","Není v databázi"]
["Uros Krasovic",null,null,null,"Pribina Cup 2017 - Kombi Open","SK",28,1437,3003,0.97499999999999998,3737,3644,2017,null,null,"ASG 29/18m","E3","M","Není v databázi"]
["Lukasz Wojcik",null,null,null,"Pribina Cup 2017 - Kombi Open","SK",29,1335,3003,0.97499999999999998,3402,3317,2017,null,null,"JS 1/21m","P","M","Není v databázi"]
["Ulrich Tenter",null,null,null,"Pribina Cup 2017 - Kombi Open","SK",30,1183,3003,0.97499999999999998,2951,2877,2017,null,null,"Discus 2C/18m","WZ","M","Není v databázi"]
["Marc Beckmann",null,null,null,"Pribina Cup 2017 - Kombi Open","SK",31,1120,3003,0.97499999999999998,2707,2639,2017,null,null,"Ventus 2cx 18m","WV","M","Není v databázi"]
["Carsten Rasmussen",null,null,null,"Pribina Cup 2017 - Kombi Open","SK",32,0,3003,0.97499999999999998,{"$f":"ROUND(H2021/I2021*10000*0.7+(MAX($G$1990:$G$2021)-G2021)/(MAX($G$1990:$G$2021)-1)*10000*0.3,0)","v":0},{"$f":"ROUND(J2021*K2021,0)","v":0},2017,null,null,"DG 800/18m","D","M","Není v databázi"]
["Janowitsch & Koch",null,null,null,"Pribina Cup 2017 - Duo 20m","SK",1,3269,3269,0.90500000000000003,{"$f":"ROUND(H2022/I2022*10000*0.7+(MAX($G$2022:$G$2046)-G2022)/(MAX($G$2022:$G$2046)-1)*10000*0.3,0)","v":10000},{"$f":"ROUND(J2022*K2022,0)","v":9050},2017,null,null,"Arcus",1,"M",{"$f":"IF(ISERROR(VLOOKUP(A2022,Pilot,6,0)),\"Není v databázi\",VLOOKUP(A2022,Pilot,6,0))","v":"Není v databázi"}]
["Scheffler & Triebel",null,null,null,"Pribina Cup 2017 - Duo 20m","SK",2,3168,3269,0.90500000000000003,{"$f":"ROUND(H2023/I2023*10000*0.7+(MAX($G$2022:$G$2046)-G2023)/(MAX($G$2022:$G$2046)-1)*10000*0.3,0)","v":9659},{"$f":"ROUND(J2023*K2023,0)","v":8741},2017,null,null,"Arcus","SP","M","Není v databázi"]
["Kretzschmar & Gillessen",null,null,null,"Pribina Cup 2017 - Duo 20m","SK",3,3030,3269,0.90500000000000003,9238,8360,2017,null,null,"Arcus","BY","M","Není v databázi"]
["Akkermans & Vandebeeck",null,null,null,"Pribina Cup 2017 - Duo 20m","SK",4,2988,3269,0.90500000000000003,9023,8166,2017,null,null,"Arcus","ZZZ","M","Není v databázi"]
["Schwarz & Ditzel",null,null,null,"Pribina Cup 2017 - Duo 20m","SK",5,2771,3269,0.90500000000000003,8434,7633,2017,null,null,"Arcus","HLB","M","Není v databázi"]
["Holighaus & Godde",null,null,null,"Pribina Cup 2017 - Duo 20m","SK",6,2749,3269,0.90500000000000003,8262,7477,2017,null,null,"Arcus","ARC","M","Není v databázi"]
["de Boer & Reitsma",null,null,null,"Pribina Cup 2017 - Duo 20m","SK",7,2691,3269,0.90500000000000003,8012,7251,2017,null,null,"Duo Discus","2T","M","Není v databázi"]
["Levin & Levin",null,null,null,"Pribina Cup 2017 - Duo 20m","SK",8,2677,3269,0.90500000000000003,7857,7111,2017,null,null,"Duo Discus","H1","M","Není v databázi"]
["Klingspohn & Schramme",null,null,null,"Pribina Cup 2017 - Duo 20m","SK",9,2664,3269,0.90500000000000003,7704,6972,2017,null,null,"Arcus","GF","M","Není v databázi"]
["David Barth",null,null,null,"Pribina Cup 2017 - Duo 20m","SK",10,2656,3269,0.90500000000000003,7562,6844,2017,null,null,"Duo Discus","BL","M","Není v databázi"]
["Baumgartl & Krause",null,null,null,"Pribina Cup 2017 - Duo 20m","SK",11,2543,3269,0.90500000000000003,7195,6511,2017,null,null,"Arcus","LL","M","Není v databázi"]
["Tourula & Kankare",null,null,null,"Pribina Cup 2017 - Duo 20m","SK",12,2537,3269,0.90500000000000003,7058,6387,2017,null,null,"DG 1000/20m","NIT","M","Není v databázi"]
["Schulz & Naegel",null,null,null,"Pribina Cup 2017 - Duo 20m","SK",13,2400,3269,0.90500000000000003,6639,6008,2017,null,null,"Arcus","K2","M","Není v databázi"]
["Salej & Ranđelović",null,null,null,"Pribina Cup 2017 - Duo 20m","SK",14,2128,3269,0.90500000000000003,5932,5368,2017,null,null,"Duo Discus","CG","M","Není v databázi"]
["Härle & Hauenschild",null,null,null,"Pribina Cup 2017 - Duo 20m","SK",15,2073,3269,0.90500000000000003,5689,5149,2017,null,null,"Arcus","WA","M","Není v databázi"]
["Badaroux & Lantelme",null,null,null,"Pribina Cup 2017 - Duo 20m","SK",16,2052,3269,0.90500000000000003,5519,4995,2017,null,null,"Arcus",28,"M","Není v databázi"]
["Schwan & Hudler",null,null,null,"Pribina Cup 2017 - Duo 20m","SK",17,1995,3269,0.90500000000000003,5272,4771,2017,null,null,"Duo Discus","MM","M","Není v databázi"]
["Szabadfi & Toth",null,null,null,"Pribina Cup 2017 - Duo 20m","SK",18,1893,3269,0.90500000000000003,4929,4461,2017,null,null,"Arcus","AB","M","Není v databázi"]
["Karel Mares",{"$f":"VLOOKUP(A2040,Pilot,2,0)","v":1974},{"$f":"VLOOKUP(A2040,Pilot,3,0)","v":"Slaný"},{"$f":"VLOOKUP(A2040,Pilot,4,0)","v":"CZ/C1"},"Pribina Cup 2017 - Duo 20m","SK",19,1854,3269,0.90500000000000003,4720,4272,2017,null,null,"Duo Discus","DD",{"$f":"VLOOKUP(A2040,Pilot,5,0)","v":"M"},""]
["Prodorutti & Bardelli",null,null,null,"Pribina Cup 2017 - Duo 20m","SK",20,1850,3269,0.90500000000000003,4586,4150,2017,null,null,"Arcus","TWO","M","Není v databázi"]
["Leinikki & Haikonen",null,null,null,"Pribina Cup 2017 - Duo 20m","SK",21,1817,3269,0.90500000000000003,4391,3974,2017,null,null,"Arcus","KA","M","Není v databázi"]
["Corporaal & Corporaal",null,null,null,"Pribina Cup 2017 - Duo 20m","SK",22,1809,3269,0.90500000000000003,4249,3845,2017,null,null,"Duo Discus","WO","M","Není v databázi"]
["Cernezzi & Tassara",null,null,null,"Pribina Cup 2017 - Duo 20m","SK",23,1518,3269,0.90500000000000003,3501,3168,2017,null,null,"Arcus",61,"M","Není v databázi"]
["Schneeweis & Schneeweis",null,null,null,"Pribina Cup 2017 - Duo 20m","SK",24,1393,3269,0.90500000000000003,3108,2813,2017,null,null,"Duo Discus","L","M","Není v databázi"]
["Leding & Johansen",null,null,null,"Pribina Cup 2017 - Duo 20m","SK",25,1131,3269,0.90500000000000003,{"$f":"ROUND(H2046/I2046*10000*0.7+(MAX($G$2022:$G$2046)-G2046)/(MAX($G$2022:$G$2046)-1)*10000*0.3,0)","v":2422},{"$f":"ROUND(J2046*K2046,0)","v":2192},2017,null,null,"Duo Discus","MF","M","Není v databázi"]
["Tim Milner",null,"Wolds gliding Club",null,"FCC 2017 - Klub","SK",1,3567,3567,0.93500000000000005,{"$f":"ROUND(H2047/I2047*10000*0.7+(MAX($G$2047:$G$2090)-G2047)/(MAX($G$2047:$G$2090)-1)*10000*0.3,0)","v":10000},{"$f":"ROUND(J2047*K2047,0)","v":9350},2017,null,null,"Std. Cirrus","VS","M",{"$f":"IF(ISERROR(VLOOKUP(A2047,Pilot,6,0)),\"Není v databázi\",VLOOKUP(A2047,Pilot,6,0))","v":"Není v databázi"}]
["Gerrard G Dale",null,"Lasham and Glide Omarama",null,"FCC 2017 - Klub","SK",2,3432,3567,0.93500000000000005,{"$f":"ROUND(H2048/I2048*10000*0.7+(MAX($G$2047:$G$2090)-G2048)/(MAX($G$2047:$G$2090)-1)*10000*0.3,0)","v":9664},{"$f":"ROUND(J2048*K2048,0)","v":9036},2017,null,null,"Libelle std",528,"M","Není v databázi"]
["Karol Pawlicki",null,"Stalowowolski",null,"FCC 2017 - Klub","SK",3,3125,3567,0.93500000000000005,8990,8406,2017,null,null,"Jantar Std 3","BK","M","Není v databázi"]
["Marek Pechanec",{"$f":"VLOOKUP(A2050,Pilot,2,0)","v":1970},{"$f":"VLOOKUP(A2050,Pilot,3,0)","v":"Luhačovice"},{"$f":"VLOOKUP(A2050,Pilot,4,0)","v":"CZ/M"},"FCC 2017 - Klub","SK",4,3082,3567,0.93500000000000005,8834,8260,2017,null,null,"Std. W","SJ",{"$f":"VLOOKUP(A2050,Pilot,5,0)","v":"M"},""]
["Zdenek Balcarek",{"$f":"VLOOKUP(A2051,Pilot,2,0)","v":1967},{"$f":"VLOOKUP(A2051,Pilot,3,0)","v":"Kroměříž"},{"$f":"VLOOKUP(A2051,Pilot,4,0)","v":"CZ/M"},"FCC 2017 - Klub","SK",5,2923,3567,0.93500000000000005,8450,7901,2017,null,null,"Std. Cirrus","ZL",{"$f":"VLOOKUP(A2051,Pilot,5,0)","v":"M"},""]
["Andrzej Szczerba",null,"Leszcznski",null,"FCC 2017 - Klub","SK",6,2920,3567,0.93500000000000005,8373,7829,2017,null,null,"Jantar std 3","VZ","M","Není v databázi"]
["Krzysztof Sobiecki",null,"Bydgoski",null,"FCC 2017 - Klub","SK",7,2898,3567,0.93500000000000005,8259,7722,2017,null,null,"Jantar Std 2","UT","M","Není v databázi"]
["Daniel Smolka",null,"Prievidza",null,"FCC 2017 - Klub","SK",8,2817,3567,0.93500000000000005,8028,7506,2017,null,null,"ASW-20","EW","M","Není v databázi"]
["Petr Panek",{"$f":"VLOOKUP(A2055,Pilot,2,0)","v":1975},{"$f":"VLOOKUP(A2055,Pilot,3,0)","v":"Dvůr Králové"},{"$f":"VLOOKUP(A2055,Pilot,4,0)","v":"CZ/C2"},"FCC 2017 - Klub","SK",9,2802,3567,0.93500000000000005,7927,7412,2017,null,null,"Std. Cirrus","YU",{"$f":"VLOOKUP(A2055,Pilot,5,0)","v":"M"},""]
["Lukasz Grabowski",null,"GTKK",null,"FCC 2017 - Klub","SK",10,2743,3567,0.93500000000000005,7740,7237,2017,null,null,"ASW 19B","J1","M","Není v databázi"]
["Petra Piskata",{"$f":"VLOOKUP(A2057,Pilot,2,0)","v":1989},{"$f":"VLOOKUP(A2057,Pilot,3,0)","v":"Hranice"},{"$f":"VLOOKUP(A2057,Pilot,4,0)","v":"CZ/M"},"FCC 2017 - Klub","SK",11,2734,3567,0.93500000000000005,7651,7154,2017,null,null,"Std. Cirrus","XC",{"$f":"VLOOKUP(A2057,Pilot,5,0)","v":"F"},""]
["Lumir Motyka",{"$f":"VLOOKUP(A2058,Pilot,2,0)","v":1955},{"$f":"VLOOKUP(A2058,Pilot,3,0)","v":"Frýdlant"},{"$f":"VLOOKUP(A2058,Pilot,4,0)","v":"CZ/M"},"FCC 2017 - Klub","SK",12,2672,3567,0.93500000000000005,7458,6973,2017,"x",null,"LS-1f","EM",{"$f":"VLOOKUP(A2058,Pilot,5,0)","v":"M"},""]
["Kamil Wojcik",null,"Wroclawek",null,"FCC 2017 - Klub","SK",13,2631,3567,0.93500000000000005,7306,6831,2017,null,null,"LS-4","WW","M","Není v databázi"]
["Darius Gudziunas",null,"Vilniaus Aeroklubas",null,"FCC 2017 - Klub","SK",14,2502,3567,0.93500000000000005,6981,6527,2017,null,null,"Jantar std. 2","NE","M","Není v databázi"]
["Piotr Ligwinski",null,"Czestochova",null,"FCC 2017 - Klub","SK",15,2417,3567,0.93500000000000005,6743,6305,2017,null,null,"Jantar Std 3","DA","M","Není v databázi"]
["Marek Grzegorzewicz",null,"CSS",null,"FCC 2017 - Klub","SK",16,2375,3567,0.93500000000000005,6589,6161,2017,null,null,"Jantar Std","MG","M","Není v databázi"]
["Milan Kmetovics",null,null,null,"FCC 2017 - Klub","SK",17,2348,3567,0.93500000000000005,6465,6045,2017,null,null,"LS3a","1A","M","Není v databázi"]
["Rafal Siankowski",null,"Radomski",null,"FCC 2017 - Klub","SK",18,2323,3567,0.93500000000000005,6344,5932,2017,null,null,"Jantar std 3","AA","M","Není v databázi"]
["Szekely Szilard",null,"Romania Airclub",null,"FCC 2017 - Klub","SK",19,2308,3567,0.93500000000000005,6244,5838,2017,null,null,"Jantar std. 1","YE","M","Není v databázi"]
["Benedikt & Homola",null,null,null,"FCC 2017 - Klub","SK",20,2294,3567,0.93500000000000005,6145,5746,2017,null,null,"Janus CMF","T","M","Není v databázi"]
["Frantisek Sobek",null,"Presov",null,"FCC 2017 - Klub","SK",21,2163,3567,0.93500000000000005,5816,5438,2017,null,null,"DG 100","G1","M","Není v databázi"]
["Stanislaw Wujczak",null,"Leszczyński",null,"FCC 2017 - Klub","SK",22,2126,3567,0.93500000000000005,5672,5303,2017,null,null,"Jantar Std 3","FSJ","M","Není v databázi"]
["Marek Herbreder",null,"Szcecin",null,"FCC 2017 - Klub","SK",23,2100,3567,{"$f":"VLOOKUP(E2069,Soutez,8,0)","v":0.93500000000000005},5550,5189,2017,null,null,"SZD-55 Promyk","TK","M","Není v databázi"]
["Aleksandar Diklic",null,"Zrenjanin",null,"FCC 2017 - Klub","SK",24,2054,3567,0.93500000000000005,5388,5038,2017,null,null,"DG 100",30,"M","Není v databázi"]
["Juraj Sidor",null,"AK Holic",null,"FCC 2017 - Klub","SK",25,2011,3567,0.93500000000000005,5232,4892,2017,null,null,"Std. Cirrus","NM","M","Není v databázi"]
["Mariusz RACHWAL",null,"Aeroklub Ziemi Zamojskiej",null,"FCC 2017 - Klub","SK",26,1958,3567,0.93500000000000005,5057,4728,2017,null,null,"SZD-48","VII","M","Není v databázi"]
["Octavian Mihalcea",null,"Romanian Airclub",null,"FCC 2017 - Klub","SK",27,1955,3567,0.93500000000000005,4979,4655,2017,null,null,"Jantar Std 2","YC","M","Není v databázi"]
["Nico Le Roux",null,"Cape Gliding Club",null,"FCC 2017 - Klub","SK",28,1923,3567,0.93500000000000005,4845,4530,2017,null,null,"Jantar std 3","NN","M","Není v databázi"]
["Piotr Jaszczuk",null,"Aeroklub Orlat Deblin",null,"FCC 2017 - Klub","SK",29,1897,3567,0.93500000000000005,4723,4416,2017,null,null,"ASW 19B","JAY","M","Není v databázi"]
["Wojciech Izdebski",null,"Gdansk",null,"FCC 2017 - Klub","SK",30,1808,3567,0.93500000000000005,4477,4186,2017,null,null,"Jantar Std 3","SIG","M","Není v databázi"]
["Gonczi & Murati",null,null,null,"FCC 2017 - Klub","SK",31,1690,3567,0.93500000000000005,4174,3903,2017,null,null,"Janus C","DD","M","Není v databázi"]
["Andrius Tamulenas",null,"Vilnianus aeroklubas",null,"FCC 2017 - Klub","SK",32,1659,3567,0.93500000000000005,4041,3778,2017,null,null,"LS-4","IK","M","Není v databázi"]
["Tomas Smolski",null,"Radomski",null,"FCC 2017 - Klub","SK",33,1654,3567,0.93500000000000005,3960,3703,2017,null,null,"Jantar std 3","VY","M","Není v databázi"]
["Krzysztof Pienkowski",null,"Bielsko-Bialski",null,"FCC 2017 - Klub","SK",34,1643,3567,0.93500000000000005,3867,3616,2017,null,null,"ASW20F","BW","M","Není v databázi"]
["Arkadiusz Bajura",null,"Czestochowa",null,"FCC 2017 - Klub","SK",35,1597,3567,0.93500000000000005,3705,3464,2017,null,null,"Mini Nimbus C","CCI","M","Není v databázi"]
["Krzysztof Owsiany",null,"AZM Lubin",null,"FCC 2017 - Klub","SK",36,1383,3567,0.93500000000000005,3214,3005,2017,null,null,"Jantar std 3","CU","M","Není v databázi"]
["Michal Poplawski",null,"Aeroklub Pomorski",null,"FCC 2017 - Klub","SK",37,1255,3567,0.93500000000000005,2891,2703,2017,null,null,"Jantar Std 2","IF","M","Není v databázi"]
["Martin Sabla",null,"SNV",null,"FCC 2017 - Klub","SK",38,1074,3567,0.93500000000000005,2465,2305,2017,null,null,"Std. Cirrus","SA","M","Není v databázi"]
["Jerzy Mikolajczyk",null,"AZM Plock",null,"FCC 2017 - Klub","SK",39,950,3567,0.93500000000000005,2150,2010,2017,null,null,"DG 300","N5","M","Není v databázi"]
["Gerhard Cieply",null,"Aeroklub Leszczyński",null,"FCC 2017 - Klub","SK",40,478,3567,0.93500000000000005,1152,1077,2017,null,null,"LS1-f","GC","M","Není v databázi"]
["Drahomira Divokova",null,"SNV",null,"FCC 2017 - Klub","SK",41,353,3567,0.93500000000000005,836,782,2017,null,null,"Discus CS","3D","F","Není v databázi"]
["Ryszard Bendkowski",null,"Warszawa",null,"FCC 2017 - Klub","SK",42,348,3567,0.93500000000000005,754,705,2017,null,null,"Jantar std 2","Filip","M","Není v databázi"]
["Krzysztof Nowak",null,"Ziemi Jaroslawskiej",null,"FCC 2017 - Klub","SK",43,0,3567,0.93500000000000005,0,0,2017,null,null,"Jantar std 2","DZ","M","Není v databázi"]
["Mateusz Szymbara",null,"Rzesoszowski",null,"FCC 2017 - Klub","SK",43,0,3567,0.93500000000000005,{"$f":"ROUND(H2090/I2090*10000*0.7+(MAX($G$2047:$G$2090)-G2090)/(MAX($G$2047:$G$2090)-1)*10000*0.3,0)","v":0},{"$f":"ROUND(J2090*K2090,0)","v":0},2017,null,null,"Jantar Std 2/3",null,"M","Není v databázi"]
["Przemysław Bartczak",null,"Czestochowa",null,"FCC 2017 - Kombi 15m","SK",1,3381,3381,0.93,{"$f":"ROUND(H2091/I2091*10000*0.7+(MAX($G$2091:$G$2122)-G2091)/(MAX($G$2091:$G$2122)-1)*10000*0.3,0)","v":10000},{"$f":"ROUND(J2091*K2091,0)","v":9300},2017,null,null,"LS 8","A","M",{"$f":"IF(ISERROR(VLOOKUP(A2091,Pilot,6,0)),\"Není v databázi\",VLOOKUP(A2091,Pilot,6,0))","v":"Není v databázi"}]
["Norbert Alin Scarlat",null,"Romanian Airclub",null,"FCC 2017 - Kombi 15m","SK",2,3351,3381,0.93,{"$f":"ROUND(H2092/I2092*10000*0.7+(MAX($G$2091:$G$2122)-G2092)/(MAX($G$2091:$G$2122)-1)*10000*0.3,0)","v":9841},{"$f":"ROUND(J2092*K2092,0)","v":9152},2017,null,null,"Discus 2a","YBI","M","Není v databázi"]
["Miloslav Cink",{"$f":"VLOOKUP(A2093,Pilot,2,0)","v":1987},{"$f":"VLOOKUP(A2093,Pilot,3,0)","v":"Letkov"},{"$f":"VLOOKUP(A2093,Pilot,4,0)","v":"CZ/C1"},"FCC 2017 - Kombi 15m","SK",3,3341,3381,0.93,9724,9043,2017,null,null,"LS 8a","EU",{"$f":"VLOOKUP(A2093,Pilot,5,0)","v":"M"},""]
["Jan Boruvka",{"$f":"VLOOKUP(A2094,Pilot,2,0)","v":1984},{"$f":"VLOOKUP(A2094,Pilot,3,0)","v":"Jičín"},{"$f":"VLOOKUP(A2094,Pilot,4,0)","v":"CZ/C2"},"FCC 2017 - Kombi 15m","SK",4,3337,3381,0.93,9619,8946,2017,"x",null,"Ventus c 15m","EG",{"$f":"VLOOKUP(A2094,Pilot,5,0)","v":"M"},""]
["Pavel Louzecky",{"$f":"VLOOKUP(A2095,Pilot,2,0)","v":1957},{"$f":"VLOOKUP(A2095,Pilot,3,0)","v":"Přibyslav"},{"$f":"VLOOKUP(A2095,Pilot,4,0)","v":"CZ/C2"},"FCC 2017 - Kombi 15m","SK",5,3292,3381,0.93,9429,8769,2017,null,null,"LS 8a","AU",{"$f":"VLOOKUP(A2095,Pilot,5,0)","v":"M"},""]
["Maros Divok",null,"SNV",null,"FCC 2017 - Kombi 15m","SK",6,3043,3381,0.93,8816,8199,2017,null,null,"Discus 2b","DI","M","Není v databázi"]
["David Mach",{"$f":"VLOOKUP(A2097,Pilot,2,0)","v":1994},{"$f":"VLOOKUP(A2097,Pilot,3,0)","v":"Hronov"},{"$f":"VLOOKUP(A2097,Pilot,4,0)","v":"CZ/C2"},"FCC 2017 - Kombi 15m","SK",7,2975,3381,0.93,8579,7978,2017,null,null,"LS 8","JB",{"$f":"VLOOKUP(A2097,Pilot,5,0)","v":"M"},"Junior v roce 2019"]
["Alex Pop",null,"Romanian Airclub",null,"FCC 2017 - Kombi 15m","SK",8,2877,3381,0.93,8279,7699,2017,null,null,"Discus 2a","YA","M","Není v databázi"]
["Thomas Hynek",null,"SNVFlugschule ASKÖ Wien",null,"FCC 2017 - Kombi 15m","SK",9,2852,3381,0.93,8131,7562,2017,null,null,"Ventus 2b","CC","M","Není v databázi"]
["Jan Viskot",{"$f":"VLOOKUP(A2100,Pilot,2,0)","v":1995},{"$f":"VLOOKUP(A2100,Pilot,3,0)","v":"Břeclav"},{"$f":"VLOOKUP(A2100,Pilot,4,0)","v":"CZ/M"},"FCC 2017 - Kombi 15m","SK",10,2756,3381,0.93,7835,7287,2017,null,null,"Discus 2a","GX",{"$f":"VLOOKUP(A2100,Pilot,5,0)","v":"M"},"Junior v roce 2019"]
["Dana Novakova",{"$f":"VLOOKUP(A2101,Pilot,2,0)","v":1965},{"$f":"VLOOKUP(A2101,Pilot,3,0)","v":"Mladá Boleslav"},{"$f":"VLOOKUP(A2101,Pilot,4,0)","v":"CZ/C1"},"FCC 2017 - Kombi 15m","SK",11,2742,3381,0.93,7709,7169,2017,null,null,"LS 8","FX",{"$f":"VLOOKUP(A2101,Pilot,5,0)","v":"F"},""]
["Tibor Arpas",null,"Nitra",null,"FCC 2017 - Kombi 15m","SK",12,2670,3381,0.93,7463,6941,2017,null,null,"LS 8","HM","M","Není v databázi"]
["Mikolaj Zdun",null,"Leszcynski",null,"FCC 2017 - Kombi 15m","SK",13,2484,3381,0.93,6982,6493,2017,null,null,"Ls 6a","VV","M","Není v databázi"]
["Judyta Czyż",null,"PL",null,"FCC 2017 - Kombi 15m","SK",14,2388,3381,0.93,6686,6218,2017,null,null,"Ls 8","LOT","F","Není v databázi"]
["Jakubcak & Sulirova",null,"Mlynica",null,"FCC 2017 - Kombi 15m","SK",15,2384,3381,0.93,6581,6120,2017,null,null,"DUO Discus XT","LM","M","Není v databázi"]
["Jana Veprekova",{"$f":"VLOOKUP(A2106,Pilot,2,0)","v":1961},{"$f":"VLOOKUP(A2106,Pilot,3,0)","v":"Dvůr Králové"},{"$f":"VLOOKUP(A2106,Pilot,4,0)","v":"CZ/C2"},"FCC 2017 - Kombi 15m","SK",16,2371,3381,0.93,{"$f":"ROUND(H2106/I2106*10000*0.7+(MAX($G$2091:$G$2122)-G2106)/(MAX($G$2091:$G$2122)-1)*10000*0.3,0)","v":6457},6005,2017,null,null,"LS 8","W8",{"$f":"VLOOKUP(A2106,Pilot,5,0)","v":"F"},""]
["Jana Treslova",{"$f":"VLOOKUP(A2107,Pilot,2,0)","v":1963},{"$f":"VLOOKUP(A2107,Pilot,3,0)","v":"Raná"},{"$f":"VLOOKUP(A2107,Pilot,4,0)","v":"CZ/C2"},"FCC 2017 - Kombi 15m","SK",17,2370,3381,0.93,6358,5913,2017,null,null,"ASG 29E 15 m","QZ",{"$f":"VLOOKUP(A2107,Pilot,5,0)","v":"F"},""]
["Dariusz Czech",null,"Stalowowolski",null,"FCC 2017 - Kombi 15m","SK",18,2243,3381,0.93,5999,5579,2017,null,null,"LAK 19 15m","DC","M","Není v databázi"]
["Maciej Adamski",null,"Leszno",null,"FCC 2017 - Kombi 15m","SK",19,2157,3381,0.93,5724,5323,2017,null,null,"LAK 19T 15m","HMI","M","Není v databázi"]
["Slavomir Valecko",{"$f":"VLOOKUP(A2110,Pilot,2,0)","v":1960},{"$f":"VLOOKUP(A2110,Pilot,3,0)","v":"Hranice"},{"$f":"VLOOKUP(A2110,Pilot,4,0)","v":"CZ/M"},"FCC 2017 - Kombi 15m","SK",20,2055,3381,0.93,5416,5037,2017,"x",null,"Discus CS","IYB",{"$f":"VLOOKUP(A2110,Pilot,5,0)","v":"M"},""]
["Istvan Reti",null,"Alfoldi Repülőklub",null,"FCC 2017 - Kombi 15m","SK",21,1956,3381,0.93,5114,4756,2017,null,null,"Ventus 2a","IR","M","Není v databázi"]
["Tomas Kuzmickas",null,"Vilnius Aeroclub",null,"FCC 2017 - Kombi 15m","SK",22,1936,3381,0.93,4976,4628,2017,null,null,"Ls 8","P2","M","Není v databázi"]
["Drahos Sitar",null,"Aeroklub Prievidza",null,"FCC 2017 - Kombi 15m","SK",23,1929,3381,0.93,4865,4524,2017,null,null,"Ventus 2b","VI","M","Není v databázi"]
["Jan Keher",null,"Prievidza",null,"FCC 2017 - Kombi 15m","SK",24,1838,3381,0.93,{"$f":"ROUND(H2114/I2114*10000*0.7+(MAX($G$2091:$G$2122)-G2114)/(MAX($G$2091:$G$2122)-1)*10000*0.3,0)","v":4580},4259,2017,null,null,"Discus CS","DR","M","Není v databázi"]
["Benedikt Laho",null,"Trnava",null,"FCC 2017 - Kombi 15m","SK",25,1725,3381,0.93,4249,3952,2017,null,null,"Discus 2cT/15 m","JH","M","Není v databázi"]
["Iakov Shrage",null,"Neboshevlino",null,"FCC 2017 - Kombi 15m","SK",26,1569,3381,0.93,3829,3561,2017,null,null,"Ls 8tc","7C","M","Není v databázi"]
["Arkadiusz Stefańczyk",null,"Aeroklub Kielecki",null,"FCC 2017 - Kombi 15m","SK",27,1524,3381,0.93,3639,3384,2017,null,null,"Duo Discus XLT","POL","M","Není v databázi"]
["Arturas Klimasauskas",null,"Pociunai (Kaunas Gliding Club)",null,"FCC 2017 - Kombi 15m","SK",28,1372,3381,0.93,3228,3002,2017,null,null,"LS 6","HX","M","Není v databázi"]
["Vaclav Svoboda",{"$f":"VLOOKUP(A2119,Pilot,2,0)","v":1970},{"$f":"VLOOKUP(A2119,Pilot,3,0)","v":"Letkov"},{"$f":"VLOOKUP(A2119,Pilot,4,0)","v":"CZ/C1"},"FCC 2017 - Kombi 15m","SK",29,1364,3381,0.93,3114,2896,2017,"x",null,"Duo Discus","DL",{"$f":"VLOOKUP(A2119,Pilot,5,0)","v":"M"},""]
["Jiri Kusbach",{"$f":"VLOOKUP(A2120,Pilot,2,0)","v":1959},{"$f":"VLOOKUP(A2120,Pilot,3,0)","v":"Luhačovice"},{"$f":"VLOOKUP(A2120,Pilot,4,0)","v":"CZ/M"},"FCC 2017 - Kombi 15m","SK",30,1235,3381,0.93,2750,2558,2017,null,null,"KKB-15 E","B",{"$f":"VLOOKUP(A2120,Pilot,5,0)","v":"M"},""]
["Vladas Motuza",null,"Pociunai",null,"FCC 2017 - Kombi 15m","SK",31,215,3381,0.93,542,504,2017,null,null,"Discus 2a","FL","M","Není v databázi"]
["Sabecki Vytautas",null,"Pociunai",null,"FCC 2017 - Kombi 15m","SK",32,0,3381,0.93,{"$f":"ROUND(H2122/I2122*10000*0.7+(MAX($G$2091:$G$2122)-G2122)/(MAX($G$2091:$G$2122)-1)*10000*0.3,0)","v":0},{"$f":"ROUND(J2122*K2122,0)","v":0},2017,null,null,"LAK-17","SV","M","Není v databázi"]
["Sebastian Kawa",null,"Aeroclub Bielsko Biala",null,"FCC 2017 - Kombi Open","SK",1,3463,3463,0.97,{"$f":"ROUND(H2123/I2123*10000*0.7+(MAX($G$2123:$G$2145)-G2123)/(MAX($G$2123:$G$2145)-1)*10000*0.3,0)","v":10000},{"$f":"ROUND(J2123*K2123,0)","v":9700},2017,null,null,"JS 1 C","P","M",{"$f":"IF(ISERROR(VLOOKUP(A2123,Pilot,6,0)),\"Není v databázi\",VLOOKUP(A2123,Pilot,6,0))","v":"Není v databázi"}]
["Gintas Zube",null,"LT/KLAIPEDA",null,"FCC 2017 - Kombi Open","SK",2,3200,3463,0.97,{"$f":"ROUND(H2124/I2124*10000*0.7+(MAX($G$2123:$G$2145)-G2124)/(MAX($G$2123:$G$2145)-1)*10000*0.3,0)","v":9332},{"$f":"ROUND(J2124*K2124,0)","v":9052},2017,null,null,"ASG 29","AR","M","Není v databázi"]
["Andrzej Smielkiewicz",null,"Leszno",null,"FCC 2017 - Kombi Open","SK",3,3180,3463,0.97,9155,8880,2017,null,null,"ASG 29E 18m","A2","M","Není v databázi"]
["Andreas Kessler",null,"Romanian Airclub",null,"FCC 2017 - Kombi Open","SK",4,3146,3463,0.97,8950,8682,2017,null,null,"ASG 29 Es","AK","M","Není v databázi"]
["Roman Mracek",{"$f":"VLOOKUP(A2127,Pilot,2,0)","v":1980},{"$f":"VLOOKUP(A2127,Pilot,3,0)","v":"Letkov"},{"$f":"VLOOKUP(A2127,Pilot,4,0)","v":"CZ/C1"},"FCC 2017 - Kombi Open","SK",5,3043,3463,0.97,8606,8348,2017,null,null,"ASG 29E 18m","QX",{"$f":"VLOOKUP(A2127,Pilot,5,0)","v":"M"},""]
["Petr Krejcirik",{"$f":"VLOOKUP(A2128,Pilot,2,0)","v":1960},{"$f":"VLOOKUP(A2128,Pilot,3,0)","v":"Hranice"},{"$f":"VLOOKUP(A2128,Pilot,4,0)","v":"CZ/M"},"FCC 2017 - Kombi Open","SK",6,3000,3463,0.97,8382,8131,2017,null,null,"ASW-22BLE","RX",{"$f":"VLOOKUP(A2128,Pilot,5,0)","v":"M"},""]
["Adam Czeladzki",null,"Aeroklub Warszawski KKGT",null,"FCC 2017 - Kombi Open","SK",7,2937,3463,0.97,8119,7875,2017,null,null,"JS-1C 21m","GOL","M","Není v databázi"]
["Jerzey Kolasinski",null,"Poznanski/KK GT",null,"FCC 2017 - Kombi Open","SK",8,2926,3463,0.97,7960,7721,2017,null,null,"JS1 C 18 m",56,"M","Není v databázi"]
["Weidlich & Krey",null,"LSV Ruhr-Lenne Iserlohn",null,"FCC 2017 - Kombi Open","SK",9,2856,3463,0.97,7682,7452,2017,null,null,"Arcus T","YA","M","Není v databázi"]
["Tomasz Chudoment",null,"Podhalanski",null,"FCC 2017 - Kombi Open","SK",10,2634,3463,0.97,7097,6884,2017,null,null,"JS-1CTJ 21 m","B52","M","Není v databázi"]
["Michaluk & Krok",null,"Leszno",null,"FCC 2017 - Kombi Open","SK",11,2563,3463,{"$f":"VLOOKUP(E2133,Soutez,8,0)","v":0.97},6817,6612,2017,null,null,"Arcus M","KO","M","Není v databázi"]
["Vitaliy Borovik",null,"Novosibirsk/RU",null,"FCC 2017 - Kombi Open","SK",12,2472,3463,0.97,6497,6302,2017,null,null,"NIMBUS YM","VB","M","Není v databázi"]
["Zdislaw Bednarczuk",null,"Bielsko-Biala",null,"FCC 2017 - Kombi Open","SK",13,2369,3463,0.97,6152,5967,2017,null,null,"ASG 29E 18m","ZB","M","Není v databázi"]
["Tomasz Dul",null,"Aeroklub Wroclaw",null,"FCC 2017 - Kombi Open","SK",14,2286,3463,0.97,5848,5673,2017,null,null,"ASG 29E 18m","DT","M","Není v databázi"]
["Jan Divok",null,"Aeroklub SNV",null,"FCC 2017 - Kombi Open","SK",15,2199,3463,0.97,5536,5370,2017,null,null,"Discus 2cT","DJ","M","Není v databázi"]
["Joanna Biedermann",null,"Aeroclub Nadwislanski",null,"FCC 2017 - Kombi Open","SK",16,2169,3463,0.97,5339,5179,2017,null,null,"ASG 29","PL","F","Není v databázi"]
["Herbert Pirker",null,"FAS-Wien",null,"FCC 2017 - Kombi Open","SK",17,1827,3463,0.97,4511,4376,2017,null,null,"Ventus cM 17,6 m","PM","M","Není v databázi"]
["Aldo CERNEZZI",null,"ACAO Varese",null,"FCC 2017 - Kombi Open","SK",18,1756,3463,0.97,4231,4104,2017,null,null,"Arcus M",61,"M","Není v databázi"]
["Gabriela Belakova",null,"Prievidza",null,"FCC 2017 - Kombi Open","SK",19,1582,3463,0.97,3743,3631,2017,null,null,"Discus 2cxT","EF","F","Není v databázi"]
["Pavel Trojan",{"$f":"VLOOKUP(A2142,Pilot,2,0)","v":1960},{"$f":"VLOOKUP(A2142,Pilot,3,0)","v":"Chrudim"},{"$f":"VLOOKUP(A2142,Pilot,4,0)","v":"CZ/C2"},"FCC 2017 - Kombi Open","SK",20,1544,3463,0.97,3530,3424,2017,"x",null,"Ventus C 17.6m","W",{"$f":"VLOOKUP(A2142,Pilot,5,0)","v":"M"},""]
["Michael Fik",{"$f":"VLOOKUP(A2143,Pilot,2,0)","v":1972},{"$f":"VLOOKUP(A2143,Pilot,3,0)","v":"Strakonice"},{"$f":"VLOOKUP(A2143,Pilot,4,0)","v":"CZ/C1"},"FCC 2017 - Kombi Open","SK",21,1515,3463,0.97,3335,3235,2017,"x",null,"Ventus C 17,6","WL",{"$f":"VLOOKUP(A2143,Pilot,5,0)","v":"M"},""]
["Szabadfi & Tornyai",null,"MALEV Aeroclub",null,"FCC 2017 - Kombi Open","SK",22,1357,3463,0.97,2879,2793,2017,null,null,"Arcus T","AB","M","Není v databázi"]
["Jan Paepke",null,"SFC Riesa-Canitz",null,"FCC 2017 - Kombi Open","SK",23,1333,3463,0.97,{"$f":"ROUND(H2145/I2145*10000*0.7+(MAX($G$2123:$G$2145)-G2145)/(MAX($G$2123:$G$2145)-1)*10000*0.3,0)","v":2694},{"$f":"ROUND(J2145*K2145,0)","v":2613},2017,null,null,"LAK 17 aT 18 m","AKI","M","Není v databázi"]
["Jan Kovalcik",null,null,null,"PMSR 2017 - Klub","SK",1,6532,6532,0.91500000000000004,{"$f":"ROUND(H2146/I2146*10000*0.7+(MAX($G$2146:$G$2178)-G2146)/(MAX($G$2146:$G$2178)-1)*10000*0.3,0)","v":10000},{"$f":"ROUND(J2146*K2146,0)","v":9150},2017,null,null,"C-101A Pegase","H5","M",{"$f":"IF(ISERROR(VLOOKUP(A2146,Pilot,6,0)),\"Není v databázi\",VLOOKUP(A2146,Pilot,6,0))","v":"Není v databázi"}]
["Josef Kozar",null,null,null,"PMSR 2017 - Klub","SK",2,6499,6532,0.91500000000000004,{"$f":"ROUND(H2147/I2147*10000*0.7+(MAX($G$2146:$G$2178)-G2147)/(MAX($G$2146:$G$2178)-1)*10000*0.3,0)","v":9871},{"$f":"ROUND(J2147*K2147,0)","v":9032},2017,null,null,"LS-1f","MF","M","Není v databázi"]
["Frantisek Sobek",null,null,null,"PMSR 2017 - Klub","SK",3,6090,6532,0.91500000000000004,9339,8545,2017,null,null,"DG-100","G1","M","Není v databázi"]
["Martin Jurovic",null,null,null,"PMSR 2017 - Klub","SK",4,6038,6532,0.91500000000000004,9189,8408,2017,null,null,"C-101A Pegase","J2","M","Není v databázi"]
["Karol Benedikovic",null,null,null,"PMSR 2017 - Klub","SK",5,5984,6532,0.91500000000000004,9038,8270,2017,null,null,"Std. Cirrus","AM","M","Není v databázi"]
["Milan Surovcík",null,"Zilina",null,"PMSR 2017 - Klub","SK",6,5913,6532,0.91500000000000004,8868,8114,2017,null,null,"ASW 20","XXL","M","Není v databázi"]
["Martin Snirc",null,null,null,"PMSR 2017 - Klub","SK",7,5893,6532,0.91500000000000004,8753,8009,2017,null,null,"DG400/17m",800,"M","Není v databázi"]
["Filip Pechac",null,"Nitra",null,"PMSR 2017 - Klub","SK",8,5846,6532,0.91500000000000004,8609,7877,2017,null,null,"DG-200","BM","M","Není v databázi"]
["Tibor Noga",null,"SGC Martin",null,"PMSR 2017 - Klub","SK",9,5742,6532,0.91500000000000004,8403,7689,2017,null,null,"Std. Cirrus","LX","M","Není v databázi"]
["Roman Petro",null,null,null,"PMSR 2017 - Klub","SK",10,5727,6532,0.91500000000000004,8294,7589,2017,null,null,"C-101A Pegase",101,"M","Není v databázi"]
["Jakub Dudáš",null,null,null,"PMSR 2017 - Klub","SK",11,5687,6532,0.91500000000000004,8157,7464,2017,null,null,"ASW 20","EW","M","Není v databázi"]
["Juraj Sidor",null,"AK Holic",null,"PMSR 2017 - Klub","SK",12,5630,6532,0.91500000000000004,8002,7322,2017,null,null,"Std. Cirrus","NM","M","Není v databázi"]
["Marek Straka",null,null,null,"PMSR 2017 - Klub","SK",13,5563,6532,0.91500000000000004,7837,7171,2017,null,null,"ASW 19","AI","M","Není v databázi"]
["Martin Picka",{"$f":"VLOOKUP(A2159,Pilot,2,0)","v":1974},{"$f":"VLOOKUP(A2159,Pilot,3,0)","v":"Letkov"},{"$f":"VLOOKUP(A2159,Pilot,4,0)","v":"CZ/C1"},"PMSR 2017 - Klub","SK",14,5154,6532,0.91500000000000004,7305,6684,2017,"x",null,"ASW 19","BU",{"$f":"VLOOKUP(A2159,Pilot,5,0)","v":"M"},""]
["Edmund Schuller",null,null,null,"PMSR 2017 - Klub","SK",15,5026,6532,0.91500000000000004,7074,6473,2017,null,null,"ASW 24 WL","ZS","M","Není v databázi"]
["Stefan Simoncic",null,null,null,"PMSR 2017 - Klub","SK",16,5006,6532,0.91500000000000004,6958,6367,2017,null,null,"ASW 20","II","M","Není v databázi"]
["Martin Sabla",null,"AK Sp. Nova Ves",null,"PMSR 2017 - Klub","SK",17,4950,6532,0.91500000000000004,6805,6227,2017,null,null,"Std. Cirrus","SA","M","Není v databázi"]
["Lukas Benedikt",null,"AK Trnava",null,"PMSR 2017 - Klub","SK",18,4927,6532,0.91500000000000004,6686,6118,2017,null,null,"Janus CM FG (PAS)","T","M","Není v databázi"]
["Daniel Smolka",null,null,null,"PMSR 2017 - Klub","SK",19,4572,6532,0.91500000000000004,6212,5684,2017,null,null,"VSO-10","I5","M","Není v databázi"]
["Jan Hlinka",null,null,null,"PMSR 2017 - Klub","SK",20,4512,6532,0.91500000000000004,6054,5539,2017,null,null,"Std. Libelle WL",48,"M","Není v databázi"]
["Jiri Koudela",{"$f":"VLOOKUP(A2166,Pilot,2,0)","v":1974},{"$f":"VLOOKUP(A2166,Pilot,3,0)","v":"Vyškov"},{"$f":"VLOOKUP(A2166,Pilot,4,0)","v":"CZ/M"},"PMSR 2017 - Klub","SK",21,4152,6532,0.91500000000000004,5574,5100,2017,"x",null,"G-102 ASTIR cs 77","AS",{"$f":"VLOOKUP(A2166,Pilot,5,0)","v":"M"},""]
["Peter Abonyi",null,null,null,"PMSR 2017 - Klub","SK",22,4121,6532,0.91500000000000004,5448,4985,2017,null,null,"ASW 15b","MB","M","Není v databázi"]
["Radoslav Cagala",null,null,null,"PMSR 2017 - Klub","SK",23,4085,6532,0.91500000000000004,5315,4863,2017,null,null,"DG-300 WL","IDK","M","Není v databázi"]
["Jan Keher",null,null,null,"PMSR 2017 - Klub","SK",24,4027,6532,0.91500000000000004,5159,4720,2017,null,null,"Discus CS","DR","M","Není v databázi"]
["Marek Seman",null,null,null,"PMSR 2017 - Klub","SK",25,3937,6532,0.91500000000000004,4969,4547,2017,null,null,"VSO-10",47,"M","Není v databázi"]
["Erik Mikulas",null,null,null,"PMSR 2017 - Klub","SK",26,3626,6532,0.91500000000000004,4542,4156,2017,null,null,"LS-1f","LS","M","Není v databázi"]
["Lubomir Belusko",null,null,null,"PMSR 2017 - Klub","SK",27,3489,6532,0.91500000000000004,4301,3935,2017,null,null,"C-201B Marianne","AMI","M","Není v databázi"]
["Peter Hupka",null,null,null,"PMSR 2017 - Klub","SK",28,3326,6532,0.91500000000000004,4033,3690,2017,null,null,"VSO-10",80,"M","Není v databázi"]
["Oldrich Spaniel",null,null,null,"PMSR 2017 - Klub","SK",29,2997,6532,0.91500000000000004,3587,3282,2017,null,null,"ASW 19","7S","M","Není v databázi"]
["Lubomir Vano",null,"Aeroklub Partizanske",null,"PMSR 2017 - Klub","SK",30,2834,6532,0.91500000000000004,3318,3036,2017,null,null,"Std. Cirrus","SZ","M","Není v databázi"]
["Vlastislav Picka",{"$f":"VLOOKUP(A2176,Pilot,2,0)","v":1948},{"$f":"VLOOKUP(A2176,Pilot,3,0)","v":"Jindřichův Hradec"},{"$f":"VLOOKUP(A2176,Pilot,4,0)","v":"CZ/C1"},"PMSR 2017 - Klub","SK",31,2740,6532,0.91500000000000004,3124,2858,2017,"x",null,"DG-200","KK",{"$f":"VLOOKUP(A2176,Pilot,5,0)","v":"M"},""]
["Martin Toman",null,null,null,"PMSR 2017 - Klub","SK",32,2588,6532,0.91500000000000004,2867,2623,2017,null,null,"VSO-10","10i","M","Není v databázi"]
["Drahomira Divokova",null,null,null,"PMSR 2017 - Klub","SK",33,2326,6532,0.91500000000000004,{"$f":"ROUND(H2178/I2178*10000*0.7+(MAX($G$2146:$G$2178)-G2178)/(MAX($G$2146:$G$2178)-1)*10000*0.3,0)","v":2493},{"$f":"ROUND(J2178*K2178,0)","v":2281},2017,null,null,"Discus b","3D","F","Není v databázi"]
["Petr Setka",{"$f":"VLOOKUP(A2179,Pilot,2,0)","v":1971},{"$f":"VLOOKUP(A2179,Pilot,3,0)","v":"Letkov"},{"$f":"VLOOKUP(A2179,Pilot,4,0)","v":"CZ/C1"},"PMSR 2017 - Kombi","SK",1,7227,7227,0.90500000000000003,{"$f":"ROUND(H2179/I2179*10000*0.7+(MAX($G$2179:$G$2194)-G2179)/(MAX($G$2179:$G$2194)-1)*10000*0.3,0)","v":10000},{"$f":"ROUND(J2179*K2179,0)","v":9050},2017,"x",null,"Ventus 2cxm","RS",{"$f":"VLOOKUP(A2179,Pilot,5,0)","v":"M"},{"$f":"IF(ISERROR(VLOOKUP(A2179,Pilot,6,0)),\"Není v databázi\",VLOOKUP(A2179,Pilot,6,0))","v":""}]
["Vladimir Foltin",null,"Aeroklub Nitra",null,"PMSR 2017 - Kombi","SK",2,6692,7227,0.90500000000000003,{"$f":"ROUND(H2180/I2180*10000*0.7+(MAX($G$2179:$G$2194)-G2180)/(MAX($G$2179:$G$2194)-1)*10000*0.3,0)","v":9282},{"$f":"ROUND(J2180*K2180,0)","v":8400},2017,null,null,"LS 10s 18m",10,"M","Není v databázi"]
["Maros Divok",null,"SpiÃ…Â¡skÃƒÂ¡ NovÃƒÂ¡ Ves",null,"PMSR 2017 - Kombi","SK",3,6239,7227,0.90500000000000003,8643,7822,2017,null,null,"Discus 2b","DI","M","Není v databázi"]
["Viliam Kubovcik",null,"AK Poprad",null,"PMSR 2017 - Kombi","SK",4,6049,7227,0.90500000000000003,8259,7474,2017,null,null,"Ventus 2cxt","W","M","Není v databázi"]
["Lubor Kuvik",null,"Air Sympatia",null,"PMSR 2017 - Kombi","SK",5,5940,7227,0.90500000000000003,7953,7197,2017,null,null,"ASG 29E 18m","LK","M","Není v databázi"]
["Dominik Jancik",null,null,null,"PMSR 2017 - Kombi","SK",6,5939,7227,0.90500000000000003,7752,7016,2017,null,null,"LS 8 15m","SI","M","Není v databázi"]
["Milos Tapusik",null,null,null,"PMSR 2017 - Kombi","SK",7,5909,7227,0.90500000000000003,7523,6808,2017,null,null,"LS 8 18m","TG","M","Není v databázi"]
["Jakubcak & Sulirova",null,null,null,"PMSR 2017 - Kombi","SK",8,5543,7227,0.90500000000000003,6969,6307,2017,null,null,"Duo Discus","DUO","M","Není v databázi"]
["Jan Divok",null,null,null,"PMSR 2017 - Kombi","SK",9,5381,7227,0.90500000000000003,6612,5984,2017,null,null,"Discus 2c","DJ","M","Není v databázi"]
["Gabriela Belakova",null,null,null,"PMSR 2017 - Kombi","SK",10,5241,7227,0.90500000000000003,6276,5680,2017,null,null,"Discus 2cT","EF","F","Není v databázi"]
["Pesko & Sedlák",null,null,null,"PMSR 2017 - Kombi","SK",11,5223,7227,0.90500000000000003,6059,5483,2017,null,null,"DG-1000","NIT","M","Není v databázi"]
["Kollar & Kromka",null,null,null,"PMSR 2017 - Kombi","SK",12,5070,7227,0.90500000000000003,5711,5168,2017,null,null,"Duo Discus","LM","M","Není v databázi"]
["Martin Fürješ",null,"SGC Martin",null,"PMSR 2017 - Kombi","SK",13,5054,7227,0.90500000000000003,5495,4973,2017,null,null,"ASG 29E 18m","TC","M","Není v databázi"]
["Tibor Arpas",null,null,null,"PMSR 2017 - Kombi","SK",14,4791,7227,0.90500000000000003,5041,4562,2017,null,null,"LS 8t 15m","HM","M","Není v databázi"]
["Peter Janoska",null,null,null,"PMSR 2017 - Kombi","SK",15,4400,7227,0.90500000000000003,4462,4038,2017,null,null,"LS 6c 15m","N6","M","Není v databázi"]
["Vojtech Matula",null,null,null,"PMSR 2017 - Kombi","SK",16,2393,7227,0.90500000000000003,{"$f":"ROUND(H2194/I2194*10000*0.7+(MAX($G$2179:$G$2194)-G2194)/(MAX($G$2179:$G$2194)-1)*10000*0.3,0)","v":2318},{"$f":"ROUND(J2194*K2194,0)","v":2098},2017,null,null,"NIMBUS 2","GD","M","Není v databázi"]
["Roman Mracek",{"$f":"VLOOKUP(A2195,Pilot,2,0)","v":1980},{"$f":"VLOOKUP(A2195,Pilot,3,0)","v":"Letkov"},{"$f":"VLOOKUP(A2195,Pilot,4,0)","v":"CZ/C1"},"SGP 2017 SK - 18m GP","SK",1,47,47,0.93500000000000005,{"$f":"ROUND((MAX($G$2195:$G$2209)-G2195)/(MAX($G$2195:$G$2209)-1)*10000,0)","v":10000},{"$f":"ROUND(J2195*K2195,0)","v":9350},2017,null,null,"ASG-29E 18m","QX",{"$f":"VLOOKUP(A2195,Pilot,5,0)","v":"M"},{"$f":"IF(ISERROR(VLOOKUP(A2195,Pilot,6,0)),\"Není v databázi\",VLOOKUP(A2195,Pilot,6,0))","v":""}]
["Sebastian Nägel",null,null,null,"SGP 2017 SK - 18m GP","SK",2,43,47,0.93500000000000005,{"$f":"ROUND((MAX($G$2195:$G$2209)-G2196)/(MAX($G$2195:$G$2209)-1)*10000,0)","v":9231},{"$f":"ROUND(J2196*K2196,0)","v":8631},2017,null,null,"Ventus 3T","WM","M","Není v databázi"]
["Ľubor Kuvik",null,null,null,"SGP 2017 SK - 18m GP","SK",3,42,47,{"$f":"VLOOKUP(E2197,Soutez,8,0)","v":0.93500000000000005},8462,7912,2017,null,null,"ASG-29 18m","LK","M","Není v databázi"]
["Gintas Zube",null,null,null,"SGP 2017 SK - 18m GP","SK",4,32,47,0.93500000000000005,7692,7192,2017,null,null,"ASG 29 18m","AR","M","Není v databázi"]
["Alena Netusilova",{"$f":"VLOOKUP(A2199,Pilot,2,0)","v":1970},{"$f":"VLOOKUP(A2199,Pilot,3,0)","v":"Zbraslavice"},{"$f":"VLOOKUP(A2199,Pilot,4,0)","v":"CZ/C1"},"SGP 2017 SK - 18m GP","SK",5,28,47,0.93500000000000005,6923,6473,2017,null,null,"JS-1 18m","JX",{"$f":"VLOOKUP(A2199,Pilot,5,0)","v":"F"},""]
["Christoph Nacke",null,null,null,"SGP 2017 SK - 18m GP","SK",6,25,47,0.93500000000000005,6154,5754,2017,null,null,"Ventus2cxT",44,"M","Není v databázi"]
["Petr Panek",{"$f":"VLOOKUP(A2201,Pilot,2,0)","v":1975},{"$f":"VLOOKUP(A2201,Pilot,3,0)","v":"Dvůr Králové"},{"$f":"VLOOKUP(A2201,Pilot,4,0)","v":"CZ/C2"},"SGP 2017 SK - 18m GP","SK",7,24,47,0.93500000000000005,5385,5035,2017,null,null,"JS 1C 18m","MD",{"$f":"VLOOKUP(A2201,Pilot,5,0)","v":"M"},""]
["Zdislaw Bednarczuk",null,null,null,"SGP 2017 SK - 18m GP","SK",8,23,47,0.93500000000000005,4615,4315,2017,null,null,"ASG-29E 18m","ZB","M","Není v databázi"]
["Petr Setka",{"$f":"VLOOKUP(A2203,Pilot,2,0)","v":1971},{"$f":"VLOOKUP(A2203,Pilot,3,0)","v":"Letkov"},{"$f":"VLOOKUP(A2203,Pilot,4,0)","v":"CZ/C1"},"SGP 2017 SK - 18m GP","SK",9,19,47,0.93500000000000005,{"$f":"ROUND((MAX($G$2195:$G$2209)-G2203)/(MAX($G$2195:$G$2209)-1)*10000,0)","v":3846},3596,2017,"x",null,"Ventus 2cxM","RS",{"$f":"VLOOKUP(A2203,Pilot,5,0)","v":"M"},""]
["Petr Krejcirik",{"$f":"VLOOKUP(A2204,Pilot,2,0)","v":1960},{"$f":"VLOOKUP(A2204,Pilot,3,0)","v":"Hranice"},{"$f":"VLOOKUP(A2204,Pilot,4,0)","v":"CZ/M"},"SGP 2017 SK - 18m GP","SK",10,14,47,0.93500000000000005,3077,2877,2017,null,null,"ASG-29 18m","QZ",{"$f":"VLOOKUP(A2204,Pilot,5,0)","v":"M"},""]
["Werner Amann",null,null,null,"SGP 2017 SK - 18m GP","SK",11,8,47,0.93500000000000005,2308,2158,2017,null,null,"ASG-29 18m","WG","M","Není v databázi"]
["Jochen Schulte",null,null,null,"SGP 2017 SK - 18m GP","SK",11,8,47,0.93500000000000005,2308,2158,2017,null,null,"LS 10 18m",71,"M","Není v databázi"]
["Vladimir Jirka",{"$f":"VLOOKUP(A2207,Pilot,2,0)","v":1965},{"$f":"VLOOKUP(A2207,Pilot,3,0)","v":"Zábřeh"},{"$f":"VLOOKUP(A2207,Pilot,4,0)","v":"CZ/M"},"SGP 2017 SK - 18m GP","SK",13,1,47,0.93500000000000005,769,719,2017,null,null,"Ventus 2cm 18m","VJ",{"$f":"VLOOKUP(A2207,Pilot,5,0)","v":"M"},""]
["Dusan Gadas",{"$f":"VLOOKUP(A2208,Pilot,2,0)","v":1960},{"$f":"VLOOKUP(A2208,Pilot,3,0)","v":"Hranice"},{"$f":"VLOOKUP(A2208,Pilot,4,0)","v":"CZ/M"},"SGP 2017 SK - 18m GP","SK",14,0,47,0.93500000000000005,{"$f":"ROUND((MAX($G$2195:$G$2209)-G2208)/(MAX($G$2195:$G$2209)-1)*10000,0)","v":0},{"$f":"ROUND(J2208*K2208,0)","v":0},2017,null,null,"LAK 17b FES","TF",{"$f":"VLOOKUP(A2208,Pilot,5,0)","v":"M"},""]
["Vladimir Foltin",null,null,null,"SGP 2017 SK - 18m GP","SK",14,0,47,0.93500000000000005,0,0,2017,null,null,"LS 10st 18m",10,"M","Není v databázi"]
["Milan Svoboda 34",{"$f":"VLOOKUP(A2210,Pilot,2,0)","v":1934},{"$f":"VLOOKUP(A2210,Pilot,3,0)","v":"Letkov"},{"$f":"VLOOKUP(A2210,Pilot,4,0)","v":"CZ/C1"},"Oldtimer Pribina Star 2017 - Klub","SK",1,1581,1581,0.6,{"$f":"ROUND(H2210/I2210*10000*0.7+(MAX($G$2210:$G$2223)-G2210)/(MAX($G$2210:$G$2223)-1)*10000*0.3,0)","v":10000},{"$f":"ROUND(J2210*K2210,0)","v":6000},2017,"x",null,"VSO-10","KO",{"$f":"VLOOKUP(A2210,Pilot,5,0)","v":"M"},{"$f":"IF(ISERROR(VLOOKUP(A2210,Pilot,6,0)),\"Není v databázi\",VLOOKUP(A2210,Pilot,6,0))","v":""}]
["Juraj Vysny",null,"Senica",null,"Oldtimer Pribina Star 2017 - Klub","SK",2,1501,1581,0.6,{"$f":"ROUND(H2211/I2211*10000*0.7+(MAX($G$2210:$G$2223)-G2211)/(MAX($G$2210:$G$2223)-1)*10000*0.3,0)","v":9396},{"$f":"ROUND(J2211*K2211,0)","v":5638},2017,null,null,"G 103 Twin II",13,"M","Není v databázi"]
["Marián Szabó",null,"Air Sympatia Trencín",null,"Oldtimer Pribina Star 2017 - Klub","SK",3,1444,1581,0.6,8893,5336,2017,null,null,"VT-116 Orlík II",84,"M","Není v databázi"]
["Peter Ille",null,"Zilina",null,"Oldtimer Pribina Star 2017 - Klub","SK",4,1182,1581,0.6,7483,4490,2017,null,null,"VSO-10",96,"M","Není v databázi"]
["Igor Ille",null,null,null,"Oldtimer Pribina Star 2017 - Klub","SK",5,1176,1581,0.6,7207,4324,2017,null,null,"VSO-10","K6","M","Není v databázi"]
["Jaroslav Kares",{"$f":"VLOOKUP(A2215,Pilot,2,0)","v":1962},{"$f":"VLOOKUP(A2215,Pilot,3,0)","v":"Olomouc"},{"$f":"VLOOKUP(A2215,Pilot,4,0)","v":"CZ/M"},"Oldtimer Pribina Star 2017 - Klub","SK",6,965,1581,0.6,6023,3614,2017,"x",null,"Scheibe SF-27A",26,{"$f":"VLOOKUP(A2215,Pilot,5,0)","v":"M"},""]
["Vaclav Cerny",{"$f":"VLOOKUP(A2216,Pilot,2,0)","v":1949},{"$f":"VLOOKUP(A2216,Pilot,3,0)","v":"Plasy"},{"$f":"VLOOKUP(A2216,Pilot,4,0)","v":"CZ/C1"},"Oldtimer Pribina Star 2017 - Klub","SK",7,890,1581,0.6,5441,3265,2017,"x",null,"LF 107 Lunak",20,{"$f":"VLOOKUP(A2216,Pilot,5,0)","v":"M"},""]
["Holak & Lajda",null,"Nitra",null,"Oldtimer Pribina Star 2017 - Klub","SK",8,805,1581,0.6,4814,2888,2017,null,null,"L 23 Super Blanik",203,"M","Není v databázi"]
["Kern & Mezera",null,"Raná","CZ","Oldtimer Pribina Star 2017 - Klub","SK",9,588,1581,0.6,3603,2162,2017,null,null,"Zlin 24","NTM","M","Není v databázi"]
["Liptai & Hupka",null,"MÁV",null,"Oldtimer Pribina Star 2017 - Klub","SK",10,517,1581,0.6,3039,1823,2017,null,null,"DG 1000/20m","NIT","M","Není v databázi"]
["Igor Ott",null,"Nitra",null,"Oldtimer Pribina Star 2017 - Klub","SK",11,363,1581,0.6,2107,1264,2017,null,null,"LG-425 Sohaj","N","M","Není v databázi"]
["Miroslav Lewandowski",null,"AZP PILA / VINTAGE GLIDING CLUB",null,"Oldtimer Pribina Star 2017 - Klub","SK",11,363,1581,0.6,2107,1264,2017,null,null,"Foka",24,"M","Není v databázi"]
["Jozef Ott",null,"Nitra",null,"Oldtimer Pribina Star 2017 - Klub","SK",13,0,1581,0.6,0,0,2017,null,null,"Z-23 Honza",56,"M","Není v databázi"]
["Peter Patoprsty",null,"Vinicne",null,"Oldtimer Pribina Star 2017 - Klub","SK",13,0,1581,0.6,{"$f":"ROUND(H2223/I2223*10000*0.7+(MAX($G$2210:$G$2223)-G2223)/(MAX($G$2210:$G$2223)-1)*10000*0.3,0)","v":0},{"$f":"ROUND(J2223*K2223,0)","v":0},2017,null,null,"ASW 15b","RM","M","Není v databázi"]
["Sven Kolb",null,"Österreich",null,"25. Alpe Adria Cup - Kombi","AT",1,4329,4329,0.61499999999999999,{"$f":"ROUND(H2224/I2224*10000*0.7+(MAX($G$2224:$G$2252)-G2224)/(MAX($G$2224:$G$2252)-1)*10000*0.3,0)","v":10000},{"$f":"ROUND(J2224*K2224,0)","v":6150},2017,null,null,"Antares LF20","ZF","M",{"$f":"IF(ISERROR(VLOOKUP(A2224,Pilot,6,0)),\"Není v databázi\",VLOOKUP(A2224,Pilot,6,0))","v":"Není v databázi"}]
["Bernhard Leitner",null,"Österreich",null,"25. Alpe Adria Cup - Kombi","AT",2,3806,4329,0.61499999999999999,{"$f":"ROUND(H2225/I2225*10000*0.7+(MAX($G$2224:$G$2252)-G2225)/(MAX($G$2224:$G$2252)-1)*10000*0.3,0)","v":9047},{"$f":"ROUND(J2225*K2225,0)","v":5564},2017,null,null,"V2cxm","LV","M","Není v databázi"]
["Heimo Demmerer",null,"Österreich",null,"25. Alpe Adria Cup - Kombi","AT",3,3788,4329,0.61499999999999999,8911,5480,2017,null,null,"Ventus 2CM","OD","M","Není v databázi"]
["Guido Halter",null,"Schweiz",null,"25. Alpe Adria Cup - Kombi","AT",4,3758,4329,0.61499999999999999,8755,5384,2017,null,null,"ASH-25M","HU","M","Není v databázi"]
["Yves Gerster",null,"Schweiz",null,"25. Alpe Adria Cup - Kombi","AT",5,3717,4329,0.61499999999999999,8582,5278,2017,null,null,"Antares 23","LS","M","Není v databázi"]
["Wolfgang Falkensammer",null,"FSV Felkirchen/Ossiachersee",null,"25. Alpe Adria Cup - Kombi","AT",6,3697,4329,0.61499999999999999,8442,5192,2017,null,null,"Antares 18t","FW","M","Není v databázi"]
["Reinhard Haggenmüller",null,"Österreich",null,"25. Alpe Adria Cup - Kombi","AT",7,3670,4329,0.61499999999999999,8292,5100,2017,null,null,"ASG 29 E","RR","M","Není v databázi"]
["Guido Achleitner",null,"Österreich",null,"25. Alpe Adria Cup - Kombi","AT",8,3405,4329,0.61499999999999999,7756,4770,2017,null,null,"ASG 32 Mi","GA","M","Není v databázi"]
["Thomas Krüger",null,"Deutschland",null,"25. Alpe Adria Cup - Kombi","AT",9,3403,4329,0.61499999999999999,7646,4702,2017,null,null,"EB 29","TK","M","Není v databázi"]
["Rene Schoenmann",null,"Schweiz",null,"25. Alpe Adria Cup - Kombi","AT",10,3376,4329,0.61499999999999999,7495,4609,2017,null,null,"JS1-C 21m","RS","M","Není v databázi"]
["Erich Niedl",null,"USFC Tulln",null,"25. Alpe Adria Cup - Kombi","AT",11,3323,4329,0.61499999999999999,7302,4491,2017,null,null,"Ventus 2cxT","CX","M","Není v databázi"]
["Michael Rass",null,"Österreich",null,"25. Alpe Adria Cup - Kombi","AT",12,2877,4329,0.61499999999999999,6474,3982,2017,null,null,"ASG29 Es","MR","M","Není v databázi"]
["Dominik Mauchle",null,"Schweiz",null,"25. Alpe Adria Cup - Kombi","AT",13,2721,4329,0.61499999999999999,6114,3760,2017,null,null,"DG-808C","D","M","Není v databázi"]
["Christian Hynek",null,"Österreich",null,"25. Alpe Adria Cup - Kombi","AT",14,2720,4329,0.61499999999999999,6005,3693,2017,null,null,"HPH 304 MS Shark","GG2","M","Není v databázi"]
["Josef Scheiber",null,"Österreich",null,"25. Alpe Adria Cup - Kombi","AT",15,2600,4329,0.61499999999999999,5704,3508,2017,null,null,"Ventus2cxt","SP","M","Není v databázi"]
["Petr Malcek",{"$f":"VLOOKUP(A2239,Pilot,2,0)","v":1965},{"$f":"VLOOKUP(A2239,Pilot,3,0)","v":"Letňany"},{"$f":"VLOOKUP(A2239,Pilot,4,0)","v":"CZ/C1"},"25. Alpe Adria Cup - Kombi","AT",16,2564,4329,0.61499999999999999,5539,3406,2017,"x",null,"LS6c-18W","F5",{"$f":"VLOOKUP(A2239,Pilot,5,0)","v":"M"},""]
["Volker Polhaus",null,"FSV Offenbach & Reinheim",null,"25. Alpe Adria Cup - Kombi","AT",17,2528,4329,0.61499999999999999,5373,3304,2017,null,null,"ASH 26E","BV","M","Není v databázi"]
["Aurel Hallbrucker",null,"ISV",null,"25. Alpe Adria Cup - Kombi","AT",18,2433,4329,0.61499999999999999,5113,3144,2017,null,null,"ARCUS M",2,"M","Není v databázi"]
["Radim Hahn",{"$f":"VLOOKUP(A2242,Pilot,2,0)","v":1972},{"$f":"VLOOKUP(A2242,Pilot,3,0)","v":"Zábřeh"},{"$f":"VLOOKUP(A2242,Pilot,4,0)","v":"CZ/M"},"25. Alpe Adria Cup - Kombi","AT",19,2388,4329,0.61499999999999999,4933,3034,2017,"x",null,"ASH 26E","R",{"$f":"VLOOKUP(A2242,Pilot,5,0)","v":"M"},""]
["Roland Henz",null,"Deutschland",null,"25. Alpe Adria Cup - Kombi","AT",20,2378,4329,0.61499999999999999,4810,2958,2017,null,null,"Ventus 2cxT","T3","M","Není v databázi"]
["Raul Flicker",null,"Österreich",null,"25. Alpe Adria Cup - Kombi","AT",21,2342,4329,0.61499999999999999,4644,2856,2017,null,null,"Ventus 2cx","WG","M","Není v databázi"]
["Ivan Harasta 65",{"$f":"VLOOKUP(A2245,Pilot,2,0)","v":1965},{"$f":"VLOOKUP(A2245,Pilot,3,0)","v":"Toužim"},{"$f":"VLOOKUP(A2245,Pilot,4,0)","v":"CZ/C1"},"25. Alpe Adria Cup - Kombi","AT",22,2241,4329,0.61499999999999999,4374,2690,2017,null,null,"Arcus M","II",{"$f":"VLOOKUP(A2245,Pilot,5,0)","v":"M"},""]
["Konrad Feichter",null,"FSV Felkirchen/Ossiachersee",null,"25. Alpe Adria Cup - Kombi","AT",23,1902,4329,0.61499999999999999,3718,2287,2017,null,null,"ARCUS T","HM","M","Není v databázi"]
["Karel Krobath",null,"Österreich",null,"25. Alpe Adria Cup - Kombi","AT",24,1870,4329,0.61499999999999999,3560,2189,2017,null,null,"HPH 304 Shark","Q","M","Není v databázi"]
["Ulrich Kremer",null,"Deutschland",null,"25. Alpe Adria Cup - Kombi","AT",25,1842,4329,0.61499999999999999,3407,2095,2017,null,null,"ASG 32Mi",32,"M","Není v databázi"]
["Werner Danz",null,"Schweiz",null,"25. Alpe Adria Cup - Kombi","AT",26,1294,4329,0.61499999999999999,2414,1485,2017,null,null,"Antares 18T","BT","M","Není v databázi"]
["Markus Lewandowski",null,"Österreich",null,"25. Alpe Adria Cup - Kombi","AT",27,1073,4329,0.61499999999999999,1949,1199,2017,null,null,"STEMME S12","S12","M","Není v databázi"]
["Jürgen Kartnaller",null,"Österreich",null,"25. Alpe Adria Cup - Kombi","AT",28,765,4329,0.61499999999999999,1344,827,2017,null,null,"LAK 17a - 18m","MV","M","Není v databázi"]
["Joachim Hirt",null,"Deutschland",null,"25. Alpe Adria Cup - Kombi","AT",29,139,4329,0.61499999999999999,{"$f":"ROUND(H2252/I2252*10000*0.7+(MAX($G$2224:$G$2252)-G2252)/(MAX($G$2224:$G$2252)-1)*10000*0.3,0)","v":225},{"$f":"ROUND(J2252*K2252,0)","v":138},2017,null,null,"Nimbus 3DM","M+M","M","Není v databázi"]
["Raul Flicker",null,"SFC-Tulln",null,"TAL 2017 - Kombi","AT",1,2009,2009,0.6,{"$f":"ROUND(H2253/I2253*10000*0.7+(MAX($G$2253:$G$2265)-G2253)/(MAX($G$2253:$G$2265)-1)*10000*0.3,0)","v":10000},{"$f":"ROUND(J2253*K2253,0)","v":6000},2017,null,null,"Ventus 2cxT/18m","IX","M",{"$f":"IF(ISERROR(VLOOKUP(A2253,Pilot,6,0)),\"Není v databázi\",VLOOKUP(A2253,Pilot,6,0))","v":"Není v databázi"}]
["Ludek Kluger",{"$f":"VLOOKUP(A2254,Pilot,2,0)","v":1963},{"$f":"VLOOKUP(A2254,Pilot,3,0)","v":"Tábor"},{"$f":"VLOOKUP(A2254,Pilot,4,0)","v":"CZ/C1"},"TAL 2017 - Kombi","AT",2,1911,2009,0.6,{"$f":"ROUND(H2254/I2254*10000*0.7+(MAX($G$2253:$G$2265)-G2254)/(MAX($G$2253:$G$2265)-1)*10000*0.3,0)","v":9409},{"$f":"ROUND(J2254*K2254,0)","v":5645},2017,"x",null,"HPH 304MS Shark","LK",{"$f":"VLOOKUP(A2254,Pilot,5,0)","v":"M"},""]
["Karl Schiffleithner",null,"SFC-Tulln",null,"TAL 2017 - Kombi","AT",3,1870,2009,0.6,9016,5410,2017,null,null,"Ventus 2c/18m","CX","M","Není v databázi"]
["Daim & Rohrbeck",null,"UFG Waldviertel",null,"TAL 2017 - Kombi","AT",4,1835,2009,0.6,8644,5186,2017,null,null,"Duo Discus","MA","M","Není v databázi"]
["Thomas Aigner",null,null,null,"TAL 2017 - Kombi","AT",5,1808,2009,0.6,8300,4980,2017,null,null,"Ventus 2b","TOM","M","Není v databázi"]
["Gerold Auerbach",null,null,null,"TAL 2017 - Kombi","AT",6,1783,2009,0.6,7963,4778,2017,null,null,"ASH 31","FT","M","Není v databázi"]
["Kirchner & Sturmann",null,"Akaflieg Graz",null,"TAL 2017 - Kombi","AT",7,1705,2009,0.6,7441,4465,2017,null,null,"Nimbus 4DM","KG","M","Není v databázi"]
["Christian Hynek",null,"ASKÖ Flugsport Wien",null,"TAL 2017 - Kombi","AT",8,1610,2009,0.6,6860,4116,2017,null,null,"HPH 304MS Shark","GG2","M","Není v databázi"]
["Wolfgang Zimmermann",null,"Flugring Austria Wiener Neustadt",null,"TAL 2017 - Kombi","AT",9,1515,2009,{"$f":"VLOOKUP(E2261,Soutez,8,0)","v":0.6},6279,3767,2017,null,null,"Ventus 2b","GI","M","Není v databázi"]
["Thomas Schmaus",null,"FTG-AFG",null,"TAL 2017 - Kombi","AT",10,1354,2009,0.6,5468,3281,2017,null,null,"DG 800B/18m","HB","M","Není v databázi"]
["Krobath & Frech",null,"SFC-Tulln",null,"TAL 2017 - Kombi","AT",11,1224,2009,0.6,4765,2859,2017,null,null,"DuoDiscus T","MM","M","Není v databázi"]
["Markus Koller",null,"FTG-AFW",null,"TAL 2017 - Kombi","AT",12,1141,2009,0.6,4226,2536,2017,null,null,"HPH 304MS Shark","MK","M","Není v databázi"]
["Essl & Weis",null,"FTG-AFW",null,"TAL 2017 - Kombi","AT",13,1070,2009,0.6,{"$f":"ROUND(H2265/I2265*10000*0.7+(MAX($G$2253:$G$2265)-G2265)/(MAX($G$2253:$G$2265)-1)*10000*0.3,0)","v":3728},{"$f":"ROUND(J2265*K2265,0)","v":2237},2017,null,null,"DG 500M 22m","RR","M","Není v databázi"]
["Julian Klemm",null,null,null,"10. WGC Juniors 2017 - Klub","LT",1,5545,5545,1.01,{"$f":"ROUND(H2266/I2266*10000*0.7+(MAX($G$2266:$G$2303)-G2266)/(MAX($G$2266:$G$2303)-1)*10000*0.3,0)","v":10000},{"$f":"ROUND(J2266*K2266,0)","v":10100},2017,null,null,"Std. Libelle","1K","M",{"$f":"IF(ISERROR(VLOOKUP(A2266,Pilot,6,0)),\"Není v databázi\",VLOOKUP(A2266,Pilot,6,0))","v":"Není v databázi"}]
["Paul Altrichter",null,null,null,"10. WGC Juniors 2017 - Klub","LT",2,5448,5545,1.01,{"$f":"ROUND(H2267/I2267*10000*0.7+(MAX($G$2266:$G$2303)-G2267)/(MAX($G$2266:$G$2303)-1)*10000*0.3,0)","v":9796},{"$f":"ROUND(J2267*K2267,0)","v":9894},2017,null,null,"LS 4","AX","M","Není v databázi"]
["Stefan Langer",null,null,null,"10. WGC Juniors 2017 - Klub","LT",3,5256,5545,1.01,9473,9568,2017,null,null,"Std. Libelle","SL","M","Není v databázi"]
["Nick Hanenburg",null,null,null,"10. WGC Juniors 2017 - Klub","LT",4,5228,5545,1.01,9357,9451,2017,null,null,"std. cirrus","AG","M","Není v databázi"]
["Jake Brattle",null,null,null,"10. WGC Juniors 2017 - Klub","LT",5,5218,5545,1.01,9263,9356,2017,null,null,"DG 101 G Elan","EKP","M","Není v databázi"]
["Thomas Arscott",null,null,null,"10. WGC Juniors 2017 - Klub","LT",6,5061,5545,1.01,8984,9074,2017,null,null,"Std. Cirrus","GW","M","Není v databázi"]
["Robin Diesterweg",null,null,null,"10. WGC Juniors 2017 - Klub","LT",7,4922,5545,1.01,8727,8814,2017,null,null,"Std. Libelle","T1","M","Není v databázi"]
["Richard Vlcek",{"$f":"VLOOKUP(A2273,Pilot,2,0)","v":1993},{"$f":"VLOOKUP(A2273,Pilot,3,0)","v":"Kunovice"},{"$f":"VLOOKUP(A2273,Pilot,4,0)","v":"CZ/M"},"10. WGC Juniors 2017 - Klub","LT",8,4860,5545,1.01,8568,8654,2017,"x",null,"Std. Cirrus","XC",{"$f":"VLOOKUP(A2273,Pilot,5,0)","v":"M"},""]
["Lukas Capek",{"$f":"VLOOKUP(A2274,Pilot,2,0)","v":1992},{"$f":"VLOOKUP(A2274,Pilot,3,0)","v":"Letňany"},{"$f":"VLOOKUP(A2274,Pilot,4,0)","v":"CZ/C1"},"10. WGC Juniors 2017 - Klub","LT",9,4775,5545,1.01,8379,8463,2017,"x",null,"Std. Cirrus","CX",{"$f":"VLOOKUP(A2274,Pilot,5,0)","v":"M"},""]
["Hans Christian Bertelsen",null,null,null,"10. WGC Juniors 2017 - Klub","LT",10,4707,5545,1.01,8212,8294,2017,null,null,"LS 1 f","TJ","M","Není v databázi"]
["Wojciech Wojtaczka",null,null,null,"10. WGC Juniors 2017 - Klub","LT",11,4702,5545,1.01,8125,8206,2017,null,null,"szd-48-3M","BI","M","Není v databázi"]
["Simon Gantner",null,null,null,"10. WGC Juniors 2017 - Klub","LT",12,4631,5545,1.01,7954,8034,2017,null,null,"LS 4","MN","M","Není v databázi"]
["Martynas Liutkevičius",null,null,null,"10. WGC Juniors 2017 - Klub","LT",13,4614,5545,1.01,7852,7931,2017,null,null,"Jantar Std. 2","CG","M","Není v databázi"]
["Ailsa McMillan",null,null,null,"10. WGC Juniors 2017 - Klub","LT",14,4428,5545,1.01,7536,7611,2017,null,null,"Std. Cirrus","A1","F","Není v databázi"]
["Nicholas Oakley",null,null,null,"10. WGC Juniors 2017 - Klub","LT",15,4399,5545,1.01,7418,7492,2017,null,null,"Libelle",11,"M","Není v databázi"]
["Thibault Alasnier",null,null,null,"10. WGC Juniors 2017 - Klub","LT",15,4399,5545,1.01,7418,7492,2017,null,null,"Hornet","H1","M","Není v databázi"]
["Noah Reitter",null,null,null,"10. WGC Juniors 2017 - Klub","LT",17,4389,5545,1.01,7243,7315,2017,null,null,"Jantar Std.","MZ","M","Není v databázi"]
["Davide Giovanelli",null,null,null,"10. WGC Juniors 2017 - Klub","LT",18,4308,5545,1.01,7060,{"$f":"ROUND(J2283*K2283,0)","v":7131},2017,null,null,"Std. Cirrus",96,"M","Není v databázi"]
["James Stewart",null,null,null,"10. WGC Juniors 2017 - Klub","LT",19,4304,5545,1.01,6974,7044,2017,null,null,"Jantar Std.","BC","M","Není v databázi"]
["Daniel Sazhin",null,null,null,"10. WGC Juniors 2017 - Klub","LT",20,4301,5545,1.01,6889,6958,2017,null,null,"Jantar Std.","JM","M","Není v databázi"]
["Laurynas Šupinys",null,null,null,"10. WGC Juniors 2017 - Klub","LT",21,4288,5545,1.01,6792,6860,2017,null,null,"Jantar Std. 3","L","M","Není v databázi"]
["Reuben Lane",null,null,null,"10. WGC Juniors 2017 - Klub","LT",22,4155,5545,1.01,6543,6608,2017,null,null,"LS 1 f","ELY","M","Není v databázi"]
["Martin Steen Andersen",null,null,null,"10. WGC Juniors 2017 - Klub","LT",23,4154,5545,1.01,6460,6525,2017,null,null,"LS 1 f","PW","M","Není v databázi"]
["Artur Lonczuk",null,null,null,"10. WGC Juniors 2017 - Klub","LT",24,4114,5545,1.01,6329,6392,2017,null,null,"Jantar Std. 3","KM","M","Není v databázi"]
["Nico Jagli",null,null,null,"10. WGC Juniors 2017 - Klub","LT",25,4113,5545,1.01,6246,6308,2017,null,null,"LS 4","M6","M","Není v databázi"]
["Robin Smit",null,null,null,"10. WGC Juniors 2017 - Klub","LT",26,4107,5545,1.01,6158,6220,2017,null,null,"Std. Cirrus","RSM","M","Není v databázi"]
["Marek Niewiadomy",null,null,null,"10. WGC Juniors 2017 - Klub","LT",27,4070.9999999999995,5545,1.01,6031,6091,2017,null,null,"szd-48-3M","BZ","M","Není v databázi"]
["Milan Surovcik",null,null,null,"10. WGC Juniors 2017 - Klub","LT",28,3978,5545,1.01,5833,5891,2017,null,null,"Std. Cirrus","GL","M","Není v databázi"]
["Klara Teichmannova",{"$f":"VLOOKUP(A2294,Pilot,2,0)","v":1993},{"$f":"VLOOKUP(A2294,Pilot,3,0)","v":"Hronov"},{"$f":"VLOOKUP(A2294,Pilot,4,0)","v":"CZ/C2"},"10. WGC Juniors 2017 - Klub","LT",29,3945,5545,1.01,5710,5767,2017,null,null,"Std. Cirrus","LY",{"$f":"VLOOKUP(A2294,Pilot,5,0)","v":"F"},""]
["Mark Polajzar",null,null,null,"10. WGC Juniors 2017 - Klub","LT",30,3862,5545,1.01,5524,5579,2017,null,null,"DG 300","CF","M","Není v databázi"]
["Jokūbas Motūza",null,null,null,"10. WGC Juniors 2017 - Klub","LT",31,3708,5545,1.01,5249,5301,2017,null,null,"Jantar Std.","JU","M","Není v databázi"]
["Mark Travner",null,null,null,"10. WGC Juniors 2017 - Klub","LT",32,3677,5545,1.01,5128,5179,2017,null,null,"DG 300","CE","M","Není v databázi"]
["Giacomo Dall'olio",null,null,null,"10. WGC Juniors 2017 - Klub","LT",33,3554,5545,1.01,4892,4941,2017,null,null,"Std. Cirrus","DM","M","Není v databázi"]
["Alexander McCaw",null,null,null,"10. WGC Juniors 2017 - Klub","LT",34,3552,5545,1.01,4808,4856,2017,null,null,"Hornet","M3","M","Není v databázi"]
["Melanie Gadoulet",null,null,null,"10. WGC Juniors 2017 - Klub","LT",35,3495,5545,1.01,4655,4702,2017,null,null,"Jantar Std. 3","J1","F","Není v databázi"]
["Jelmer Vis",null,null,null,"10. WGC Juniors 2017 - Klub","LT",36,3075,5545,1.01,4044,4084,2017,null,null,"Std. Cirrus B","HE","M","Není v databázi"]
["Mathias Valentin Christiansen",null,null,null,"10. WGC Juniors 2017 - Klub","LT",37,2155,5545,1.01,2802,2830,2017,null,null,"Std. Cirrus","TH","M","Není v databázi"]
["Christoph Kalcher",null,null,null,"10. WGC Juniors 2017 - Klub","LT",38,1196,5545,1.01,{"$f":"ROUND(H2303/I2303*10000*0.7+(MAX($G$2266:$G$2303)-G2303)/(MAX($G$2266:$G$2303)-1)*10000*0.3,0)","v":1510},{"$f":"ROUND(J2303*K2303,0)","v":1525},2017,null,null,"Speed Astir II b","CK","M","Není v databázi"]
["Sjoerd van Empelen",null,null,null,"10. WGC Juniors 2017 - Std","LT",1,5976,5976,1.02,{"$f":"ROUND(H2304/I2304*10000*0.7+(MAX($G$2304:$G$2335)-G2304)/(MAX($G$2304:$G$2335)-1)*10000*0.3,0)","v":10000},{"$f":"ROUND(J2304*K2304,0)","v":10200},2017,null,null,"LS 8","E5","M",{"$f":"IF(ISERROR(VLOOKUP(A2304,Pilot,6,0)),\"Není v databázi\",VLOOKUP(A2304,Pilot,6,0))","v":"Není v databázi"}]
["Ignas Bitinaitis",null,null,null,"10. WGC Juniors 2017 - Std","LT",2,5938,5976,1.02,{"$f":"ROUND(H2305/I2305*10000*0.7+(MAX($G$2304:$G$2335)-G2305)/(MAX($G$2304:$G$2335)-1)*10000*0.3,0)","v":9859},{"$f":"ROUND(J2305*K2305,0)","v":10056},2017,null,null,"Discus 2a","FL","M","Není v databázi"]
["Joris Vainius",null,null,null,"10. WGC Juniors 2017 - Std","LT",3,5933,5976,1.02,9756,9951,2017,null,null,"LS 8","P2","M","Není v databázi"]
["Enrique Levin",null,null,null,"10. WGC Juniors 2017 - Std","LT",4,5788,5976,1.02,9489,9679,2017,null,null,"Discus 2a","EL","M","Není v databázi"]
["Jakub Pulawski",null,null,null,"10. WGC Juniors 2017 - Std","LT",5,5683,5976,1.02,9270,9455,2017,null,null,"LS 8","LOT","M","Není v databázi"]
["Kilian Biechele",null,null,null,"10. WGC Juniors 2017 - Std","LT",6,5617,5976,1.02,9096,9278,2017,null,null,"LS 8 neo","M1","M","Není v databázi"]
["Tomasz Hornik",null,null,null,"10. WGC Juniors 2017 - Std","LT",7,5555,5976,1.02,8926,9105,2017,null,null,"LS 8","A","M","Není v databázi"]
["Bjorn Gintzel",null,null,null,"10. WGC Juniors 2017 - Std","LT",8,5547,5976,1.02,8820,8996,2017,null,null,"LS 8","AR","M","Není v databázi"]
["Sjors Van Loon",null,null,null,"10. WGC Juniors 2017 - Std","LT",9,5489,5976,1.02,8655,8828,2017,null,null,"LS 8","M7","M","Není v databázi"]
["Tamas Vamosi",null,null,null,"10. WGC Juniors 2017 - Std","LT",10,5396,5976,1.02,8450,8619,2017,null,null,"Discus 2ax","HUN","M","Není v databázi"]
["David Gustavsson",null,null,null,"10. WGC Juniors 2017 - Std","LT",11,5301,5976,1.02,8242,8407,2017,null,null,"LS 8","4F","M","Není v databázi"]
["Erik Rudsmark",null,null,null,"10. WGC Juniors 2017 - Std","LT",12,5281,5976,1.02,8121,8283,2017,null,null,"LS 8","VC","M","Není v databázi"]
["Sviatoslav Roublev",null,null,null,"10. WGC Juniors 2017 - Std","LT",12,5281,5976,1.02,8121,8283,2017,null,null,"LS 8","UG","M","Není v databázi"]
["Julien Duboc",null,null,null,"10. WGC Juniors 2017 - Std","LT",14,5212,5976,1.02,7847,8004,2017,null,null,"LS 8","E8","M","Není v databázi"]
["Tizian Steiger",null,null,null,"10. WGC Juniors 2017 - Std","LT",15,5162,5976,1.02,7692,7846,2017,null,null,"Discus 2b","B2","M","Není v databázi"]
["Karel Novak",{"$f":"VLOOKUP(A2319,Pilot,2,0)","v":1993},{"$f":"VLOOKUP(A2319,Pilot,3,0)","v":"Mladá Boleslav"},{"$f":"VLOOKUP(A2319,Pilot,4,0)","v":"CZ/C1"},"10. WGC Juniors 2017 - Std","LT",16,5111,5976,1.02,7535,7686,2017,null,null,"LS 8","FX",{"$f":"VLOOKUP(A2319,Pilot,5,0)","v":"M"},""]
["Meric Morel",null,null,null,"10. WGC Juniors 2017 - Std","LT",17,5031,5976,1.02,7345,7492,2017,null,null,"Discus 2c","EI","M","Není v databázi"]
["Lars Groot",null,null,null,"10. WGC Juniors 2017 - Std","LT",18,4843,5976,1.02,7028,7169,2017,null,null,"ASW 28","GR","M","Není v databázi"]
["David Mach",{"$f":"VLOOKUP(A2322,Pilot,2,0)","v":1994},{"$f":"VLOOKUP(A2322,Pilot,3,0)","v":"Hronov"},{"$f":"VLOOKUP(A2322,Pilot,4,0)","v":"CZ/C2"},"10. WGC Juniors 2017 - Std","LT",19,4840,5976,1.02,6927,7066,2017,null,null,"LS 8b","JB",{"$f":"VLOOKUP(A2322,Pilot,5,0)","v":"M"},"Junior v roce 2019"]
["Sven Sprunger",null,null,null,"10. WGC Juniors 2017 - Std","LT",20,4803,5976,1.02,6787,6923,2017,null,null,"Discus 2b","W6","M","Není v databázi"]
["Dylan James Lampard",null,null,null,"10. WGC Juniors 2017 - Std","LT",21,4799,5976,1.02,6686,6820,2017,null,null,"Discus 2a","XN","M","Není v databázi"]
["Michael Jonathan Gatfield",null,null,null,"10. WGC Juniors 2017 - Std","LT",22,4756,5976,{"$f":"VLOOKUP(E2325,Soutez,8,0)","v":1.02},6539,6670,2017,null,null,"LS 8a","L9","M","Není v databázi"]
["Jan Viskot",{"$f":"VLOOKUP(A2326,Pilot,2,0)","v":1995},{"$f":"VLOOKUP(A2326,Pilot,3,0)","v":"Břeclav"},{"$f":"VLOOKUP(A2326,Pilot,4,0)","v":"CZ/M"},"10. WGC Juniors 2017 - Std","LT",23,4536,5976,1.02,6184,6308,2017,null,null,"LS 8","W8",{"$f":"VLOOKUP(A2326,Pilot,5,0)","v":"M"},"Junior v roce 2019"]
["Finn James Sleigh",null,null,null,"10. WGC Juniors 2017 - Std","LT",24,4401,5976,1.02,5929,6048,2017,null,null,"ASW 28","S1","M","Není v databázi"]
["Emil Dalboe-Pedersen",null,null,null,"10. WGC Juniors 2017 - Std","LT",25,4209,5976,1.02,5608,5720,2017,null,null,"LS 8","SE","M","Není v databázi"]
["Thomas Leitgeb",null,null,null,"10. WGC Juniors 2017 - Std","LT",26,3925,5976,1.02,5178,5282,2017,null,null,"Discus 2b","D2","M","Není v databázi"]
["Daniel Arday",null,null,null,"10. WGC Juniors 2017 - Std","LT",27,3865,5976,1.02,5011,5111,2017,null,null,"Discus 2a","HAL","M","Není v databázi"]
["Ringaudas Kikalas",null,null,null,"10. WGC Juniors 2017 - Std","LT",28,3848,5976,1.02,4894,4992,2017,null,null,"LAK 19","ZM","M","Není v databázi"]
["Christoph Josef Koch",null,null,null,"10. WGC Juniors 2017 - Std","LT",29,3695,5976,1.02,4618,4710,2017,null,null,"Discus 2a","KG","M","Není v databázi"]
["Lukas Kirchberger",null,null,null,"10. WGC Juniors 2017 - Std","LT",30,3431,5976,1.02,4212,4296,2017,null,null,"LS 7","LK","M","Není v databázi"]
["Mike Hurlimann",null,null,null,"10. WGC Juniors 2017 - Std","LT",31,3202,5976,1.02,3847,3924,2017,null,null,"Discus 2b","9S","M","Není v databázi"]
["Kevin Kjær Andersen",null,null,null,"10. WGC Juniors 2017 - Std","LT",32,2566,5976,1.02,{"$f":"ROUND(H2335/I2335*10000*0.7+(MAX($G$2304:$G$2335)-G2335)/(MAX($G$2304:$G$2335)-1)*10000*0.3,0)","v":3006},{"$f":"ROUND(J2335*K2335,0)","v":3066},2017,null,null,"Discus 2T","AA","M","Není v databázi"]
["Freddy Hein",null,null,null,"19. EGC 2017 - 15m","UK",1,5243,5243,1.0649999999999999,{"$f":"ROUND(H2336/I2336*10000*0.7+(MAX($G$2336:$G$2353)-G2336)/(MAX($G$2336:$G$2353)-1)*10000*0.3,0)","v":10000},{"$f":"ROUND(J2336*K2336,0)","v":10650},2017,null,null,"Ventus 2ax","FH","M",{"$f":"IF(ISERROR(VLOOKUP(A2336,Pilot,6,0)),\"Není v databázi\",VLOOKUP(A2336,Pilot,6,0))","v":"Není v databázi"}]
["Tim Scott",null,null,null,"19. EGC 2017 - 15m","UK",2,5165,5243,1.0649999999999999,{"$f":"ROUND(H2337/I2337*10000*0.7+(MAX($G$2336:$G$2353)-G2337)/(MAX($G$2336:$G$2353)-1)*10000*0.3,0)","v":9696},{"$f":"ROUND(J2337*K2337,0)","v":10326},2017,null,null,"ASG 29","Z3","M","Není v databázi"]
["Gary Stingemore",null,null,null,"19. EGC 2017 - 15m","UK",3,5133,5243,1.0649999999999999,{"$f":"ROUND(H2338/I2338*10000*0.7+(MAX($G$2336:$G$2353)-G2338)/(MAX($G$2336:$G$2353)-1)*10000*0.3,0)","v":9453},10067,2017,null,null,"ASG 29 E",10,"M","Není v databázi"]
["Uli Schwenk",null,null,null,"19. EGC 2017 - 15m","UK",4,5125,5243,1.0649999999999999,{"$f":"ROUND(H2339/I2339*10000*0.7+(MAX($G$2336:$G$2353)-G2339)/(MAX($G$2336:$G$2353)-1)*10000*0.3,0)","v":9242},9843,2017,null,null,"Ventus 2a","VV","M","Není v databázi"]
["Adam Woolley",null,null,null,"19. EGC 2017 - 15m","UK","HC",4842,5243,1.0649999999999999,null,null,2017,null,null,"Ventus 2","A8","M","Není v databázi"]
["Dmitriy Timoshenko",null,null,null,"19. EGC 2017 - 15m","UK",5,4614,5243,1.0649999999999999,{"$f":"ROUND(H2341/I2341*10000*0.7+(MAX($G$2336:$G$2353)-G2341)/(MAX($G$2336:$G$2353)-1)*10000*0.3,0)","v":8360},8903,2017,null,null,"Ventus 2cx","TD","M","Není v databázi"]
["Radek Krejcirik",{"$f":"VLOOKUP(A2342,Pilot,2,0)","v":1991},{"$f":"VLOOKUP(A2342,Pilot,3,0)","v":"Hranice"},{"$f":"VLOOKUP(A2342,Pilot,4,0)","v":"CZ/M"},"19. EGC 2017 - 15m","UK",6,4577,5243,1.0649999999999999,8111,8638,2017,null,null,"Ventus 2ax","AX",{"$f":"VLOOKUP(A2342,Pilot,5,0)","v":"M"},""]
["Ondrej Bordovsky",{"$f":"VLOOKUP(A2343,Pilot,2,0)","v":1983},{"$f":"VLOOKUP(A2343,Pilot,3,0)","v":"Krnov"},{"$f":"VLOOKUP(A2343,Pilot,4,0)","v":"CZ/M"},"19. EGC 2017 - 15m","UK",7,4474,5243,1.0649999999999999,7773,8278,2017,null,null,"ASG 29 E","QZ",{"$f":"VLOOKUP(A2343,Pilot,5,0)","v":"M"},""]
["Daan Spruyt",null,null,null,"19. EGC 2017 - 15m","UK",8,4398,5243,1.0649999999999999,7472,7958,2017,null,null,"ASW 27","FS","M","Není v databázi"]
["Lukasz Grabowski",null,null,null,"19. EGC 2017 - 15m","UK",9,4286,5243,1.0649999999999999,7122,7585,2017,null,null,"Diana 2","RP","M","Není v databázi"]
["Didier Hauss",null,null,null,"19. EGC 2017 - 15m","UK",10,4011,5243,1.0649999999999999,6555,6981,2017,null,null,"Ventus 2","DID","M","Není v databázi"]
["Paul Crabb",null,null,null,"19. EGC 2017 - 15m","UK",11,3914,5243,1.0649999999999999,6226,6631,2017,null,null,"Ventus 2ax","C64","M","Není v databázi"]
["Henrik A. Breidahl",null,null,null,"19. EGC 2017 - 15m","UK",12,3742,5243,1.0649999999999999,5796,6173,2017,null,null,"ASG 29 E","CG","M","Není v databázi"]
["Francisco Ortega Casariego",null,null,null,"19. EGC 2017 - 15m","UK",13,3306,5243,1.0649999999999999,5014,5340,2017,null,null,"ASW 27","27B","M","Není v databázi"]
["Owen McCormack",null,null,null,"19. EGC 2017 - 15m","UK","HC",3086,5243,1.0649999999999999,null,null,2017,null,null,"Ventus 2",77,"M","Není v databázi"]
["Sorin Lingureanu",null,null,null,"19. EGC 2017 - 15m","UK",14,2561,5243,1.0649999999999999,{"$f":"ROUND(H2351/I2351*10000*0.7+(MAX($G$2336:$G$2353)-G2351)/(MAX($G$2336:$G$2353)-1)*10000*0.3,0)","v":3819},4067,2017,null,null,"Ventus 2","ZR","M","Není v databázi"]
["Peter Harsfalvi",null,null,null,"19. EGC 2017 - 15m","UK",15,1115,5243,1.0649999999999999,{"$f":"ROUND(H2352/I2352*10000*0.7+(MAX($G$2336:$G$2353)-G2352)/(MAX($G$2336:$G$2353)-1)*10000*0.3,0)","v":1689},1799,2017,null,null,"ASG 29 E","AMI","M","Není v databázi"]
["Kevin Houlihan",null,null,null,"19. EGC 2017 - 15m","UK",16,1019,5243,1.0649999999999999,{"$f":"ROUND(H2353/I2353*10000*0.7+(MAX($G$2336:$G$2353)-G2353)/(MAX($G$2336:$G$2353)-1)*10000*0.3,0)","v":1360},{"$f":"ROUND(J2353*K2353,0)","v":1448},2017,null,null,"Lak 17","T8","M","Není v databázi"]
["Wolfgang Janowitsch",null,null,null,"19. EGC 2017 - 18m","UK",1,6169,6169,1.095,{"$f":"ROUND(H2354/I2354*10000*0.7+(MAX($G$2354:$G$2378)-G2354)/(MAX($G$2354:$G$2378)-1)*10000*0.3,0)","v":10000},{"$f":"ROUND(J2354*K2354,0)","v":10950},2017,null,null,"Ventus 3T","WO","M",{"$f":"IF(ISERROR(VLOOKUP(A2354,Pilot,6,0)),\"Není v databázi\",VLOOKUP(A2354,Pilot,6,0))","v":"Není v databázi"}]
["Mike Young",null,null,null,"19. EGC 2017 - 18m","UK",2,6072,6169,1.095,9765,{"$f":"ROUND(J2355*K2355,0)","v":10693},2017,null,null,"Ventus 3T",110,"M","Není v databázi"]
["Bert Schmelzer",null,null,null,"19. EGC 2017 - 18m","UK",3,5950,6169,1.095,9501,10404,2017,null,null,"Ventus 3T","2X","M","Není v databázi"]
["Christophe Cousseau",null,null,null,"19. EGC 2017 - 18m","UK",4,5945,6169,1.095,9371,10261,2017,null,null,"JS 1","FC","M","Není v databázi"]
["Peter Millenaar",null,null,null,"19. EGC 2017 - 18m","UK",5,5838,6169,1.095,9124,9991,2017,null,null,"ASG 29 E","MX","M","Není v databázi"]
["Jeroen Verkuijl",null,null,null,"19. EGC 2017 - 18m","UK",6,5797,6169,1.095,8953,9804,2017,null,null,"ASG 29 E",630,"M","Není v databázi"]
["Marcel Duenner",null,null,null,"19. EGC 2017 - 18m","UK",7,5788,6169,1.095,8818,9656,2017,null,null,"ASG 29","MD","M","Není v databázi"]
["Roman Mracek",{"$f":"VLOOKUP(A2361,Pilot,2,0)","v":1980},{"$f":"VLOOKUP(A2361,Pilot,3,0)","v":"Letkov"},{"$f":"VLOOKUP(A2361,Pilot,4,0)","v":"CZ/C1"},"19. EGC 2017 - 18m","UK",8,5719,6169,1.095,8614,9432,2017,null,null,"ASG 29 E","QX",{"$f":"VLOOKUP(A2361,Pilot,5,0)","v":"M"},""]
["Jurg Haas",null,null,null,"19. EGC 2017 - 18m","UK",9,5505,6169,1.095,8247,9030,2017,null,null,"JS 1 C","CH","M","Není v databázi"]
["Tijl Schmelzer",null,null,null,"19. EGC 2017 - 18m","UK",10,5490,6169,1.095,8105,8875,2017,null,null,"ASG 29","F2","M","Není v databázi"]
["Michael Streit",null,null,null,"19. EGC 2017 - 18m","UK",11,5482,6169,1.095,7970,8727,2017,null,null,"ASG 29 E","MS","M","Není v databázi"]
["Sebastian Huhmann",null,null,null,"19. EGC 2017 - 18m","UK",12,5458,6169,1.095,7818,8561,2017,null,null,"ASG 29 E","LY","M","Není v databázi"]
["Andreas Lutz",null,null,null,"19. EGC 2017 - 18m","UK",13,5452,6169,1.095,7686,8416,2017,null,null,"Ventus 3T","3V","M","Není v databázi"]
["Arne J. Boye-Møller",null,null,null,"19. EGC 2017 - 18m","UK",14,5407,6169,1.095,7510,8223,2017,null,null,"Ventus 2cxT","AB","M","Není v databázi"]
["Petr Tichy",{"$f":"VLOOKUP(A2368,Pilot,2,0)","v":1973},{"$f":"VLOOKUP(A2368,Pilot,3,0)","v":"Zbraslavice"},{"$f":"VLOOKUP(A2368,Pilot,4,0)","v":"CZ/C1"},"19. EGC 2017 - 18m","UK",15,5309,6169,1.095,7274,7965,2017,null,null,"ASG 29 E","AJ",{"$f":"VLOOKUP(A2368,Pilot,5,0)","v":"M"},""]
["Denis Guerin",null,null,null,"19. EGC 2017 - 18m","UK",16,5107,6169,1.095,6920,7577,2017,null,null,"ASG 29","V","M","Není v databázi"]
["Morten Hugo Bennick",null,null,null,"19. EGC 2017 - 18m","UK",17,5004,6169,1.095,6678,7312,2017,null,null,"ASG 29 E","PE","M","Není v databázi"]
["Richard Basa",null,null,null,"19. EGC 2017 - 18m","UK",18,5003,6169,1.095,6552,7174,2017,null,null,"JS 1 C","OK","M","Není v databázi"]
["Peter Szabo",null,null,null,"19. EGC 2017 - 18m","UK",19,4696,6169,1.095,6079,6657,2017,null,null,"JS 1","BX","M","Není v databázi"]
["Zdzislaw Bednarczuk",null,null,null,"19. EGC 2017 - 18m","UK",20,4578,6169,1.095,5820,6373,2017,null,null,"ASG 29 E","ZB","M","Není v databázi"]
["Brian Birlison",null,null,null,"19. EGC 2017 - 18m","UK",21,4556,6169,1.095,5670,6209,2017,null,null,"ASG 29 E",565,"M","Není v databázi"]
["Andreas Sandhöfner",null,null,null,"19. EGC 2017 - 18m","UK",22,4164,6169,1.095,5100,5585,2017,null,null,"ASG 29","AY","M","Není v databázi"]
["Giuseppe Dal Grande",null,null,null,"19. EGC 2017 - 18m","UK",23,2540,6169,1.095,3132,3430,2017,null,null,"Ventus 2cxM","LH","M","Není v databázi"]
["Liam \"Billy\" Brady",null,null,null,"19. EGC 2017 - 18m","UK",24,2409,6169,1.095,2859,3131,2017,null,null,"ASG 29 E","SX","M","Není v databázi"]
["Ugo Raffaelli",null,null,null,"19. EGC 2017 - 18m","UK",25,2248,6169,1.095,2551,{"$f":"ROUND(J2378*K2378,0)","v":2793},2017,null,null,"Ventus 2cxT","RR","M","Není v databázi"]
["Michael Sommer",null,null,null,"19. EGC 2017 - Open","UK",1,6660,6660,1.0900000000000001,{"$f":"ROUND(H2379/I2379*10000*0.7+(MAX($G$2379:$G$2396)-G2379)/(MAX($G$2379:$G$2396)-1)*10000*0.3,0)","v":10000},{"$f":"ROUND(J2379*K2379,0)","v":10900},2017,null,null,"EB 29 R","EP","M",{"$f":"IF(ISERROR(VLOOKUP(A2379,Pilot,6,0)),\"Není v databázi\",VLOOKUP(A2379,Pilot,6,0))","v":"Není v databázi"}]
["Peter Harvey",null,null,null,"19. EGC 2017 - Open","UK",2,6419,6660,1.0900000000000001,9570,{"$f":"ROUND(J2380*K2380,0)","v":10431},2017,null,null,"JS1 C","N1","M","Není v databázi"]
["Russell Cheetham",null,null,null,"19. EGC 2017 - Open","UK",3,6377,6660,1.0900000000000001,9350,10192,2017,null,null,"JS1 C","E1","M","Není v databázi"]
["Holger Karow",null,null,null,"19. EGC 2017 - Open","UK",4,6311,6660,1.0900000000000001,9104,9923,2017,null,null,"EB 29 DE","IRB","M","Není v databázi"]
["Pierre de Broqueville",null,null,null,"19. EGC 2017 - Open","UK",5,6121,6660,1.0900000000000001,8728,9514,2017,null,null,"EB 29 DR","IP3","M","Není v databázi"]
["Ronald Termaat",null,null,null,"19. EGC 2017 - Open","UK",6,6111,6660,1.0900000000000001,8541,9310,2017,null,null,"JS1 C","XT","M","Není v databázi"]
["Petr Krejcirik",{"$f":"VLOOKUP(A2385,Pilot,2,0)","v":1960},{"$f":"VLOOKUP(A2385,Pilot,3,0)","v":"Hranice"},{"$f":"VLOOKUP(A2385,Pilot,4,0)","v":"CZ/M"},"19. EGC 2017 - Open","UK",7,5840,6660,1.0900000000000001,8079,8806,2017,null,null,"JS1 C","8Q",{"$f":"VLOOKUP(A2385,Pilot,5,0)","v":"M"},""]
["Lukasz Wojcik",null,null,null,"19. EGC 2017 - Open","UK",8,5584,6660,1.0900000000000001,7634,8321,2017,null,null,"JS1 C","P","M","Není v databázi"]
["Eric Bernard",null,null,null,"19. EGC 2017 - Open","UK",9,5547,6660,1.0900000000000001,7418,8086,2017,null,null,"JS1 C","EB","M","Není v databázi"]
["Pavel Trybenekr",{"$f":"VLOOKUP(A2388,Pilot,2,0)","v":1990},{"$f":"VLOOKUP(A2388,Pilot,3,0)","v":"Hořice"},{"$f":"VLOOKUP(A2388,Pilot,4,0)","v":"CZ/C2"},"19. EGC 2017 - Open","UK",10,4813,6660,1.0900000000000001,6470,7052,2017,null,null,"ASW 22 BLE","RX",{"$f":"VLOOKUP(A2388,Pilot,5,0)","v":"M"},""]
["Adam Czeladzki",null,null,null,"19. EGC 2017 - Open","UK",11,4656,6660,{"$f":"VLOOKUP(E2389,Soutez,8,0)","v":1.0900000000000001},6129,6681,2017,null,null,"JS1 C","GOL","M","Není v databázi"]
["Marco Vermeer",null,null,null,"19. EGC 2017 - Open","UK",12,4614,6660,1.0900000000000001,5908,6440,2017,null,null,"JS1 C","APU","M","Není v databázi"]
["Markus Gaeumann",null,null,null,"19. EGC 2017 - Open","UK",13,4606,6660,1.0900000000000001,5723,6238,2017,null,null,"Nimbus 4M","NB","M","Není v databázi"]
["Guido Halter",null,null,null,"19. EGC 2017 - Open","UK",14,4492,6660,1.0900000000000001,5427,5915,2017,null,null,"ASH 25 M","HU","M","Není v databázi"]
["Owe Engstrom",null,null,null,"19. EGC 2017 - Open","UK",15,3811,6660,1.0900000000000001,4535,4943,2017,null,null,"EB 28","TP","M","Není v databázi"]
["Sylvain Gerbaud",null,null,null,"19. EGC 2017 - Open","UK",16,3461,6660,1.0900000000000001,3991,4350,2017,null,null,"JS1 C",72,"M","Není v databázi"]
["Yves Ruymen",null,null,null,"19. EGC 2017 - Open","UK",17,3241,6660,1.0900000000000001,3583,3905,2017,null,null,"Nimbus 4DM","MF","M","Není v databázi"]
["Antonio Soffici",null,null,null,"19. EGC 2017 - Open","UK",18,2550,6660,1.0900000000000001,2680,{"$f":"ROUND(J2396*K2396,0)","v":2921},2017,null,null,"Nimbus 4T","EC","M","Není v databázi"]
["Jaroslav Tomana",{"$f":"VLOOKUP(A2397,Pilot,2,0)","v":1975},{"$f":"VLOOKUP(A2397,Pilot,3,0)","v":"Zbraslavice"},{"$f":"VLOOKUP(A2397,Pilot,4,0)","v":"CZ/C1"},"AZ Cup 2018 - Klub","CZ",1,3043,3043,{"$f":"VLOOKUP(E2397,Soutez,8,0)","v":0.92500000000000004},{"$f":"ROUND(H2397/I2397*10000*0.7+(MAX($G$2397:$G$2436)-G2397)/(MAX($G$2397:$G$2436)-1)*10000*0.3,0)","v":10000},{"$f":"ROUND(J2397*K2397,0)","v":9250},2018,null,null,"Cirrus Std.","SN",{"$f":"VLOOKUP(A2397,Pilot,5,0)","v":"M"},{"$f":"IF(ISERROR(VLOOKUP(A2397,Pilot,6,0)),\"Není v databázi\",VLOOKUP(A2397,Pilot,6,0))","v":""}]
["Ivan Novak",1962,"Mladá Boleslav","CZ/C1","AZ Cup 2018 - Klub","CZ",2,3013,3043,0.92500000000000004,9854,9115,2018,null,null,"Cirrus Std.","DI","M",""]
["Zdenek Boruvka 86",1986,"Jičín","CZ/C2","AZ Cup 2018 - Klub","CZ",3,3007,3043,0.92500000000000004,9763,9031,2018,"x",null,"Cirrus Std.","BJ","M",""]
["David Mach",1994,"Hronov","CZ/C2","AZ Cup 2018 - Klub","CZ",4,2802,3043,0.92500000000000004,9215,8524,2018,null,null,"Cirrus Std.","CX","M","Junior v roce 2019"]
["Ivan Harasta 65",1965,"Toužim","CZ/C1","AZ Cup 2018 - Klub","CZ",5,2663,3043,0.92500000000000004,8818,8157,2018,"x",null,"ASW-15B","HI","M",""]
["Klara Teichmannova",1993,"Hronov","CZ/C2","AZ Cup 2018 - Klub","CZ",6,2565,3043,0.92500000000000004,8516,7877,2018,null,null,"Cirrus Std.","LY","F",""]
["Jiri Fousek",1990,"Raná","CZ/C2","AZ Cup 2018 - Klub","CZ",7,2528,3043,0.92500000000000004,8354,7727,2018,"x",null,"Cirrus Std.","XII","M",""]
["Anna Hajkova",1989,"Mladá Boleslav","CZ/C1","AZ Cup 2018 - Klub","CZ",8,2480,3043,0.92500000000000004,8166,7554,2018,"x","x","Cirrus Std.","BW","F",""]
["Jan Horak",1971,"Zbraslavice","CZ/C1","AZ Cup 2018 - Klub","CZ",9,2407,3043,0.92500000000000004,7922,7328,2018,"x",null,"ASW 20 AWL","WX","M",""]
["Barbora Moravcova",1994,"Zbraslavice","CZ/C1","AZ Cup 2018 - Klub","CZ",10,2363,3043,0.92500000000000004,7743,7162,2018,null,null,"ASW-19B","CF","F","Junior v roce 2019"]
["Jakub Kmosek",1978,"Zbraslavice","CZ/C1","AZ Cup 2018 - Klub","CZ",11,2255,3043,0.92500000000000004,7418,6862,2018,"x",null,"Cirrus Std.","ST","M",""]
["David Popovsky",1976,"Rakovník","CZ/C1","AZ Cup 2018 - Klub","CZ",12,2233,3043,0.92500000000000004,7291,6744,2018,"x",null,"ASW 24",76,"M",""]
["Lukas Koukal",1991,"Letkov","CZ/C1","AZ Cup 2018 - Klub","CZ",13,2224,3043,0.92500000000000004,7193,6654,2018,"x",null,"ASW-15B","T1","M",""]
["Frantisek Filandr",1956,"Most","CZ/C2","AZ Cup 2018 - Klub","CZ",14,2206,3043,0.92500000000000004,7075,6544,2018,"x",null,"Cirrus Std.","FF","M",""]
["Martin Chovan",1973,"Zbraslavice","CZ/C1","AZ Cup 2018 - Klub","CZ",15,2037,3043,0.92500000000000004,6609,6113,2018,"x",null,"ASW19B","FY","M",""]
["Radim Vadasz",1989,"Soběslav","CZ/C1","AZ Cup 2018 - Klub","CZ",16,2034,3043,0.92500000000000004,6525,6036,2018,"x",null,"ASW-15A","ASW","M",""]
["Jindrich Hala",1989,"Rakovník","CZ/C1","AZ Cup 2018 - Klub","CZ",17,1998,3043,0.92500000000000004,6365,5888,2018,"x",null,"Cirrus Std.","OG","M",""]
["Oldrich Houzvicka",1975,"Frýdlant","CZ/M","AZ Cup 2018 - Klub","CZ",18,1973,3043,0.92500000000000004,6231,5764,2018,"x",null,"LS-1f","EM","M",""]
["Martin Grmela",1989,"Zbraslavice","CZ/C1","AZ Cup 2018 - Klub","CZ",19,1966,3043,0.92500000000000004,6138,5678,2018,"x",null,"G-102 Astir CS","MV","M",""]
["Michal Drab",1969,"Letkov","CZ/C1","AZ Cup 2018 - Klub","CZ",20,1942,3043,0.92500000000000004,6006,5556,2018,"x",null,"LS-1d","S3","M",""]
["Katerina Vojtova",1983,"Slaný","CZ/C1","AZ Cup 2018 - Klub","CZ",21,1916,3043,0.92500000000000004,5869,5429,2018,"x","x","Cirrus Std.","KAC","F",""]
["Martin Urban",1971,"Frýdlant","CZ/M","AZ Cup 2018 - Klub","CZ",22,1892,3043,0.92500000000000004,5737,5307,2018,"x",null,"LS-3A 15m","SJ","M",""]
["Jiri Hula",1973,"Slaný","CZ/C1","AZ Cup 2018 - Klub","CZ",23,1890,3043,0.92500000000000004,5655,5231,2018,"x",null,"Cirrus Std.","TI","M",""]
["Matej Krestes",1986,"Slaný","CZ/C1","AZ Cup 2018 - Klub","CZ",24,1818,3043,0.92500000000000004,5413,5007,2018,"x",null,"C201B Marianne","YL","M",""]
["Vojtech Novotny",1992,"Kralupy","CZ/C1","AZ Cup 2018 - Klub","CZ",25,1791,3043,0.92500000000000004,5274,4878,2018,null,null,"LS-1f","EF","M",""]
["Petr Bartak",1984,"Letkov","CZ/C1","AZ Cup 2018 - Klub","CZ",26,1588,3043,0.92500000000000004,4730,4375,2018,"x",null,"Cirrus Std.","SR","M",""]
["Vaclav Svoboda",1970,"Letkov","CZ/C1","AZ Cup 2018 - Klub","CZ",27,1580,3043,0.92500000000000004,4635,4287,2018,"x",null,"Cirrus Std.","W1","M",""]
["Jan Pubec",1979,"Plzeň Bory","CZ/C1","AZ Cup 2018 - Klub","CZ",28,1394,3043,0.92500000000000004,4130,3820,2018,"x",null,"Cirrus Std.","LM","M",""]
["Jan Zahradka",1981,"Hodkovice","CZ/C2","AZ Cup 2018 - Klub","CZ",29,1388,3043,0.92500000000000004,4039,3736,2018,null,null,"Cirrus Std.","AR","M",""]
["David Sachl",1978,"Kralupy","CZ/C1","AZ Cup 2018 - Klub","CZ",30,1305,3043,0.92500000000000004,3771,3488,2018,null,null,"DG-200","RZ","M",""]
["Lukas Kotek",1994,"Frýdlant","CZ/M","AZ Cup 2018 - Klub","CZ",31,1178,3043,0.92500000000000004,3402,3147,2018,null,null,"G-102 Astir CS","W7","M","Junior v roce 2019"]
["Tomas Jung",1950,"Zbraslavice","CZ/C1","AZ Cup 2018 - Klub","CZ",32,1029,3043,0.92500000000000004,2982,2758,2018,"x",null,"ASW-19B","O2","M",""]
["Ondrej Sindelar",{"$f":"VLOOKUP(A2429,Pilot,2,0)","v":1979},{"$f":"VLOOKUP(A2429,Pilot,3,0)","v":"Mladá Boleslav"},{"$f":"VLOOKUP(A2429,Pilot,4,0)","v":"CZ/C1"},"AZ Cup 2018 - Klub","CZ",33,910,3043,0.92500000000000004,2632,2435,2018,null,null,"ASW-19B","OI",{"$f":"VLOOKUP(A2429,Pilot,5,0)","v":"M"},""]
["Petr Brezina",1963,"Frýdlant","CZ/M","AZ Cup 2018 - Klub","CZ",34,908,3043,0.92500000000000004,2550,2359,2018,"x",null,"G-102 Astir CS","BH","M",""]
["Jan Konecny",1972,"Rakovník","CZ/C1","AZ Cup 2018 - Klub","CZ",35,879,3043,0.92500000000000004,2407,2226,2018,"x",null,"LS-7",72,"M",""]
["Tomas Hlavacek",1984,"Kolín","CZ/C1","AZ Cup 2018 - Klub","CZ",36,857,3043,0.92500000000000004,2279,2108,2018,null,null,"ASW-15B","MB","M",""]
["Jiri Hodan",1959,"Zbraslavice","CZ/C1","AZ Cup 2018 - Klub","CZ",37,620,3043,0.92500000000000004,1657,1533,2018,"x",null,"G-103 Twin Astir","RB","M",""]
["Rudolf Jung",1954,"Zbraslavice","CZ/C1","AZ Cup 2018 - Klub","CZ",38,494,3043,0.92500000000000004,1290,1193,2018,"x",null,"Cirrus Std.","C1","M",""]
["Pavel Svrcek",1972,"Frýdlant","CZ/M","AZ Cup 2018 - Klub","CZ",39,430,3043,0.92500000000000004,1066,986,2018,"x",null,"DG-200","AK","M",""]
["Karel Ertl",1939,"LK Břeclav","CZ/M","AZ Cup 2018 - Klub","CZ",40,318,3043,{"$f":"VLOOKUP(E2436,Soutez,8,0)","v":0.92500000000000004},732,{"$f":"ROUND(J2436*K2436,0)","v":677},2018,"x",null,"TST 10M Atlas","KE","M",""]
["Roman Mracek",1980,"Letkov","CZ/C1","AZ Cup 2018 - Kombi","CZ",1,3897,3897,0.95,{"$f":"ROUND(H2437/I2437*10000*0.7+(MAX($G$2437:$G$2465)-G2437)/(MAX($G$2437:$G$2465)-1)*10000*0.3,0)","v":10000},9500,2018,null,null,"ASG 29E 18m","QX","M",{"$f":"IF(ISERROR(VLOOKUP(A2437,Pilot,6,0)),\"Není v databázi\",VLOOKUP(A2437,Pilot,6,0))","v":""}]
["Tomas Suchanek",1964,"GAC Benešov","CZ/C1","AZ Cup 2018 - Kombi","CZ",2,3751,3897,0.95,9631,9149,2018,null,null,"ASG 29E 18m","QZ","M",""]
["Petr Tichy",1973,"Zbraslavice","CZ/C1","AZ Cup 2018 - Kombi","CZ",3,3607,3897,0.95,9265,8802,2018,null,null,"ASG-29E 18m","AJ","M",""]
["Petr Koutny",1971,"Křižanov","CZ/M","AZ Cup 2018 - Kombi","CZ",4,3550,3897,0.95,9055,{"$f":"ROUND(J2440*K2440,0)","v":8602},2018,"x",null,"LS 8b 18m","SK","M",""]
["Michal Lesinger",1966,"Moravská Třebová","CZ/M","AZ Cup 2018 - Kombi","CZ",5,3443,3897,0.95,8756,8318,2018,null,null,"ASG-32 Mi 850kg","DX","M",""]
["Radek Krejcirik",1991,"Hranice","CZ/M","AZ Cup 2018 - Kombi","CZ",6,3364,3897,0.95,8507,8082,2018,null,null,"Ventus 2 ax","AX","M",""]
["Petr Hotovy",1958,"Česká Lípa","CZ/C2","AZ Cup 2018 - Kombi","CZ",7,3350,3897,0.95,8375,7956,2018,"x",null,"JS-1B 18m","IGC","M",""]
["Alena Netusilova",1970,"Zbraslavice","CZ/C1","AZ Cup 2018 - Kombi","CZ",8,3324,3897,0.95,8221,7810,2018,"x","x","JS-1C 18m EVO","JX","F",""]
["Lenka Kuthanova",1960,"LK Břeclav","CZ/M","AZ Cup 2018 - Kombi","CZ",9,3202,3897,0.95,7894,7499,2018,"x","x","JS-1C 18m EVO","LX","F",""]
["Martin Pekar",1973,"Šumperk","CZ/M","AZ Cup 2018 - Kombi","CZ",10,3027,3897,0.95,7473,7099,2018,"x",null,"HPH 304 ES 18m 600kg","ES","M",""]
["Martin Hrivna",1978,"Zbraslavice","CZ/C1","AZ Cup 2018 - Kombi","CZ",11,3024,3897,0.95,7360,6992,2018,"x",null,"ASG 29E 18m","NX","M",""]
["Petr Starek",1974,"Zbraslavice","CZ/C1","AZ Cup 2018 - Kombi","CZ",12,2926,3897,0.95,7077,6723,2018,"x",null,"HPH 304 SJ 18m 573kg",66,"M",""]
["Ondrej Dupal",1966,"GAC Benešov","CZ/C1","AZ Cup 2018 - Kombi","CZ",13,2877,3897,0.95,6882,6538,2018,"x",null,"ASG-29E 18m","GO","M",""]
["Martin Vnoucek",1972,"Vlašim","CZ/C1","AZ Cup 2018 - Kombi","CZ",14,2844,3897,0.95,6716,6380,2018,"x",null,"Ventus 2 cxt 18m 600kg","PX","M",""]
["Tomas Malik",1972,"Letňany","CZ/C1","AZ Cup 2018 - Kombi","CZ",15,2834,3897,0.95,6591,6261,2018,"x",null,"Ventus 2 cm 18m 525kg","JT","M",""]
["Jaromir Jedlicka",1972,"Letňany","CZ/C1","AZ Cup 2018 - Kombi","CZ",16,2832,3897,0.95,6480,6156,2018,"x",null,"Ventus b/16,6m 485kg","JET","M",""]
["Jan Boruvka",1984,"Jičín","CZ/C2","AZ Cup 2018 - Kombi","CZ",17,2809,3897,0.95,6331,6014,2018,null,null,"Ventus c","EG","M",""]
["Jan Kantor",1983,"Letňany","CZ/C1","AZ Cup 2018 - Kombi","CZ",18,2764,3897,0.95,6143,5836,2018,"x",null,"Ventus c 17,6m","UC","M",""]
["Jan Dersak 69",1969,"Kralupy","CZ/C1","AZ Cup 2018 - Kombi","CZ",19,2702,3897,0.95,5925,5629,2018,"x",null,"HPH 304 CZ 17,4m","DJ","M",""]
["Michal Kratochvil",1984,"Slaný","CZ/C1","AZ Cup 2018 - Kombi","CZ",20,2534,3897,0.95,5516,5240,2018,"x",null,"Ventus b 15m","S6","M",""]
["Tomas Rendla",1973,"Zbraslavice","CZ/C1","AZ Cup 2018 - Kombi","CZ",21,2510,3897,0.95,5366,5098,2018,"x",null,"Arcus M","EY","M",""]
["Hana Treslova",1991,"Raná","CZ/C2","AZ Cup 2018 - Kombi","CZ",22,2362,3897,0.95,4993,4743,2018,null,null,"LS-8A 15m","EU","F",""]
["Karel Benisek 76",1976,"Toužim","CZ/C1","AZ Cup 2018 - Kombi","CZ",23,2327,3897,{"$f":"VLOOKUP(E2459,Soutez,8,0)","v":0.95},4823,{"$f":"ROUND(J2459*K2459,0)","v":4582},2018,null,null,"Ventus ct 17.6m","KB","M",""]
["Dana Novakova",1965,"Mladá Boleslav","CZ/C1","AZ Cup 2018 - Kombi","CZ",24,2241,3897,0.95,4561,4333,2018,null,null,"LS-8b 15m","AU","F",""]
["Karel Krobath",null,null,"AT","AZ Cup 2018 - Kombi","CZ",25,2177,3897,0.95,4339,4122,2018,null,null,"HPH 304 MS Shark 18m 600kg","Q"]
["Jiri Prochazka",{"$f":"VLOOKUP(A2462,Pilot,2,0)","v":1971},{"$f":"VLOOKUP(A2462,Pilot,3,0)","v":"Toužim"},{"$f":"VLOOKUP(A2462,Pilot,4,0)","v":"CZ/C1"},"AZ Cup 2018 - Kombi","CZ",26,1914,3897,0.95,3759,3571,2018,"x",null,"DG 500 22m","SR",{"$f":"VLOOKUP(A2462,Pilot,5,0)","v":"M"},""]
["Petr Jiranek 63",{"$f":"VLOOKUP(A2463,Pilot,2,0)","v":1962},{"$f":"VLOOKUP(A2463,Pilot,3,0)","v":"Toužim"},{"$f":"VLOOKUP(A2463,Pilot,4,0)","v":"CZ/C1"},"AZ Cup 2018 - Kombi","CZ",27,1799,3897,0.95,3446,3274,2018,"x",null,"Ventus cm 17m","SW","M",""]
["Eva Cerna",{"$f":"VLOOKUP(A2464,Pilot,2,0)","v":1964},{"$f":"VLOOKUP(A2464,Pilot,3,0)","v":"Příbram"},{"$f":"VLOOKUP(A2464,Pilot,4,0)","v":"CZ/C1"},"AZ Cup 2018 - Kombi","CZ",28,1601,3897,0.95,2983,2834,2018,null,null,"Ventus 2 cxt 18m 600kg","EK","F",""]
["Roman Lanzendorf",{"$f":"VLOOKUP(A2465,Pilot,2,0)","v":1964},{"$f":"VLOOKUP(A2465,Pilot,3,0)","v":"Letkov"},{"$f":"VLOOKUP(A2465,Pilot,4,0)","v":"CZ/C1"},"AZ Cup 2018 - Kombi","CZ",29,1027,3897,{"$f":"VLOOKUP(E2465,Soutez,8,0)","v":0.95},{"$f":"ROUND(H2465/I2465*10000*0.7+(MAX($G$2437:$G$2465)-G2465)/(MAX($G$2437:$G$2465)-1)*10000*0.3,0)","v":1845},{"$f":"ROUND(J2465*K2465,0)","v":1753},2018,"x",null,"Ventus ct 17.6m","AS","M",""]
["Pavel Rericha",{"$f":"VLOOKUP(A2466,Pilot,2,0)","v":1967},{"$f":"VLOOKUP(A2466,Pilot,3,0)","v":"Moravská Třebová"},{"$f":"VLOOKUP(A2466,Pilot,4,0)","v":"CZ/M"},"14. JPJ 2018 - Klub","CZ",1,1496,1496,{"$f":"VLOOKUP(E2466,Soutez,8,0)","v":0},{"$f":"ROUND(H2466/I2466*10000*0.7+(MAX($G$2466:$G$2510)-G2466)/(MAX($G$2466:$G$2510)-1)*10000*0.3,0)","v":10000},{"$f":"ROUND(J2466*K2466,0)","v":0},2018,null,null,"ASW-19B","NO","M",{"$f":"IF(ISERROR(VLOOKUP(A2466,Pilot,6,0)),\"Není v databázi\",VLOOKUP(A2466,Pilot,6,0))","v":""}]
["Petr Vodicka",1965,"Jaroměř","CZ/C2","14. JPJ 2018 - Klub","CZ",2,1389,1496,0,{"$f":"ROUND(H2467/I2467*10000*0.7+(MAX($G$2466:$G$2510)-G2467)/(MAX($G$2466:$G$2510)-1)*10000*0.3,0)","v":9430},{"$f":"ROUND(J2467*K2467,0)","v":0},2018,null,null,"Janus dvojí","BV","M",""]
["Vaclav Marel",1974,"Jaroměř","CZ/C2","14. JPJ 2018 - Klub","CZ",3,1384,1496,0,9336,0,2018,null,null,"Std. Cirrus","IF","M",""]
["Lubomir Motl",1959,"Kyjov","CZ/M","14. JPJ 2018 - Klub","CZ",4,1348,1496,0,9098,0,2018,null,null,"LS-1f","G2","M",""]
["Martin Ficnar",1971,"Šumperk","CZ/M","14. JPJ 2018 - Klub","CZ",5,1297,1496,0,8790,0,2018,null,null,"LS-3a 15m","S20","M",""]
["Jiri Koudela",1974,"Vyškov","CZ/M","14. JPJ 2018 - Klub","CZ",6,1284,1496,0,8659,0,2018,null,null,"ASW-19B","JK","M",""]
["Rene Hudak",1972,"Kunovice","CZ/M","14. JPJ 2018 - Klub","CZ",7,1277,1496,0,8557,0,2018,null,null,"Std. Cirrus WL","NK","M",""]
["Josef Novak",1981,"Kunovice","CZ/M","14. JPJ 2018 - Klub","CZ",8,1234,1496,0,8286,0,2018,null,null,"LS-1f","JT","M",""]
["Martin Kriz",1968,"Přibyslav","CZ/C2","14. JPJ 2018 - Klub","CZ",9,1180,1496,0,7963,0,2018,null,null,"ASW-15B","BE","M",""]
["Petr Jedlicka",1987,"Medlánky","CZ/M","14. JPJ 2018 - Klub","CZ",10,1167,1496,0,7833,0,2018,null,null,"Phoebus A1","NN","M",""]
["Radek Zima 75",1975,"Břeclav","CZ/M","14. JPJ 2018 - Klub","CZ",11,1123,1496,0,7557,0,2018,null,null,"DG-100","M","M",""]
["Stanislav Doskocil",1978,"Medlánky","CZ/M","14. JPJ 2018 - Klub","CZ",12,1077,1496,0,7272,0,2018,null,null,"Std. Cirrus","SD","M",""]
["Tomas Prikryl",1973,"Vyškov","CZ/M","14. JPJ 2018 - Klub","CZ",13,1065,1496,0,7146,0,2018,null,null,"DG-101 G","JR","M",""]
["Roman Lengal",1987,"Břeclav","CZ/M","14. JPJ 2018 - Klub","CZ",14,1051,1496,0,7011,0,2018,null,null,"Cirrus VTC",13,"M",""]
["Peter Kaspar",1980,"Vyškov","CZ/M","14. JPJ 2018 - Klub","CZ",15,1048,1496,0,6927,0,2018,null,null,"G-102 Astir 77","AP","M",""]
["Jan Kohout",1970,"Žamberk","CZ/C2","14. JPJ 2018 - Klub","CZ",16,1038,1496,0,6810,0,2018,null,null,"Std. Cirrus","OK6","M",""]
["David Vrchota",1976,"Jaroměř","CZ/C2","14. JPJ 2018 - Klub","CZ",17,1033,1496,0,6717,0,2018,null,null,"Std. Cirrus","GO","M",""]
["Michal Cupak",1991,"Medlánky","CZ/M","14. JPJ 2018 - Klub","CZ",18,1031,1496,0,6638,0,2018,null,null,"Std. Cirrus","MP","M",""]
["Karel Horalek",1976,"Olomouc","CZ/M","14. JPJ 2018 - Klub","CZ",19,1022,1496,0,6526,0,2018,null,null,"LS-3 15m","Y1","M",""]
["Miroslav Mancik",1976,"Kyjov","CZ/M","14. JPJ 2018 - Klub","CZ",20,986,1496,0,6288,0,2018,null,null,"Std. Cirrus",90,"M",""]
["Martin Urner",1974,"Letňany","CZ/C1","14. JPJ 2018 - Klub","CZ",21,977,1496,0,6176,0,2018,null,null,"ASW-15B","JJ","M",""]
["Ladislav Jozsa",1981,"Medlánky","CZ/M","14. JPJ 2018 - Klub","CZ",22,937,1496,0,5919,0,2018,null,null,"Std. Cirrus","LJ","M",""]
["Pavel Simek",1957,"Vyškov","CZ/M","14. JPJ 2018 - Klub","CZ",23,928,1496,0,5807,0,2018,null,null,"DG-1000S 18m",66,"M",""]
["Tomas Ondrisek",1970,"Kunovice","CZ/M","14. JPJ 2018 - Klub","CZ",24,914,1496,0,5672,0,2018,null,null,"DG-400 15m","MR","M",""]
["Lukas Petrzela",1987,"Olomouc","CZ/M","14. JPJ 2018 - Klub","CZ",24,914,1496,0,5672,0,2018,null,null,"VSO-10","I7","M",""]
["Oldrich Kounovsky",1976,"Medlánky","CZ/M","14. JPJ 2018 - Klub","CZ",24,914,1496,0,5672,0,2018,null,null,"Std. Cirrus","MSkl","M",""]
["Jiri Vavrina",1958,"Kyjov","CZ/M","14. JPJ 2018 - Klub","CZ",27,864,1496,0,5229,0,2018,null,null,"LS-1f","BS","M",""]
["Petr Valenta",1994,"Kunovice","CZ/M","14. JPJ 2018 - Klub","CZ",28,863,1496,0,5154,0,2018,null,null,"Discus b","JA","M","Junior v roce 2019"]
["Martin Svarc",1981,"Olomouc","CZ/M","14. JPJ 2018 - Klub","CZ",29,856,1496,0,5052,0,2018,null,null,"DG-101 G","HE",{"$f":"VLOOKUP(A2494,Pilot,5,0)","v":"M"},""]
["Antonin Pilat",1971,"Vyškov","CZ/M","14. JPJ 2018 - Klub","CZ",30,776,1496,0,4608,0,2018,null,null,"DG-200 15m","JB","M",""]
["Libor Bednarik",1972,"Kunovice","CZ/M","14. JPJ 2018 - Klub","CZ",31,731,1496,0,4327,0,2018,null,null,"Std. Cirrus","PIF","M",""]
["Jaromir Vlk",1959,"Šumperk","CZ/M","14. JPJ 2018 - Klub","CZ",32,690,1496,0,4066,0,2018,null,null,"ASW-15B","R5","M",""]
["Vit Prokop",1987,"Medlánky","CZ/M","14. JPJ 2018 - Klub","CZ",33,623,1496,0,3683,0,2018,null,null,"Std. Cirrus","MF","M",""]
["Petr Havrlant",1965,"Šumperk","CZ/M","14. JPJ 2018 - Klub","CZ",34,558,1496,0,3309,0,2018,null,null,"ASW-15B","Q1","M",""]
["Yvona Vyhnankova",1963,"Olomouc","CZ/M","14. JPJ 2018 - Klub","CZ",35,537,1496,0,3141,0,2018,null,null,"ASW-15","YZ","F",""]
["Lubomir Papezik",1951,"Luhačovice","CZ/M","14. JPJ 2018 - Klub","CZ",36,518,1496,0,2982,0,2018,null,null,"LS-4","FP","M",""]
["Sabina Vitova",1998,"Kroměříž","CZ/M","14. JPJ 2018 - Klub","CZ",37,494,1496,0,2800,0,2018,null,null,"G-102 Astir Jeans","2Y","F","Junior v roce 2019"]
["Marek Sild",1976,"Kunovice","CZ/M","14. JPJ 2018 - Klub","CZ",38,440,1496,0,2477,0,2018,null,null,"DG-400 15m","VZ","M",""]
["Martin Novak",1976,"Slaný","CZ/C1","14. JPJ 2018 - Klub","CZ",39,423,1496,0,2328,0,2018,null,null,"DG-400 15m","ZX","M",""]
["Jan Pokluda",1973,"Šumperk","CZ/M","14. JPJ 2018 - Klub","CZ",40,185,1496,0,1145,0,2018,null,null,"ASW-15B WL","JG","M",""]
["Ludek Mikl",1963,"Kroměříž","CZ/M","14. JPJ 2018 - Klub","CZ",41,147,1496,0,897,0,2018,null,null,"G-102 Astir Jeans","L1","M",""]
["Lukas Fronek",1989,"Kyjov","CZ/M","14. JPJ 2018 - Klub","CZ",42,123,1496,0,715,0,2018,null,null,"G-103 Twin Basic","KW","M",""]
["Roman Schotli",1970,"Hranice","CZ/M","14. JPJ 2018 - Klub","CZ",43,65,1496,0,374,0,2018,null,null,"ASW-19B",19,"M",""]
["Michal Kodousek",1983,"Jaroměř","CZ/C2","14. JPJ 2018 - Klub","CZ",44,0,1496,0,0,0,2018,null,null,"LS-3 15m","RI","M",""]
["Pavel Handl",1971,"Kroměříž","CZ/M","14. JPJ 2018 - Klub","CZ",44,0,1496,0,0,0,2018,null,null,"Phoebus A1","P1","M",""]
["Jiri Steiger",{"$f":"VLOOKUP(A2511,Pilot,2,0)","v":1969},{"$f":"VLOOKUP(A2511,Pilot,3,0)","v":"Olomouc"},{"$f":"VLOOKUP(A2511,Pilot,4,0)","v":"CZ/M"},"14. JPJ 2018 - Kombi","CZ",1,1343,1343,{"$f":"VLOOKUP(E2511,Soutez,8,0)","v":0},{"$f":"ROUND(H2511/I2511*10000*0.7+(MAX($G$2511:$G$2534)-G2511)/(MAX($G$2511:$G$2534)-1)*10000*0.3,0)","v":10000},{"$f":"ROUND(J2511*K2511,0)","v":0},2018,null,null,"Ventus 2cxt 18m","JS","M",{"$f":"IF(ISERROR(VLOOKUP(A2511,Pilot,6,0)),\"Není v databázi\",VLOOKUP(A2511,Pilot,6,0))","v":""}]
["Zdenek Boruvka 54",1954,"Jičín","CZ/C2","14. JPJ 2018 - Kombi","CZ",2,1309,1343,0,9692,{"$f":"ROUND(J2512*K2512,0)","v":0},2018,null,null,"LS-8 15m","ZB","M",""]
["Marek Blatak",1969,"Šumperk","CZ/M","14. JPJ 2018 - Kombi","CZ",3,1295,1343,0,9489,0,2018,null,null,"Duo Discus T","ZS","M",""]
["Pavel Zima",1979,"Břeclav","CZ/M","14. JPJ 2018 - Kombi","CZ",4,1285,1343,0,9306,0,2018,null,null,"Ventus cm 17,6m","RK","M",""]
["Frantisek Vancura",1966,"Hranice","CZ/M","14. JPJ 2018 - Kombi","CZ",5,1215,1343,0,8811,0,2018,null,null,"Nimbus 3 24,5m WL","A1","M",""]
["Zdenek Schenk",1972,"Hranice","CZ/M","14. JPJ 2018 - Kombi","CZ",6,1159,1343,0,8389,0,2018,null,null,"Ventus ct 17,6m","ŠNeK","M",""]
["Jaroslav Buryan",1953,"Zábřeh","CZ/M","14. JPJ 2018 - Kombi","CZ",7,1144,1343,0,8180,0,2018,null,null,"ASW-20 15m WL","NS","M",""]
["Roman Konarik",1976,"Luhačovice","CZ/M","14. JPJ 2018 - Kombi","CZ",8,1132,1343,0,7987,0,2018,null,null,"Arcus M","AR","M",""]
["Michal Cechmanek",1978,"Luhačovice","CZ/M","14. JPJ 2018 - Kombi","CZ",9,1120,1343,0,7794,0,2018,null,null,"ASW-20 15m WL","MK","M",""]
["Miroslav Koci",1961,"Žamberk","CZ/C2","14. JPJ 2018 - Kombi","CZ",10,1092,1343,0,7518,0,2018,null,null,"Ventus 2cxt 18m","E8","M",""]
["Jan Matejovsky",1972,"Hranice","CZ/M","14. JPJ 2018 - Kombi","CZ",11,1033,1343,0,7080,0,2018,null,null,"Duo Discus","OK","M",""]
["Jan Simon",1970,"Kralupy","CZ/C1","14. JPJ 2018 - Kombi","CZ",12,971,1343,0,6626,0,2018,null,null,"Nimbus 3 22,9m WL","HS","M",""]
["Miroslav Sklenar",1964,"Žamberk","CZ/C2","14. JPJ 2018 - Kombi","CZ",13,968,1343,0,6480,0,2018,null,null,"Duo Discus","VP","M",""]
["Albrecht Beat",1953,"Šumperk","CZ/M","14. JPJ 2018 - Kombi","CZ",14,967,1343,0,6345,0,2018,null,null,"LS-8-18 18m","GL","M",""]
["Antonin Kutalek",1943,"Zábřeh","CZ/M","14. JPJ 2018 - Kombi","CZ",15,888,1343,0,5802,0,2018,null,null,"Mini-Nimbus c","GL1","M",""]
["Boris Bachraty",1974,"Břeclav","CZ/M","14. JPJ 2018 - Kombi","CZ",16,810,1343,0,5265,0,2018,null,null,"SZD-42 Jantar 2B",25,{"$f":"VLOOKUP(A2526,Pilot,5,0)","v":"M"},""]
["Filip Vita",2001,"Kroměříž","CZ/M","14. JPJ 2018 - Kombi","CZ",17,764,1343,0,4895,0,2018,null,null,"LAK-12","FL","M","Junior v roce 2019"]
["Vladimir Spilka",1940,"Hranice","CZ/M","14. JPJ 2018 - Kombi","CZ",18,763,1343,0,4760,0,2018,null,null,"Nimbus 2b","AY","M",""]
["Antonin Konicek",1973,"Kunovice","CZ/M","14. JPJ 2018 - Kombi","CZ",19,737,1343,0,4494,0,2018,null,null,"HpH 304M SHARK","KK","M",""]
["Tomas Profeld",1964,"Jičín","CZ/C2","14. JPJ 2018 - Kombi","CZ",20,539,1343,0,3331,0,2018,null,null,"Ventus 2cm 18m","OZ","M",""]
["Dusan Sys",1977,"Šumperk","CZ/M","14. JPJ 2018 - Kombi","CZ",21,529,1343,0,3149,0,2018,null,null,"DG-808 C WL","MSko","M",""]
["Kamil Sohr",1973,"Šumperk","CZ/M","14. JPJ 2018 - Kombi","CZ",22,419,1343,0,2445,0,2018,null,null,"SZD-55 Promyk","BC","M",""]
["Pavel Haluza",1966,"Prostějov","CZ/M","14. JPJ 2018 - Kombi","CZ",23,377,1343,0,2095,0,2018,null,null,"Nimbus 2b","HT","M",""]
["Roman Cerny",1971,"Hranice","CZ/M","14. JPJ 2018 - Kombi","CZ",24,0,1343,0,0,{"$f":"ROUND(J2534*K2534,0)","v":0},2018,null,null,"ASW-20 15m WL",67,"M",""]
["Ivan Novak",{"$f":"VLOOKUP(A2535,Pilot,2,0)","v":1962},{"$f":"VLOOKUP(A2535,Pilot,3,0)","v":"Mladá Boleslav"},{"$f":"VLOOKUP(A2535,Pilot,4,0)","v":"CZ/C1"},"PMČR 2018 - Klub","CZ",1,7017,7017,1.0549999999999999,{"$f":"ROUND(H2535/I2535*10000*0.7+(MAX($G$2535:$G$2563)-G2535)/(MAX($G$2535:$G$2563)-1)*10000*0.3,0)","v":10000},{"$f":"ROUND(J2535*K2535,0)","v":10550},2018,"x",null,"Cirrus Std.","DI","M",{"$f":"IF(ISERROR(VLOOKUP(A2535,Pilot,6,0)),\"Není v databázi\",VLOOKUP(A2535,Pilot,6,0))","v":""}]
["Jaroslav Tomana",1975,"Zbraslavice","CZ/C1","PMČR 2018 - Klub","CZ",2,7013,7017,1.0549999999999999,9889,{"$f":"ROUND(J2536*K2536,0)","v":10433},2018,"x",null,"Cirrus Std.","SN","M",""]
["David Mach",1994,"Hronov","CZ/C2","PMČR 2018 - Klub","CZ",3,6958,7017,1.0549999999999999,9727,10262,2018,"x",null,"Cirrus VTC","1W","M","Junior v roce 2019"]
["Michal Lesinger",1966,"Moravská Třebová","CZ/M","PMČR 2018 - Klub","CZ",4,6909,7017,1.0549999999999999,9571,10097,2018,"x",null,"ASW-19B","LL","M",""]
["Karel Novak",1993,"Mladá Boleslav","CZ/C1","PMČR 2018 - Klub","CZ",5,6821,7017,1.0549999999999999,9376,9892,2018,"x",null,"Cirrus Std.","CX","M",""]
["Jan Louda",1986,"Mladá Boleslav","CZ/C1","PMČR 2018 - Klub","CZ",6,6769,7017,1.0549999999999999,9217,9724,2018,"x",null,"ASW-19B","AH","M",""]
["Marek Pechanec",1970,"Luhačovice","CZ/M","PMČR 2018 - Klub","CZ",7,6745,7017,1.0549999999999999,9086,9586,2018,"x",null,"Cirrus Std.","SJ","M",""]
["Pavel Rericha",1967,"Moravská Třebová","CZ/M","PMČR 2018 - Klub","CZ",8,6625,7017,1.0549999999999999,8859,9346,2018,"x",null,"ASW-19B","NO","M",""]
["Pavel Trybenekr",1990,"Hořice","CZ/C2","PMČR 2018 - Klub","CZ",9,6556,7017,{"$f":"VLOOKUP(E2543,Soutez,8,0)","v":1.0549999999999999},8683,9161,2018,"x",null,"LS-4","PF","M",""]
["Klara Teichmannova",1993,"Hronov","CZ/C2","PMČR 2018 - Klub","CZ",10,6434,7017,1.0549999999999999,8454,8919,2018,"x","x","Cirrus Std.","LY","F",""]
["Slavomir Piskaty 84",1984,"Kunovice","CZ/M","PMČR 2018 - Klub","CZ",11,6350,7017,1.0549999999999999,8263,8717,2018,"x",null,"Cirrus Std.","PIF","M",""]
["Lubomir Motl",1959,"Kyjov","CZ/M","PMČR 2018 - Klub","CZ",12,6288,7017,1.0549999999999999,8094,8539,2018,"x",null,"LS-1f","G2","M",""]
["Petr Panek",1975,"Dvůr Králové","CZ/C2","PMČR 2018 - Klub","CZ",13,6277,7017,1.0549999999999999,7976,8415,2018,"x",null,"Cirrus Std.","YU","M",""]
["Ivan Harasta 65",1965,"Toužim","CZ/C1","PMČR 2018 - Klub","CZ",14,6180,7017,1.0549999999999999,7772,8199,2018,"x",null,"ASW-15B","HI","M",""]
["Barbora Moravcova",1994,"Zbraslavice","CZ/C1","PMČR 2018 - Klub","CZ",15,6105,7017,1.0549999999999999,7590,8007,2018,"x","x","ASW-19B","CF","F","Junior v roce 2019"]
["Jan Vavrin",1987,"Vysoké Mýto","CZ/C2","PMČR 2018 - Klub","CZ",16,5981,7017,1.0549999999999999,7359,7764,2018,"x",null,"ASW-15B","IG","M",""]
["Petra Piskata",1989,"Hranice","CZ/M","PMČR 2018 - Klub","CZ",17,5826,7017,1.0549999999999999,7098,7488,2018,"x","x","Cirrus Std.","XC","F",""]
["Zdenek Balcarek",1967,"Kroměříž","CZ/M","PMČR 2018 - Klub","CZ",18,5802,7017,1.0549999999999999,6967,7350,2018,null,null,"Cirrus Std.","ZL","M",""]
["Antonin Novotny",1972,"Luhačovice","CZ/M","PMČR 2018 - Klub","CZ",19,5715,7017,1.0549999999999999,6773,7146,2018,"x",null,"Cirrus Std.","SP","M",""]
["Jan Kotan",1982,"Letňany","CZ/C1","PMČR 2018 - Klub","CZ",20,5682,7017,1.0549999999999999,6633,6998,2018,"x",null,"ASW-19B","WT","M",""]
["Anna Hajkova",1989,"Mladá Boleslav","CZ/C1","PMČR 2018 - Klub","CZ",21,5674,7017,1.0549999999999999,6517,6875,2018,"x","x","Cirrus Std.","BW","F",""]
["Jiri Fousek",1990,"Raná","CZ/C2","PMČR 2018 - Klub","CZ",22,5592,7017,1.0549999999999999,6328,6676,2018,null,null,"Cirrus Std.","LW","M",""]
["Pavlina Horackova",1965,"Šumperk","CZ/M","PMČR 2018 - Klub","CZ",23,5420,7017,1.0549999999999999,6050,6383,2018,"x","x","SZD-48 Jantar Std. 3","SU","F",""]
["Petr Stepanek",1989,"Moravská Třebová","CZ/M","PMČR 2018 - Klub","CZ",24,5358,7017,1.0549999999999999,5881,6204,2018,"x",null,"ASW-19B","AE",{"$f":"VLOOKUP(A2558,Pilot,5,0)","v":"M"},""]
["Zdenek Boruvka 86",1986,"Jičín","CZ/C2","PMČR 2018 - Klub","CZ",25,5213,7017,1.0549999999999999,5629,5939,2018,null,null,"Cirrus Std.","BJ","M",""]
["Frantisek Filandr",1956,"Most","CZ/C2","PMČR 2018 - Klub","CZ",26,5083,7017,1.0549999999999999,5392,5689,2018,"x",null,"Cirrus Std.","FF","M",""]
["Lumir Motyka",1955,"Frýdlant","CZ/M","PMČR 2018 - Klub","CZ",27,4669,7017,1.0549999999999999,4872,5140,2018,null,null,"LS-1f","EM","M",""]
["Leos Strnadek",1983,"Hodkovice","CZ/C2","PMČR 2018 - Klub","CZ",28,4601,7017,1.0549999999999999,4697,4955,2018,null,null,"ASW-19B","XZ","M",""]
["Pavel Brodsky",1992,"Hořice","CZ/C2","PMČR 2018 - Klub","CZ",29,3487,7017,1.0549999999999999,3479,{"$f":"ROUND(J2563*K2563,0)","v":3670},2018,"x",null,"ASW 19 B","MS","M",""]
["Radek Krejcirik",{"$f":"VLOOKUP(A2564,Pilot,2,0)","v":1991},{"$f":"VLOOKUP(A2564,Pilot,3,0)","v":"Hranice"},{"$f":"VLOOKUP(A2564,Pilot,4,0)","v":"CZ/M"},"PMČR 2018 - Kombi 15m","CZ",1,6367,6367,1.0549999999999999,{"$f":"ROUND(H2564/I2564*10000*0.7+(MAX($G$2564:$G$2580)-G2564)/(MAX($G$2564:$G$2580)-1)*10000*0.3,0)","v":10000},{"$f":"ROUND(J2564*K2564,0)","v":10550},2018,"x",null,"Ventus 2a 15m","AX","M",{"$f":"IF(ISERROR(VLOOKUP(A2564,Pilot,6,0)),\"Není v databázi\",VLOOKUP(A2564,Pilot,6,0))","v":""}]
["Pavel Louzecky",1957,"Přibyslav","CZ/C2","PMČR 2018 - Kombi 15m","CZ",2,6272,6367,1.0549999999999999,9708,{"$f":"ROUND(J2565*K2565,0)","v":10242},2018,"x",null,"LS-8b","FX","M",""]
["Petr Koutny",1971,"Křižanov","CZ/M","PMČR 2018 - Kombi 15m","CZ",3,6151,6367,1.0549999999999999,9388,{"$f":"ROUND(J2566*K2566,0)","v":9904},2018,"x",null,"LS-8b 15m","SK","M",""]
["Miloslav Cink",1987,"Letkov","CZ/C1","PMČR 2018 - Kombi 15m","CZ",4,6051,6367,1.0549999999999999,9090,9590,2018,null,null,"LS-8b 15m","JB","M",""]
["Dana Novakova",1965,"Mladá Boleslav","CZ/C1","PMČR 2018 - Kombi 15m","CZ",5,5749,6367,1.0549999999999999,8571,9042,2018,"x","x","LS-8b","AU","F",""]
["Jan Pavlik",1987,"Křižanov","CZ/M","PMČR 2018 - Kombi 15m","CZ",6,5736,6367,1.0549999999999999,8369,8829,2018,null,null,"LS-8b 15m","JW","M",""]
["Jana Veprekova",1961,"Dvůr Králové","CZ/C2","PMČR 2018 - Kombi 15m","CZ",7,5699,6367,1.0549999999999999,8141,8589,2018,null,null,"LS-8b 15m","W8","F",""]
["Jiri Kusbach",1959,"Luhačovice","CZ/M","PMČR 2018 - Kombi 15m","CZ",8,5694,6367,1.0549999999999999,7948,8385,2018,"x",null,"KKB-15E FES","B","M",""]
["Hana Treslova",1991,"Raná","CZ/C2","PMČR 2018 - Kombi 15m","CZ",9,5632,6367,1.0549999999999999,7692,8115,2018,"x","x","LS-8b 15m","EU","F",""]
["Jan Boruvka",1984,"Jičín","CZ/C2","PMČR 2018 - Kombi 15m","CZ",10,5579,6367,1.0549999999999999,7446,7856,2018,"x",null,"Ventus c 15m+W","EG","M",""]
["Jan Viskot",1995,"Břeclav","CZ/M","PMČR 2018 - Kombi 15m","CZ",11,5318,6367,1.0549999999999999,6972,7355,2018,null,null,"Discus 2a 15m","GX","M","Junior v roce 2019"]
["Jiri Stepanek",1956,"Moravská Třebová","CZ/M","PMČR 2018 - Kombi 15m","CZ",12,5303,6367,{"$f":"VLOOKUP(E2575,Soutez,8,0)","v":1.0549999999999999},6768,7140,2018,"x",null,"Duo Discus XLT","JIM","M",""]
["Lukas Capek",1992,"Letňany","CZ/C1","PMČR 2018 - Kombi 15m","CZ",13,5284,6367,1.0549999999999999,6559,6920,2018,null,null,"303 Mosquito","LC","M",""]
["Ondrej Bordovsky",1983,"Krnov","CZ/M","PMČR 2018 - Kombi 15m","CZ",14,5032,6367,1.0549999999999999,6095,6430,2018,null,null,"Ventus a 15m WL","FW","M",""]
["Karel Mares",1974,"Slaný","CZ/C1","PMČR 2018 - Kombi 15m","CZ",15,4933,6367,1.0549999999999999,5798,6117,2018,null,null,"LS-8a 15m","YF","M",""]
["Radek Zima 78",1978,"Hodkovice","CZ/C2","PMČR 2018 - Kombi 15m","CZ",16,2779,6367,1.0549999999999999,3243,3421,2018,null,null,"Ventus b 15m WL 500kg","7F","M",""]
["Slavomir Piskaty 58",1958,"Kunovice","CZ/M","PMČR 2018 - Kombi 15m","CZ",17,2504,6367,1.0549999999999999,2753,{"$f":"ROUND(J2580*K2580,0)","v":2904},2018,"x",null,"Discus b + W","KAL","M",""]
["Roman Mracek",{"$f":"VLOOKUP(A2581,Pilot,2,0)","v":1980},{"$f":"VLOOKUP(A2581,Pilot,3,0)","v":"Letkov"},{"$f":"VLOOKUP(A2581,Pilot,4,0)","v":"CZ/C1"},"PMČR 2018 - Kombi Open","CZ",1,6767,6767,1.0249999999999999,{"$f":"ROUND(H2581/I2581*10000*0.7+(MAX($G$2581:$G$2594)-G2581)/(MAX($G$2581:$G$2594)-1)*10000*0.3,0)","v":10000},{"$f":"ROUND(J2581*K2581,0)","v":10250},2018,"x",null,"ASG-29E 18m 600kg","QX","M",{"$f":"IF(ISERROR(VLOOKUP(A2581,Pilot,6,0)),\"Není v databázi\",VLOOKUP(A2581,Pilot,6,0))","v":""}]
["Tomas Suchanek",1964,"GAC Benešov","CZ/C1","PMČR 2018 - Kombi Open","CZ",2,6763,6767,1.0249999999999999,9765,{"$f":"ROUND(J2582*K2582,0)","v":10009},2018,"x",null,"ASG-29E 18m 600kg","QZ","M",""]
["Danes Grula",1961,"Medlánky","CZ/M","PMČR 2018 - Kombi Open","CZ",3,6274,6767,1.0249999999999999,9028,9254,2018,"x",null,"ASG-29E 18m 600kg","DX","M",""]
["Petr Krejcirik",1960,"Hranice","CZ/M","PMČR 2018 - Kombi Open","CZ",4,5888,6767,1.0249999999999999,8398,8608,2018,null,null,"JS-1C EVO CTJ 18m","ZF","M",""]
["John Buchanan",null,"Austrálie","AU","PMČR 2018 - Kombi Open","CZ",5,5805,6767,1.0249999999999999,8082,8284,2018,null,null,"JS-3 18m","BB","M","Není v databázi"]
["Petr Hotovy",1958,"Česká Lípa","CZ/C2","PMČR 2018 - Kombi Open","CZ",6,5675,6767,1.0249999999999999,7717,7910,2018,"x",null,"JS-1B 18m","IGC",{"$f":"VLOOKUP(A2586,Pilot,5,0)","v":"M"},""]
["Zdislaw Bednarczuk",null,"Polsko","PL","PMČR 2018 - Kombi Open","CZ",7,5442,6767,1.0249999999999999,7245,7426,2018,null,null,"ASG-29E 18m 600kg","ZB","M","Není v databázi"]
["Lenka Kuthanova",1960,"LK Břeclav","CZ/M","PMČR 2018 - Kombi Open","CZ",8,5297,6767,1.0249999999999999,6864,7036,2018,"x","x","JS-1 CTJ EVO 18m","LX",{"$f":"VLOOKUP(A2588,Pilot,5,0)","v":"F"},""]
["Martin Pekar",1973,"Šumperk","CZ/M","PMČR 2018 - Kombi Open","CZ",9,5151,6767,1.0249999999999999,6482,6644,2018,"x",null,"HPH 304e Shark 18m 573kg","ES",{"$f":"VLOOKUP(A2589,Pilot,5,0)","v":"M"},""]
["Jiri Steiger",1969,"Olomouc","CZ/M","PMČR 2018 - Kombi Open","CZ",10,5131,6767,1.0249999999999999,6231,6387,2018,"x",null,"Ventus 2 cxt 18m 600kg","JS",{"$f":"VLOOKUP(A2590,Pilot,5,0)","v":"M"},""]
["Eva Cerna",1964,"Příbram","CZ/C1","PMČR 2018 - Kombi Open","CZ",11,5036,6767,1.0249999999999999,5902,6050,2018,"x","x","Ventus 2cxt 18m 600kg","EK",{"$f":"VLOOKUP(A2591,Pilot,5,0)","v":"F"},""]
["Takeshi Maruyama",null,"Japonsko","JP","PMČR 2018 - Kombi Open","CZ",12,4963,6767,1.0249999999999999,5595,5735,2018,null,null,"ASG-29E 18m 600kg","2C","M","Není v databázi"]
["Ondrej Dupal",1966,"GAC Benešov","CZ/C1","PMČR 2018 - Kombi Open","CZ",13,3438,6767,1.0249999999999999,3787,3882,2018,null,null,"ASG-29E 18m 600kg","GO",{"$f":"VLOOKUP(A2593,Pilot,5,0)","v":"M"},""]
["Vladimir Spilka",1940,"Hranice","CZ/M","PMČR 2018 - Kombi Open","CZ",14,1834,6767,1.0249999999999999,1897,{"$f":"ROUND(J2594*K2594,0)","v":1944},2018,null,null,"Nimbus 2b","AY","M",""]
["Frantisek Vancura",{"$f":"VLOOKUP(A2595,Pilot,2,0)","v":1966},{"$f":"VLOOKUP(A2595,Pilot,3,0)","v":"Hranice"},{"$f":"VLOOKUP(A2595,Pilot,4,0)","v":"CZ/M"},"FL 2018 - Kombi","CZ",1,4381,4381,0.6,{"$f":"ROUND(H2595/I2595*10000*0.7+(MAX($G$2595:$G$2609)-G2595)/(MAX($G$2595:$G$2609)-1)*10000*0.3,0)","v":10000},{"$f":"ROUND(J2595*K2595,0)","v":6000},2018,"x",null,"Nimbus 3T 24,5m","A1","M",{"$f":"IF(ISERROR(VLOOKUP(A2595,Pilot,6,0)),\"Není v databázi\",VLOOKUP(A2595,Pilot,6,0))","v":""}]
["Michal Buryan",1977,"Vysoké Mýto","CZ/C2","FL 2018 - Kombi","CZ",2,4040,4381,0.6,{"$f":"ROUND(H2596/I2596*10000*0.7+(MAX($G$2595:$G$2609)-G2596)/(MAX($G$2595:$G$2609)-1)*10000*0.3,0)","v":9241},{"$f":"ROUND(J2596*K2596,0)","v":5545},2018,"x",null,"ASW-24A+W bez TN8","Y9","M",""]
["Zdenek Schenk",1972,"Hranice","CZ/M","FL 2018 - Kombi","CZ",3,3930,4381,0.6,8851,5311,2018,null,null,"Ventus ct 17,6m","ŠNeK","M",""]
["Milos Matejka",1956,"Beroun","CZ/C1","FL 2018 - Kombi","CZ",4,3830,4381,0.6,8477,5086,2018,"x",null,"Discus b +W","SH","M",""]
["Martin Suchy",1969,"Hranice","CZ/M","FL 2018 - Kombi","CZ",5,3773,4381,0.6,8171,4903,2018,"x",null,"DuoDiscus","OK","M",""]
["Jaroslav Buryan",1953,"Zábřeh","CZ/M","FL 2018 - Kombi","CZ",6,3595,4381,0.6,7673,4604,2018,null,null,"ASW-20(A)+F 15m+W","NS","M",""]
["Vladimir Jirka",1965,"Zábřeh","CZ/M","FL 2018 - Kombi","CZ",7,3555,4381,0.6,7394,4436,2018,"x",null,"Ventus 2c 18m","VJ","M",""]
["Matej Plch",1987,"Letkov","CZ/C1","FL 2018 - Kombi","CZ",8,3463,4381,0.6,7033,4220,2018,"x",null,"LS 8b,t,18 18m","EJ","M",""]
["Antonin Kutalek",1943,"Zábřeh","CZ/M","FL 2018 - Kombi","CZ",9,2914,4381,0.6,5942,3565,2018,"x",null,"Mini-Nimbus c","GL","M",""]
["Oldrich Houzvicka",1975,"Frýdlant","CZ/M","FL 2018 - Kombi","CZ",10,2377,4381,0.6,4869,2921,2018,"x",null,"LS 4","FP","M",""]
["Lukas Kotek",1994,"Frýdlant","CZ/M","FL 2018 - Kombi","CZ",11,2273,4381,0.6,4489,2693,2018,null,null,"DG-200 15m","AK","M","Junior v roce 2019"]
["Roman Cerny",1971,"Hranice","CZ/M","FL 2018 - Kombi","CZ",12,1724,4381,0.6,3397,2038,2018,"x",null,"ASW-20(A)+F 15m+W",67,"M",""]
["Martin Urban",1971,"Frýdlant","CZ/M","FL 2018 - Kombi","CZ",13,1590,4381,{"$f":"VLOOKUP(E2607,Soutez,8,0)","v":0.6},2969,1781,2018,"x",null,"LS 3 15m","SJ","M",""]
["Jan Kristof",1962,"Frýdlant","CZ/M","FL 2018 - Kombi","CZ",14,1396,4381,0.6,2445,1467,2018,"x",null,"LS 3 15m","TX","M",""]
["Pavel Foldyna",1976,"Frýdlant","CZ/M","FL 2018 - Kombi","CZ",15,182,4381,0.6,291,175,2018,"x",null,"LS 3 15m","TXI","M",""]
["Zdenek Balcarek",{"$f":"VLOOKUP(A2610,Pilot,2,0)","v":1967},{"$f":"VLOOKUP(A2610,Pilot,3,0)","v":"Kroměříž"},{"$f":"VLOOKUP(A2610,Pilot,4,0)","v":"CZ/M"},"Adrenalin GP 2018 - Klub GP",null,1,34,null,0.60499999999999998,{"$f":"ROUND((MAX($G$2610:$G$2621)-G2610)/(MAX($G$2610:$G$2621)-1)*10000,0)","v":10000},{"$f":"ROUND(J2610*K2610,0)","v":6050},2018,null,null,"Std. Cirrus","ZL","M",{"$f":"IF(ISERROR(VLOOKUP(A2610,Pilot,6,0)),\"Není v databázi\",VLOOKUP(A2610,Pilot,6,0))","v":""}]
["Jan Ratz",1987,"Plasy","CZ/C1","Adrenalin GP 2018 - Klub GP",null,2,33,null,0.60499999999999998,9000,{"$f":"ROUND(J2611*K2611,0)","v":5445},2018,null,null,"Std. Cirrus","REX","M",""]
["Rostislav Stryk",1972,"Frýdlant","CZ/M","Adrenalin GP 2018 - Klub GP",null,3,25,null,0.60499999999999998,8000,4840,2018,"x",null,"Std. Cirrus",22,"M",""]
["Jan Mareth",1979,"Frýdlant","CZ/M","Adrenalin GP 2018 - Klub GP",null,4,23,null,0.60499999999999998,7000,4235,2018,"x",null,"ASW-15B","PA","M",""]
["Jiri Pelucha",1984,"Frýdlant","CZ/M","Adrenalin GP 2018 - Klub GP",null,5,20,null,0.60499999999999998,6000,3630,2018,"x",null,"Std. Cirrus","IJ","M",""]
["Lumir Motyka",1955,"Frýdlant","CZ/M","Adrenalin GP 2018 - Klub GP",null,6,19,null,0.60499999999999998,5000,3025,2018,null,null,"LS 1f","EM","M",""]
["Stanislav Doskocil",1978,"Medlánky","CZ/M","Adrenalin GP 2018 - Klub GP",null,7,14,null,0.60499999999999998,4000,2420,2018,"x",null,"Std. Cirrus","SD","M",""]
["Jan Matejovsky",1972,"Hranice","CZ/M","Adrenalin GP 2018 - Klub GP",null,8,11,null,0.60499999999999998,3000,1815,2018,"x",null,"Std. Cirrus","HC","M",""]
["Vit Prokop",1987,"Medlánky","CZ/M","Adrenalin GP 2018 - Klub GP",null,9,6,null,0.60499999999999998,2000,1210,2018,null,null,"Std. Cirrus","A7","M",""]
["Martin Svacina",1965,"Frýdlant","CZ/M","Adrenalin GP 2018 - Klub GP",null,10,1,null,0.60499999999999998,1000,605,2018,"x",null,"Std. Cirrus","E","M",""]
["Radim Zielinski",1969,"Frýdlant","CZ/M","Adrenalin GP 2018 - Klub GP",null,11,0,null,0.60499999999999998,0,0,2018,null,null,"G-102 Astir cs","BH","M",""]
["Daniel Suchy",1995,"Hranice","CZ/M","Adrenalin GP 2018 - Klub GP",null,11,0,null,0.60499999999999998,0,{"$f":"ROUND(J2621*K2621,0)","v":0},2018,null,null,"G-102 Astir cs","W7","M","Junior v roce 2019"]
["Vojtech Pivonka",{"$f":"VLOOKUP(A2622,Pilot,2,0)","v":1976},{"$f":"VLOOKUP(A2622,Pilot,3,0)","v":"Vrchlabí"},{"$f":"VLOOKUP(A2622,Pilot,4,0)","v":"CZ/C2"},"Safari 2018 - Duo Kombi","CZ",1,4332,4332,{"$f":"VLOOKUP(E2622,Soutez,8,0)","v":0.6},{"$f":"ROUND(H2622/I2622*10000*0.7+(MAX($G$2622:$G$2632)-G2622)/(MAX($G$2622:$G$2632)-1)*10000*0.3,0)","v":10000},{"$f":"ROUND(J2622*K2622,0)","v":6000},2018,"x",null,"L 13 Blanik","AY",{"$f":"VLOOKUP(A2622,Pilot,5,0)","v":"M"},{"$f":"IF(ISERROR(VLOOKUP(A2622,Pilot,6,0)),\"Není v databázi\",VLOOKUP(A2622,Pilot,6,0))","v":""}]
["Petr Panek",{"$f":"VLOOKUP(A2623,Pilot,2,0)","v":1975},{"$f":"VLOOKUP(A2623,Pilot,3,0)","v":"Dvůr Králové"},{"$f":"VLOOKUP(A2623,Pilot,4,0)","v":"CZ/C2"},"Safari 2018 - Duo Kombi","CZ",2,4286,4332,0.6,9626,{"$f":"ROUND(J2623*K2623,0)","v":5776},2018,null,null,"L-23 Super Blanik","IG","M",""]
["Jaroslav Rapac",1977,"Dvůr Králové","CZ/C2","Safari 2018 - Duo Kombi","CZ",3,4138,4332,0.6,9087,5452,2018,"x",null,"L 23 Super Blanik","KM","M",""]
["Vladimir Prihoda",1953,"Kralupy","CZ/C1","Safari 2018 - Duo Kombi","CZ",4,3880,4332,0.6,8370,5022,2018,"x",null,"L 23 Super Blanik","I","M",""]
["Jan Sindelar",1946,"Kunovice","CZ/M","Safari 2018 - Duo Kombi","CZ",5,3615,4332,0.6,7641,4585,2018,null,null,"L 13 Blanik","Z","M",""]
["Lukas Capek",1992,"Letňany","CZ/C1","Safari 2018 - Duo Kombi","CZ",6,3345,4332,0.6,6905,4143,2018,null,null,"L 13 Blanik","L","M",""]
["Michaela Sirmerova",2000,"Jihlava","CZ/M","Safari 2018 - Duo Kombi","CZ",7,3185,4332,0.6,6347,3808,2018,"x","x","L 13 Blanik","ZZ","F","Junior v roce 2019"]
["Rostislav Broz",1968,"Vrchlabí","CZ/C2","Safari 2018 - Duo Kombi","CZ",8,2772,4332,0.6,5379,3227,2018,"x",null,"L 13 Blanik","V","M",""]
["Josef Andrasovsky",1954,"Jaroměř","CZ/C2","Safari 2018 - Duo Kombi","CZ",9,2586,4332,0.6,4779,2867,2018,"x",null,"L 13 Blanik","JA","M",""]
["Martin Markl",1960,"Kolín","CZ/C1","Safari 2018 - Duo Kombi","CZ",10,2442,4332,0.6,4246,2548,2018,"x",null,"L 13 Blanik","FL","M",""]
["Jaroslav Nedorost",1986,"Letňany","CZ/C1","Safari 2018 - Duo Kombi","CZ",11,1489,4332,0.6,2406,1444,2018,"x",null,"L 13 Blanik","BA","M",""]
["Josef Rydl",{"$f":"VLOOKUP(A2633,Pilot,2,0)","v":1940},{"$f":"VLOOKUP(A2633,Pilot,3,0)","v":"Turnov"},{"$f":"VLOOKUP(A2633,Pilot,4,0)","v":"CZ/C2"},"Safari 2018 - Klub","CZ",1,5773,5773,0.6,{"$f":"ROUND(H2633/I2633*10000*0.7+(MAX($G$2633:$G$2661)-G2633)/(MAX($G$2633:$G$2661)-1)*10000*0.3,0)","v":10000},{"$f":"ROUND(J2633*K2633,0)","v":6000},2018,"x",null,"ASW-19B","AH",{"$f":"VLOOKUP(A2633,Pilot,5,0)","v":"M"},{"$f":"IF(ISERROR(VLOOKUP(A2633,Pilot,6,0)),\"Není v databázi\",VLOOKUP(A2633,Pilot,6,0))","v":""}]
["Marek Kornec",1957,"Dvůr Králové","CZ/C2","Safari 2018 - Klub","CZ",2,5562,5773,0.6,{"$f":"ROUND(H2634/I2634*10000*0.7+(MAX($G$2633:$G$2661)-G2634)/(MAX($G$2633:$G$2661)-1)*10000*0.3,0)","v":9637},{"$f":"ROUND(J2634*K2634,0)","v":5782},2018,"x",null,"Janus C pevný podvozek","KSS","M",""]
["Wolfgang Sluka",1942,"Liberec","CZ/C2","Safari 2018 - Klub","CZ",3,5489,5773,0.6,9441,5665,2018,"x",null,"Std. Cirrus","KA","M",""]
["Jaroslav Sima",1972,"Chomutov","CZ/C2","Safari 2018 - Klub","CZ",4,5110,5773,0.6,8875,5325,2018,"x",null,"G-104 Speed Astir II","V2","M",""]
["Milan Dvorak",1965,"Liberec","CZ/C2","Safari 2018 - Klub","CZ",5,5093,5773,0.6,8747,5248,2018,"x",null,"VSO10",78,"M",""]
["Pavel Derda",1952,"Dvůr Králové","CZ/C2","Safari 2018 - Klub","CZ",6,4994,5773,0.6,8520,5112,2018,"x",null,"Cirrus VTC","VE","M",""]
["Krzysztof Pienkowski",null,"Bielsko Bialski","PL","Safari 2018 - Klub","CZ",7,4888,5773,0.6,8284,4970,2018,null,null,"LS-4","KP","M"]
["Martin Cicvarek",{"$f":"VLOOKUP(A2640,Pilot,2,0)","v":1966},{"$f":"VLOOKUP(A2640,Pilot,3,0)","v":"Liberec"},{"$f":"VLOOKUP(A2640,Pilot,4,0)","v":"CZ/C2"},"Safari 2018 - Klub","CZ",8,4794,5773,0.6,8063,4838,2018,"x",null,"DG 400 15 m","AC","M",""]
["Jan Hybner",1977,"Liberec","CZ/C2","Safari 2018 - Klub","CZ",9,4523,5773,0.6,7627,4576,2018,"x",null,"HPH 304CZ 15m","LB","M",""]
["Tomas Hlavacek",1984,"Kolín","CZ/C1","Safari 2018 - Klub","CZ",10,4433,5773,0.6,7411,4447,2018,"x",null,"ASW 15b","MB","M",""]
["David Tejnora",1982,"Kolín","CZ/C1","Safari 2018 - Klub","CZ",11,4084,5773,0.6,6881,4129,2018,"x",null,"VSO-10",73,"M",""]
["Petr Doubek",1974,"Kralupy","CZ/C1","Safari 2018 - Klub","CZ",12,3980,5773,0.6,6647,3988,2018,"x",null,"ASW 20A","Y5","M",""]
["Petr Hybner",1951,"Liberec","CZ/C2","Safari 2018 - Klub","CZ",13,3727,5773,0.6,6233,3740,2018,"x",null,"HPH 304CZ 15m","IH","M",""]
["Jerzy Mikolajczyk",null,"AZM Płock/KSS","PL","Safari 2018 - Klub","CZ",14,3686,5773,0.6,6077,3646,2018,null,null,"LS-4","MS","M"]
["Leszek Wolosowicz",null,"Lubelski/KSS","PL","Safari 2018 - Klub","CZ",15,3670,5773,0.6,5950,3570,2018,null,null,"PW-5","CU","M"]
["Artur Szlachta",null,"KSS/LSV Seligenstadt-Zellhausen","PL","Safari 2018 - Klub","CZ",16,3454,5773,0.6,5581,3349,2018,null,null,"LS 4","V4","M"]
["Petr Lonsky",{"$f":"VLOOKUP(A2649,Pilot,2,0)","v":1965},{"$f":"VLOOKUP(A2649,Pilot,3,0)","v":"Toužim"},{"$f":"VLOOKUP(A2649,Pilot,4,0)","v":"CZ/C1"},"Safari 2018 - Klub","CZ",17,3380,5773,0.6,5384,3230,2018,"x",null,"Std. Cirrus","YU","M",""]
["Jarmila Zatykova",1959,"Kralupy","CZ/C1","Safari 2018 - Klub","CZ",18,2605,5773,0.6,4337,2602,2018,"x","x","Discus b","JD","F",""]
["Radmila Horacek Filakovska",1963,"Dvůr Králové","CZ/C2","Safari 2018 - Klub","CZ",19,2546,5773,0.6,4159,2495,2018,"x","x","Cirrus VTC","2W","F",""]
["Teodor Skoda",1998,"Hronov","CZ/C2","Safari 2018 - Klub","CZ",20,2306,5773,0.6,3760,2256,2018,"x",null,"Janus, Janus b dvojí","V1","M","Junior v roce 2019"]
["Jiri Tomicek",1947,"Dvůr Králové","CZ/C2","Safari 2018 - Klub","CZ",21,1884,5773,0.6,3142,1885,2018,"x",null,"G-103 Twin III dvoji",5,"M",""]
["Aleksander Jedrosz",null,"Jelenia Göra","PL","Safari 2018 - Klub","CZ",22,1757,5773,{"$f":"VLOOKUP(E2654,Soutez,8,0)","v":0.6},2880,1728,2018,null,null,"Centrair C-101A,B Pegas","AJ","M","Není v databázi"]
["Jiri Donat",{"$f":"VLOOKUP(A2655,Pilot,2,0)","v":1983},{"$f":"VLOOKUP(A2655,Pilot,3,0)","v":"Chrudim"},{"$f":"VLOOKUP(A2655,Pilot,4,0)","v":"CZ/C2"},"Safari 2018 - Klub","CZ",23,1556,5773,0.6,2530,1518,2018,"x",null,"Std. Cirrus WL","JE","M",""]
["Romuald Dorofieczyk",null,"Jelenia Gora","PL","Safari 2018 - Klub","CZ",24,1235,5773,0.6,2033,1220,2018,null,null,"DG 300 Club Elan WL","N5","M","Není v databázi"]
["Tereza Novakova",{"$f":"VLOOKUP(A2657,Pilot,2,0)","v":1993},{"$f":"VLOOKUP(A2657,Pilot,3,0)","v":"Chrudim"},{"$f":"VLOOKUP(A2657,Pilot,4,0)","v":"CZ/C2"},"Safari 2018 - Klub","CZ",25,1199,5773,0.6,1882,1129,2018,"x","x","Std. Cirrus","FF","F",""]
["Jan Horky",1968,"Medlánky","CZ/M","Safari 2018 - Klub","CZ",26,1114,5773,0.6,1672,1003,2018,"x",null,"LS 3a 15 m","SW","M",""]
["Ryszard Bendkowski",null,"Warszawa/KSS","PL","Safari 2018 - Klub","CZ",27,713,5773,0.6,1079,647,2018,null,null,"SZD-48 Jantar Std. 2(3)","Fili","M","Není v databázi"]
["Piotr Ligwinski",null,"Czestochowa","PL","Safari 2018 - Klub","CZ",28,384,5773,0.6,573,344,2018,null,null,"SZD Jantar std.2(3)","Fili","M","Není v databázi"]
["Krzystof Kostka",null,"Jelenia Gora","PL","Safari 2018 - Klub","CZ",29,193,5773,0.6,234,140,2018,null,null,"DG-300 Club Elan WL","N5","M","Není v databázi"]
["Petr Hotovy",{"$f":"VLOOKUP(A2662,Pilot,2,0)","v":1958},{"$f":"VLOOKUP(A2662,Pilot,3,0)","v":"Česká Lípa"},{"$f":"VLOOKUP(A2662,Pilot,4,0)","v":"CZ/C2"},"Safari 2018 - Kombi","CZ",1,6601,6601,0.6,{"$f":"ROUND(H2662/I2662*10000*0.7+(MAX($G$2662:$G$2672)-G2662)/(MAX($G$2662:$G$2672)-1)*10000*0.3,0)","v":10000},{"$f":"ROUND(J2662*K2662,0)","v":6000},2018,null,null,"JS-1A,B,C,BTJ,CTJ 18m (voda)","IGC",{"$f":"VLOOKUP(A2662,Pilot,5,0)","v":"M"},{"$f":"IF(ISERROR(VLOOKUP(A2662,Pilot,6,0)),\"Není v databázi\",VLOOKUP(A2662,Pilot,6,0))","v":""}]
["Pavel Svoboda",1938,"Letňany","CZ/C1","Safari 2018 - Kombi","CZ",2,6051,6601,0.6,9117,{"$f":"ROUND(J2663*K2663,0)","v":5470},2018,"x",null,"DuoDiscus,T 700 kg (voda)","ZS","M",""]
["Zdenek Boruvka 54",1954,"Jičín","CZ/C2","Safari 2018 - Kombi","CZ",3,5673,6601,0.6,8416,5050,2018,null,null,"LS 8,a,b,s,st,18 15m (voda)","ZB","M",""]
["Jan Dersak 69",1969,"Kralupy","CZ/C1","Safari 2018 - Kombi","CZ",4,5219,6601,0.6,7634,4580,2018,null,null,"HPH 304CZ 17,4m (voda)","DJ","M",""]
["Milan Meisner",1961,"Dvůr Králové","CZ/C2","Safari 2018 - Kombi","CZ",5,4849,6601,0.6,6942,4165,2018,"x",null,"Ventus c 15m+W (voda)","VV","M",""]
["Lukas Hynek",1979,"Dvůr Králové","CZ/C2","Safari 2018 - Kombi","CZ",6,4767,6601,0.6,6555,3933,2018,"x",null,"DG-200 17m (voda)","IQ","M",""]
["Ladislav Prokes",1954,"Vrchlabí","CZ/C2","Safari 2018 - Kombi","CZ",7,4528,6601,0.6,6002,3601,2018,"x",null,"Discus b voda","VR","M",""]
["Slavomir Tanglmajer",1966,"Chomutov","CZ/C2","Safari 2018 - Kombi","CZ",8,3707,6601,0.6,4831,2899,2018,"x",null,"DG-400 17m","ST","M",""]
["Tomas Ditrt",1969,"Podhořany","CZ/C2","Safari 2018 - Kombi","CZ",9,3698,6601,0.6,4522,2713,2018,"x",null,"ASW-20(A)+F 15m","LS","M",""]
["Karel Policky",1950,"Kolín","CZ/C1","Safari 2018 - Kombi","CZ",10,3380,6601,0.6,3884,2330,2018,null,null,"DuoDiscus T WL,XT",777,"M",""]
["Lubomir Doupal",1975,"Krnov","CZ/M","Safari 2018 - Kombi","CZ",11,2296,6601,0.6,2435,{"$f":"ROUND(J2672*K2672,0)","v":1461},2018,"x",null,"LS 8b,t,18 15m (voda)","YF","M",""]
["Ivan Harasta 65",{"$f":"VLOOKUP(A2673,Pilot,2,0)","v":1965},{"$f":"VLOOKUP(A2673,Pilot,3,0)","v":"Toužim"},{"$f":"VLOOKUP(A2673,Pilot,4,0)","v":"CZ/C1"},"Toužim Cup 2018 - Klub","CZ",1,4531,4531,0.9,{"$f":"ROUND(H2673/I2673*10000*0.7+(MAX($G$2673:$G$2701)-G2673)/(MAX($G$2673:$G$2701)-1)*10000*0.3,0)","v":10000},{"$f":"ROUND(J2673*K2673,0)","v":9000},2018,"x",null,"Std. Cirrus","LY",{"$f":"VLOOKUP(A2673,Pilot,5,0)","v":"M"},{"$f":"IF(ISERROR(VLOOKUP(A2673,Pilot,6,0)),\"Není v databázi\",VLOOKUP(A2673,Pilot,6,0))","v":""}]
["Klara Teichmannova",1993,"Hronov","CZ/C2","Toužim Cup 2018 - Klub","CZ",2,4300,4531,0.9,9536,{"$f":"ROUND(J2674*K2674,0)","v":8582},2018,"x","x","Std. Cirrus","XC","F",""]
["Tomas Talanda",1988,"Křižanov","CZ/M","Toužim Cup 2018 - Klub","CZ",3,4130,4531,0.9,9166,8249,2018,"x",null,"ASW-19B","A1","M",""]
["Martin Fric",1967,"Raná","CZ/C2","Toužim Cup 2018 - Klub","CZ",4,4097,4531,0.9,9008,8107,2018,"x",null,"ASW-19","FR","M",""]
["Michal Drab",1969,"Letkov","CZ/C1","Toužim Cup 2018 - Klub","CZ",5,3937,4531,0.9,8654,7789,2018,"x",null,"LS 1d","S3","M",""]
["Petr Jiranek 91",1991,"Toužim","CZ/C1","Toužim Cup 2018 - Klub","CZ",6,3891,4531,0.9,8476,7628,2018,"x",null,"G-102 Astir cs","PJ","M",""]
["Lubomir Motl",1959,"Kyjov","CZ/M","Toužim Cup 2018 - Klub","CZ",7,3847,4531,0.9,8300,7470,2018,null,null,"LS 1f","G2","M",""]
["Pavel Jiranek",1993,"Toužim","CZ/C1","Toužim Cup 2018 - Klub","CZ",8,3814,4531,0.9,8142,7328,2018,"x",null,"Std. Cirrus","IYD","M",""]
["Michal Cupak",1991,"Medlánky","CZ/M","Toužim Cup 2018 - Klub","CZ",9,3671,4531,0.9,7814,7033,2018,"x",null,"Std. Cirrus","A7","M",""]
["Daniel Dvorak",1980,"Letkov","CZ/C1","Toužim Cup 2018 - Klub","CZ",10,3654,4531,0.9,7681,6913,2018,"x",null,"Std. Cirrus","LD","M",""]
["Martin Valenta",1969,"Toužim","CZ/C1","Toužim Cup 2018 - Klub","CZ",11,3627,4531,0.9,7532,6779,2018,"x",null,"LS 1c","P2","M",""]
["Frantisek Kriz",1961,"Toužim","CZ/C1","Toužim Cup 2018 - Klub","CZ",12,3452,4531,0.9,7154,6439,2018,"x",null,"LS 1d","CL","M",""]
["Vit Prokop",1987,"Medlánky","CZ/M","Toužim Cup 2018 - Klub","CZ",13,3380,4531,0.9,6936,6242,2018,"x",null,"Std. Cirrus","MF","M",""]
["Ivan Harasta 98",1998,"Toužim","CZ/C1","Toužim Cup 2018 - Klub","CZ",14,3304,4531,{"$f":"VLOOKUP(E2686,Soutez,8,0)","v":0.9},6712,6041,2018,"x",null,"ASW-15B","HI","M","Junior v roce 2019"]
["Roman Jokl",1979,"Letkov","CZ/C1","Toužim Cup 2018 - Klub","CZ",15,3267,4531,0.9,6547,5892,2018,"x",null,"ASW-19B","JL","M",""]
["Martin Zahalka",1987,"Staňkov","CZ/C1","Toužim Cup 2018 - Klub","CZ",16,2953,4531,0.9,5955,5360,2018,"x",null,"DG-100","8B","M",""]
["Miroslav Cervenka",1980,"Křižanov","CZ/M","Toužim Cup 2018 - Klub","CZ",17,2920,4531,0.9,5797,5217,2018,"x",null,"LS 1f","AF","M",""]
["Josef Kreutzer",1992,"Letkov","CZ/C1","Toužim Cup 2018 - Klub","CZ",18,2233,4531,0.9,4628,4165,2018,"x",null,"ASW-15B","LA","M",""]
["Jiri Cincera",1966,"Toužim","CZ/C1","Toužim Cup 2018 - Klub","CZ",19,1966,4531,0.9,4109,3698,2018,"x",null,"ASW-15B","TT","M",""]
["Tomas Seifert",1972,"Raná","CZ/C2","Toužim Cup 2018 - Klub","CZ",20,1933,4531,0.9,3951,3556,2018,"x",null,"ASW-15B","MC","M",""]
["Lukas Zemek",1994,"Letkov","CZ/C1","Toužim Cup 2018 - Klub","CZ",21,1835,4531,0.9,3692,3323,2018,"x",null,"LS 1c","VY","M","Junior v roce 2019"]
["Petr Lonsky",1965,"Toužim","CZ/C1","Toužim Cup 2018 - Klub","CZ",22,1626,4531,0.9,3262,2936,2018,"x",null,"Std. Cirrus WL","YU","M",""]
["Jan Zanda",1983,"Letkov","CZ/C1","Toužim Cup 2018 - Klub","CZ",23,1599,4531,0.9,3113,2802,2018,"x",null,"Std. Cirrus","AL","M",""]
["Rudolf Jung",1954,"Zbraslavice","CZ/C1","Toužim Cup 2018 - Klub","CZ",24,1197,4531,0.9,2385,2147,2018,"x",null,"G-103 Twin II",null,"M",""]
["Frantisek Brozman",1960,"Tachov","CZ/C1","Toužim Cup 2018 - Klub","CZ",25,927,4531,0.9,1861,1675,2018,"x",null,"VT116 Orlik II","TI","M",""]
["Petr Cernicky",1974,"Toužim","CZ/C1","Toužim Cup 2018 - Klub","CZ",26,620,4531,0.9,1279,1151,2018,"x",null,"G-102 Astir cs","LS","M",""]
["Vaclav Halek",1966,"Toužim","CZ/C1","Toužim Cup 2018 - Klub","CZ",27,363,4531,0.9,775,698,2018,"x",null,"G-103 Twin III","TO","M",""]
["Jan Turek",1987,"Toužim","CZ/C1","Toužim Cup 2018 - Klub","CZ",28,29,4531,0.9,152,137,2018,"x",null,"G-102 Astir cs","PB","M",""]
["Karel Grotz",1934,"Toužim","CZ/C1","Toužim Cup 2018 - Klub","CZ",29,0,4531,0.9,0,{"$f":"ROUND(J2701*K2701,0)","v":0},2018,null,null,"VT 16 Orlik",16,"M",""]
["Karel Benisek 76",{"$f":"VLOOKUP(A2702,Pilot,2,0)","v":1976},{"$f":"VLOOKUP(A2702,Pilot,3,0)","v":"Toužim"},{"$f":"VLOOKUP(A2702,Pilot,4,0)","v":"CZ/C1"},"Toužim Cup 2018 - Kombi","CZ",1,4052,4052,0.90500000000000003,{"$f":"ROUND(H2702/I2702*10000*0.7+(MAX($G$2702:$G$2720)-G2702)/(MAX($G$2702:$G$2720)-1)*10000*0.3,0)","v":10000},{"$f":"ROUND(J2702*K2702,0)","v":9050},2018,"x",null,"Ventus ct 17,6m","KB","M",""]
["Daniel Novak",1971,"Letkov","CZ/C1","Toužim Cup 2018 - Kombi","CZ",2,3870,4052,0.90500000000000003,{"$f":"ROUND(H2703/I2703*10000*0.7+(MAX($G$2702:$G$2720)-G2703)/(MAX($G$2702:$G$2720)-1)*10000*0.3,0)","v":9519},{"$f":"ROUND(J2703*K2703,0)","v":8615},2018,"x",null,"LS 8 18m","EJ","M",""]
["Jan Viskot",1995,"Břeclav","CZ/M","Toužim Cup 2018 - Kombi","CZ",3,3812,4052,0.90500000000000003,9252,8373,2018,"x",null,"Discus 2a 15m","GX","M","Junior v roce 2019"]
["Zdenek Schenk",1972,"Hranice","CZ/M","Toužim Cup 2018 - Kombi","CZ",4,3665,4052,0.90500000000000003,8831,7992,2018,"x",null,"Ventus ct 17,6m","SNK","M",""]
["Ondrej Dupal",1966,"GAC Benešov","CZ/C1","Toužim Cup 2018 - Kombi","CZ",5,3650,4052,0.90500000000000003,8639,7818,2018,"x",null,"ASG 29 18m","GO","M",""]
["Petr Bartak",1984,"Letkov","CZ/C1","Toužim Cup 2018 - Kombi","CZ",6,3615,4052,0.90500000000000003,8412,7613,2018,"x",null,"LS 6c 18m+W","BL","M",""]
["Milos Pajr",1966,"Jičín","CZ/C2","Toužim Cup 2018 - Kombi","CZ",7,3458,4052,0.90500000000000003,7974,7216,2018,"x",null,"Duo Discus XLT",88,"M",""]
["Roman Lanzendorf",1964,"Letkov","CZ/C1","Toužim Cup 2018 - Kombi","CZ",8,3454,4052,0.90500000000000003,7800,7059,2018,"x",null,"Ventus ct 17,6m","AS","M",""]
["Petr Jiranek 63",1962,"Toužim","CZ/C1","Toužim Cup 2018 - Kombi","CZ",9,3446,4052,0.90500000000000003,7620,6896,2018,"x",null,"Ventus ct 17,6m","EB","M",""]
["Jiri Prochazka",1971,"Toužim","CZ/C1","Toužim Cup 2018 - Kombi","CZ",10,3410,4052,0.90500000000000003,7391,6689,2018,"x",null,"DG-500 22m","SR","M",""]
["Frantisek Myska",1968,"Most","CZ/C2","Toužim Cup 2018 - Kombi","CZ",11,3271,4052,0.90500000000000003,6984,6321,2018,"x",null,"Ventus bt 16,6m","SK","M",""]
["Karel Krobath",null,"SFC Tulln","AT","Toužim Cup 2018 - Kombi","CZ",12,3216,4052,0.90500000000000003,6722,6083,2018,null,null,"HPH 304M Shark","Q","M","Není v databázi"]
["Vratislav Sram",{"$f":"VLOOKUP(A2714,Pilot,2,0)","v":1966},{"$f":"VLOOKUP(A2714,Pilot,3,0)","v":"Broumov"},{"$f":"VLOOKUP(A2714,Pilot,4,0)","v":"CZ/C2"},"Toužim Cup 2018 - Kombi","CZ",13,3109,4052,0.90500000000000003,6371,5766,2018,null,null,"Nimbus 2M","NB","M",""]
["Karl Schiffleithner",null,"SFC Tulln","AT","Toužim Cup 2018 - Kombi","CZ",14,3064,4052,0.90500000000000003,6127,5545,2018,null,null,"Ventus 2 ct 18m","IX","M","Není v databázi"]
["Raul Flicker",null,"SFC Tulln","AT","Toužim Cup 2018 - Kombi","CZ",15,2914,4052,0.90500000000000003,5701,5159,2018,null,null,"HPH 304S Shark","GG","M","Není v databázi"]
["John Buchanan",null,"Kingaroy","AU","Toužim Cup 2018 - Kombi","CZ",16,2779,4052,0.90500000000000003,5301,4797,2018,null,null,"JS-3, TJ 18m","BB","M","Není v databázi"]
["Uwe Tolkmitt",null,"LSV Greiz","AT","Toužim Cup 2018 - Kombi","CZ",17,2100,4052,0.90500000000000003,3961,3585,2018,null,null,"DG-400 17m","JO","M","Není v databázi"]
["Olga Mokosova",{"$f":"VLOOKUP(A2719,Pilot,2,0)","v":1970},{"$f":"VLOOKUP(A2719,Pilot,3,0)","v":"Jihlava"},{"$f":"VLOOKUP(A2719,Pilot,4,0)","v":"CZ/M"},"Toužim Cup 2018 - Kombi","CZ",18,1828,4052,0.90500000000000003,3325,3009,2018,"x","x","LS 6c 18m+W","MM","F",""]
["Roman Michalek",1974,"Toužim","CZ/C1","Toužim Cup 2018 - Kombi","CZ",19,1119,4052,0.90500000000000003,1933,1749,2018,"x",null,"DG-400 17m","TK","M",""]
["Karel Novak",{"$f":"VLOOKUP(A2721,Pilot,2,0)","v":1993},{"$f":"VLOOKUP(A2721,Pilot,3,0)","v":"Mladá Boleslav"},{"$f":"VLOOKUP(A2721,Pilot,4,0)","v":"CZ/C1"},"PMČRj 2018 - Klub","CZ",1,9098,9098,{"$f":"VLOOKUP(E2721,Soutez,8,0)","v":0.90500000000000003},{"$f":"ROUND(H2721/I2721*10000*0.7+(MAX($G$2721:$G$2750)-G2721)/(MAX($G$2721:$G$2750)-1)*10000*0.3,0)","v":10000},{"$f":"ROUND(J2721*K2721,0)","v":9050},2018,"x",null,"Std. Cirrus","CX",{"$f":"VLOOKUP(A2721,Pilot,5,0)","v":"M"},{"$f":"IF(ISERROR(VLOOKUP(A2721,Pilot,6,0)),\"Není v databázi\",VLOOKUP(A2721,Pilot,6,0))","v":""}]
["Jaromir Macoun",1999,"Jičín","CZ/C2","PMČRj 2018 - Klub","CZ",2,8720,9098,0.90500000000000003,9606,{"$f":"ROUND(J2722*K2722,0)","v":8693},2018,"x",null,"Std. Cirrus","SC","M","Junior v roce 2019"]
["Daniel Ryba",1994,"Dvůr Králové","CZ/C2","PMČRj 2018 - Klub","CZ",3,8690,9098,0.90500000000000003,9479,8578,2018,null,null,"ASW 19B","L7","M","Junior v roce 2019"]
["Jan Zapletal",1997,"Kroměříž","CZ/M","PMČRj 2018 - Klub","CZ",4,8160,9098,0.90500000000000003,8968,8116,2018,"x",null,"Std. Cirrus","FW","M","Junior v roce 2019"]
["Petr Valenta",1994,"Kunovice","CZ/M","PMČRj 2018 - Klub","CZ",5,7839,9098,0.90500000000000003,8618,7799,2018,"x",null,"Std. Cirrus","PIF","M","Junior v roce 2019"]
["Jan Vozeh",1995,"Rakovník","CZ/C1","PMČRj 2018 - Klub","CZ",6,7727,9098,0.90500000000000003,8428,7627,2018,"x",null,"Std. Cirrus","OG","M","Junior v roce 2019"]
["Ivan Tvrdik",1997,"Letňany","CZ/C1","PMČRj 2018 - Klub","CZ",7,7315,9098,0.90500000000000003,8007,7246,2018,"x",null,"Cirrus 75",77,"M","Junior v roce 2019"]
["Tomas Jilek",1995,"Raná","CZ/C2","PMČRj 2018 - Klub","CZ",8,7217,9098,0.90500000000000003,7829,7085,2018,"x",null,"ASW 15","PI","M","Junior v roce 2019"]
["Daniel Suchy",1995,"Hranice","CZ/M","PMČRj 2018 - Klub","CZ",9,6775,9098,0.90500000000000003,7385,6683,2018,"x",null,"G 102 Astir CS","W7","M","Junior v roce 2019"]
["Vit Morkovsky",2000,"Polička","CZ/C2","PMČRj 2018 - Klub","CZ",10,6705,9098,0.90500000000000003,7228,6541,2018,"x",null,"ASW 24A bez TN8","SM","M","Junior v roce 2019"]
["Ondrej Dvorak 98",1998,"Mladá Boleslav","CZ/C1","PMČRj 2018 - Klub","CZ",11,6500,9098,0.90500000000000003,6967,6305,2018,"x",null,"ASW 19B","AH","M","Junior v roce 2019"]
["Josef Hlusek",1993,"Kunovice","CZ/M","PMČRj 2018 - Klub","CZ",12,6452,9098,0.90500000000000003,6826,6178,2018,"x",null,"Std. Cirrus","WO","M",""]
["Tereza Koubkova",1999,"Letňany","CZ/C1","PMČRj 2018 - Klub","CZ",13,6201,9098,0.90500000000000003,6530,5910,2018,"x","x","Std. Cirrus","WY","F","Junior v roce 2019"]
["Jan Beran",1999,"Kladno","CZ/C1","PMČRj 2018 - Klub","CZ",14,6175,9098,0.90500000000000003,6406,5797,2018,"x",null,"VSO-10",23,"M","Junior v roce 2019"]
["Tomas Moravec",2000,"Žamberk","CZ/C2","PMČRj 2018 - Klub","CZ",15,6155,9098,0.90500000000000003,6287,5690,2018,"x",null,"Std. Cirrus WL","OK6","M","Junior v roce 2019"]
["Vladimir Hammer",2000,"Klatovy","CZ/C1","PMČRj 2018 - Klub","CZ",16,6035,9098,0.90500000000000003,6092,5513,2018,"x",null,"Std. Cirrus","2U","M","Junior v roce 2019"]
["Tomas Hulmak",1999,"Hosín","CZ/C1","PMČRj 2018 - Klub","CZ",17,6027,9098,0.90500000000000003,5982,5414,2018,"x",null,"ASW 15B","XI","M","Junior v roce 2019"]
["Lukas Maly",1998,"Vysoké Mýto","CZ/C2","PMČRj 2018 - Klub","CZ",18,5937,9098,0.90500000000000003,5809,5257,2018,"x",null,"ASW 15B","AM","M","Junior v roce 2019"]
["Jan Kostka",1996,"Kladno","CZ/C1","PMČRj 2018 - Klub","CZ",19,5924,9098,0.90500000000000003,5696,5155,2018,"x",null,"VSO-10","F8","M","Junior v roce 2019"]
["Michal Coufal",1999,"Jičín","CZ/C2","PMČRj 2018 - Klub","CZ",20,5548,9098,0.90500000000000003,5303,4799,2018,"x",null,"Std. Cirrus","FS","M","Junior v roce 2019"]
["Filip Vita",2001,"Kroměříž","CZ/M","PMČRj 2018 - Klub","CZ",21,5339,9098,0.90500000000000003,5039,4560,2018,"x",null,"G 102 Astir Jeans","2Y","M","Junior v roce 2019"]
["Marek Pechar",1995,"Chrudim","CZ/C2","PMČRj 2018 - Klub","CZ",22,5296,9098,0.90500000000000003,4902,4436,2018,"x",null,"Std. Cirrus WL","JE","M","Junior v roce 2019"]
["Lukas Kotek",1994,"Frýdlant","CZ/M","PMČRj 2018 - Klub","CZ",23,4896,9098,0.90500000000000003,4491,4064,2018,"x",null,"DG 200 15m","AK","M","Junior v roce 2019"]
["Jiri Maier 99",1999,"Raná","CZ/C2","PMČRj 2018 - Klub","CZ",24,3926,9098,0.90500000000000003,3641,3295,2018,"x",null,"VSO-10","I9","M","Junior v roce 2019"]
["Zuzana Kutilkova",1993,"Křižanov","CZ/M","PMČRj 2018 - Klub","CZ",25,3726,9098,0.90500000000000003,3384,3063,2018,"x","x","LS 1 f","R7","F",""]
["Tereza Novakova",1993,"Chrudim","CZ/C2","PMČRj 2018 - Klub","CZ",26,3643,9098,0.90500000000000003,3217,2911,2018,"x","x","Std. Cirrus","FF","F",""]
["Sabina Vitova",1998,"Kroměříž","CZ/M","PMČRj 2018 - Klub","CZ",27,3597,9098,0.90500000000000003,3078,2786,2018,"x","x","G 102 Astir Jeans","IT","F","Junior v roce 2019"]
["Zuzana Markesova",2001,"Medlánky","CZ/M","PMČRj 2018 - Klub","CZ",28,3191,9098,0.90500000000000003,2662,2409,2018,"x","x","G 102 Astir CS","DC","F","Junior v roce 2019"]
["Radek Laga",1997,"Kunovice","CZ/M","PMČRj 2018 - Klub","CZ",29,2991,9098,0.90500000000000003,2405,2177,2018,"x",null,"G 102 Astir CS","O5","M","Junior v roce 2019"]
["Kristina Santruckova",1996,"Podhořany","CZ/C2","PMČRj 2018 - Klub","CZ",30,2847,9098,0.90500000000000003,2190,1982,2018,"x","x","ASW 15B WL","KS","F","Junior v roce 2019"]
["Mark Travner",null,"Celje","SLO","Ranský Pohár 2018 - Kombi","CZ",1,4463,4463,0.6,{"$f":"ROUND(H2751/I2751*10000*0.7+(MAX($G$2751:$G$2769)-G2751)/(MAX($G$2751:$G$2769)-1)*10000*0.3,0)","v":10000},{"$f":"ROUND(J2751*K2751,0)","v":6000},2018,null,null,"DG 300","CE","M",{"$f":"IF(ISERROR(VLOOKUP(A2751,Pilot,6,0)),\"Není v databázi\",VLOOKUP(A2751,Pilot,6,0))","v":"Není v databázi"}]
["Jiri Maier 66",{"$f":"VLOOKUP(A2752,Pilot,2,0)","v":1966},{"$f":"VLOOKUP(A2752,Pilot,3,0)","v":"Raná"},{"$f":"VLOOKUP(A2752,Pilot,4,0)","v":"CZ/C2"},"Ranský Pohár 2018 - Kombi","CZ",2,4288,4463,0.6,9559,{"$f":"ROUND(J2752*K2752,0)","v":5735},2018,"x",null,"Discus b","TAL",{"$f":"VLOOKUP(A2752,Pilot,5,0)","v":"M"},""]
["Primoz Raner",null,"Maribor","SLO","Ranský Pohár 2018 - Kombi","CZ",3,4178,4463,{"$f":"VLOOKUP(E2753,Soutez,8,0)","v":0.6},9220,5532,2018,null,null,"DG 101G","M9","M","Není v databázi"]
["Matic Knez",null,"Celje","SLO","Ranský Pohár 2018 - Kombi","CZ",4,3926,4463,0.6,8658,5195,2018,null,null,"DG-300","CF","M","Není v databázi"]
["Radovan Otto",{"$f":"VLOOKUP(A2755,Pilot,2,0)","v":1968},{"$f":"VLOOKUP(A2755,Pilot,3,0)","v":"Ústí nad Labem"},{"$f":"VLOOKUP(A2755,Pilot,4,0)","v":"CZ/C2"},"Ranský Pohár 2018 - Kombi","CZ",5,3807,4463,0.6,8304,4982,2018,"x",null,"TST 10M Atlas",7,"M",""]
["Michal Hemrle",1974,"Česká Lípa","CZ/C2","Ranský Pohár 2018 - Kombi","CZ",6,3352,4463,0.6,7424,4454,2018,"x",null,"Ventus c 17.6m","XE","M",""]
["Jan Sustr 76",1976,"Raná","CZ/C2","Ranský Pohár 2018 - Kombi","CZ",7,3254,4463,0.6,7104,4262,2018,"x",null,"DG 300","WL","M",""]
["Pavel Derda",1952,"Dvůr Králové","CZ/C2","Ranský Pohár 2018 - Kombi","CZ",8,3063,4463,0.6,6638,3983,2018,null,null,"Cirrus VTC","WE","M",""]
["Petr Kohr",1970,"Raná","CZ/C2","Ranský Pohár 2018 - Kombi","CZ",9,2943,4463,0.6,6283,3770,2018,"x",null,"Std. Cirrus","YF","M",""]
["Tomas Mezera",1973,"Raná","CZ/C2","Ranský Pohár 2018 - Kombi","CZ",10,2882,4463,0.6,6020,3612,2018,"x",null,"VSO 10",59,"M",""]
["Dalibor Pek",1968,"Raná","CZ/C2","Ranský Pohár 2018 - Kombi","CZ",11,2717,4463,0.6,5595,3357,2018,"x",null,"Cirrus 75","A1","M",""]
["Jaromir Hendrych",1954,"Raná","CZ/C2","Ranský Pohár 2018 - Kombi","CZ",12,2659,4463,0.6,5337,3202,2018,"x",null,"M 35",36,"M",""]
["Robert Hribersek",null,"Maribor","SLO","Ranský Pohár 2018 - Kombi","CZ",13,2579,4463,0.6,5045,3027,2018,null,null,"Cirrus 75","TR","M","Není v databázi"]
["Jana Mezerova",{"$f":"VLOOKUP(A2764,Pilot,2,0)","v":1975},{"$f":"VLOOKUP(A2764,Pilot,3,0)","v":"Raná"},{"$f":"VLOOKUP(A2764,Pilot,4,0)","v":"CZ/C2"},"Ranský Pohár 2018 - Kombi","CZ",14,2360,4463,0.6,4535,2721,2018,"x","x","SZD 36 Cobra 15",10,"F",""]
["Krystof Mimra",1992,"Most","CZ/C2","Ranský Pohár 2018 - Kombi","CZ",15,2347,4463,0.6,4348,2609,2018,"x",null,"VSO 10",51,"M",""]
["Eduard Svoboda",1957,"Raná","CZ/C2","Ranský Pohár 2018 - Kombi","CZ",16,2337,4463,0.6,4165,2499,2018,"x",null,"ASW 15B","HL","M",""]
["Martin Zvonicek",1972,"Raná","CZ/C2","Ranský Pohár 2018 - Kombi","CZ",17,1883,4463,0.6,3287,1972,2018,"x",null,"ASW 15","ET","M",""]
["Vladimir Fousek",1964,"Raná","CZ/C2","Ranský Pohár 2018 - Kombi","CZ",18,1372,4463,0.6,2319,1391,2018,"x",null,"Std. Cirrus","LW","M",""]
["Petr Lonsky",1965,"Toužim","CZ/C1","Ranský Pohár 2018 - Kombi","CZ",19,0,4463,0.6,0,0,2018,null,null,"Std. Cirrus WL","YU","M",""]
["Petr Hofman",{"$f":"VLOOKUP(A2770,Pilot,2,0)","v":1984},{"$f":"VLOOKUP(A2770,Pilot,3,0)","v":"Letňany"},{"$f":"VLOOKUP(A2770,Pilot,4,0)","v":"CZ/C1"},"PPV 2018 - Klub","CZ",1,4925,4925,0.9,{"$f":"ROUND(H2770/I2770*10000*0.7+(MAX($G$2770:$G$2813)-G2770)/(MAX($G$2770:$G$2813)-1)*10000*0.3,0)","v":10000},{"$f":"ROUND(J2770*K2770,0)","v":9000},2018,"x",null,"ASW-15B","MA",{"$f":"VLOOKUP(A2770,Pilot,5,0)","v":"M"},{"$f":"IF(ISERROR(VLOOKUP(A2770,Pilot,6,0)),\"Není v databázi\",VLOOKUP(A2770,Pilot,6,0))","v":""}]
["Jan Zahradka",1981,"Hodkovice","CZ/C2","PPV 2018 - Klub","CZ",2,4916,4925,0.9,9917,{"$f":"ROUND(J2771*K2771,0)","v":8925},2018,"x",null,"Cirrus Std.","AR","M",""]
["Michal Kodousek",1983,"Jaroměř","CZ/C2","PPV 2018 - Klub","CZ",3,4862,4925,0.9,9771,8794,2018,"x",null,"LS-3 15m","RI","M",""]
["Jindrich Svorc",1978,"Letňany","CZ/C1","PPV 2018 - Klub","CZ",4,4764,4925,0.9,9562,8606,2018,"x",null,"Cirrus Std.","IMI","M",""]
["Vaclav Marel",1974,"Jaroměř","CZ/C2","PPV 2018 - Klub","CZ",5,4760,4925,0.9,9486,8537,2018,"x",null,"Cirrus Std.","IF","M",""]
["Petr Vodicka",1965,"Jaroměř","CZ/C2","PPV 2018 - Klub","CZ",6,4758,4925,0.9,9414,8473,2018,"x",null,"Janus b","BV","M",""]
["Josef Kolman",1983,"Letňany","CZ/C1","PPV 2018 - Klub","CZ",7,4188,4925,0.9,8534,7681,2018,"x",null,"ASW-15B","BA4","M",""]
["Rene Hudak",1972,"Kunovice","CZ/M","PPV 2018 - Klub","CZ",8,4156,4925,0.9,8419,7577,2018,"x",null,"Cirrus Std. WL","NK","M",""]
["Jan Beranek",1976,"Jihlava","CZ/M","PPV 2018 - Klub","CZ",9,4126,4925,0.9,8306,7475,2018,"x",null,"ASW-19B","U2","M",""]
["David Vrchota",1976,"Jaroměř","CZ/C2","PPV 2018 - Klub","CZ",10,4007,4925,0.9,8067,7260,2018,"x",null,"Std. Cirrus 16m","GO","M",""]
["Jaromir Pauer",1974,"Hosín","CZ/C1","PPV 2018 - Klub","CZ",11,3985,4925,0.9,7966,7169,2018,"x",null,"DG 100",78,"M",""]
["Milan Svoboda 80",1980,"Havlíčkův Brod","CZ/C2","PPV 2018 - Klub","CZ",12,3972,4925,0.9,7878,7090,2018,"x",null,"VT-116 Orlik 2",46,"M",""]
["Tomas Ptacovsky",1981,"Letňany","CZ/C1","PPV 2018 - Klub","CZ",13,3941,4925,0.9,7764,6988,2018,"x",null,"ASW-19B","WTF","M",""]
["Martin Urner",1974,"Letňany","CZ/C1","PPV 2018 - Klub","CZ",14,3900,4925,0.9,7636,6872,2018,"x",null,"ASW-15B","JJ","M",""]
["Pavel Liska",1965,"Roudnice","CZ/C2","PPV 2018 - Klub","CZ",15,3729,4925,0.9,7323,6591,2018,"x",null,"ASW-19B","RCE","M",""]
["Ondrej Blaha",1976,"Letňany","CZ/C1","PPV 2018 - Klub","CZ",16,3703,4925,{"$f":"VLOOKUP(E2785,Soutez,8,0)","v":0.9},7217,6495,2018,"x",null,"VT-116 Orlik 2",44,"M",""]
["Miloslav Hulmak",1963,"Hosín","CZ/C1","PPV 2018 - Klub","CZ",17,3694,4925,0.9,7134,6421,2018,"x",null,"ASW-15B","HH","M",""]
["Jaroslav Cempirek 77",1977,"Jihlava","CZ/M","PPV 2018 - Klub","CZ",18,3629,4925,0.9,6972,6275,2018,"x",null,"VSO-10","G1","M",""]
["Ladislav Jozsa",1981,"Medlánky","CZ/M","PPV 2018 - Klub","CZ",19,3622,4925,0.9,6892,6203,2018,"x",null,"Cirrus Std.","LJ","M",""]
["Radek Zima 75",1975,"Břeclav","CZ/M","PPV 2018 - Klub","CZ",20,3610,4925,0.9,6805,6125,2018,"x",null,"DG 100","M","M",""]
["Jan Zezula",1979,"Letňany","CZ/C1","PPV 2018 - Klub","CZ",21,3485,4925,0.9,6558,5902,2018,"x",null,"ASW-19B","HD","M",""]
["Martin Svarc",1981,"Olomouc","CZ/M","PPV 2018 - Klub","CZ",22,3479,4925,0.9,6480,5832,2018,"x",null,"DG-100","HE","M",""]
["Jan Oscatka",1990,"Jaroměř","CZ/C2","PPV 2018 - Klub","CZ",23,3461,4925,0.9,6384,5746,2018,"x",null,"Discus b","JA","M",""]
["Peter Kaspar",1980,"Vyškov","CZ/M","PPV 2018 - Klub","CZ",24,3423,4925,0.9,6261,5635,2018,"x",null,"G-102 Astir cs77","AP","M",""]
["Jiri Holcman",1976,"Hosín","CZ/C1","PPV 2018 - Klub","CZ",25,3332,4925,0.9,6061,5455,2018,"x",null,"ASW-19B","BO","M",""]
["Radoslav Pur",1973,"Hosín","CZ/C1","PPV 2018 - Klub","CZ",26,3213,4925,0.9,5823,5241,2018,"x",null,"DG-200 15m","EK","M",""]
["Antonin Pilat",1971,"Vyškov","CZ/M","PPV 2018 - Klub","CZ",27,3105,4925,0.9,5599,5039,2018,"x",null,"DG-200 15m","JB","M",""]
["Ivan Kuzelka",1945,"Havlíčkův Brod","CZ/C2","PPV 2018 - Klub","CZ",28,3070,4925,0.9,5480,4932,2018,"x",null,"VT-116 Orlik 2",116,"M",""]
["Petr Rozhon",1972,"Hosín","CZ/C1","PPV 2018 - Klub","CZ",29,3037,4925,0.9,5363,4827,2018,"x",null,"VSO-10",9,"M",""]
["Tomas Hlavacek",1984,"Kolín","CZ/C1","PPV 2018 - Klub","CZ",30,2936,4925,0.9,5150,4635,2018,"x",null,"ASW-15B","MR","M",""]
["Jiri Dockal",1982,"Letňany","CZ/C1","PPV 2018 - Klub","CZ",31,2791,4925,0.9,4874,4387,2018,"x",null,"VSO-10","L9","M",""]
["Vaclav Petru",1974,"Letňany","CZ/C1","PPV 2018 - Klub","CZ",32,2771,4925,0.9,4776,4298,2018,"x",null,"TST-3TM Alpin","AI","M",""]
["Libor Danhel",1966,"Kunovice","CZ/M","PPV 2018 - Klub","CZ",33,2524,4925,0.9,4355,3920,2018,"x",null,"Cirrus Std.","OK","M",""]
["Bedrich Honzicek",1972,"Letňany","CZ/C1","PPV 2018 - Klub","CZ",34,2472,4925,0.9,4211,3790,2018,"x",null,"DG-200 15m","RZ","M",""]
["Sarka Lochova",1966,"Šumperk","CZ/M","PPV 2018 - Klub","CZ",35,2466,4925,0.9,4133,3720,2018,"x","x","ASW-15B","EZ","F",""]
["Stanislav John",1974,"Hosín","CZ/C1","PPV 2018 - Klub","CZ",36,2421,4925,0.9,3999,3599,2018,"x",null,"DG-100","H5","M",""]
["Libor Bednarik",1972,"Kunovice","CZ/M","PPV 2018 - Klub","CZ",37,2414,4925,0.9,3919,3527,2018,null,null,"G.103 Twin Astir",103,"M",""]
["Jiri Janda",1966,"Letňany","CZ/C1","PPV 2018 - Klub","CZ",38,2318,4925,0.9,3713,3342,2018,"x",null,"Cirrus Std.","ZT","M",""]
["Lubomir Papezik",1951,"Luhačovice","CZ/M","PPV 2018 - Klub","CZ",39,2277,4925,0.9,3585,3227,2018,"x",null,"LS-4","FP","M",""]
["Jaromir Vlk",1959,"Šumperk","CZ/M","PPV 2018 - Klub","CZ",40,2256,4925,0.9,3486,{"$f":"ROUND(J2809*K2809,0)","v":3137},2018,null,null,"ASW-15B","R5","M",""]
["Michal Vopalensky",1974,"Letňany","CZ/C1","PPV 2018 - Klub","CZ",41,2238,4925,0.9,3390,3051,2018,"x",null,"Std. Cirrus","GA","M",""]
["Yvona Vyhnankova",1963,"Olomouc","CZ/M","PPV 2018 - Klub","CZ",42,2175,4925,0.9,3231,2908,2018,"x","x","ASW-15","YZ","F",""]
["Tomas Ohera",1977,"Letňany","CZ/C1","PPV 2018 - Klub","CZ",43,2088,4925,0.9,3037,2733,2018,"x",null,"Discus b","LH","M",""]
["Milos Hrabe",1979,"Letňany","CZ/C1","PPV 2018 - Klub","CZ",44,1828,4925,0.9,2598,2338,2018,"x",null,"Cirrus Std.","L8","M",""]
["Jan Boruvka",1984,"Jičín","CZ/C2","PPV 2018 - Kombi","CZ",1,5204,5204,0.9,{"$f":"ROUND(H2814/I2814*10000*0.7+(MAX($G$2814:$G$2830)-G2814)/(MAX($G$2814:$G$2830)-1)*10000*0.3,0)","v":10000},{"$f":"ROUND(J2814*K2814,0)","v":9000},2018,"x",null,"Ventus c 17,6m","EG","M",""]
["Josef Busek",1967,"Hosín","CZ/C1","PPV 2018 - Kombi","CZ",2,4924,5204,0.9,9436,{"$f":"ROUND(J2815*K2815,0)","v":8492},2018,"x",null,"DuoDiscus XT","BB","M",""]
["Zdenek Boruvka 54",1954,"Jičín","CZ/C2","PPV 2018 - Kombi","CZ",3,4869,5204,0.9,9174,8257,2018,"x",null,"LS-8-18 15m","ZB","M",""]
["Zdenek Schenk",1972,"Hranice","CZ/M","PPV 2018 - Kombi","CZ",4,4612,5204,{"$f":"VLOOKUP(E2817,Soutez,8,0)","v":0.9},8641,7777,2018,"x",null,"Ventus ct 17,6m","SNK","M",""]
["Antonin Konicek",1973,"Kunovice","CZ/M","PPV 2018 - Kombi","CZ",5,4588,5204,0.9,8421,7579,2018,"x",null,"HPH 304M Shark 18m 600kg","KK","M",""]
["Jan Simon",1970,"Kralupy","CZ/C1","PPV 2018 - Kombi","CZ",6,4555,5204,0.9,8190,7371,2018,"x",null,"Duo Discus T (700kg)","ZS","M",""]
["Jan Dersak 69",1969,"Kralupy","CZ/C1","PPV 2018 - Kombi","CZ",7,4550,5204,0.9,7995,7196,2018,"x",null,"HPH 304CZ 17,4","DJ","M",""]
["Lukas Capek",1992,"Letňany","CZ/C1","PPV 2018 - Kombi","CZ",8,4536,5204,0.9,7789,7010,2018,null,null,"303 Mosquito","LC","M",""]
["Pavel Zima",1979,"Břeclav","CZ/M","PPV 2018 - Kombi","CZ",9,4516,5204,0.9,7575,6818,2018,"x",null,"Ventus cM 17,6m","RK","M",""]
["David Zapletal",1970,"Mladá Boleslav","CZ/C1","PPV 2018 - Kombi","CZ",10,3932,5204,0.9,6602,5942,2018,"x",null,"Ventus c 17,6m","PUP","M",""]
["Tomas Profeld",1964,"Jičín","CZ/C2","PPV 2018 - Kombi","CZ",11,3620,5204,0.9,5994,5395,2018,"x",null,"Ventus 2cm 18m 525kg","OZ","M",""]
["Petr Stepanek",1989,"Moravská Třebová","CZ/M","PPV 2018 - Kombi","CZ",12,3520,5204,0.9,5672,5105,2018,null,null,"Nimbus 2b","MT","M",""]
["Martin Jurovic",null,"Bratislava","SK","PPV 2018 - Kombi","CZ",13,3413,5204,0.9,5341,4807,2018,null,null,"Duo Discus (700kg)","2X","M","Není v databázi"]
["Pavel Haluza",1966,"Prostějov","CZ/M","PPV 2018 - Kombi","CZ",14,3093,5204,0.9,4723,4251,2018,"x",null,"Nimbus 2b","HT","M",""]
["Milos Mach",null,"Nové Zámky","SK","PPV 2018 - Kombi","CZ",15,2589,5204,0.9,3858,3472,2018,null,null,"Discus 2ct 18m","JH","M","Není v databázi"]
["Vaclav Hruza",1965,"Břeclav","CZ/M","PPV 2018 - Kombi","CZ",16,2320,5204,0.9,3308,2977,2018,"x",null,"HPH 304 SJ 18m 573kg","TH","M",""]
["Petr Malcek",1965,"Letňany","CZ/C1","PPV 2018 - Kombi","CZ",17,645,5204,0.9,868,781,2018,"x",null,"Duo Discus (700kg)",777,{"$f":"VLOOKUP(A2830,Pilot,5,0)","v":"M"},{"$f":"IF(ISERROR(VLOOKUP(A2830,Pilot,6,0)),\"Není v databázi\",VLOOKUP(A2830,Pilot,6,0))","v":""}]
["Petr Rygl",{"$f":"VLOOKUP(A2831,Pilot,2,0)","v":1966},{"$f":"VLOOKUP(A2831,Pilot,3,0)","v":"Jičín"},{"$f":"VLOOKUP(A2831,Pilot,4,0)","v":"CZ/C2"},"Pohár Českého Ráje 2018 - Kombi","CZ",1,4221,4221,0.6,{"$f":"ROUND(H2831/I2831*10000*0.7+(MAX($G$2831:$G$2840)-G2831)/(MAX($G$2831:$G$2840)-1)*10000*0.3,0)","v":10000},{"$f":"ROUND(J2831*K2831,0)","v":6000},2018,"x",null,"ASW 15b","A18",{"$f":"VLOOKUP(A2831,Pilot,5,0)","v":"M"},{"$f":"IF(ISERROR(VLOOKUP(A2831,Pilot,6,0)),\"Není v databázi\",VLOOKUP(A2831,Pilot,6,0))","v":""}]
["Zbynek Fuksa",{"$f":"VLOOKUP(A2832,Pilot,2,0)","v":1956},{"$f":"VLOOKUP(A2832,Pilot,3,0)","v":"Jičín"},{"$f":"VLOOKUP(A2832,Pilot,4,0)","v":"CZ/C2"},"Pohár Českého Ráje 2018 - Kombi","CZ",2,3872,4221,0.6,9088,{"$f":"ROUND(J2832*K2832,0)","v":5453},2018,"x",null,"Duo Discus xlt",88,"M",""]
["Radek Tobolka",1977,"Jičín","CZ/C2","Pohár Českého Ráje 2018 - Kombi","CZ",3,3659,4221,0.6,8401,5041,2018,"x",null,"Std. Cir.","XL","M",""]
["Petr Tax",1968,"Jičín","CZ/C2","Pohár Českého Ráje 2018 - Kombi","CZ",4,3463,4221,0.6,7743,4646,2018,"x",null,"Terej","PT","M",""]
["I. Kopáček + L. Florian",null,"Jičín","CZ/C2","Pohár Českého Ráje 2018 - Kombi","CZ",5,3123,4221,0.6,6846,4108,2018,null,null,"Std. Cirrus","SC",null,"Není v databázi"]
["P. Kyzivát + M. Coufal",null,"Jičín","CZ/C2","Pohár Českého Ráje 2018 - Kombi","CZ",6,2657,4221,0.6,5740,3444,2018,null,null,"Std. Cirrus","FS",null,"Není v databázi"]
["Lukas Jezek",1975,"Jičín","CZ/C2","Pohár Českého Ráje 2018 - Kombi","CZ",7,2521,4221,0.6,5181,3109,2018,"x",null,"Janus 18.2m","JC","M",""]
["Miroslav Trybucek",1965,"Jičín","CZ/C2","Pohár Českého Ráje 2018 - Kombi","CZ",8,1750,4221,0.6,3569,2141,2018,"x",null,"Ventus 2cT/18m","OZ","M",""]
["Ales Holoubek",1966,"Jičín","CZ/C2","Pohár Českého Ráje 2018 - Kombi","CZ",9,1414,4221,0.6,2678,1607,2018,"x",null,"ASW 15B","T","M",""]
["Jaromir Macoun",1999,"Jičín","CZ/C2","Pohár Českého Ráje 2018 - Kombi","CZ",10,735,4221,0.6,1219,731,2018,null,null,"Std. Cirrus","CX","M","Junior v roce 2019"]
["Marek Pechanec",{"$f":"VLOOKUP(A2841,Pilot,2,0)","v":1970},{"$f":"VLOOKUP(A2841,Pilot,3,0)","v":"Luhačovice"},{"$f":"VLOOKUP(A2841,Pilot,4,0)","v":"CZ/M"},"PMRg 2018 - Klub","CZ",1,6509,6509,0.96499999999999997,{"$f":"ROUND(H2841/I2841*10000*0.7+(MAX($G$2841:$G$2876)-G2841)/(MAX($G$2841:$G$2876)-1)*10000*0.3,0)","v":10000},{"$f":"ROUND(J2841*K2841,0)","v":9650},2018,"x",null,"std. cirrus","SJ",{"$f":"VLOOKUP(A2841,Pilot,5,0)","v":"M"},{"$f":"IF(ISERROR(VLOOKUP(A2841,Pilot,6,0)),\"Není v databázi\",VLOOKUP(A2841,Pilot,6,0))","v":""}]
["Zdenek Boruvka 86",1986,"Jičín","CZ/C2","PMRg 2018 - Klub","CZ",2,6377,6509,0.96499999999999997,9772,{"$f":"ROUND(J2842*K2842,0)","v":9430},2018,"x",null,"Std. Cirrus","BJ","M",""]
["Karel Novak",1993,"Mladá Boleslav","CZ/C1","PMRg 2018 - Klub","CZ",3,6342,6509,0.96499999999999997,9649,9311,2018,"x",null,"std. cirrus","DI","M",""]
["Daniel Ryba",1994,"Dvůr Králové","CZ/C2","PMRg 2018 - Klub","CZ",4,6268,6509,0.96499999999999997,9484,9152,2018,"x",null,"ASW-19B","L7","M","Junior v roce 2019"]
["Petr Panek",1975,"Dvůr Králové","CZ/C2","PMRg 2018 - Klub","CZ",5,6208,6509,0.96499999999999997,9333,9006,2018,"x",null,"std. cirrus","YU","M",""]
["Vaclav Marel",1974,"Jaroměř","CZ/C2","PMRg 2018 - Klub","CZ",6,5949,6509,0.96499999999999997,8969,8655,2018,"x",null,"Std. Cirrus","IF","M",""]
["Jan Ratz",1987,"Plasy","CZ/C1","PMRg 2018 - Klub","CZ",7,5857,6509,0.96499999999999997,8785,8478,2018,"x",null,"Std. Cirrus","REX","M",""]
["Lukas Koukal",1991,"Letkov","CZ/C1","PMRg 2018 - Klub","CZ",8,5526,6509,0.96499999999999997,8343,8051,2018,"x",null,"ASW-15B","T1","M",""]
["Jan Vavrin",1987,"Vysoké Mýto","CZ/C2","PMRg 2018 - Klub","CZ",9,5438,6509,{"$f":"VLOOKUP(E2849,Soutez,8,0)","v":0.96499999999999997},8162,7876,2018,"x",null,"ASW-15B","IG","M",""]
["Vojtech Novotny",1992,"Kralupy","CZ/C1","PMRg 2018 - Klub","CZ",10,5418,6509,0.96499999999999997,8055,7773,2018,"x",null,"LS-1f","EF","M",""]
["Lukas Plocek",1990,"Mladá Boleslav","CZ/C1","PMRg 2018 - Klub","CZ",11,5400,6509,0.96499999999999997,7950,7672,2018,"x",null,"ASW-19B","AH","M",""]
["Michal Krupicka",1975,"Most","CZ/C2","PMRg 2018 - Klub","CZ",12,5390,6509,0.96499999999999997,7854,7579,2018,"x",null,"Std. Cirrus","K","M",""]
["Marek Svancara",1976,"GAC Benešov","CZ/C1","PMRg 2018 - Klub","CZ",13,5343,6509,0.96499999999999997,7717,7447,2018,"x",null,"Std. Cirrus","GT","M",""]
["Jan Zahradka",1981,"Hodkovice","CZ/C2","PMRg 2018 - Klub","CZ",14,5324,6509,0.96499999999999997,7611,7345,2018,"x",null,"Std. Cirrus","AR","M",""]
["Jan Smaha",1958,"Česká Lípa","CZ/C2","PMRg 2018 - Klub","CZ",15,5255,6509,0.96499999999999997,7451,7190,2018,"x",null,"ASW-15B","CW","M",""]
["Jan Hruska",1988,"Tábor","CZ/C1","PMRg 2018 - Klub","CZ",16,5175,6509,0.96499999999999997,7280,7025,2018,"x",null,"ASW-15B","LF","M",""]
["Vojtech Hajek",1987,"Mladá Boleslav","CZ/C1","PMRg 2018 - Klub","CZ",17,5122,6509,0.96499999999999997,7137,6887,2018,"x",null,"Std. Cirrus","BW","M",""]
["Antonin Novotny",1972,"Luhačovice","CZ/M","PMRg 2018 - Klub","CZ",18,5057,6509,0.96499999999999997,6981,6737,2018,"x",null,"Std. Cirrus","SP","M",""]
["Ondrej Sindelar",1979,"Mladá Boleslav","CZ/C1","PMRg 2018 - Klub","CZ",19,4881,6509,0.96499999999999997,6706,6471,2018,"x",null,"ASW-19B","OI","M",""]
["Jakub Kohn",1992,"Prostějov","CZ/M","PMRg 2018 - Klub","CZ",20,4714,6509,0.96499999999999997,6441,6216,2018,"x",null,"ASW-15B","FK","M",""]
["Ladislav Jozsa",1981,"Medlánky","CZ/M","PMRg 2018 - Klub","CZ",21,4708,6509,0.96499999999999997,6349,6127,2018,"x",null,"Std. Cirrus","LJ","M",""]
["Jindrich Hruska",1986,"Soběslav","CZ/C1","PMRg 2018 - Klub","CZ",22,4616,6509,0.96499999999999997,6164,5948,2018,"x",null,"ASW-15","ASW","M",""]
["Pavlina Horackova",1965,"Šumperk","CZ/M","PMRg 2018 - Klub","CZ",23,4590,6509,0.96499999999999997,6051,5839,2018,null,null,"SZD-48 Jantar Std. 2(3)","SU","F",""]
["Jan Vozeh",1995,"Rakovník","CZ/C1","PMRg 2018 - Klub","CZ",24,4499,6509,0.96499999999999997,5867,5662,2018,null,null,"std. cirrus","OG","M","Junior v roce 2019"]
["David Sachl",1978,"Kralupy","CZ/C1","PMRg 2018 - Klub","CZ",25,4374,6509,0.96499999999999997,5647,5449,2018,"x",null,"DG-300","BK","M",""]
["Vilem Riha",1990,"Letňany","CZ/C1","PMRg 2018 - Klub","CZ",26,4300,6509,0.96499999999999997,5482,5290,2018,"x",null,"Std. Cirrus","UB","M",""]
["Karel Knotek",1961,"Soběslav","CZ/C1","PMRg 2018 - Klub","CZ",27,4163,6509,0.96499999999999997,5248,5064,2018,"x",null,"ASW-19","SO","M",""]
["Martin Kriz",1968,"Přibyslav","CZ/C2","PMRg 2018 - Klub","CZ",28,4085,6509,0.96499999999999997,5079,4901,2018,"x",null,"ASW-15B","BE","M",""]
["Pavel Liska",1965,"Roudnice","CZ/C2","PMRg 2018 - Klub","CZ",29,3725,6509,0.96499999999999997,4606,4445,2018,"x",null,"ASW-19B","RCE","M",""]
["Tereza Koubkova",1999,"Letňany","CZ/C1","PMRg 2018 - Klub","CZ",30,3668,6509,0.96499999999999997,4459,4303,2018,"x","x","Std. Cirrus","WY","F","Junior v roce 2019"]
["Karel Policky",1950,"Kolín","CZ/C1","PMRg 2018 - Klub","CZ",31,3427,6509,0.96499999999999997,4114,3970,2018,"x",null,"VSO-10",47,"M",""]
["Ondrej Dvorak 98",1998,"Mladá Boleslav","CZ/C1","PMRg 2018 - Klub","CZ",32,3377,6509,0.96499999999999997,3975,3836,2018,"x",null,"ASW-15B","MB","M","Junior v roce 2019"]
["Pavel Sulc",1976,"Hodkovice","CZ/C2","PMRg 2018 - Klub","CZ",33,3096,6509,0.96499999999999997,3587,3461,2018,"x",null,"Std. Cirrus","AC","M",""]
["Milada Moudra",1991,"Hodkovice","CZ/C2","PMRg 2018 - Klub","CZ",34,2540,6509,0.96499999999999997,2903,2801,2018,"x","x","ASW-19B","XP","F",""]
["Leos Strnadek",1983,"Hodkovice","CZ/C2","PMRg 2018 - Klub","CZ",35,2113,6509,0.96499999999999997,2358,2275,2018,null,null,"ASW-19B","XZ","M",""]
["Petr Lonsky",1965,"Toužim","CZ/C1","PMRg 2018 - Klub","CZ",36,638,6509,0.96499999999999997,686,662,2018,null,null,"Cirrus VTC","JP","M",""]
["Jan Louda",1986,"Mladá Boleslav","CZ/C1","PMRg 2018 - Kombi","CZ",1,7195,7195,0.97,{"$f":"ROUND(H2877/I2877*10000*0.7+(MAX($G$2877:$G$2893)-G2877)/(MAX($G$2877:$G$2893)-1)*10000*0.3,0)","v":10000},{"$f":"ROUND(J2877*K2877,0)","v":9700},2018,"x",null,"Ventus a 15m WL 500kg (voda)","FW","M",""]
["Karel Mares",1974,"Slaný","CZ/C1","PMRg 2018 - Kombi","CZ",2,6865,7195,0.97,9491,{"$f":"ROUND(J2878*K2878,0)","v":9206},2018,"x",null,"LS-8b, LS-8-18, LS-8t /18m","YF","M",""]
["Jana Veprekova",1961,"Dvůr Králové","CZ/C2","PMRg 2018 - Kombi","CZ",3,6818,7195,0.97,9258,8980,2018,"x","x","LS 8,a,b,s,st,18 15m (voda)","W8","F",""]
["Hana Treslova",1991,"Raná","CZ/C2","PMRg 2018 - Kombi","CZ",4,6765,7195,0.97,9019,8748,2018,"x","x","LS 8,a,b,s,st,18 15m (voda)","FX","F",""]
["Dana Novakova",1965,"Mladá Boleslav","CZ/C1","PMRg 2018 - Kombi","CZ",5,6742,7195,{"$f":"VLOOKUP(E2881,Soutez,8,0)","v":0.97},8809,8545,2018,"x","x","LS 8,a,b,s,st,18 15m (voda)","AU","F",""]
["Jana Treslova",1963,"Raná","CZ/C2","PMRg 2018 - Kombi","CZ",6,6716,7195,0.97,8596,8338,2018,"x","x","LS 8,a,b,s,st,18 15m (voda)","EU","F",""]
["Jiri Kusbach",1959,"Luhačovice","CZ/M","PMRg 2018 - Kombi","CZ",7,6510,7195,0.97,8209,7963,2018,"x",null,"KKB-18E FES (voda)","B","M",""]
["Radek Zima 78",1978,"Hodkovice","CZ/C2","PMRg 2018 - Kombi","CZ",8,6481,7195,0.97,7993,7753,2018,"x",null,"Ventus b /15m WL -500 kg","7F","M",""]
["Petr Hotovy",1958,"Česká Lípa","CZ/C2","PMRg 2018 - Kombi","CZ",9,6061,7195,0.97,7397,7175,2018,null,null,"JS-1A,B,C,BTJ,CTJ 18m (voda)","IGC","M",""]
["Ladislav Prokes",1954,"Vrchlabí","CZ/C2","PMRg 2018 - Kombi","CZ",10,5935,7195,0.97,7087,6874,2018,"x",null,"Discus b","VR","M",""]
["Jaroslav Buryan",1953,"Zábřeh","CZ/M","PMRg 2018 - Kombi","CZ",11,5901,7195,0.97,6866,6660,2018,"x",null,"ASW-20(A)+F 15m+W (voda)","NS","M",""]
["Miroslav Koci",1961,"Žamberk","CZ/C2","PMRg 2018 - Kombi","CZ",12,4877,7195,0.97,5682,5512,2018,"x",null,"Ventusy: 2cx, 2cxm, 2cxt /18m -600 kg","E8","M",""]
["Slavomir Piskaty 58",1958,"Kunovice","CZ/M","PMRg 2018 - Kombi","CZ",13,4380,7195,0.97,5011,4861,2018,"x",null,"Discus b +W(voda)","KAL","M",""]
["Martin Cicvarek",1966,"Liberec","CZ/C2","PMRg 2018 - Kombi","CZ",14,4248,7195,0.97,4695,4554,2018,"x",null,"DG-400 17m","AC","M",""]
["Petr Frycek",1960,"Most","CZ/C2","PMRg 2018 - Kombi","CZ",15,3737,7195,0.97,4011,3891,2018,"x",null,"Nimbus 3 (25,5m,700kg)(voda)","F","M",""]
["Antonin Kutalek",1943,"Zábřeh","CZ/M","PMRg 2018 - Kombi","CZ",16,2610,7195,0.97,2727,2645,2018,null,null,"Mini-Nimbus c (voda)","GL","M",""]
["Olga Mokosova",1970,"Jihlava","CZ/M","PMRg 2018 - Kombi","CZ",17,2309,7195,0.97,2246,2179,2018,null,null,"LS 6c 18m+W (voda)","MM","F",""]
["Wolfgang Janowitsch",null,"Austria",null,"35. WGC 2018 - 18m","CZ",1,10236,10236,{"$f":"VLOOKUP(E2894,Soutez,8,0)","v":1.105},{"$f":"ROUND(H2894/I2894*10000*0.7+(MAX($G$2894:$G$2938)-G2894)/(MAX($G$2894:$G$2938)-1)*10000*0.3,0)","v":10000},{"$f":"ROUND(J2894*K2894,0)","v":11050},2018,null,null,"Ventus 3T","WO","M"]
["Mario Kiessling",null,"Germany",null,"35. WGC 2018 - 18m","CZ",2,10097,10236,1.105,9837,{"$f":"ROUND(J2895*K2895,0)","v":10870},2018,null,null,"Ventus 3T","I","M"]
["Jean-Denis Barrois",null,"France",null,"35. WGC 2018 - 18m","CZ",3,9915,10236,1.105,9644,10657,2018,null,null,"JS 3","FM","M"]
["Peter Millenaar",null,"Netherlands",null,"35. WGC 2018 - 18m","CZ",4,9820,10236,1.105,9511,10510,2018,null,null,"Ventus 3T","VY","M"]
["Christophe Cousseau",null,"France",null,"35. WGC 2018 - 18m","CZ",5,9766,10236,1.105,9406,10394,2018,null,null,"JS 3","FQ","M"]
["Roman Mracek",{"$f":"VLOOKUP(A2899,Pilot,2,0)","v":1980},{"$f":"VLOOKUP(A2899,Pilot,3,0)","v":"Letkov"},{"$f":"VLOOKUP(A2899,Pilot,4,0)","v":"CZ/C1"},"35. WGC 2018 - 18m","CZ",6,9709,10236,1.105,9299,10275,2018,"x",null,"Ventus 3 FES","LB",{"$f":"VLOOKUP(A2899,Pilot,5,0)","v":"M"},{"$f":"IF(ISERROR(VLOOKUP(A2899,Pilot,6,0)),\"Není v databázi\",VLOOKUP(A2899,Pilot,6,0))","v":""}]
["Tomas Suchanek",1964,"GAC Benešov","CZ/C1","35. WGC 2018 - 18m","CZ",7,9690,10236,1.105,9218,10186,2018,"x",null,"Ventus 3T","3V","M",""]
["Katrin Senne",null,"Germany",null,"35. WGC 2018 - 18m","CZ",8,9664,10236,1.105,9132,10091,2018,null,null,"JS 3","IG","F"]
["Oscar Goudriaan",null,"South Africa",null,"35. WGC 2018 - 18m","CZ",9,9626,10236,1.105,9037,9986,2018,null,null,"JS 3","OG","M"]
["Gyorgy Gulyas",null,"Hungary",null,"35. WGC 2018 - 18m","CZ",10,9622,10236,1.105,8966,9907,2018,null,null,"JS 3","AX","M"]
["Bert Schmelzer",null,"Belgium",null,"35. WGC 2018 - 18m","CZ",11,9569,10236,1.105,8862,9793,2018,null,null,"Ventus 3T","2X","M"]
["John Buchanan",null,"Australia",null,"35. WGC 2018 - 18m","CZ",12,9440,10236,1.105,8706,9620,2018,null,null,"JS 3","BB","M"]
["Russell Cheetham",null,"United Kingdom",null,"35. WGC 2018 - 18m","CZ",13,9410,10236,1.105,8617,9522,2018,null,null,"JS 3","E1","M"]
["Laurens Goudriaan",null,"South Africa",null,"35. WGC 2018 - 18m","CZ",14,9396,10236,1.105,8539,9436,2018,null,null,"JS 3","LG","M"]
["Adomas Grabskis",null,"Lithuania",null,"35. WGC 2018 - 18m","CZ",15,9369,10236,1.105,8453,9341,2018,null,null,"JS 1B","LR","M"]
["Peter Szabo",null,"Hungary",null,"35. WGC 2018 - 18m","CZ",16,9247,10236,1.105,8301,9173,2018,null,null,"JS 3","BX","M"]
["Rolf Friedli",null,"Switzerland",null,"35. WGC 2018 - 18m","CZ",17,9221,10236,1.105,8215,9078,2018,null,null,"ASG-29","F","M"]
["Arne Boye-Møller",null,"Denmark",null,"35. WGC 2018 - 18m","CZ",18,9173,10236,1.105,8114,8966,2018,null,null,"JS 3","JS3","M"]
["Mike Young",null,"United Kingdom",null,"35. WGC 2018 - 18m","CZ",19,9137,10236,1.105,8021,8863,2018,null,null,"Ventus 3",120,"M"]
["Giancarlo Grinza",null,"Italy",null,"35. WGC 2018 - 18m","CZ",20,9126,10236,1.105,7945,8779,2018,null,null,"Ventus 3 FES","CU","M"]
["Adam Woolley",null,"Australia",null,"35. WGC 2018 - 18m","CZ",21,9076,10236,1.105,7843,8667,2018,null,null,"Ventus 3T","HC","M"]
["Jurg Haas",null,"Switzerland",null,"35. WGC 2018 - 18m","CZ",22,9022,10236,1.105,7738,8550,2018,null,null,"JS 1C","CH","M"]
["Martti Sucksdorff",null,"Finland",null,"35. WGC 2018 - 18m","CZ",23,8999,10236,1.105,7654,8458,2018,null,null,"ASG-29E","WS","M"]
["Jerzy Szemplinski",null,"Canada",null,"35. WGC 2018 - 18m","CZ",24,8916,10236,1.105,7529,8320,2018,null,null,"ASG-29","XG","M"]
["Erik Nelson",null,"United States of America",null,"35. WGC 2018 - 18m","CZ",25,8786,10236,1.105,7372,8146,2018,null,null,"Ventus 3T","5E","M"]
["Piotr Jarysz",null,"Poland",null,"35. WGC 2018 - 18m","CZ",26,8775,10236,1.105,7296,8062,2018,null,null,"ASG-29","PL","M"]
["Jeroen Verkuijl",null,"Netherlands",null,"35. WGC 2018 - 18m","CZ",27,8771,10236,1.105,7225,7984,2018,null,null,"JS 3",3,"M"]
["Damian Goldenzweig",null,"Argentina",null,"35. WGC 2018 - 18m","CZ",28,8767,10236,1.105,7154,7905,2018,null,null,"Ventus 3T","3M","M"]
["Alberto Pozzi",null,"Italy",null,"35. WGC 2018 - 18m","CZ",29,8672,10236,1.105,7021,7758,2018,null,null,"Ventus 2 cxa","AY","M"]
["Vladimir Foltin",null,"Slovakia",null,"35. WGC 2018 - 18m","CZ",30,8577,10236,1.105,6888,7611,2018,null,null,"ASG-29E","AJ","M"]
["Matthias Sturm",null,"Germany",null,"35. WGC 2018 - 18m","CZ",31,8539,10236,1.105,6794,7507,2018,null,null,"JS 3","XM","M"]
["Hannu Halonen",null,"Finland",null,"35. WGC 2018 - 18m","CZ",32,8471,10236,1.105,6679,7380,2018,null,null,"Ventus 3T","W","M"]
["Bernhard Leitner",null,"Austria",null,"35. WGC 2018 - 18m","CZ",33,8324,10236,{"$f":"VLOOKUP(E2926,Soutez,8,0)","v":1.105},6511,7195,2018,null,null,"Ventus 2 cxm","LV","M"]
["Lukasz Wojcik",null,"Poland",null,"35. WGC 2018 - 18m","CZ",34,8284,10236,1.105,6415,7089,2018,null,null,"Diana 3","D3","M"]
["Luka Znidarsic",null,"Slovenia",null,"35. WGC 2018 - 18m","CZ",35,8059,10236,1.105,6193,6843,2018,null,null,"Ventus 2 cxa FES","LZ","M"]
["Takeshi Maruyama",null,"Japan",null,"35. WGC 2018 - 18m","CZ",36,8049,10236,1.105,6118,{"$f":"ROUND(J2929*K2929,0)","v":6760},2018,null,null,"ASG-29E","2C","M"]
["Federico Buscema",null,"Argentina",null,"35. WGC 2018 - 18m","CZ",37,7938,10236,1.105,5974,{"$f":"ROUND(J2930*K2930,0)","v":6601},2018,null,null,"ASG-29E","OS","M"]
["Teet Jagomägi",null,"Estonia",null,"35. WGC 2018 - 18m","CZ",38,7796,10236,1.105,5809,6419,2018,null,null,"JS 1B","TB","M"]
["Olivier Sevrin",null,"Belgium",null,"35. WGC 2018 - 18m","CZ",39,7473,10236,1.105,5520,6100,2018,null,null,"ASG-29E",29,"M"]
["Gunnar Axelsson",null,"Sweden",null,"35. WGC 2018 - 18m","CZ",40,6895,10236,1.105,5056,5587,2018,null,null,"ASG-29E","TC","M"]
["Branko Blagojevic",null,"Serbia",null,"35. WGC 2018 - 18m","CZ",41,6710,10236,1.105,4861,5371,2018,null,null,"JS 1C","BP","M"]
["Kestutis Miliunas",null,"Liithuania",null,"35. WGC 2018 - 18m","CZ",42,6406,10236,1.105,4585,5066,2018,null,null,"ASG-29","M7","M"]
["Svend Andersen",null,"Denmark",null,"35. WGC 2018 - 18m","CZ",43,6375,10236,1.105,4496,4968,2018,null,null,"ASG-29E","2O","M"]
["Robert W. Fletcher",null,"United States of America",null,"35. WGC 2018 - 18m","CZ",44,5288,10236,1.105,3684,4071,2018,null,null,"ASG-29E",70,"M"]
["Patrick Driessen",null,"New Zealand",null,"35. WGC 2018 - 18m","CZ",45,4767,10236,1.105,3260,3602,2018,null,null,"JS 1C","8Q","M"]
["Michael Sommer",null,"Germany",null,"35. WGC 2018 - Open","CZ",1,10662,10662,1.095,{"$f":"ROUND(H2939/I2939*10000*0.7+(MAX($G$2939:$G$2969)-G2939)/(MAX($G$2939:$G$2969)-1)*10000*0.3,0)","v":10000},{"$f":"ROUND(J2939*K2939,0)","v":10950},2018,null,null,"EB 29 R","EB","M"]
["Felipe Levin",null,"Germany",null,"35. WGC 2018 - Open","CZ",2,10571,10662,1.095,9840,{"$f":"ROUND(J2940*K2940,0)","v":10775},2018,null,null,"EB 29 DR","WB","M"]
["Petr Tichy",{"$f":"VLOOKUP(A2941,Pilot,2,0)","v":1973},{"$f":"VLOOKUP(A2941,Pilot,3,0)","v":"Zbraslavice"},{"$f":"VLOOKUP(A2941,Pilot,4,0)","v":"CZ/C1"},"35. WGC 2018 - Open","CZ",3,10301,10662,1.095,9563,10471,2018,"x",null,"EB 29R","EX",{"$f":"VLOOKUP(A2941,Pilot,5,0)","v":"M"},{"$f":"IF(ISERROR(VLOOKUP(A2941,Pilot,6,0)),\"Není v databázi\",VLOOKUP(A2941,Pilot,6,0))","v":""}]
["Riccardo Brigliadori",null,"Italy",null,"35. WGC 2018 - Open","CZ",4,10075,10662,1.095,9315,10200,2018,null,null,"JS1 C","LEO","M"]
["Peter Harvey",null,"United Kingdom",null,"35. WGC 2018 - Open","CZ",5,10006,10662,1.095,9169,10040,2018,null,null,"JS1 C","N1","M"]
["Philippe de Péchy",null,"France",null,"35. WGC 2018 - Open","CZ",6,9993,10662,1.095,9061,9922,2018,null,null,"JS1 C","EJ","M"]
["Sylvain Gerbaud",null,"France",null,"35. WGC 2018 - Open","CZ",7,9845,10662,1.095,8864,9706,2018,null,null,"JS1 C",72,"M"]
["Andy Davis",null,"United Kingdom",null,"35. WGC 2018 - Open","CZ",8,9831,10662,1.095,8754,9586,2018,null,null,"JS1 C",80,"M"]
["Zdislaw Bednarczuk",null,"Poland",null,"35. WGC 2018 - Open","CZ",9,9680,10662,1.095,8555,9368,2018,null,null,"JS1 C","P","M"]
["Henrik A. Breidahl",null,"Denmark",null,"35. WGC 2018 - Open","CZ",10,9664,10662,1.095,8445,9247,2018,null,null,"JS1 C","EI","M"]
["Ronald Termaat",null,"Netherlands",null,"35. WGC 2018 - Open","CZ",11,9662,10662,1.095,8343,9136,2018,null,null,"JS1 C","XT","M"]
["Uys Jonker",null,"South Africa",null,"35. WGC 2018 - Open","CZ",12,9658,10662,1.095,8241,9024,2018,null,null,"JS1 C","EVO","M"]
["Jim Acketoft",null,"Sweden",null,"35. WGC 2018 - Open","CZ",13,9619,10662,1.095,8115,8886,2018,null,null,"EB 29 DR","DD","M"]
["Hadriaan van Nes",null,"Netherlands",null,"35. WGC 2018 - Open","CZ",14,9618,10662,1.095,8015,8776,2018,null,null,"JS1 C","APU","M"]
["Petr Krejcirik",{"$f":"VLOOKUP(A2953,Pilot,2,0)","v":1960},{"$f":"VLOOKUP(A2953,Pilot,3,0)","v":"Hranice"},{"$f":"VLOOKUP(A2953,Pilot,4,0)","v":"CZ/M"},"35. WGC 2018 - Open","CZ",15,9572,10662,1.095,7884,8633,2018,null,null,"JS1 C","LX",{"$f":"VLOOKUP(A2953,Pilot,5,0)","v":"M"},{"$f":"IF(ISERROR(VLOOKUP(A2953,Pilot,6,0)),\"Není v databázi\",VLOOKUP(A2953,Pilot,6,0))","v":""}]
["Zoran Frenc",null,"Serbia",null,"35. WGC 2018 - Open","CZ",16,9451,10662,1.095,7705,8437,2018,null,null,"JS1 C","ZF","M"]
["Jan W. Andersen",null,"Denmark",null,"35. WGC 2018 - Open","CZ",17,9405,10662,1.095,7575,8295,2018,null,null,"EB 29","A","M"]
["Laszlo Halasz",null,"Hungary",null,"35. WGC 2018 - Open","CZ",18,9283,10662,1.095,7395,8098,2018,null,null,"JS1 C","IBX","M"]
["Pierre de Broqueville",null,"Belgium",null,"35. WGC 2018 - Open","CZ",19,9138,10662,1.095,7199,7883,2018,null,null,"EB 29 DR","IP3","M"]
["AP Kotze",null,"South Africa",null,"35. WGC 2018 - Open","CZ",20,8590,10662,{"$f":"VLOOKUP(E2958,Soutez,8,0)","v":1.095},6740,7380,2018,null,null,"JS1 C","W2","M"]
["Richard Bartolf",null,"Hungary",null,"35. WGC 2018 - Open","CZ",21,8533,10662,1.095,6602,7229,2018,null,null,"JS1 C","HAB","M"]
["Michael Robison",null,"United States of America",null,"35. WGC 2018 - Open","CZ",22,8470,10662,1.095,6461,7075,2018,null,null,"ASH-25 EB 28","PWR","M"]
["Sven Kolb",null,"Austria",null,"35. WGC 2018 - Open","CZ",23,8335,10662,1.095,6272,6868,2018,null,null,"Antares 23E","LS","M"]
["Mauro Brunazzo",null,"Italy",null,"35. WGC 2018 - Open","CZ",24,8101,10662,1.095,6019,6591,2018,null,null,"Quintus M","AS","M"]
["David Coggins",null,"United States of America",null,"35. WGC 2018 - Open","CZ",25,7353,10662,1.095,5428,5944,2018,null,null,"JS1 C","DT","M"]
["Rene Schoenmann",null,"Switzerland",null,"35. WGC 2018 - Open","CZ",26,7140,10662,1.095,5188,5681,2018,null,null,"JS1 C","RS","M"]
["Martin Furješ",null,"Slovakia",null,"35. WGC 2018 - Open","CZ",27,6728,10662,1.095,4817,5275,2018,null,null,"JS1 C","IMD","M"]
["Owe Engstrom",null,"Sweden",null,"35. WGC 2018 - Open","CZ",28,6447,10662,1.095,4533,4964,2018,null,null,"ASH 25 EB","TP","M"]
["Guido Halter",null,"Switzerland",null,"35. WGC 2018 - Open","CZ",29,5959,10662,1.095,4112,4503,2018,null,null,"ASH-25M","HU","M"]
["Sebastian Eder",null,"Austria",null,"35. WGC 2018 - Open","CZ",30,5880,10662,1.095,3960,4336,2018,null,null,"EB 29 R","FJ","M"]
["Scott Percival",null,"Australia",null,"35. WGC 2018 - Open","CZ",31,4843,10662,1.095,3180,3482,2018,null,null,"Quintus M","V","M"]
["Matkowski & Kawa",null,"Poland",null,"35. WGC 2018 - Duo 20m","CZ",1,10600,10600,1.07,{"$f":"ROUND(H2970/I2970*10000*0.7+(MAX($G$2970:$G$2987)-G2970)/(MAX($G$2970:$G$2987)-1)*10000*0.3,0)","v":10000},{"$f":"ROUND(J2970*K2970,0)","v":10700},2018,null,null,"ASG 32 Mi","MD","M"]
["Jones & Coppin",null,"United Kingdom",null,"35. WGC 2018 - Duo 20m","CZ",2,10335,10600,1.07,9649,{"$f":"ROUND(J2971*K2971,0)","v":10324},2018,null,null,"Arcus T",66,"M"]
["Sorri & Lehto",null,"Finland",null,"35. WGC 2018 - Duo 20m","CZ",3,10211,10600,1.07,9390,10047,2018,null,null,"Arcus M","AM","M"]
["Barnes & Scutter",null,"Australia",null,"35. WGC 2018 - Duo 20m","CZ",4,10190,10600,1.07,9200,9844,2018,null,null,"Arcus T","V8","M"]
["Ladenburger & Krohmer",null,"Germany",null,"35. WGC 2018 - Duo 20m","CZ",5,10123,10600,1.07,8979,9608,2018,null,null,"Arcus T","GX","M"]
["Aboulin & Untersee",null,"France",null,"35. WGC 2018 - Duo 20m","CZ",6,10058,10600,1.07,8760,9373,2018,null,null,"Arcus T","FP","M"]
["Cronjaeger & Sidler",null,"Switzerland",null,"35. WGC 2018 - Duo 20m","CZ",7,9734,10600,1.07,8369,8955,2018,null,null,"Arcus M","C","M"]
["Hartmann & Derold",null,"Austria",null,"35. WGC 2018 - Duo 20m","CZ",8,9732,10600,1.07,8191,8764,2018,null,null,"Arcus T","SPG","M"]
["Michal Lesinger",{"$f":"VLOOKUP(A2978,Pilot,2,0)","v":1966},{"$f":"VLOOKUP(A2978,Pilot,3,0)","v":"Moravská Třebová"},{"$f":"VLOOKUP(A2978,Pilot,4,0)","v":"CZ/M"},"35. WGC 2018 - Duo 20m","CZ",9,9601,10600,1.07,7929,8484,2018,null,null,"ASG 32 Mi","DX",{"$f":"VLOOKUP(A2978,Pilot,5,0)","v":"M"},{"$f":"IF(ISERROR(VLOOKUP(A2978,Pilot,6,0)),\"Není v databázi\",VLOOKUP(A2978,Pilot,6,0))","v":""}]
["Emmanuelidis & Jeanmotte",null,"Belgium",null,"35. WGC 2018 - Duo 20m","CZ",10,9426,10600,1.07,7636,8171,2018,null,null,"ASG 32 Mi","F2","M"]
["Ghiorzo & Dall'Olio",null,"Italy",null,"35. WGC 2018 - Duo 20m","CZ",11,9390,10600,1.07,7436,7957,2018,null,null,"HPH 304 TwinShark","TS","M"]
["Motuza & Volkov",null,"Lithuania",null,"35. WGC 2018 - Duo 20m","CZ",12,8785,10600,1.07,6860,7340,2018,null,null,"ASG 32 Mi","IV","M"]
["Affonso & Navarro",null,"Brazil",null,"35. WGC 2018 - Duo 20m","CZ",13,8519,10600,1.07,6508,6964,2018,null,null,"Arcus M","XX","M"]
["Rehus & Kiss",null,"Hungary",null,"35. WGC 2018 - Duo 20m","CZ",14,8429,10600,1.07,6272,6711,2018,null,null,"Arcus T","SX","M"]
["Nielsen & Jorgensen",null,"Denmark",null,"35. WGC 2018 - Duo 20m","CZ",15,8172,10600,1.07,5926,6341,2018,null,null,"Arcus T","JT","M"]
["Weissenbuehler & Schlosser",null,"United States of America",null,"35. WGC 2018 - Duo 20m","CZ",16,8006,10600,1.07,5640,6035,2018,null,null,"Arcus T","ARC","M"]
["Gaude & San Sebastian",null,"Argentina",null,"35. WGC 2018 - Duo 20m","CZ",17,7696,10600,1.07,5259,{"$f":"ROUND(J2986*K2986,0)","v":5627},2018,null,null,"Arcus M","JS","M"]
["Jesensky & Jakubcak",null,"Slovakia",null,"35. WGC 2018 - Duo 20m","CZ",18,7552,10600,1.07,4987,5336,2018,null,null,"Arcus M","CAR","M"]
["Oldrich Slavicek",{"$f":"VLOOKUP(A2988,Pilot,2,0)","v":1959},{"$f":"VLOOKUP(A2988,Pilot,3,0)","v":"Hronov"},{"$f":"VLOOKUP(A2988,Pilot,4,0)","v":"CZ/C2"},"17. HOP 2018 - Klub","CZ",1,4723,4723,0.6,{"$f":"ROUND(H2988/I2988*10000*0.7+(MAX($G$2988:$G$3013)-G2988)/(MAX($G$2988:$G$3013)-1)*10000*0.3,0)","v":10000},{"$f":"ROUND(J2988*K2988,0)","v":6000},2018,"x",null,"VT-116",4310,{"$f":"VLOOKUP(A2988,Pilot,5,0)","v":"M"},{"$f":"IF(ISERROR(VLOOKUP(A2988,Pilot,6,0)),\"Není v databázi\",VLOOKUP(A2988,Pilot,6,0))","v":""}]
["Milan Svoboda 80",1980,"Havlíčkův Brod","CZ/C2","17. HOP 2018 - Klub","CZ",2,4460,4723,0.6,9490,{"$f":"ROUND(J2989*K2989,0)","v":5694},2018,"x",null,"VT-116",6446,"M",""]
["Jan Sindelar",1946,"Kunovice","CZ/M","17. HOP 2018 - Klub","CZ",3,4427,4723,{"$f":"VLOOKUP(E2990,Soutez,8,0)","v":0.6},9321,5593,2018,"x",null,"VT-116",7410,"M",""]
["Miroslav Stepan",1955,"Žamberk","CZ/C2","17. HOP 2018 - Klub","CZ",4,4254,4723,0.6,8945,5367,2018,"x",null,"VT-116",8412,"M",""]
["Wolfgang Sluka",1942,"Liberec","CZ/C2","17. HOP 2018 - Klub","CZ",5,4150,4723,0.6,8671,5203,2018,null,null,"VT-116",8425,"M",""]
["M.Vondráček, K.Teichmannová",null,"Hronov","CZ/C2","17. HOP 2018 - Klub","CZ",6,4059,4723,0.6,8416,5050,2018,null,null,"VT-16",2909,"-"]
["Jiri Klicnar",{"$f":"VLOOKUP(A2994,Pilot,2,0)","v":1965},{"$f":"VLOOKUP(A2994,Pilot,3,0)","v":"Medlánky"},{"$f":"VLOOKUP(A2994,Pilot,4,0)","v":"CZ/M"},"17. HOP 2018 - Klub","CZ",7,3825,4723,0.6,7949,4769,2018,"x",null,"M-28",2903,"M",""]
["Monika Jiraskova",1994,"Hronov","CZ/C2","17. HOP 2018 - Klub","CZ",8,3804,4723,0.6,7798,4679,2018,"x","x","VT-116",6922,"F","Junior v roce 2019"]
["Ondrej Teichman",1984,"Dvůr Králové","CZ/C2","17. HOP 2018 - Klub","CZ",9,3684,4723,0.6,7500,4500,2018,"x",null,"VT-116",6445,"M",""]
["Ondrej Blaha",1976,"Letňany","CZ/C1","17. HOP 2018 - Klub","CZ",10,3672,4723,0.6,7362,4417,2018,null,null,"VT-116",6444,"M",""]
["Jaromir Vlk",1959,"Šumperk","CZ/M","17. HOP 2018 - Klub","CZ",11,3623,4723,0.6,7170,4302,2018,"x",null,"VT-16",2412,"M",""]
["Ivan Kuzelka",1945,"Havlíčkův Brod","CZ/C2","17. HOP 2018 - Klub","CZ",12,3622,4723,0.6,7048,4229,2018,"x",null,"VT-116",4314,"M",""]
["Krystof Mimra",1992,"Most","CZ/C2","17. HOP 2018 - Klub","CZ",13,3580,4723,0.6,6866,4120,2018,"x",null,"VT-116",7413,"M",""]
["Tomas Mezera",1973,"Raná","CZ/C2","17. HOP 2018 - Klub","CZ",14,3381,4723,0.6,6451,3871,2018,"x",null,"VT-116",8401,"M",""]
["Oldrich Hlavacek",1973,"Medlánky","CZ/M","17. HOP 2018 - Klub","CZ",15,3207,4723,0.6,6073,3644,2018,"x",null,"VT-116",8439,"M",""]
["Sarka Lochova",1966,"Šumperk","CZ/M","17. HOP 2018 - Klub","CZ",16,3133,4723,0.6,5843,3506,2018,"x","x","VT-116",7445,"F",""]
["Miroslav Major",1968,"GAC Benešov","CZ/C1","17. HOP 2018 - Klub","CZ",17,3106,4723,0.6,5683,3410,2018,"x",null,"VT-116",8430,"M",""]
["Jaromir Hendrych",1954,"Raná","CZ/C2","17. HOP 2018 - Klub","CZ",18,2993,4723,0.6,5396,3238,2018,"x",null,"M-35",2403,"M",""]
["P.Seibrt, M.Nutil",null,"Náchod","CZ/C2","17. HOP 2018 - Klub","CZ",19,2958,4723,0.6,5224,3134,2018,null,null,"VT-116",7402,"-"]
["Karel Kotlan",1957,"Medlánky","CZ/M","17. HOP 2018 - Klub","CZ",20,2898,4723,0.6,5015,3009,2018,"x",null,"VT-116",8406,"M",""]
["Jiri Slouka",1967,"Medlánky","CZ/M","17. HOP 2018 - Klub","CZ",21,2857,4723,0.6,4834,2900,2018,"x",null,"M-35",2901,"M",""]
["Jana Mezerova",1975,"Raná","CZ/C2","17. HOP 2018 - Klub","CZ",22,2770,4723,0.6,4585,2751,2018,"x","x","VT-116",7425,"F",""]
["Petr Vlasak",1974,"Medlánky","CZ/M","17. HOP 2018 - Klub","CZ",23,2761,4723,0.6,4452,2671,2018,"x",null,"VT 116",4307,"M",""]
["Vaclav Kysilka",1979,"GAC Benešov","CZ/C1","17. HOP 2018 - Klub","CZ",24,2563,4723,0.6,4039,2423,2018,"x",null,"VT-16",2924,"M",""]
["Bohumil Rikal",1946,"Hronov","CZ/C2","17. HOP 2018 - Klub","CZ",25,2546,4723,0.6,3893,2336,2018,"x",null,"VT-16",3405,"M",""]
["Josef Linhart, Jakub Dvořák",null,"Medlánky","CZ/M","17. HOP 2018 - Klub","CZ",26,1431,4723,0.6,2121,1273,2018,null,null,"Ka 6 E",9781,"-"]
["Zdenek Boruvka 54",{"$f":"VLOOKUP(A3014,Pilot,2,0)","v":1954},{"$f":"VLOOKUP(A3014,Pilot,3,0)","v":"Jičín"},{"$f":"VLOOKUP(A3014,Pilot,4,0)","v":"CZ/C2"},"17. HOP 2018 - Kombi","CZ",1,5324,5324,0.6,{"$f":"ROUND(H3014/I3014*10000*0.7+(MAX($G$3014:$G$3028)-G3014)/(MAX($G$3014:$G$3028)-1)*10000*0.3,0)","v":10000},{"$f":"ROUND(J3014*K3014,0)","v":6000},2018,"x",null,"LS 8 15 m (voda)","ZB","M",""]
["Sebastian Bode",null,"FSV Eisenhüttenstadt","DE","17. HOP 2018 - Kombi","CZ",2,5191,5324,0.6,9611,{"$f":"ROUND(J3015*K3015,0)","v":5767},2018,null,null,"Discus cs (voda)","E4","M","Není v databázi"]
["Jan Kohout",{"$f":"VLOOKUP(A3016,Pilot,2,0)","v":1970},{"$f":"VLOOKUP(A3016,Pilot,3,0)","v":"Žamberk"},{"$f":"VLOOKUP(A3016,Pilot,4,0)","v":"CZ/C2"},"17. HOP 2018 - Kombi","CZ",3,4823,5324,0.6,8913,5348,2018,"x",null,"LS 8 15 m (voda)","SK","M",""]
["T+G.Jakl, D.Mach",null,"AK Pivo","DE","17. HOP 2018 - Kombi","CZ",4,4499,5324,0.6,8272,4963,2018,null,null,"Janus b ( bez vody)","GJ","-","Není v databázi"]
["Carsten Tietz",{"$f":"VLOOKUP(A3018,Pilot,2,0)","v":1966},{"$f":"VLOOKUP(A3018,Pilot,3,0)","v":"Hronov"},{"$f":"VLOOKUP(A3018,Pilot,4,0)","v":"CZ/C2"},"17. HOP 2018 - Kombi","CZ",5,4441,5324,0.6,7982,4789,2018,"x",null,"Ventus 2cxm 18 meter (bez vody)","WE","M",""]
["Vaclav Kult",1973,"Broumov","CZ/C2","17. HOP 2018 - Kombi","CZ",6,4352,5324,0.6,7651,4591,2018,"x",null,"Nimbus 2 b (voda)","VK","M",""]
["Martin Koci",1975,"Ústí nad Orlicí","CZ/C2","17. HOP 2018 - Kombi","CZ",7,4343,5324,0.6,7424,4454,2018,"x",null,"Discus cs (voda)","5E","M",""]
["Petr Fisar",1974,"Ústí nad Orlicí","CZ/C2","17. HOP 2018 - Kombi","CZ",8,4341,5324,0.6,7208,4325,2018,"x",null,"Mosquito (bez vody)","PF","M",""]
["Jan Rott",1962,"Plasy","CZ/C1","17. HOP 2018 - Kombi","CZ",9,4083,5324,{"$f":"VLOOKUP(E3022,Soutez,8,0)","v":0.6},6654,3992,2018,"x",null,"Nimbus 2 b (bez vody)","AX","M",""]
["Miloslav Cindr",1974,"Ústí nad Orlicí","CZ/C2","17. HOP 2018 - Kombi","CZ",10,4076,5324,0.6,6431,3859,2018,"x",null,"Speed Astir II b (bez vody)","XM","M",""]
["Vratislav Sram",1966,"Broumov","CZ/C2","17. HOP 2018 - Kombi","CZ",11,3932,5324,0.6,6027,3616,2018,null,null,"Janus b (bez vody)","KG","M",""]
["Jiri Suchomel",1950,"Broumov","CZ/C2","17. HOP 2018 - Kombi","CZ",12,3687,5324,0.6,5491,3295,2018,"x",null,"Janus b (bez vody)","V1","M",""]
["Christian Rakowski",null,"FSV Eisenhüttenstadt","DE","17. HOP 2018 - Kombi","CZ",13,3456,5324,0.6,4973,2984,2018,null,null,"LS 4 (voda)","MP",null,"Není v databázi"]
["Miroslav+Josef Plecháč",null,"Hronov","CZ/C2","17. HOP 2018 - Kombi","CZ",14,2248,5324,0.6,3170,1902,2018,null,null,"Nimbus 2 (voda)","SP","-","Není v databázi"]
["M.Eichler, J.Plechač",null,"Hronov","CZ/C2","17. HOP 2018 - Kombi","CZ",15,1494,5324,0.6,1964,1178,2018,null,null,"Cirrus/Cirrus VTC 17.74 (bez vody)","G7","-","Není v databázi"]
["Libor Bednarik",{"$f":"VLOOKUP(A3029,Pilot,2,0)","v":1972},{"$f":"VLOOKUP(A3029,Pilot,3,0)","v":"Kunovice"},{"$f":"VLOOKUP(A3029,Pilot,4,0)","v":"CZ/M"},"GGP MB 2018 - Gradient GP","CZ",1,45,null,{"$f":"VLOOKUP(E3029,Soutez,8,0)","v":0.6},{"$f":"ROUND((MAX($G$3029:$G$3039)-G3029)/(MAX($G$3029:$G$3039)-1)*10000,0)","v":10000},{"$f":"ROUND(J3029*K3029,0)","v":6000},2018,"x",null,"VSO-10",94,{"$f":"VLOOKUP(A3029,Pilot,5,0)","v":"M"},""]
["Ivan Tvrdik",1997,"Letňany","CZ/C1","GGP MB 2018 - Gradient GP","CZ",2,37,null,0.6,9000,{"$f":"ROUND(J3030*K3030,0)","v":5400},2018,null,null,"VSO-10",53,"M","Junior v roce 2019"]
["Karel Mares",1974,"Slaný","CZ/C1","GGP MB 2018 - Gradient GP","CZ",3,28,null,0.6,8000,4800,2018,null,null,"VSO-10",62,"M",""]
["Lukas Maly",1998,"Vysoké Mýto","CZ/C2","GGP MB 2018 - Gradient GP","CZ",4,27,null,0.6,7000,4200,2018,"x",null,"VSO-10",34,"M","Junior v roce 2019"]
["Tomas Hlavacek",1984,"Kolín","CZ/C1","GGP MB 2018 - Gradient GP","CZ",5,22,null,0.6,6000,3600,2018,"x",null,"VSO-10","C3","M",""]
["Karel Policky",1950,"Kolín","CZ/C1","GGP MB 2018 - Gradient GP","CZ",6,18,null,0.6,5000,3000,2018,"x",null,"VSO-10","F2","M",""]
["Jan Zdvorak",1980,"Roudnice","CZ/C2","GGP MB 2018 - Gradient GP","CZ",7,15,null,0.6,4000,2400,2018,"x",null,"VSO-10",6,"M",""]
["Milos Rejzl",1962,"Klatovy","CZ/C1","GGP MB 2018 - Gradient GP","CZ",8,13,null,0.6,3000,1800,2018,"x",null,"VSO-10",55,"M",""]
["Martin Marek",1967,"Roudnice","CZ/C2","GGP MB 2018 - Gradient GP","CZ",9,6,null,0.6,2000,1200,2018,"x",null,"VSO-10",92,"M",""]
["Martin Vana",1979,"Mladá Boleslav","CZ/C1","GGP MB 2018 - Gradient GP","CZ",9,6,null,0.6,2000,1200,2018,"x",null,"VSO-10 C","V3","M",""]
["Martin Markl",1960,"Kolín","CZ/C1","GGP MB 2018 - Gradient GP","CZ",11,1,null,0.6,0,{"$f":"ROUND(J3039*K3039,0)","v":0},2018,null,null,"VSO-10",93,"M",""]
["Karel Novak",{"$f":"VLOOKUP(A3040,Pilot,2,0)","v":1993},{"$f":"VLOOKUP(A3040,Pilot,3,0)","v":"Mladá Boleslav"},{"$f":"VLOOKUP(A3040,Pilot,4,0)","v":"CZ/C1"},"GGP MB 2018 - Klub GP","CZ",1,37,null,0.61,{"$f":"ROUND((MAX($G$3040:$G$3049)-G3040)/(MAX($G$3040:$G$3049)-1)*10000,0)","v":10000},{"$f":"ROUND(J3040*K3040,0)","v":6100},2018,null,null,"Std. Cirrus","DI","M",""]
["Leos Strnadek",1983,"Hodkovice","CZ/C2","GGP MB 2018 - Klub GP","CZ",2,31,null,0.61,8889,{"$f":"ROUND(J3041*K3041,0)","v":5422},2018,"x",null,"ASW 19","XZ","M",""]
["Martin Grmela",1989,"Zbraslavice","CZ/C1","GGP MB 2018 - Klub GP","CZ",3,22,null,0.61,7778,4745,2018,"x",null,"ASW 15","O2","M",""]
["Katerina Vojtova",1983,"Slaný","CZ/C1","GGP MB 2018 - Klub GP","CZ",4,20,null,0.61,6667,4067,2018,"x","x","Std. Cirrus","KAC","F",""]
["Ivan Novak",1962,"Mladá Boleslav","CZ/C1","GGP MB 2018 - Klub GP","CZ",5,18,null,0.61,5556,3389,2018,null,null,"ASW 19","AH","M",""]
["Jiri Hula",1973,"Slaný","CZ/C1","GGP MB 2018 - Klub GP","CZ",6,10,null,0.61,4444,2711,2018,"x",null,"Std. Cirrus","TI","M",""]
["Linda Vasatova",1990,"Mladá Boleslav","CZ/C1","GGP MB 2018 - Klub GP","CZ",7,9,null,0.61,3333,2033,2018,"x","x","ASW 19","OI","F",""]
["Jan Zezula",1979,"Letňany","CZ/C1","GGP MB 2018 - Klub GP","CZ",7,9,null,0.61,3333,2033,2018,"x",null,"ASW 19","HD","M",""]
["Vladimir Hammer",2000,"Klatovy","CZ/C1","GGP MB 2018 - Klub GP","CZ",9,8,null,0.61,1111,678,2018,"x",null,"Std. Cirrus","U2","M","Junior v roce 2019"]
["Petr Lonsky",1965,"Toužim","CZ/C1","GGP MB 2018 - Klub GP","CZ",10,2,null,0.61,0,0,2018,null,null,"Std. Cirrus","FD","M",""]
["Jan Viskot",{"$f":"VLOOKUP(A3050,Pilot,2,0)","v":1995},{"$f":"VLOOKUP(A3050,Pilot,3,0)","v":"Břeclav"},{"$f":"VLOOKUP(A3050,Pilot,4,0)","v":"CZ/M"},"GGP MB 2018 - Pohár MV - Kombi","CZ",1,4651,4651,0.61,{"$f":"ROUND(H3050/I3050*10000*0.7+(MAX($G$3050:$G$3060)-G3050)/(MAX($G$3050:$G$3060)-1)*10000*0.3,0)","v":10000},{"$f":"ROUND(J3050*K3050,0)","v":6100},2018,null,null,"Discus 2a","GX","M","Junior v roce 2019"]
["Jan Smaha",1958,"Česká Lípa","CZ/C2","GGP MB 2018 - Pohár MV - Kombi","CZ",2,4535,4651,0.61,9525,{"$f":"ROUND(J3051*K3051,0)","v":5810},2018,null,null,"ASW 15","CW","M",""]
["Dana Novakova",1965,"Mladá Boleslav","CZ/C1","GGP MB 2018 - Pohár MV - Kombi","CZ",3,4492,4651,0.61,9161,5588,2018,null,null,"LS 8","AU",{"$f":"VLOOKUP(A3052,Pilot,5,0)","v":"F"},{"$f":"IF(ISERROR(VLOOKUP(A3052,Pilot,6,0)),\"Není v databázi\",VLOOKUP(A3052,Pilot,6,0))","v":""}]
["Jana Treslova",1963,"Raná","CZ/C2","GGP MB 2018 - Pohár MV - Kombi","CZ",4,4339,4651,0.61,8630,5264,2018,null,null,"LS 8","EU",{"$f":"VLOOKUP(A3053,Pilot,5,0)","v":"F"},""]
["Hana Treslova",1991,"Raná","CZ/C2","GGP MB 2018 - Pohár MV - Kombi","CZ",5,4332,4651,0.61,8320,5075,2018,null,null,"LS 8","FX",{"$f":"VLOOKUP(A3054,Pilot,5,0)","v":"F"},""]
["Jiri Slemr",1979,"Vysoké Mýto","CZ/C2","GGP MB 2018 - Pohár MV - Kombi","CZ",6,3960,4651,0.61,7460,4551,2018,"x",null,"Discus",65,{"$f":"VLOOKUP(A3055,Pilot,5,0)","v":"M"},""]
["Josef Rydl",1940,"Turnov","CZ/C2","GGP MB 2018 - Pohár MV - Kombi","CZ",7,3426,4651,0.61,6356,3877,2018,"x",null,"Discus","TD",{"$f":"VLOOKUP(A3056,Pilot,5,0)","v":"M"},""]
["Martin Soucek",1975,"Mladá Boleslav","CZ/C1","GGP MB 2018 - Pohár MV - Kombi","CZ",8,3314,4651,0.61,5888,3592,2018,"x",null,"DG 200/17","MS",{"$f":"VLOOKUP(A3057,Pilot,5,0)","v":"M"},""]
["Jan Dersak 69",1969,"Kralupy","CZ/C1","GGP MB 2018 - Pohár MV - Kombi","CZ",9,3061,4651,0.61,5207,3176,2018,null,null,"HPH 304 CZ 17,4","DJ",{"$f":"VLOOKUP(A3058,Pilot,5,0)","v":"M"},""]
["Lubomir Doupal",1975,"Krnov","CZ/M","GGP MB 2018 - Pohár MV - Kombi","CZ",10,2717,4651,0.61,4389,2677,2018,"x",null,"LS 8/18m","YF",{"$f":"VLOOKUP(A3059,Pilot,5,0)","v":"M"},""]
["Petra Diepoldova",1978,"Vysoké Mýto","CZ/C2","GGP MB 2018 - Pohár MV - Kombi","CZ",11,2543,4651,0.61,3827,2334,2018,"x","x","ASW 15","TX",{"$f":"VLOOKUP(A3060,Pilot,5,0)","v":"F"},""]
["Sjaak Selen",null,null,null,"35. WGC 2018 - Std","PL",1,6309,6309,1.105,{"$f":"ROUND(H3061/I3061*10000*0.7+(MAX($G$3061:$G$3107)-G3061)/(MAX($G$3061:$G$3107)-1)*10000*0.3,0)","v":10000},{"$f":"ROUND(J3061*K3061,0)","v":11050},2018,null,null,"Discus 2a","2SI"]
["Makoto Ichikawa",null,null,null,"35. WGC 2018 - Std","PL",2,6288,6309,1.105,9911,{"$f":"ROUND(J3062*K3062,0)","v":10952},2018,null,null,"LS-8","KS"]
["Mateusz Siodłoczek",null,null,null,"35. WGC 2018 - Std","PL",3,6235,6309,1.105,9787,10815,2018,null,null,"Discus 2a","Y"]
["Dmitriy Timoshenko",null,null,null,"35. WGC 2018 - Std","PL",4,6198,6309,1.105,9681,10698,2018,null,null,"Discus 2a","DT"]
["Łukasz Błaszczyk",null,null,null,"35. WGC 2018 - Std","PL",5,6195,6309,1.105,9613,10622,2018,null,null,"Discus 2a","I"]
["Norbert Alin Scarlat",null,null,null,"35. WGC 2018 - Std","PL",6,6157,6309,1.105,9505,10503,2018,null,null,"Discus 2a","YB"]
["Poul Kim Larsen",null,null,null,"35. WGC 2018 - Std","PL",7,6133,6309,1.105,9413,10401,2018,null,null,"Discus 2a","D2"]
["Richard Swanstrom",null,null,null,"35. WGC 2018 - Std","PL",8,6098,6309,1.105,9309,10286,2018,null,null,"Discus 2t","IKI"]
["Jim Lee",null,null,null,"35. WGC 2018 - Std","PL",9,6092,6309,1.105,9237,10207,2018,null,null,"Discus 2b","MK"]
["Dennis Huybreckx",null,null,null,"35. WGC 2018 - Std","PL",10,6079,6309,1.105,9158,10120,2018,null,null,"Ls-8","CM"]
["Jeroen Jennen",null,null,null,"35. WGC 2018 - Std","PL",11,6054,6309,1.105,9065,10017,2018,null,null,"LS-8","LT"]
["Gonzalo Riera",null,null,null,"35. WGC 2018 - Std","PL",12,6034,6309,1.105,8977,9920,2018,null,null,"LS-8","W8"]
["David Bromley",null,null,null,"35. WGC 2018 - Std","PL",13,6031,6309,1.105,8909,9844,2018,null,null,"LS-8","F1"]
["Jan-Ola Nordh",null,null,null,"35. WGC 2018 - Std","PL",14,6019,6309,1.105,8830,9757,2018,null,null,"Discus 2","TA"]
["Björn Gintzel",null,null,null,"35. WGC 2018 - Std","PL",15,5995,6309,1.105,8739,9657,2018,null,null,"LS-8 neo","SB"]
["Cristian Franzini",null,null,null,"35. WGC 2018 - Std","PL",16,5949,6309,1.105,8622,9527,2018,null,null,"LS-8","AU"]
["Kilian Biechele",null,null,null,"35. WGC 2018 - Std","PL",17,5897,6309,1.105,8499,9391,2018,null,null,"LS-8 neo","M1"]
["Mogens Hoelgaard",null,null,null,"35. WGC 2018 - Std","PL",18,5868,6309,1.105,8402,9284,2018,null,null,"Discus 2a","AXI"]
["Tamás Vámosi",null,null,null,"35. WGC 2018 - Std","PL",19,5802,6309,1.105,8264,9132,2018,null,null,"Discus 2ax","HAL"]
["Matthew Scutter",null,null,null,"35. WGC 2018 - Std","PL",20,5784,6309,1.105,8178,9037,2018,null,null,"Discus 2a","A1"]
["Miloslav Cink",{"$f":"VLOOKUP(A3081,Pilot,2,0)","v":1987},{"$f":"VLOOKUP(A3081,Pilot,3,0)","v":"Letkov"},{"$f":"VLOOKUP(A3081,Pilot,4,0)","v":"CZ/C1"},"35. WGC 2018 - Std","PL",21,5718,6309,1.105,8040,8884,2018,null,null,"LS-8b","JB",{"$f":"VLOOKUP(A3081,Pilot,5,0)","v":"M"},{"$f":"IF(ISERROR(VLOOKUP(A3081,Pilot,6,0)),\"Není v databázi\",VLOOKUP(A3081,Pilot,6,0))","v":""}]
["Maros Divok",null,null,null,"35. WGC 2018 - Std","PL",22,5706,6309,1.105,7961,8797,2018,null,null,"Discus 2b","DII"]
["Sandor Laurinyecz",null,null,null,"35. WGC 2018 - Std","PL",23,5658,6309,1.105,7843,8667,2018,null,null,"Discus 2ax","HUN"]
["Anton Minskiy",null,null,null,"35. WGC 2018 - Std","PL",24,5649,6309,1.105,7768,8584,2018,null,null,"Discus 2a",2]
["Nico Le Roux",null,null,null,"35. WGC 2018 - Std","PL",25,5624,6309,1.105,7675,8481,2018,null,null,"LS-8","1Z"]
["Aude Grangeray",null,null,null,"35. WGC 2018 - Std","PL",26,5546,6309,1.105,7523,8313,2018,null,null,"Discus 2a","JPA"]
["Pavel Louzecky",{"$f":"VLOOKUP(A3087,Pilot,2,0)","v":1957},{"$f":"VLOOKUP(A3087,Pilot,3,0)","v":"Přibyslav"},{"$f":"VLOOKUP(A3087,Pilot,4,0)","v":"CZ/C2"},"35. WGC 2018 - Std","PL",27,5451,6309,1.105,7352,8124,2018,null,null,"LS-8b","FX",{"$f":"VLOOKUP(A3087,Pilot,5,0)","v":"M"},{"$f":"IF(ISERROR(VLOOKUP(A3087,Pilot,6,0)),\"Není v databázi\",VLOOKUP(A3087,Pilot,6,0))","v":""}]
["Juha Sorri",null,null,null,"35. WGC 2018 - Std","PL",28,5304,6309,1.105,7124,7872,2018,null,null,"Discus 2b","JS"]
["Tizian Steiger",null,null,null,"35. WGC 2018 - Std","PL",29,5298,6309,1.105,7052,7792,2018,null,null,"Discus 2b","TS"]
["Vladas Motuza",null,null,null,"35. WGC 2018 - Std","PL",30,5260,6309,1.105,6945,7674,2018,null,null,"Discus 2a","FL"]
["Ray Stewart",null,null,null,"35. WGC 2018 - Std","PL",31,5221,6309,1.105,6836,7554,2018,null,null,"Discus 2a","AJ"]
["Howard Jones",null,null,null,"35. WGC 2018 - Std","PL",32,5174,6309,1.105,6719,7424,2018,null,null,"Discus 2a",6]
["Louis Bouderlique",null,null,null,"35. WGC 2018 - Std","PL",33,5129,6309,{"$f":"VLOOKUP(E3093,Soutez,8,0)","v":1.105},6604,7297,2018,null,null,"Discus 2a","ET"]
["Joris Vainius",null,null,null,"35. WGC 2018 - Std","PL",34,5066,6309,1.105,6469,7148,2018,null,null,"Lak 19","ZM"]
["Sjors van Loon",null,null,null,"35. WGC 2018 - Std","PL",35,4997,6309,1.105,6327,6991,2018,null,null,"LS-8","M7"]
["Petri Sucksdorff",null,null,null,"35. WGC 2018 - Std","PL",36,4953,6309,1.105,6213,6865,2018,null,null,"LS-8","ES"]
["Guillaume Girard",null,null,null,"35. WGC 2018 - Std","PL",37,4903,6309,1.105,6092,6732,2018,null,null,"Discus 2a","LV"]
["Martin Schwab",null,null,null,"35. WGC 2018 - Std","PL",38,4835,6309,1.105,5952,6577,2018,null,null,"Discus 2a","KG"]
["Dawid Pretorius",null,null,null,"35. WGC 2018 - Std","PL",39,4727,6309,1.105,5766,6371,2018,null,null,"LS-8","VZ"]
["Vittorio Pinni",null,null,null,"35. WGC 2018 - Std","PL",40,4714,6309,1.105,5687,6284,2018,null,null,"LS-8","GG"]
["Victor-Alex Pop",null,null,null,"35. WGC 2018 - Std","PL",41,4687,6309,1.105,5592,6179,2018,null,null,"Discus 2a","YA"]
["Frane Franic",null,null,null,"35. WGC 2018 - Std","PL",42,4560,6309,1.105,5386,5952,2018,null,null,"ASW 24","HR3"]
["Guido Dalla Rosa Prati",null,null,null,"35. WGC 2018 - Std","PL",43,4520,6309,1.105,5276,5830,2018,null,null,"LS-8","FD"]
["Dominik Jančik",null,null,null,"35. WGC 2018 - Std","PL",44,4253,6309,1.105,4914,5430,2018,null,null,"LS-8","SI"]
["Pascal Brunner",null,null,null,"35. WGC 2018 - Std","PL",45,4020,6309,1.105,4591,5073,2018,null,null,"Discus 2b","ST"]
["Marvin Huss",null,null,null,"35. WGC 2018 - Std","PL",46,3246,6309,1.105,3667,4052,2018,null,null,"Discus 2b","YU"]
["Pablo Vispe Sola",null,null,null,"35. WGC 2018 - Std","PL",47,2704,6309,1.105,3000,3315,2018,null,null,"ASW-24","EX"]
["Sebastian Kawa",null,null,null,"35. WGC 2018 - 15m","PL",1,6047,6047,1.085,{"$f":"ROUND(H3108/I3108*10000*0.7+(MAX($G$3108:$G$3144)-G3108)/(MAX($G$3108:$G$3144)-1)*10000*0.3,0)","v":10000},{"$f":"ROUND(J3108*K3108,0)","v":10850},2018,null,null,"ASG 29","PC"]
["Łukasz Grabowski",null,null,null,"35. WGC 2018 - 15m","PL",2,5961,6047,1.085,9817,{"$f":"ROUND(J3109*K3109,0)","v":10651},2018,null,null,"Diana 2","RP"]
["Christophe Ruch",null,null,null,"35. WGC 2018 - 15m","PL",3,5837,6047,1.085,9590,10405,2018,null,null,"JS 3","FM"]
["Jan Omsels",null,null,null,"35. WGC 2018 - 15m","PL",4,5814,6047,1.085,9480,10286,2018,null,null,"Ventus 2ax","FH"]
["Maximilian Seis",null,null,null,"35. WGC 2018 - 15m","PL",5,5771,6047,1.085,9347,10141,2018,null,null,"JS 3","FQ"]
["Kristian Roine",null,null,null,"35. WGC 2018 - 15m","PL",6,5742,6047,1.085,9230,10015,2018,null,null,"ASG 29E","WS"]
["Harri Hirvola",null,null,null,"35. WGC 2018 - 15m","PL",7,5689,6047,1.085,9086,9858,2018,null,null,"Ventus 2a","EH"]
["Adam Woolley",null,null,null,"35. WGC 2018 - 15m","PL",8,5671,6047,1.085,8981,9744,2018,null,null,"Ventus 3T","3V"]
["Attie Jonker",null,null,null,"35. WGC 2018 - 15m","PL",9,5669,6047,1.085,8896,9652,2018,null,null,"JS 3","OG"]
["Daan Spruyt",null,null,null,"35. WGC 2018 - 15m","PL",10,5663,6047,1.085,8805,9553,2018,null,null,"ASW 27","FS"]
["Derren Francis",null,null,null,"35. WGC 2018 - 15m","PL",11,5601,6047,1.085,8650,9385,2018,null,null,"Ventus 3","F2"]
["Radek Krejcirik",{"$f":"VLOOKUP(A3119,Pilot,2,0)","v":1991},{"$f":"VLOOKUP(A3119,Pilot,3,0)","v":"Hranice"},{"$f":"VLOOKUP(A3119,Pilot,4,0)","v":"CZ/M"},"35. WGC 2018 - 15m","PL",12,5538,6047,1.085,8494,9216,2018,"x",null,"Ventus 2ax","AX",{"$f":"VLOOKUP(A3119,Pilot,5,0)","v":"M"},{"$f":"IF(ISERROR(VLOOKUP(A3119,Pilot,6,0)),\"Není v databázi\",VLOOKUP(A3119,Pilot,6,0))","v":""}]
["Ondrej Bordovsky",1983,"Krnov","CZ/M","35. WGC 2018 - 15m","PL",13,5446,6047,1.085,8304,9010,2018,"x",null,"ASG 29E","QZ",{"$f":"VLOOKUP(A3120,Pilot,5,0)","v":"M"},{"$f":"IF(ISERROR(VLOOKUP(A3120,Pilot,6,0)),\"Není v databázi\",VLOOKUP(A3120,Pilot,6,0))","v":""}]
["Andreas Lutz",null,null,null,"35. WGC 2018 - 15m","PL",14,5420,6047,1.085,8191,8887,2018,null,null,"Ventus 3T","WO"]
["Tim Scott",null,null,null,"35. WGC 2018 - 15m","PL",15,5344,6047,1.085,8020,8702,2018,null,null,"ASG 29","Z3"]
["Sebastian Bauder",null,null,null,"35. WGC 2018 - 15m","PL",16,5300,6047,1.085,7885,8555,2018,null,null,"Ventus 2ax","Ei"]
["Uys Jonker",null,null,null,"35. WGC 2018 - 15m","PL",17,5296,6047,1.085,7797,8460,2018,null,null,"JS 3","ML"]
["Michael Rass",null,null,null,"35. WGC 2018 - 15m","PL",18,4959,6047,1.085,7324,7947,2018,null,null,"ASG-29E","MR"]
["Sergei Morozov",null,null,null,"35. WGC 2018 - 15m","PL",19,4954,6047,1.085,7235,7850,2018,null,null,"ASG 29","XG"]
["Zoltan Kore",null,null,null,"35. WGC 2018 - 15m","PL",20,4921,6047,1.085,7113,7718,2018,null,null,"JS3","AI"]
["Zoltan Hamar",null,null,null,"35. WGC 2018 - 15m","PL",21,4912,6047,1.085,7019,7616,2018,null,null,"Ventus 2a","5A"]
["Sebastian Luengo",null,null,null,"35. WGC 2018 - 15m","PL",22,4898,6047,1.085,6920,7508,2018,null,null,"Ventus 2a","PE"]
["Francisco Ortega",null,null,null,"35. WGC 2018 - 15m","PL",23,4804,6047,1.085,6728,7300,2018,null,null,"ASW 27","27B"]
["Vytautas Sabeckis",null,null,null,"35. WGC 2018 - 15m","PL",24,4751,6047,1.085,6583,7143,2018,null,null,"Ventus 2ax","VV"]
["Thomas Gostner",null,null,null,"35. WGC 2018 - 15m","PL",25,4653,6047,1.085,6386,6929,2018,null,null,"Ventus 2ax","GT"]
["Jeroen van Dijk",null,null,null,"35. WGC 2018 - 15m","PL",26,4648,6047,1.085,6297,6832,2018,null,null,"ASW 27","M6"]
["Nico Jägli",null,null,null,"35. WGC 2018 - 15m","PL",27,4614,6047,1.085,6174,6699,2018,null,null,"LS-6a","NJ"]
["Øjvind Frank",null,null,null,"35. WGC 2018 - 15m","PL",28,4549,6047,1.085,6016,6527,2018,null,null,"Ventus 3","EK"]
["Mike Hürlimann",null,null,null,"35. WGC 2018 - 15m","PL",29,4465,6047,1.085,5835,6331,2018,null,null,"Ventus 2a","HQ"]
["Cristián Marcaida",null,null,null,"35. WGC 2018 - 15m","PL",30,4435,6047,1.085,5717,6203,2018,null,null,"Ventus 2",19]
["Gvidas Sabeckis",null,null,null,"35. WGC 2018 - 15m","PL",30,4435,6047,1.085,5717,6203,2018,null,null,"ASG 29","MZ"]
["Luke Szczepaniak",null,null,null,"35. WGC 2018 - 15m","PL",32,4399,6047,1.085,5509,5977,2018,null,null,"ASW 27B","2W"]
["Jan Hald",null,null,null,"35. WGC 2018 - 15m","PL",33,4189,6047,1.085,5183,5624,2018,null,null,"Ventus 2cT","T"]
["Timothy Taylor",null,null,null,"35. WGC 2018 - 15m","PL",34,4084,6047,1.085,4978,5401,2018,null,null,"ASW 27B","T6"]
["Carlos González de Herrero",null,null,null,"35. WGC 2018 - 15m","PL",35,3811,6047,1.085,4578,4967,2018,null,null,"ASW 27B","7A"]
["Fernando Silva",null,null,null,"35. WGC 2018 - 15m","PL",36,3454,6047,1.085,4082,4429,2018,null,null,"ASW 27","PS"]
["Matias Pasztor",null,null,null,"35. WGC 2018 - 15m","PL",37,3440,6047,1.085,3982,{"$f":"ROUND(J3144*K3144,0)","v":4320},2018,null,null,"Ventus 2b","MW"]
["Rasmus Ørskov",null,null,null,"35. WGC 2018 - Klub","PL",1,5736,5736,1.0900000000000001,{"$f":"ROUND(H3145/I3145*10000*0.7+(MAX($G$3145:$G$3192)-G3145)/(MAX($G$3145:$G$3192)-1)*10000*0.3,0)","v":10000},{"$f":"ROUND(J3145*K3145,0)","v":10900},2018,null,null,"ASW-20","KW"]
["Tomasz Rubaj",null,null,null,"35. WGC 2018 - Klub","PL",2,5723,5736,1.0900000000000001,9920,{"$f":"ROUND(J3146*K3146,0)","v":10813},2018,null,null,"SZD-55","A8"]
["Jaroslav Tomana",{"$f":"VLOOKUP(A3147,Pilot,2,0)","v":1975},{"$f":"VLOOKUP(A3147,Pilot,3,0)","v":"Zbraslavice"},{"$f":"VLOOKUP(A3147,Pilot,4,0)","v":"CZ/C1"},"35. WGC 2018 - Klub","PL",3,5709,5736,1.0900000000000001,9839,10725,2018,"x",null,"Cirrus Std","SN",{"$f":"VLOOKUP(A3147,Pilot,5,0)","v":"M"},{"$f":"IF(ISERROR(VLOOKUP(A3147,Pilot,6,0)),\"Není v databázi\",VLOOKUP(A3147,Pilot,6,0))","v":""}]
["Jakub Barszcz",null,null,null,"35. WGC 2018 - Klub","PL",4,5696,5736,1.0900000000000001,9760,10638,2018,null,null,"SZD-55","TK"]
["Ivan Novak",{"$f":"VLOOKUP(A3149,Pilot,2,0)","v":1962},{"$f":"VLOOKUP(A3149,Pilot,3,0)","v":"Mladá Boleslav"},{"$f":"VLOOKUP(A3149,Pilot,4,0)","v":"CZ/C1"},"35. WGC 2018 - Klub","PL",5,5624,5736,1.0900000000000001,9608,10473,2018,"x",null,"Cirrus Std","DI",{"$f":"VLOOKUP(A3149,Pilot,5,0)","v":"M"},{"$f":"IF(ISERROR(VLOOKUP(A3149,Pilot,6,0)),\"Není v databázi\",VLOOKUP(A3149,Pilot,6,0))","v":""}]
["Tim Kuijpers",null,null,null,"35. WGC 2018 - Klub","PL",6,5604,5736,1.0900000000000001,9520,10377,2018,null,null,"H304CZ","IPB"]
["Andrej Lebedev",null,null,null,"35. WGC 2018 - Klub","PL",7,5528,5736,1.0900000000000001,9363,10206,2018,null,null,"ASW-20","WU"]
["Eric Bernard",null,null,null,"35. WGC 2018 - Klub","PL",8,5509,5736,1.0900000000000001,9276,10111,2018,null,null,"LS 4","SD"]
["Frederic Hoyeau",null,null,null,"35. WGC 2018 - Klub","PL",9,5507,5736,1.0900000000000001,9210,10039,2018,null,null,"LS 4","SA"]
["Darius Liaugaudas",null,null,null,"35. WGC 2018 - Klub","PL",10,5500,5736,1.0900000000000001,9138,9960,2018,null,null,"Pegase 101A","PL"]
["James Crowhurst",null,null,null,"35. WGC 2018 - Klub","PL",11,5435,5736,1.0900000000000001,8994,9803,2018,null,null,"ASW 19B","PG"]
["Niklas Löfgren",null,null,null,"35. WGC 2018 - Klub","PL",12,5396,5736,1.0900000000000001,8883,9682,2018,null,null,"SZD-55",69]
["Tim Fletcher",null,null,null,"35. WGC 2018 - Klub","PL",13,5377,5736,{"$f":"VLOOKUP(E3157,Soutez,8,0)","v":1.0900000000000001},8796,9588,2018,null,null,"Libelle Std","TP"]
["Wolli Beyer",null,null,null,"35. WGC 2018 - Klub","PL",14,5369,5736,1.0900000000000001,8722,9507,2018,null,null,"Libelle H301","YYY"]
["Allan Barnes",null,null,null,"35. WGC 2018 - Klub","PL",15,5343,5736,1.0900000000000001,8627,9403,2018,null,null,"LS-1f","UX"]
["Sabrina Vogt",null,null,null,"35. WGC 2018 - Klub","PL",16,5339,5736,1.0900000000000001,8558,9328,2018,null,null,"Libelle Std","MT"]
["Jozef Kozar",null,null,null,"35. WGC 2018 - Klub","PL",17,5281,5736,1.0900000000000001,8423,9181,2018,null,null,"LS-1f","MF"]
["Tamas Ferenc",null,null,null,"35. WGC 2018 - Klub","PL",18,5278,5736,1.0900000000000001,8356,9108,2018,null,null,"LS-3","1A"]
["Javier Gaude",null,null,null,"35. WGC 2018 - Klub","PL",19,5258,5736,1.0900000000000001,8268,9012,2018,null,null,"LS 4","WW"]
["Sergey Klyuev",null,null,null,"35. WGC 2018 - Klub","PL",20,5241,5736,1.0900000000000001,8183,8919,2018,null,null,"Jantar std 3","SK"]
["Jan Rothhardt",null,null,null,"35. WGC 2018 - Klub","PL",21,5216,5736,1.0900000000000001,8089,8817,2018,null,null,"LS-1d","6H"]
["Sviatoslav Roublev",null,null,null,"35. WGC 2018 - Klub","PL",22,5198,5736,1.0900000000000001,8003,8723,2018,null,null,"Discus","G3"]
["Jonas Langenegger",null,null,null,"35. WGC 2018 - Klub","PL",23,5158,5736,1.0900000000000001,7890,8600,2018,null,null,"LS 4","WG"]
["Simon Gantner",null,null,null,"35. WGC 2018 - Klub","PL",24,5150,5736,1.0900000000000001,7817,8521,2018,null,null,"LS 4a","MN"]
["Michael Westbrook",null,null,null,"35. WGC 2018 - Klub","PL",25,5118,5736,1.0900000000000001,7714,8408,2018,null,null,"ASW 19","J1"]
["Sergei Serov",null,null,null,"35. WGC 2018 - Klub","PL",26,5087,5736,1.0900000000000001,7612,8297,2018,null,null,"Cirrus Std",75]
["David Richter-Trummer",null,null,null,"35. WGC 2018 - Klub","PL",27,4995,5736,1.0900000000000001,7436,8105,2018,null,null,"Libelle H301","RT"]
["Krzysztof Wiercioch",null,null,null,"35. WGC 2018 - Klub","PL",28,4863,5736,1.0900000000000001,7211,7860,2018,null,null,"SZD-55","M2"]
["Simone Selvini",null,null,null,"35. WGC 2018 - Klub","PL",29,4847,5736,1.0900000000000001,7128,7770,2018,null,null,"Cirrus Std",28]
["Antti Koskiniemi",null,null,null,"35. WGC 2018 - Klub","PL",30,4797,5736,1.0900000000000001,7003,7633,2018,null,null,"SZD-55","WB"]
["Nick Fremau",null,null,null,"35. WGC 2018 - Klub","PL",31,4768,5736,1.0900000000000001,6904,7525,2018,null,null,"Libelle std","2S"]
["Luca Urbani",null,null,null,"35. WGC 2018 - Klub","PL",32,4762,5736,1.0900000000000001,6833,7448,2018,null,null,"Cirrus Std","C71"]
["Frank Hiemstra",null,null,null,"35. WGC 2018 - Klub","PL",33,4724,5736,1.0900000000000001,6722,7327,2018,null,null,"Cirrus Std",74]
["Attila Korom",null,null,null,"35. WGC 2018 - Klub","PL",34,4720,5736,1.0900000000000001,6654,7253,2018,null,null,"ASW-20","MC"]
["Felipe Girado",null,null,null,"35. WGC 2018 - Klub","PL",35,4704,5736,1.0900000000000001,6570,7161,2018,null,null,"LS 4","FAY"]
["Mario Schupfer",null,null,null,"35. WGC 2018 - Klub","PL",36,4589,5736,1.0900000000000001,6366,6939,2018,null,null,"ASW-15b","MS"]
["Per Carlin",null,null,null,"35. WGC 2018 - Klub","PL",37,4555,5736,1.0900000000000001,6261,6824,2018,null,null,"LS-1f","G7"]
["Boyd Willat",null,null,null,"35. WGC 2018 - Klub","PL",38,4302,5736,1.0900000000000001,5888,6418,2018,null,null,"ASW 19","JAY"]
["Gerrard Dale",null,null,null,"35. WGC 2018 - Klub","PL",39,4131,5736,1.0900000000000001,5616,6121,2018,null,null,"Libelle Std",528]
["Aldo Rodríguez",null,null,null,"35. WGC 2018 - Klub","PL",40,4119,5736,1.0900000000000001,5537,6035,2018,null,null,"ASW-20",70]
["Vinko Soljan",null,null,null,"35. WGC 2018 - Klub","PL",41,4018,5736,1.0900000000000001,5350,5832,2018,null,null,"ASW 19B","HR2"]
["Juha Vainikka",null,null,null,"35. WGC 2018 - Klub","PL",42,3985,5736,1.0900000000000001,5246,5718,2018,null,null,"Jantar std 3","T5"]
["Vladimir Radovskiy",null,null,null,"35. WGC 2018 - Klub","PL",43,3968,5736,1.0900000000000001,5162,5627,2018,null,null,"Cirrus Std","XII"]
["Peter Bertels",null,null,null,"35. WGC 2018 - Klub","PL",44,3879,5736,1.0900000000000001,4989,5438,2018,null,null,"Libelle Std","BR"]
["Aliaksandr Babkevich",null,null,null,"35. WGC 2018 - Klub","PL",45,3634,5736,1.0900000000000001,4626,5042,2018,null,null,"Jantar std 3","HI"]
["Frantisek Sobek",null,null,null,"35. WGC 2018 - Klub","PL",46,3409,5736,1.0900000000000001,4288,4674,2018,null,null,"DG 100","G1"]
["Jaume Prats",null,null,null,"35. WGC 2018 - Klub","PL",47,3285,5736,1.0900000000000001,4073,4440,2018,null,null,"Libelle Std","JC"]
["Dani Zaninovic",null,null,null,"35. WGC 2018 - Klub","PL",48,2432,5736,1.0900000000000001,2968,3235,2018,null,null,"Jantar std 3","HR1"]
["Viliam Kubovcik",null,"AK Poprad",null,"Fatraglide 2018 - Kombi","SK",1,4486,4486,0.6,{"$f":"ROUND(H3193/I3193*10000*0.7+(MAX($G$3193:$G$3206)-G3193)/(MAX($G$3193:$G$3206)-1)*10000*0.3,0)","v":10000},{"$f":"ROUND(J3193*K3193,0)","v":6000},2018,null,null,"Ventus 2cxT/18m","VV"]
["Jakubcak & Jesensky",null,"SGC Martin",null,"Fatraglide 2018 - Kombi","SK",2,4314,4486,0.6,{"$f":"ROUND(H3194/I3194*10000*0.7+(MAX($G$3193:$G$3206)-G3194)/(MAX($G$3193:$G$3206)-1)*10000*0.3,0)","v":9501},{"$f":"ROUND(J3194*K3194,0)","v":5701},2018,null,null,"Arcus M","CAR"]
["Somol & Cirjak",null,"SGC Martin",null,"Fatraglide 2018 - Kombi","SK",3,4107,4486,0.6,8947,5368,2018,null,null,"Duo Discus W (700kg)","SGC"]
["Viktoria Divokova",null,"AK Spisska Nova Ves",null,"Fatraglide 2018 - Kombi","SK",4,4098,4486,0.6,8702,5221,2018,null,null,"Discus CS","3D"]
["Maros Divok",null,"AK Spisska Nova Ves",null,"Fatraglide 2018 - Kombi","SK",5,3973,4486,0.6,8276,4966,2018,null,null,"Discus 2b","DI"]
["Vaclav Hruza",{"$f":"VLOOKUP(A3198,Pilot,2,0)","v":1965},{"$f":"VLOOKUP(A3198,Pilot,3,0)","v":"Břeclav"},{"$f":"VLOOKUP(A3198,Pilot,4,0)","v":"CZ/M"},"Fatraglide 2018 - Kombi","SK",6,377,4486,0.6,2434,1460,2018,"x",null,"HPH 304SJ Shark","TH",{"$f":"VLOOKUP(A3198,Pilot,5,0)","v":"M"},{"$f":"IF(ISERROR(VLOOKUP(A3198,Pilot,6,0)),\"Není v databázi\",VLOOKUP(A3198,Pilot,6,0))","v":""}]
["Jan Divok",null,"AK Spisska Nova Ves",null,"Fatraglide 2018 - Kombi","SK",7,3637,4486,0.6,7291,4375,2018,null,null,"Discus 2CT/18m","DJ"]
["Peter Pokorny",null,"AK Bratislava",null,"Fatraglide 2018 - Kombi","SK",8,3363,4486,0.6,6632,3979,2018,null,null,"DG 800S/18m","YB"]
["Jozef Pesko",null,"AK Nitra",null,"Fatraglide 2018 - Kombi","SK",9,3062,4486,0.6,5932,3559,2018,null,null,"LS 8T/18m","HM"]
["Pekka, Marjamaa",null,"Kuopion Ilmailuyhdistys",null,"Fatraglide 2018 - Kombi","SK",10,2792,4486,0.6,5280,3168,2018,null,null,"Discus 2b","M"]
["Milan Lojdl",null,"AK Martin",null,"Fatraglide 2018 - Kombi","SK",11,2447,4486,0.6,4511,2707,2018,null,null,"Ventus 2cxT/18m","MJ1"]
["Dusan Bernat",null,"LSV Kreis Pinneberg",null,"Fatraglide 2018 - Kombi","SK",12,2369,4486,0.6,4158,2495,2018,null,null,"Ventus C","AD"]
["Drahomira Divokova",null,"AK Spisska Nova Ves",null,"Fatraglide 2018 - Kombi","SK",13,1979,4486,0.6,3319,1991,2018,null,null,"Ventus C 15m","D3"]
["Anna Zadrozna",null,"Aeroklub Warszawski",null,"Fatraglide 2018 - Kombi","SK",14,800,4486,0.6,1248,749,2018,null,null,"LS 6a 15m","BB"]
["Holger Karow",null,null,null,"Hahnweide 2018 - Duo 20m","DE",1,5110,5110,0.65,{"$f":"ROUND(H3207/I3207*10000*0.7+(MAX($G$3207:$G$3238)-G3207)/(MAX($G$3207:$G$3238)-1)*10000*0.3,0)","v":10000},{"$f":"ROUND(J3207*K3207,0)","v":6500},2018,null,null,"Arcus M","HL"]
["Yves Jeanmotte",null,null,null,"Hahnweide 2018 - Duo 20m","DE",2,4950,5110,0.65,{"$f":"ROUND(H3208/I3208*10000*0.7+(MAX($G$3207:$G$3238)-G3208)/(MAX($G$3207:$G$3238)-1)*10000*0.3,0)","v":9684},{"$f":"ROUND(J3208*K3208,0)","v":6295},2018,null,null,"ASG 32 Mi","P2"]
["Martin Theisinger",null,null,null,"Hahnweide 2018 - Duo 20m","DE",3,4921,5110,0.65,9548,6206,2018,null,null,"Arcus M","WT"]
["Katrin Senne",null,null,null,"Hahnweide 2018 - Duo 20m","DE",4,4900,5110,0.65,9422,6124,2018,null,null,"ASG 32 Mi","KK"]
["Stephan Mayer",null,null,null,"Hahnweide 2018 - Duo 20m","DE",5,4769,5110,0.65,9146,5945,2018,null,null,"Arcus T","WA"]
["Norbert Sommer",null,null,null,"Hahnweide 2018 - Duo 20m","DE",6,4722,5110,0.65,8985,5840,2018,null,null,"Arcus M","7L"]
["Anton Sibanc",null,null,null,"Hahnweide 2018 - Duo 20m","DE",7,4716,5110,0.65,8880,5772,2018,null,null,"Arcus M","EI"]
["Kevin Dilger",null,null,null,"Hahnweide 2018 - Duo 20m","DE",8,4654,5110,0.65,8698,5654,2018,null,null,"Arcus T","NH"]
["Joost Wolff",null,null,null,"Hahnweide 2018 - Duo 20m","DE",9,4631,5110,0.65,8570,5571,2018,null,null,"Arcus T","DX"]
["Andreas Lutz",null,null,null,"Hahnweide 2018 - Duo 20m","DE",10,4619,5110,0.65,8456,5496,2018,null,null,"Arcus M",3]
["Franz Gall",null,null,null,"Hahnweide 2018 - Duo 20m","DE",11,4594,5110,0.65,8325,5411,2018,null,null,"Arcus M",7]
["Frank Rodewald",null,null,null,"Hahnweide 2018 - Duo 20m","DE",12,4537,5110,0.65,8151,5298,2018,null,null,"Arcus T","GX"]
["Jim Acketoft",null,null,null,"Hahnweide 2018 - Duo 20m","DE",13,4446,5110,0.65,7929,5154,2018,null,null,"Arcus M","TWO"]
["Laurens Goudriaan",null,null,null,"Hahnweide 2018 - Duo 20m","DE",14,4387,5110,0.65,7752,5039,2018,null,null,"ASG 32 Mi",32]
["Sascha Costabel",null,null,null,"Hahnweide 2018 - Duo 20m","DE",15,4356,5110,{"$f":"VLOOKUP(E3221,Soutez,8,0)","v":0.65},7612,4948,2018,null,null,"Arcus M","C"]
["Ulrich Blahak",null,null,null,"Hahnweide 2018 - Duo 20m","DE",16,4318,5110,0.65,7463,4851,2018,null,null,"Duo Discus","3E"]
["Laurent Aboulin",null,null,null,"Hahnweide 2018 - Duo 20m","DE",17,4190,5110,0.65,7191,4674,2018,null,null,"Arcus T","A1"]
["Sjaak Selen",null,null,null,"Hahnweide 2018 - Duo 20m","DE",18,3971,5110,0.65,6795,4417,2018,null,null,"Duo Discus XLT","VP"]
["Stefan Krauss",null,null,null,"Hahnweide 2018 - Duo 20m","DE",19,3943,5110,0.65,6659,4328,2018,null,null,"Arcus M","SS"]
["Niel Deijgers",null,null,null,"Hahnweide 2018 - Duo 20m","DE",20,3911,5110,0.65,6519,4237,2018,null,null,"Duo Discus","DUO"]
["Nils Koster",null,null,null,"Hahnweide 2018 - Duo 20m","DE",21,3833,5110,0.65,6315,4105,2018,null,null,"Arcus T","E2"]
["Martin Piskacek",{"$f":"VLOOKUP(A3228,Pilot,2,0)","v":1991},{"$f":"VLOOKUP(A3228,Pilot,3,0)","v":"Beroun"},{"$f":"VLOOKUP(A3228,Pilot,4,0)","v":"CZ/C1"},"Hahnweide 2018 - Duo 20m","DE",22,3828,5110,0.65,6212,4038,2018,"x",null,"Duo Discus",777,{"$f":"VLOOKUP(A3228,Pilot,5,0)","v":"M"},{"$f":"IF(ISERROR(VLOOKUP(A3228,Pilot,6,0)),\"Není v databázi\",VLOOKUP(A3228,Pilot,6,0))","v":""}]
["Manuel Stokinger",null,null,null,"Hahnweide 2018 - Duo 20m","DE",23,3802,5110,0.65,6079,3951,2018,null,null,"Duo Discus XLT","H2"]
["Markus Ganev",null,null,null,"Hahnweide 2018 - Duo 20m","DE",24,3792,5110,0.65,5969,3880,2018,null,null,"Arcus M","XP"]
["Christoph Maiwald",null,null,null,"Hahnweide 2018 - Duo 20m","DE",25,3601,5110,0.65,5610,3647,2018,null,null,"Duo Discus XLT","K5"]
["Adrian Glauner",null,null,null,"Hahnweide 2018 - Duo 20m","DE",26,3504,5110,0.65,5381,3498,2018,null,null,"Duo Discus XLT","RT"]
["Stefan Kessler",null,null,null,"Hahnweide 2018 - Duo 20m","DE",27,3384,5110,0.65,5119,3327,2018,null,null,"Duo Discus T","7UP"]
["Tim Oliver Schmidt",null,null,null,"Hahnweide 2018 - Duo 20m","DE",28,3354,5110,0.65,4982,3238,2018,null,null,"Arcus M","AC2"]
["Patrick Kutschat",null,null,null,"Hahnweide 2018 - Duo 20m","DE",29,2707,5110,0.65,3999,2599,2018,null,null,"Duo Discus XLT","GT2"]
["Christoph Heidemeyer",null,null,null,"Hahnweide 2018 - Duo 20m","DE",30,2408,5110,0.65,3492,2270,2018,null,null,"Arcus T","KA"]
["Hans-Joachim Riedelsheimer",null,null,null,"Hahnweide 2018 - Duo 20m","DE",31,2321,5110,0.65,3276,2129,2018,null,null,"Duo Discus T","B4"]
["Thomas Schaich",null,null,null,"Hahnweide 2018 - Duo 20m","DE",32,1736,5110,0.65,2378,1546,2018,null,null,"Duo Discus XLT","NZ"]
["David Mach",{"$f":"VLOOKUP(A3239,Pilot,2,0)","v":1994},{"$f":"VLOOKUP(A3239,Pilot,3,0)","v":"Hronov"},{"$f":"VLOOKUP(A3239,Pilot,4,0)","v":"CZ/C2"},"Flatland Cup 2018 - Klub","HU",1,6093,6093,0.90500000000000003,{"$f":"ROUND(H3239/I3239*10000*0.7+(MAX($G$3239:$G$3273)-G3239)/(MAX($G$3239:$G$3273)-1)*10000*0.3,0)","v":10000},{"$f":"ROUND(J3239*K3239,0)","v":9050},2018,"x",null,"Std Cirrus","XC",{"$f":"VLOOKUP(A3239,Pilot,5,0)","v":"M"},{"$f":"IF(ISERROR(VLOOKUP(A3239,Pilot,6,0)),\"Není v databázi\",VLOOKUP(A3239,Pilot,6,0))","v":"Junior v roce 2019"}]
["Jelmer Vis",null,"Vliegclub Hoogeveen",null,"Flatland Cup 2018 - Klub","HU",2,5821,6093,0.90500000000000003,9599,{"$f":"ROUND(J3240*K3240,0)","v":8687},2018,null,null,"Std Cirrus","HE"]
["Barbora Moravcova",{"$f":"VLOOKUP(A3241,Pilot,2,0)","v":1994},{"$f":"VLOOKUP(A3241,Pilot,3,0)","v":"Zbraslavice"},{"$f":"VLOOKUP(A3241,Pilot,4,0)","v":"CZ/C1"},"Flatland Cup 2018 - Klub","HU",3,5763,6093,0.90500000000000003,9444,8547,2018,"x","x","ASW 19","CF",{"$f":"VLOOKUP(A3241,Pilot,5,0)","v":"F"},{"$f":"IF(ISERROR(VLOOKUP(A3241,Pilot,6,0)),\"Není v databázi\",VLOOKUP(A3241,Pilot,6,0))","v":"Junior v roce 2019"}]
["Zoltán Földi",null,"Alföldi Repülőklub",null,"Flatland Cup 2018 - Klub","HU",4,5675,6093,0.90500000000000003,9255,8376,2018,null,null,"Std Jantar 2 W","ZP"]
["Jaromir Macoun",{"$f":"VLOOKUP(A3243,Pilot,2,0)","v":1999},{"$f":"VLOOKUP(A3243,Pilot,3,0)","v":"Jičín"},{"$f":"VLOOKUP(A3243,Pilot,4,0)","v":"CZ/C2"},"Flatland Cup 2018 - Klub","HU",5,5658,6093,0.90500000000000003,9147,8278,2018,"x",null,"ASW 15 b","FA",{"$f":"VLOOKUP(A3243,Pilot,5,0)","v":"M"},{"$f":"IF(ISERROR(VLOOKUP(A3243,Pilot,6,0)),\"Není v databázi\",VLOOKUP(A3243,Pilot,6,0))","v":"Junior v roce 2019"}]
["Klara Teichmannova",1993,"Hronov","CZ/C2","Flatland Cup 2018 - Klub","HU",6,5590,6093,0.90500000000000003,8981,8128,2018,null,null,"Std Cirrus","LY",{"$f":"VLOOKUP(A3244,Pilot,5,0)","v":"F"},{"$f":"IF(ISERROR(VLOOKUP(A3244,Pilot,6,0)),\"Není v databázi\",VLOOKUP(A3244,Pilot,6,0))","v":""}]
["Robin Smit",null,"GLC illustrious",null,"Flatland Cup 2018 - Klub","HU",7,5562,6093,0.90500000000000003,8861,8019,2018,null,null,"Std Cirrus","RSM"]
["János Pós",null,"Muegyetemi Sportrepülő Egyesület",null,"Flatland Cup 2018 - Klub","HU",8,5458,6093,0.90500000000000003,8653,7831,2018,null,null,"Std Jantar 1","TL"]
["János Bauer",null,"Vario SE",null,"Flatland Cup 2018 - Klub","HU",9,5403,6093,0.90500000000000003,8501,7693,2018,null,null,"Mini Nimbus C",55]
["Vlagyiszláv Galuzinyec",null,"Szombathelyi Repülőklub",null,"Flatland Cup 2018 - Klub","HU",10,5383,6093,0.90500000000000003,8390,7593,2018,null,null,"Std Jantar 3","Gti"]
["Ivan Tvrdik",{"$f":"VLOOKUP(A3249,Pilot,2,0)","v":1997},{"$f":"VLOOKUP(A3249,Pilot,3,0)","v":"Letňany"},{"$f":"VLOOKUP(A3249,Pilot,4,0)","v":"CZ/C1"},"Flatland Cup 2018 - Klub","HU",11,4857,6093,0.90500000000000003,7698,6967,2018,"x",null,"ASW 19 b","HD",{"$f":"VLOOKUP(A3249,Pilot,5,0)","v":"M"},{"$f":"IF(ISERROR(VLOOKUP(A3249,Pilot,6,0)),\"Není v databázi\",VLOOKUP(A3249,Pilot,6,0))","v":"Junior v roce 2019"}]
["Barnabás Tóth",null,"Szombathelyi Repülőklub",null,"Flatland Cup 2018 - Klub","HU",12,4842,6093,0.90500000000000003,7592,6871,2018,null,null,"Peagse","BT"]
["Balázs Laktis",null,"MÁV Sportrepülő Egyesület",null,"Flatland Cup 2018 - Klub","HU",13,4792,6093,0.90500000000000003,7447,6740,2018,null,null,"Std Cirrus WL","CZ"]
["Lizzy van Zomeren",null,"ACvZ",null,"Flatland Cup 2018 - Klub","HU",14,4742,6093,0.90500000000000003,7301,6607,2018,null,null,"Cirrus B","AG"]
["Balázs Endrődi",null,"Aeroklub Farkashegy",null,"Flatland Cup 2018 - Klub","HU",15,4656,6093,0.90500000000000003,7114,6438,2018,null,null,"LS 1c","MB"]
["Csaba Tóth",null,"Dunaferr",null,"Flatland Cup 2018 - Klub","HU",16,4561,6093,0.90500000000000003,6916,6259,2018,null,null,"Std Jantar 3 W","IX"]
["László Loskay",null,"Dunaferr",null,"Flatland Cup 2018 - Klub","HU",17,4156,6093,0.90500000000000003,6363,5759,2018,null,null,"Astir CS 77","DZ"]
["Béla Borkuti",null,"Pelikán Repülő Egyesület",null,"Flatland Cup 2018 - Klub","HU",18,4115,6093,0.90500000000000003,6228,5636,2018,null,null,"Glassfluegel 304 W","BB"]
["Ádám Kapuy",null,"Műegyetemi Sportrepülő Egyesület",null,"Flatland Cup 2018 - Klub","HU",19,4096,6093,0.90500000000000003,6117,5536,2018,null,null,"LS 4","GJ"]
["Bálint Biró",null,"MÁV Sportrepülő Egyesület",null,"Flatland Cup 2018 - Klub","HU",20,4033,6093,0.90500000000000003,5957,5391,2018,null,null,"ASW 19","CV"]
["Zsombor Wéber",null,"Alföldi Repülőklub",null,"Flatland Cup 2018 - Klub","HU",21,4021,6093,0.90500000000000003,5855,5299,2018,null,null,"Std Jantar 2",16]
["András Oswald",null,"Szentesi Repülőklub",null,"Flatland Cup 2018 - Klub","HU",22,3972,6093,0.90500000000000003,5710,5168,2018,null,null,"LS 3","1A"]
["Áron Érseki",null,"Opitz Nándor Repülőklub",null,"Flatland Cup 2018 - Klub","HU",23,3955,6093,0.90500000000000003,5603,5071,2018,null,null,"ASW 15","NK"]
["Imre Tóth",null,"Dunaferr",null,"Flatland Cup 2018 - Klub","HU",24,3686,6093,0.90500000000000003,5205,4711,2018,null,null,"Std Jantar 2","MA"]
["Richárd Vajda",null,"Aeroklub Farkashegy",null,"Flatland Cup 2018 - Klub","HU",25,3141,6093,0.90500000000000003,4491,4064,2018,null,null,"ASW 20 W","BAS"]
["Antal Salánki Tibor Szabó",null,"ACFH",null,"Flatland Cup 2018 - Klub","HU",26,3066,6093,0.90500000000000003,4317,3907,2018,null,null,"Twin Astir","II"]
["Péter Gönczi",null,"Malév RK",null,"Flatland Cup 2018 - Klub","HU",27,3051,6093,0.90500000000000003,4211,3811,2018,null,null,"Janus C (FG)","DD"]
["Tibor Szőke",null,"Szentesi Repülőklub",null,"Flatland Cup 2018 - Klub","HU",28,3039,6093,0.90500000000000003,4109,3719,2018,null,null,"LS 3","CH"]
["Sándor Máté",null,"Aero Klub Debrecen Sportegyesület",null,"Flatland Cup 2018 - Klub","HU",29,2862,6093,0.90500000000000003,3817,3454,2018,null,null,"Mini Nimbus","MI"]
["Johannes Aldrian",null,"ASFC Timmersdorf",null,"Flatland Cup 2018 - Klub","HU",30,2388,6093,0.90500000000000003,3185,2882,2018,null,null,"LS 7 WL","IMM"]
["János Bence Szabó",null,"Malév RK",null,"Flatland Cup 2018 - Klub","HU",31,2229,6093,0.90500000000000003,2914,2637,2018,null,null,"Std Cirrus","P"]
["Lilla Szamosujvári",null,"MÁV Sportrepülő Egyesület",null,"Flatland Cup 2018 - Klub","HU",32,2207,6093,0.90500000000000003,2800,2534,2018,null,null,"Astir CS 77","M2"]
["Domonkos Kalota",null,"Opitz Nándor Repülőklub",null,"Flatland Cup 2018 - Klub","HU",33,1915,6093,0.90500000000000003,2377,2151,2018,null,null,"Std Libelle","B"]
["Mark Travner",null,"Aeroklub Celje",null,"Flatland Cup 2018 - Klub","HU",34,1300,6093,0.90500000000000003,1582,{"$f":"ROUND(J3272*K3272,0)","v":1432},2018,null,null,"DG 300","CE"]
["Péter Lencsés",null,"Hajdúszoboszló Aero Club",null,"Flatland Cup 2018 - Klub","HU",35,718,6093,0.90500000000000003,825,747,2018,null,null,"Std Jantar 1","JI"]
["Jan Zapletal",{"$f":"VLOOKUP(A3274,Pilot,2,0)","v":1997},{"$f":"VLOOKUP(A3274,Pilot,3,0)","v":"Kroměříž"},{"$f":"VLOOKUP(A3274,Pilot,4,0)","v":"CZ/M"},"Flatland Cup 2018 - Kombi","HU",1,7430,7430,0.90500000000000003,{"$f":"ROUND(H3274/I3274*10000*0.7+(MAX($G$3274:$G$3298)-G3274)/(MAX($G$3274:$G$3298)-1)*10000*0.3,0)","v":10000},{"$f":"ROUND(J3274*K3274,0)","v":9050},2018,"x",null,"LS 8","JB",{"$f":"VLOOKUP(A3274,Pilot,5,0)","v":"M"},{"$f":"IF(ISERROR(VLOOKUP(A3274,Pilot,6,0)),\"Není v databázi\",VLOOKUP(A3274,Pilot,6,0))","v":"Junior v roce 2019"}]
["Jan Viskot",1995,"Břeclav","CZ/M","Flatland Cup 2018 - Kombi","HU",2,7365,7430,0.90500000000000003,{"$f":"ROUND(H3275/I3275*10000*0.7+(MAX($G$3274:$G$3298)-G3275)/(MAX($G$3274:$G$3298)-1)*10000*0.3,0)","v":9814},{"$f":"ROUND(J3275*K3275,0)","v":8882},2018,"x",null,"Discus 2","GX",{"$f":"VLOOKUP(A3275,Pilot,5,0)","v":"M"},{"$f":"IF(ISERROR(VLOOKUP(A3275,Pilot,6,0)),\"Není v databázi\",VLOOKUP(A3275,Pilot,6,0))","v":"Junior v roce 2019"}]
["Tamás Gál",null,"Dunaferr Repülo Klub",null,"Flatland Cup 2018 - Kombi","HU",3,7189,7430,0.90500000000000003,9523,8618,2018,null,null,"Ventus 2 b","V7"]
["Attila Szabadfi Gábor Kapuy",null,"Malév Repüloklub",null,"Flatland Cup 2018 - Kombi","HU",4,7159,7430,0.90500000000000003,9370,8480,2018,null,null,"Arcus T","AB"]
["Zoltán Verebélyi",null,"Alföldi Repüloklub",null,"Flatland Cup 2018 - Kombi","HU",5,7076,7430,0.90500000000000003,9166,8295,2018,null,null,"ASG 29","HI"]
["Zoltan Hamar",null,"Vario Sportrepülo Egyesület",null,"Flatland Cup 2018 - Kombi","HU",6,7038,7430,0.90500000000000003,9006,8150,2018,null,null,"Ventus 2","5A"]
["Zoltán Surányi",null,"Pelikán Repülo Egyesület",null,"Flatland Cup 2018 - Kombi","HU",7,6807,7430,0.90500000000000003,8663,7840,2018,null,null,"Duo Discus","SGC"]
["Tamás Vámosi",null,"Opitz Nándor Repüloklub",null,"Flatland Cup 2018 - Kombi","HU",8,6725,7430,0.90500000000000003,8461,7657,2018,null,null,"Discus 2","HUN"]
["Péter Bánki",null,"MÁV Sportrepülo Egyesület",null,"Flatland Cup 2018 - Kombi","HU",9,6613,7430,0.90500000000000003,8230,7448,2018,null,null,"ASW 20 W","M6"]
["László Orsy",null,"DAC-1930",null,"Flatland Cup 2018 - Kombi","HU",10,6546,7430,0.90500000000000003,8042,7278,2018,null,null,"LS 6","4L"]
["Attila Korom",null,"Alföldi Repülőklub",null,"Flatland Cup 2018 - Kombi","HU",11,6500,7430,0.90500000000000003,7874,7126,2018,null,null,"ASW 20 W","MC"]
["Dániel Arday",null,"Malév Repüloklub",null,"Flatland Cup 2018 - Kombi","HU",12,6359,7430,{"$f":"VLOOKUP(E3285,Soutez,8,0)","v":0.90500000000000003},7616,6892,2018,null,null,"Discus 2","HAL"]
["Tamás Mayer",null,"Malév Repüloklub",null,"Flatland Cup 2018 - Kombi","HU",13,6137,7430,0.90500000000000003,7282,6590,2018,null,null,"ASW 20 W","AC"]
["Péter Dr. Albeck",null,"Ocsényi Repüloklub SE",null,"Flatland Cup 2018 - Kombi","HU",14,6125,7430,0.90500000000000003,7146,6467,2018,null,null,"Ventus 2","V8"]
["Richárd Basa",null,"Alföldi Repüloklub",null,"Flatland Cup 2018 - Kombi","HU",15,6124,7430,0.90500000000000003,7020,6353,2018,null,null,"JS3","RI"]
["Péter Kassai",null,"Malév Repüloklub",null,"Flatland Cup 2018 - Kombi","HU",16,5962,7430,0.90500000000000003,6742,6102,2018,null,null,"Discus b","7W"]
["Gábor Gangl",null,"MÁV Sportrepülo Egyesület",null,"Flatland Cup 2018 - Kombi","HU",17,5730,7430,0.90500000000000003,6398,5790,2018,null,null,"Discus w","M5"]
["István Réti",null,"Alföldi Repüloklub",null,"Flatland Cup 2018 - Kombi","HU",18,5691,7430,0.90500000000000003,6237,5644,2018,null,null,"Ventus 2","IR"]
["László Kapuy",null,"Muegyetemi Sportrepülo Egyesület",null,"Flatland Cup 2018 - Kombi","HU",19,5598,7430,0.90500000000000003,6024,5452,2018,null,null,"Ventus 2","GE"]
["Attila Szűcs",null,"Vario SE",null,"Flatland Cup 2018 - Kombi","HU",20,5526,7430,0.90500000000000003,5831,5277,2018,null,null,"Ventus b","G6"]
["István Magyar",null,"Opitz Nándor Repüloklub",null,"Flatland Cup 2018 - Kombi","HU",21,5425,7430,0.90500000000000003,5611,5078,2018,null,null,"ASG 29","PB"]
["Zoltán Mészáros",null,"Aero Club Esztergom",null,"Flatland Cup 2018 - Kombi","HU",22,5415,7430,0.90500000000000003,5477,4957,2018,null,null,"ASW 20 W","BA"]
["Zsolt Ősi András Bodzsár",null,"Aeroklub Farkashegy",null,"Flatland Cup 2018 - Kombi","HU",23,4880,7430,0.90500000000000003,4848,4387,2018,null,null,"Arcus E","E"]
["István Rajncsák",null,"Aeroklub Farkashegy",null,"Flatland Cup 2018 - Kombi","HU",24,2596,7430,0.90500000000000003,2571,2327,2018,null,null,"Ventus b","1B"]
["Andreas Marskar",null,"Aeroclub Berlin",null,"Flatland Cup 2018 - Kombi","HU",25,1226,7430,0.90500000000000003,1155,1045,2018,null,null,"LS 6","HY"]
["Tim Milner",null,"Wolds gliding Club",null,"FCC 2018 - Klub","SK",1,5808,5808,0.94,{"$f":"ROUND(H3299/I3299*10000*0.7+(MAX($G$3299:$G$3345)-G3299)/(MAX($G$3299:$G$3345)-1)*10000*0.3,0)","v":10000},{"$f":"ROUND(J3299*K3299,0)","v":9400},2018,null,null,"Std. Cirrus","VS"]
["Jacek Flis",null,"Ziemi Zamojskiej / KKGT",null,"FCC 2018 - Klub","SK",2,5743,5808,0.94,9856,{"$f":"ROUND(J3300*K3300,0)","v":9265},2018,null,null,"SZD-48 Jantar std. 2","VI"]
["Uwe Wahlig",null,"Segelfluggruppe Bensheim e.V.",null,"FCC 2018 - Klub","SK",3,5737,5808,0.94,9784,9197,2018,null,null,"LS-3 WL /15m","SN"]
["David Mach",{"$f":"VLOOKUP(A3302,Pilot,2,0)","v":1994},{"$f":"VLOOKUP(A3302,Pilot,3,0)","v":"Hronov"},{"$f":"VLOOKUP(A3302,Pilot,4,0)","v":"CZ/C2"},"FCC 2018 - Klub","SK",4,5618,5808,0.94,9575,9001,2018,null,null,"Std. Cirrus","CX",{"$f":"VLOOKUP(A3302,Pilot,5,0)","v":"M"},{"$f":"IF(ISERROR(VLOOKUP(A3302,Pilot,6,0)),\"Není v databázi\",VLOOKUP(A3302,Pilot,6,0))","v":"Junior v roce 2019"}]
["Adam Woolley",null,"Kingaroy",null,"FCC 2018 - Klub","SK",5,5395,5808,0.94,9241,8687,2018,null,null,"Cirrus STD","XII"]
["Darius Gudziunas",null,"Vilniaus Aeroklubas",null,"FCC 2018 - Klub","SK",6,5294,5808,0.94,9054,8511,2018,null,null,"SZD-48 Jantar std. 2","NE"]
["Jan Ratz",{"$f":"VLOOKUP(A3305,Pilot,2,0)","v":1987},{"$f":"VLOOKUP(A3305,Pilot,3,0)","v":"Plasy"},{"$f":"VLOOKUP(A3305,Pilot,4,0)","v":"CZ/C1"},"FCC 2018 - Klub","SK",7,5161,5808,0.94,8829,8299,2018,"x",null,"Std. Cirrus",7,{"$f":"VLOOKUP(A3305,Pilot,5,0)","v":"M"},{"$f":"IF(ISERROR(VLOOKUP(A3305,Pilot,6,0)),\"Není v databázi\",VLOOKUP(A3305,Pilot,6,0))","v":""}]
["Zbigniew Górecki",null,"Łódź",null,"FCC 2018 - Klub","SK",8,5101,5808,0.94,8691,8170,2018,null,null,"LS1-f","C"]
["Marek Sawczuk",null,"Warszawski",null,"FCC 2018 - Klub","SK",9,5024,5808,0.94,8533,8021,2018,null,null,"ASW 20","SB"]
["Krzysztof Sobiecki",null,"Bydgoski",null,"FCC 2018 - Klub","SK",10,4988,5808,0.94,8425,7920,2018,null,null,"SZD-48 Jantar std. 2","UT"]
["Tomasz Krok",null,"Leszno",null,"FCC 2018 - Klub","SK",11,4925,5808,0.94,8284,7787,2018,null,null,"SZD-48 Jantar std. 3","BZ"]
["Jiri Fousek",{"$f":"VLOOKUP(A3310,Pilot,2,0)","v":1990},{"$f":"VLOOKUP(A3310,Pilot,3,0)","v":"Raná"},{"$f":"VLOOKUP(A3310,Pilot,4,0)","v":"CZ/C2"},"FCC 2018 - Klub","SK",12,4891,5808,0.94,8177,7686,2018,"x",null,"Std. Cirrus","LW",{"$f":"VLOOKUP(A3310,Pilot,5,0)","v":"M"},{"$f":"IF(ISERROR(VLOOKUP(A3310,Pilot,6,0)),\"Není v databázi\",VLOOKUP(A3310,Pilot,6,0))","v":""}]
["Zdenek Balcarek",1967,"Kroměříž","CZ/M","FCC 2018 - Klub","SK",13,4855,5808,0.94,8069,7585,2018,"x",null,"Std. Cirrus","ZL",{"$f":"VLOOKUP(A3311,Pilot,5,0)","v":"M"},{"$f":"IF(ISERROR(VLOOKUP(A3311,Pilot,6,0)),\"Není v databázi\",VLOOKUP(A3311,Pilot,6,0))","v":""}]
["Oliver Sven",null,"Cape Gliding Club",null,"FCC 2018 - Klub","SK",14,4772,5808,0.94,7904,7430,2018,null,null,"Std. Cirrus","UY"]
["Stanislaw Wujczak",null,"Leszczyński",null,"FCC 2018 - Klub","SK",15,4757,5808,0.94,7820,7351,2018,null,null,"SZD-48 Jantar std. 3","FSJ"]
["Petra Piskata",{"$f":"VLOOKUP(A3314,Pilot,2,0)","v":1989},{"$f":"VLOOKUP(A3314,Pilot,3,0)","v":"Hranice"},{"$f":"VLOOKUP(A3314,Pilot,4,0)","v":"CZ/M"},"FCC 2018 - Klub","SK",16,4728,5808,0.94,7720,7257,2018,"x",null,"Std. Cirrus","XC",{"$f":"VLOOKUP(A3314,Pilot,5,0)","v":"F"},{"$f":"IF(ISERROR(VLOOKUP(A3314,Pilot,6,0)),\"Není v databázi\",VLOOKUP(A3314,Pilot,6,0))","v":""}]
["Mikolaj Zdun",null,"Aeroklub Leszno",null,"FCC 2018 - Klub","SK",17,4568,5808,0.94,7462,7014,2018,null,null,"SZD-48 Jantar std. 2","SCH"]
["Arkadiusz Downar",null,"Warmińsko-Mazurski",null,"FCC 2018 - Klub","SK",18,4531,5808,0.94,7352,6911,2018,null,null,"Centrair C-101A Pegase","EM"]
["Ferenc Tamas",null,"Szeged",null,"FCC 2018 - Klub","SK",19,4523,5808,0.94,7277,6840,2018,null,null,"LS-3 /15m","1A"]
["Arkadiusz Bajura",null,"Czestochowa",null,"FCC 2018 - Klub","SK",20,4483,5808,0.94,7164,6734,2018,null,null,"Mini-Nimbus c","CC"]
["Frantisek Pycha",{"$f":"VLOOKUP(A3319,Pilot,2,0)","v":1972},{"$f":"VLOOKUP(A3319,Pilot,3,0)","v":"Chrudim"},{"$f":"VLOOKUP(A3319,Pilot,4,0)","v":"CZ/C2"},"FCC 2018 - Klub","SK",21,4288,5808,0.94,6864,6452,2018,"x",null,"Std. Cirrus","JE",{"$f":"VLOOKUP(A3319,Pilot,5,0)","v":"M"},{"$f":"IF(ISERROR(VLOOKUP(A3319,Pilot,6,0)),\"Není v databázi\",VLOOKUP(A3319,Pilot,6,0))","v":""}]
["Marek Herbreder",null,"Szcecin",null,"FCC 2018 - Klub","SK",22,4189,5808,0.94,6679,6278,2018,null,null,"SZD-55 Promyk","TK"]
["Attila Korom",null,"ARK",null,"FCC 2018 - Klub","SK",23,4167,5808,0.94,6587,6192,2018,null,null,"ASW 20","MC"]
["Peter Kassai",null,"MALEV",null,"FCC 2018 - Klub","SK",24,4132,5808,0.94,6480,6091,2018,null,null,"Discus","7W"]
["Piotr Ligwinski",null,"Czestochova",null,"FCC 2018 - Klub","SK",25,4111,5808,0.94,6390,6007,2018,null,null,"SZD-48 Jantar std. 3","DA"]
["Karol Pawlicki",null,"Stalowowolski",null,"FCC 2018 - Klub","SK",26,4070,5808,0.94,6275,5899,2018,null,null,"SZD-48 Jantar std. 3","BK"]
["Tomasz Smolski",null,"Radomski",null,"FCC 2018 - Klub","SK",27,3912,5808,0.94,6019,5658,2018,null,null,"SZD-48 Jantar std. 3","VY"]
["Andrius Tamulenas",null,"Vilnianus aeroklubas",null,"FCC 2018 - Klub","SK",28,3752,5808,0.94,5761,5415,2018,null,null,"LS-4","IK"]
["Slavomir Piskaty 84",{"$f":"VLOOKUP(A3327,Pilot,2,0)","v":1984},{"$f":"VLOOKUP(A3327,Pilot,3,0)","v":"Kunovice"},{"$f":"VLOOKUP(A3327,Pilot,4,0)","v":"CZ/M"},"FCC 2018 - Klub","SK",29,3731,5808,0.94,5671,5331,2018,"x",null,"Std. Cirrus","PIF",{"$f":"VLOOKUP(A3327,Pilot,5,0)","v":"M"},{"$f":"IF(ISERROR(VLOOKUP(A3327,Pilot,6,0)),\"Není v databázi\",VLOOKUP(A3327,Pilot,6,0))","v":""}]
["Fryderyk Rzymanek",null,"Radomski",null,"FCC 2018 - Klub","SK",30,3690,5808,0.94,5556,5223,2018,null,null,"SZD-48 Jantar std. 3","FR"]
["Peter Gonczi",null,"Malev",null,"FCC 2018 - Klub","SK",31,3631,5808,0.94,5420,5095,2018,null,null,"Janus C (FG)","DD"]
["Lumir Motyka",{"$f":"VLOOKUP(A3330,Pilot,2,0)","v":1955},{"$f":"VLOOKUP(A3330,Pilot,3,0)","v":"Frýdlant"},{"$f":"VLOOKUP(A3330,Pilot,4,0)","v":"CZ/M"},"FCC 2018 - Klub","SK",32,3616,5808,0.94,5336,5016,2018,null,null,"LS-1f","EMI",{"$f":"VLOOKUP(A3330,Pilot,5,0)","v":"M"},{"$f":"IF(ISERROR(VLOOKUP(A3330,Pilot,6,0)),\"Není v databázi\",VLOOKUP(A3330,Pilot,6,0))","v":""}]
["Krzysztof Kotarski",null,"Aeroklub Nadwiślańsk",null,"FCC 2018 - Klub","SK",33,3615,5808,0.94,5270,4954,2018,null,null,"ASW-19B","J1"]
["Rafal Siankowski",null,"Radomski",null,"FCC 2018 - Klub","SK",34,3603,5808,0.94,5190,4879,2018,null,null,"SZD-48 Jantar std. 3","AA"]
["Piotr Jaszczuk",null,"Aeroklub Orlat Deblin",null,"FCC 2018 - Klub","SK",35,3268,5808,0.94,4721,4438,2018,null,null,"ASW 19B","JAY"]
["Andrzej Szczerba",null,"Leszcznski",null,"FCC 2018 - Klub","SK",36,3066,5808,0.94,4413,4148,2018,null,null,"SZD-48 Jantar std. 2","MZ"]
["Wojciech Izdebski",null,"Gdansk",null,"FCC 2018 - Klub","SK",37,3014,5808,0.94,4285,4028,2018,null,null,"DG 100","G1"]
["Juliusz Pieniazek",null,"Podhalanski",null,"FCC 2018 - Klub","SK",38,2901,5808,0.94,4083,3838,2018,null,null,"SZD-55 Promyk","QQ"]
["Lukas Benedikt",null,"AK Trnava",null,"FCC 2018 - Klub","SK",39,2810,5808,0.94,3908,3674,2018,null,null,"Janus CM (FG)","T"]
["Aleksandar Diklic",null,"Zrenjanin",null,"FCC 2018 - Klub","SK",40,2441,5808,0.94,3398,3194,2018,null,null,"DG-100",30]
["Jaroslaw Michaluk",null,"Radomski",null,"FCC 2018 - Klub","SK",41,2139,5808,0.94,2969,2791,2018,null,null,"SZD-48 Jantar","LK"]
["Konrad Jaczkowski",null,"Częstochowski",null,"FCC 2018 - Klub","SK",42,2041,5808,0.94,2786,2619,2018,null,null,"Discus CS","VE"]
["Jerzy Mikolajczyk",null,"AZM Plock",null,"FCC 2018 - Klub","SK",43,2005,5808,0.94,2677,2516,2018,null,null,"LS-4","YL"]
["Agata Kaszczuk",null,"Wrocław",null,"FCC 2018 - Klub","SK",44,1935,5808,0.94,2528,2376,2018,null,null,"LS-1f","MRrrr"]
["Gerhard Cieply",null,"Aeroklub Leszczyński",null,"FCC 2018 - Klub","SK",45,1867,5808,0.94,2381,2238,2018,null,null,"LS1-f","GC"]
["Krzysztof Pienkowski",null,"Bielsko-Bialski",null,"FCC 2018 - Klub","SK",46,1284,5808,0.94,1613,1516,2018,null,null,"LS 4","KP"]
["Daniel Nowicki",null,"Aeroklub Bydgoski",null,"FCC 2018 - Klub","SK",47,935,5808,0.94,1127,1059,2018,null,null,"ASW-19B","DN"]
["Miloslav Cink",{"$f":"VLOOKUP(A3346,Pilot,2,0)","v":1987},{"$f":"VLOOKUP(A3346,Pilot,3,0)","v":"Letkov"},{"$f":"VLOOKUP(A3346,Pilot,4,0)","v":"CZ/C1"},"FCC 2018 - Kombi 15m","SK",1,4950,4950,0.98,{"$f":"ROUND(H3346/I3346*10000*0.7+(MAX($G$3346:$G$3378)-G3346)/(MAX($G$3346:$G$3378)-1)*10000*0.3,0)","v":10000},{"$f":"ROUND(J3346*K3346,0)","v":9800},2018,null,null,"LS-8b","JB",{"$f":"VLOOKUP(A3346,Pilot,5,0)","v":"M"},{"$f":"IF(ISERROR(VLOOKUP(A3346,Pilot,6,0)),\"Není v databázi\",VLOOKUP(A3346,Pilot,6,0))","v":""}]
["Pavel Louzecky",1957,"Přibyslav","CZ/C2","FCC 2018 - Kombi 15m","SK",2,4923,4950,0.98,9868,{"$f":"ROUND(J3347*K3347,0)","v":9671},2018,null,null,"LS-8a","FX",{"$f":"VLOOKUP(A3347,Pilot,5,0)","v":"M"},{"$f":"IF(ISERROR(VLOOKUP(A3347,Pilot,6,0)),\"Není v databázi\",VLOOKUP(A3347,Pilot,6,0))","v":""}]
["Mateusz Siodloczek",null,"Rybnik",null,"FCC 2018 - Kombi 15m","SK",3,4889,4950,0.98,9726,9531,2018,null,null,"Discus 2a","Y"]
["Norbert Alin Scarlat",null,"Romanian Airclub",null,"FCC 2018 - Kombi 15m","SK",4,4818,4950,{"$f":"VLOOKUP(E3349,Soutez,8,0)","v":0.98},9532,9341,2018,null,null,"Discus 2a /15m","YBI"]
["Radek Krejcirik",{"$f":"VLOOKUP(A3350,Pilot,2,0)","v":1991},{"$f":"VLOOKUP(A3350,Pilot,3,0)","v":"Hranice"},{"$f":"VLOOKUP(A3350,Pilot,4,0)","v":"CZ/M"},"FCC 2018 - Kombi 15m","SK",5,4631,4950,0.98,9174,8991,2018,null,null,"Ventus 2a /15m","AX",{"$f":"VLOOKUP(A3350,Pilot,5,0)","v":"M"},{"$f":"IF(ISERROR(VLOOKUP(A3350,Pilot,6,0)),\"Není v databázi\",VLOOKUP(A3350,Pilot,6,0))","v":""}]
["Jan Pavlik",1987,"Křižanov","CZ/M","FCC 2018 - Kombi 15m","SK",6,4619,4950,0.98,9063,8882,2018,"x",null,"LS-8","JW",{"$f":"VLOOKUP(A3351,Pilot,5,0)","v":"M"},{"$f":"IF(ISERROR(VLOOKUP(A3351,Pilot,6,0)),\"Není v databázi\",VLOOKUP(A3351,Pilot,6,0))","v":""}]
["Ondrej Bordovsky",1983,"Krnov","CZ/M","FCC 2018 - Kombi 15m","SK",7,4599,4950,0.98,8941,8762,2018,"x",null,"ASG-29E /15m -525kgQZ","QZ",{"$f":"VLOOKUP(A3352,Pilot,5,0)","v":"M"},""]
["Maros Divok",null,"SNV",null,"FCC 2018 - Kombi 15m","SK",8,4586,4950,0.98,8829,8652,2018,null,null,"Discus 2b","DI"]
["Lukasz Grabowski",null,"Aeroklub Wloclawski",null,"FCC 2018 - Kombi 15m","SK",9,4483,4950,0.98,8590,8418,2018,null,null,"SZD-56-2 Diana-2","RP"]
["Arturas Klimasauskas",null,"Pociunai (Kaunas Gliding Club)",null,"FCC 2018 - Kombi 15m","SK",10,4163,4950,0.98,8043,7882,2018,null,null,"LS-6","HX"]
["Alex Pop",null,"Romanian Airclub",null,"FCC 2018 - Kombi 15m","SK",11,4088,4950,0.98,7844,7687,2018,null,null,"Discus 2a /15m","YA"]
["Jana Treslova",{"$f":"VLOOKUP(A3357,Pilot,2,0)","v":1963},{"$f":"VLOOKUP(A3357,Pilot,3,0)","v":"Raná"},{"$f":"VLOOKUP(A3357,Pilot,4,0)","v":"CZ/C2"},"FCC 2018 - Kombi 15m","SK",12,3853,4950,0.98,7417,7269,2018,null,null,"LS 8","EU",{"$f":"VLOOKUP(A3357,Pilot,5,0)","v":"F"},{"$f":"IF(ISERROR(VLOOKUP(A3357,Pilot,6,0)),\"Není v databázi\",VLOOKUP(A3357,Pilot,6,0))","v":""}]
["Dariusz Czech",null,"Stalowowolski",null,"FCC 2018 - Kombi 15m","SK",13,3822,4950,0.98,7280,7134,2018,null,null,"LAK 19 15m","DC"]
["Tibor Arpas",null,"Nitra",null,"FCC 2018 - Kombi 15m","SK",14,3797,4950,0.98,7151,7008,2018,null,null,"LS-8st /15m","HM"]
["Jiri Kusbach",{"$f":"VLOOKUP(A3360,Pilot,2,0)","v":1959},{"$f":"VLOOKUP(A3360,Pilot,3,0)","v":"Luhačovice"},{"$f":"VLOOKUP(A3360,Pilot,4,0)","v":"CZ/M"},"FCC 2018 - Kombi 15m","SK",15,3561,4950,0.98,6723,6589,2018,null,null,"KKB 15E-FES","B"]
["Dana Novakova",1965,"Mladá Boleslav","CZ/C1","FCC 2018 - Kombi 15m","SK",16,3532,4950,0.98,6588,6456,2018,null,null,"LS 8","AU",{"$f":"VLOOKUP(A3361,Pilot,5,0)","v":"F"},{"$f":"IF(ISERROR(VLOOKUP(A3361,Pilot,6,0)),\"Není v databázi\",VLOOKUP(A3361,Pilot,6,0))","v":""}]
["Jan Viskot",1995,"Břeclav","CZ/M","FCC 2018 - Kombi 15m","SK",17,3486,4950,0.98,6430,6301,2018,null,null,"Discus 2a /15m","GX",{"$f":"VLOOKUP(A3362,Pilot,5,0)","v":"M"},{"$f":"IF(ISERROR(VLOOKUP(A3362,Pilot,6,0)),\"Není v databázi\",VLOOKUP(A3362,Pilot,6,0))","v":"Junior v roce 2019"}]
["Judyta Czyż",null,"Bielsko Bialski",null,"FCC 2018 - Kombi 15m","SK",18,3341,4950,0.98,6131,6008,2018,null,null,"LS-8","LOT"]
["Slavomir Valecko",{"$f":"VLOOKUP(A3364,Pilot,2,0)","v":1960},{"$f":"VLOOKUP(A3364,Pilot,3,0)","v":"Hranice"},{"$f":"VLOOKUP(A3364,Pilot,4,0)","v":"CZ/M"},"FCC 2018 - Kombi 15m","SK",19,3153,4950,0.98,5771,5656,2018,"x",null,"Discus CS","IYB",{"$f":"VLOOKUP(A3364,Pilot,5,0)","v":"M"},{"$f":"IF(ISERROR(VLOOKUP(A3364,Pilot,6,0)),\"Není v databázi\",VLOOKUP(A3364,Pilot,6,0))","v":""}]
["Pavel Trojan",1960,"Chrudim","CZ/C2","FCC 2018 - Kombi 15m","SK",20,3105,4950,0.98,5610,5498,2018,"x",null,"Duo Discus T (700kg)","ZS",{"$f":"VLOOKUP(A3365,Pilot,5,0)","v":"M"},{"$f":"IF(ISERROR(VLOOKUP(A3365,Pilot,6,0)),\"Není v databázi\",VLOOKUP(A3365,Pilot,6,0))","v":""}]
["Joanna Biedermann",null,"Aeroclub Nadwislanski",null,"FCC 2018 - Kombi 15m","SK",21,3020,4950,0.98,5396,5288,2018,null,null,"Discus 2a /15m","I"]
["Przemysław Bartczak",null,"Czestochowa",null,"FCC 2018 - Kombi 15m","SK",22,2988,4950,0.98,5257,5152,2018,null,null,"LS-8","A"]
["Drahos Sitar",null,"Aeroklub Prievidza",null,"FCC 2018 - Kombi 15m","SK",23,2910,4950,0.98,5053,4952,2018,null,null,"Ventus: 2b","VI"]
["Daniel Arday",null,"Malév",null,"FCC 2018 - Kombi 15m","SK",24,2795,4950,0.98,4796,4700,2018,null,null,"Discus 2a","HAL"]
["Vladas Motuza",null,"Pociunai",null,"FCC 2018 - Kombi 15m","SK",25,2786,4950,0.98,4690,4596,2018,null,null,"Discus 2a /15m","FL"]
["Iakov Shrage",null,"Neboshevlino",null,"FCC 2018 - Kombi 15m","SK",26,2630,4950,0.98,4375,4288,2018,null,null,"GP 15 E Jeta","GP"]
["Jana Veprekova",{"$f":"VLOOKUP(A3372,Pilot,2,0)","v":1961},{"$f":"VLOOKUP(A3372,Pilot,3,0)","v":"Dvůr Králové"},{"$f":"VLOOKUP(A3372,Pilot,4,0)","v":"CZ/C2"},"FCC 2018 - Kombi 15m","SK",27,2543,4950,0.98,4159,4076,2018,null,null,"LS 8","W8",{"$f":"VLOOKUP(A3372,Pilot,5,0)","v":"F"},{"$f":"IF(ISERROR(VLOOKUP(A3372,Pilot,6,0)),\"Není v databázi\",VLOOKUP(A3372,Pilot,6,0))","v":""}]
["Ambrus Vancso",null,"Dunaferr",null,"FCC 2018 - Kombi 15m","SK",28,2387,4950,0.98,3844,3767,2018,null,null,"Ventus bt /15m","PB"]
["Joris Vainius",null,"Vilnius",null,"FCC 2018 - Kombi 15m","SK",29,2042,4950,0.98,3263,3198,2018,null,null,"LS-8 /15m","P2"]
["Jan Keher",null,"Prievidza",null,"FCC 2018 - Kombi 15m","SK",30,1971,4950,0.98,3069,3008,2018,null,null,"Discus CS","DR"]
["Istvan Reti",null,"Alfoldi Repülőklub",null,"FCC 2018 - Kombi 15m","SK",31,1887,4950,0.98,2856,2799,2018,null,null,"Ventus 2a /15m","IR"]
["Benedikt Laho",null,"Trnava",null,"FCC 2018 - Kombi 15m","SK",32,1778,4950,0.98,2608,2556,2018,null,null,"Discus 2T /15m","JH"]
["Tomas Kuzmickas",null,"Vilnius Aeroclub",null,"FCC 2018 - Kombi 15m","SK",33,1603,4950,0.98,2267,2222,2018,null,null,"LAK 19/15m","ZM"]
["Sebastian Kawa",null,"Aeroclub Bielsko Biala",null,"FCC 2018 - Kombi Open","SK",1,6200,6200,0.96,{"$f":"ROUND(H3379/I3379*10000*0.7+(MAX($G$3379:$G$3403)-G3379)/(MAX($G$3379:$G$3403)-1)*10000*0.3,0)","v":10000},{"$f":"ROUND(J3379*K3379,0)","v":9600},2018,null,null,"JS1-CTJ 18 EVO","P"]
["Piotr Jarysz",null,"Aeroklub Koninski",null,"FCC 2018 - Kombi Open","SK",2,5928,6200,0.96,9568,{"$f":"ROUND(J3380*K3380,0)","v":9185},2018,null,null,"ASG-29","PL"]
["Danes Grula",{"$f":"VLOOKUP(A3381,Pilot,2,0)","v":1961},{"$f":"VLOOKUP(A3381,Pilot,3,0)","v":"Medlánky"},{"$f":"VLOOKUP(A3381,Pilot,4,0)","v":"CZ/M"},"FCC 2018 - Kombi Open","SK",3,5765,6200,0.96,9259,8889,2018,"x",null,"ASG 29E 18m","DX",{"$f":"VLOOKUP(A3381,Pilot,5,0)","v":"M"},{"$f":"IF(ISERROR(VLOOKUP(A3381,Pilot,6,0)),\"Není v databázi\",VLOOKUP(A3381,Pilot,6,0))","v":""}]
["Petr Krejcirik",1960,"Hranice","CZ/M","FCC 2018 - Kombi Open","SK",4,5750,6200,0.96,9117,8752,2018,null,null,"JS1-CTJ 18 EVO","ZF",{"$f":"VLOOKUP(A3382,Pilot,5,0)","v":"M"},{"$f":"IF(ISERROR(VLOOKUP(A3382,Pilot,6,0)),\"Není v databázi\",VLOOKUP(A3382,Pilot,6,0))","v":""}]
["Krzysztof Luniewski",null,"Olsztyn",null,"FCC 2018 - Kombi Open","SK",5,5367,6200,0.96,8560,8218,2018,null,null,"ASG-29Es /18m","RB"]
["Andrzej Smielkiewicz",null,"Leszno",null,"FCC 2018 - Kombi Open","SK",6,5320,6200,0.96,8381,8046,2018,null,null,"ASG-29E /18m","A2"]
["Andreas Kessler",null,"Romanian Airclub",null,"FCC 2018 - Kombi Open","SK",7,5244,6200,0.96,8171,7844,2018,null,null,"ASG-29Es /18m","AK"]
["Gintas Zube",null,"LT/KLAIPEDA",null,"FCC 2018 - Kombi Open","SK",8,5163,6200,0.96,7954,7636,2018,null,null,"ASG-29 /18m","AR"]
["Zdislaw Bednarczuk",null,"Bielsko-Biala",null,"FCC 2018 - Kombi Open","SK",9,5139,6200,0.96,7802,7490,2018,null,null,"ASG-29E /18m","ZB"]
["Petr Panek",{"$f":"VLOOKUP(A3388,Pilot,2,0)","v":1975},{"$f":"VLOOKUP(A3388,Pilot,3,0)","v":"Dvůr Králové"},{"$f":"VLOOKUP(A3388,Pilot,4,0)","v":"CZ/C2"},"FCC 2018 - Kombi Open","SK",10,5109,6200,0.96,7643,7337,2018,null,null,"JS1-B 18","IGC",{"$f":"VLOOKUP(A3388,Pilot,5,0)","v":"M"},{"$f":"IF(ISERROR(VLOOKUP(A3388,Pilot,6,0)),\"Není v databázi\",VLOOKUP(A3388,Pilot,6,0))","v":""}]
["Roman Mracek",{"$f":"VLOOKUP(A3389,Pilot,2,0)","v":1980},{"$f":"VLOOKUP(A3389,Pilot,3,0)","v":"Letkov"},{"$f":"VLOOKUP(A3389,Pilot,4,0)","v":"CZ/C1"},"FCC 2018 - Kombi Open","SK",11,5090,6200,0.96,7497,7197,2018,null,null,"ASG-29E /18m","QX",{"$f":"VLOOKUP(A3389,Pilot,5,0)","v":"M"},{"$f":"IF(ISERROR(VLOOKUP(A3389,Pilot,6,0)),\"Není v databázi\",VLOOKUP(A3389,Pilot,6,0))","v":""}]
["Adam Czeladzki",null,"Aeroklub Warszawski KKGT",null,"FCC 2018 - Kombi Open","SK",12,5060,6200,0.96,7338,7044,2018,null,null,"JS1-CTJ 21","GOL"]
["Andre Weidlich",null,"LSV Ruhr-Lenne Iserlohn",null,"FCC 2018 - Kombi Open","SK",13,5028,6200,0.96,7177,6890,2018,null,null,"Arcus T","YAI"]
["Tomasz Dul",null,"Aeroklub Wroclaw",null,"FCC 2018 - Kombi Open","SK",14,4910,6200,0.96,6919,6642,2018,null,null,"ASG-29E /18m","DT"]
["Jerzey Kolasinski",null,"Aeroklub Poznanski",null,"FCC 2018 - Kombi Open","SK",15,4764,6200,0.96,6629,6364,2018,null,null,"JS1-CTJ 18 EVO",56]
["Polutnik & Krasovic",null,"Aeroklub Celje",null,"FCC 2018 - Kombi Open","SK",16,4577,6200,0.96,6293,6041,2018,null,null,"Arcus M","ET"]
["Tomasz Chudoment",null,"Podhalanski",null,"FCC 2018 - Kombi Open","SK",17,4519,6200,0.96,6102,5858,2018,null,null,"JS1-CTJ 18 EVO","B52"]
["Lubomir Jakubcak",null,"Mlynica",null,"FCC 2018 - Kombi Open","SK",18,4199,6200,0.96,5616,5391,2018,null,null,"Arcus M","CAR"]
["Jan Divok",null,"Aeroklub SNV",null,"FCC 2018 - Kombi Open","SK",19,4198,6200,0.96,5490,5270,2018,null,null,"Discus 2T /18m","DJ"]
["Marek Pechanec",{"$f":"VLOOKUP(A3398,Pilot,2,0)","v":1970},{"$f":"VLOOKUP(A3398,Pilot,3,0)","v":"Luhačovice"},{"$f":"VLOOKUP(A3398,Pilot,4,0)","v":"CZ/M"},"FCC 2018 - Kombi Open","SK",20,3534,6200,0.96,4615,4430,2018,null,null,"Arcus M","ARI",{"$f":"VLOOKUP(A3398,Pilot,5,0)","v":"M"},{"$f":"IF(ISERROR(VLOOKUP(A3398,Pilot,6,0)),\"Není v databázi\",VLOOKUP(A3398,Pilot,6,0))","v":""}]
["Pirker & Wolff",null,"FAS-Wien",null,"FCC 2018 - Kombi Open","SK",21,3165,6200,0.96,4073,3910,2018,null,null,"Arcus M",3]
["Jan Paepke",null,"SFC Riesa-Canitz",null,"FCC 2018 - Kombi Open","SK",22,2842,6200,0.96,3584,3441,2018,null,null,"LAK 17 AT 18m","AKI"]
["Vitaliy Borovik",null,"Novosibirsk",null,"FCC 2018 - Kombi Open","SK",23,2613,6200,0.96,3200,3072,2018,null,null,"Nimbus 4DM","VB"]
["Botond Szabadfi",null,"MALEV Aeroclub",null,"FCC 2018 - Kombi Open","SK",24,2379,6200,0.96,2811,2699,2018,null,null,"Arcus T","AB"]
["Arkadiusz Stefańczyk",null,"Aeroklub Kielecki",null,"FCC 2018 - Kombi Open","SK",25,1071,6200,0.96,1209,1161,2018,null,null,"ASG-29E /18m","HE"]
["Frantisek Sobek",null,"Aeroklub Sabinov (SK)",null,"Šariš Cup 2018 - Klub","SK",1,2193,2193,0.6,{"$f":"ROUND(H3404/I3404*10000*0.7+(MAX($G$3404:$G$3422)-G3404)/(MAX($G$3404:$G$3422)-1)*10000*0.3,0)","v":10000},{"$f":"ROUND(J3404*K3404,0)","v":6000},2018,null,null,"DG 100","G1"]
["Jozef Sobek",null,"Aeroklub Prešov (SK)",null,"Šariš Cup 2018 - Klub","SK",2,2178,2193,0.6,{"$f":"ROUND(H3405/I3405*10000*0.7+(MAX($G$3404:$G$3422)-G3405)/(MAX($G$3404:$G$3422)-1)*10000*0.3,0)","v":9765},{"$f":"ROUND(J3405*K3405,0)","v":5859},2018,null,null,"Std. Cirrus","MJ"]
["Jaroslav Buryan",{"$f":"VLOOKUP(A3406,Pilot,2,0)","v":1953},{"$f":"VLOOKUP(A3406,Pilot,3,0)","v":"Zábřeh"},{"$f":"VLOOKUP(A3406,Pilot,4,0)","v":"CZ/M"},"Šariš Cup 2018 - Klub","SK",3,2065,2193,0.6,9216,5530,2018,"x",null,"ASW 20","NS",{"$f":"VLOOKUP(A3406,Pilot,5,0)","v":"M"},{"$f":"IF(ISERROR(VLOOKUP(A3406,Pilot,6,0)),\"Není v databázi\",VLOOKUP(A3406,Pilot,6,0))","v":""}]
["Matej Petrik",null,"Aeroklub Sabinov (SK)",null,"Šariš Cup 2018 - Klub","SK",4,1793,2193,0.6,8161,4897,2018,null,null,"VSO-10",45]
["Antonin Teichmann",{"$f":"VLOOKUP(A3408,Pilot,2,0)","v":1965},{"$f":"VLOOKUP(A3408,Pilot,3,0)","v":"Hronov"},{"$f":"VLOOKUP(A3408,Pilot,4,0)","v":"CZ/C2"},"Šariš Cup 2018 - Klub","SK",5,1728,2193,0.6,7766,4660,2018,"x",null,"Std. Cirrus WL","ZF",{"$f":"VLOOKUP(A3408,Pilot,5,0)","v":"M"},{"$f":"IF(ISERROR(VLOOKUP(A3408,Pilot,6,0)),\"Není v databázi\",VLOOKUP(A3408,Pilot,6,0))","v":""}]
["Karol Benedikovič",null,"AIR SYMPATIA TRENČIN",null,"Šariš Cup 2018 - Klub","SK",6,1573,2193,0.6,7083,4250,2018,null,null,"Std. Cirrus","AM"]
["Lukáš Minárik",null,"Aeroklub Prešov (SK)",null,"Šariš Cup 2018 - Klub","SK",7,1285,2193,0.6,5977,3586,2018,null,null,"Marianne","AMI"]
["Miroslav Štempeľ",null,"Aeroklub Prešov (SK)",null,"Šariš Cup 2018 - Klub","SK",8,1274,2193,0.6,5754,3452,2018,null,null,"VSO-10",10]
["Igor Berko",null,"Aeroklub Spišská Nová Ves (SK)",null,"Šariš Cup 2018 - Klub","SK",9,1172,2193,0.6,5241,3145,2018,null,null,"Std. Cirrus","SA"]
["Antonin Kutalek",{"$f":"VLOOKUP(A3413,Pilot,2,0)","v":1943},{"$f":"VLOOKUP(A3413,Pilot,3,0)","v":"Zábřeh"},{"$f":"VLOOKUP(A3413,Pilot,4,0)","v":"CZ/M"},"Šariš Cup 2018 - Klub","SK",10,1066,2193,{"$f":"VLOOKUP(E3413,Soutez,8,0)","v":0.6},4715,2829,2018,"x",null,"Mini Nimbus","GL",{"$f":"VLOOKUP(A3413,Pilot,5,0)","v":"M"},{"$f":"IF(ISERROR(VLOOKUP(A3413,Pilot,6,0)),\"Není v databázi\",VLOOKUP(A3413,Pilot,6,0))","v":""}]
["Jozef Sopirjak",null,"Aeroklub Košice (SK)",null,"Šariš Cup 2018 - Klub","SK",11,885,2193,0.6,3950,2370,2018,null,null,"DG 100","SX"]
["David Rozporka",{"$f":"VLOOKUP(A3415,Pilot,2,0)","v":1994},{"$f":"VLOOKUP(A3415,Pilot,3,0)","v":"Hronov"},{"$f":"VLOOKUP(A3415,Pilot,4,0)","v":"CZ/C2"},"Šariš Cup 2018 - Klub","SK",12,813,2193,0.6,3533,2120,2018,"x",null,"Janus b","V1",{"$f":"VLOOKUP(A3415,Pilot,5,0)","v":"M"},{"$f":"IF(ISERROR(VLOOKUP(A3415,Pilot,6,0)),\"Není v databázi\",VLOOKUP(A3415,Pilot,6,0))","v":"Junior v roce 2019"}]
["Marek Straka",null,"Aeroklub Trenčín (SK)",null,"Šariš Cup 2018 - Klub","SK",13,713,2193,0.6,3026,1816,2018,null,null,"ASW 19 Club","AI"]
["Vladimir Macek",null,"Aeroklub Košice (SR)",null,"Šariš Cup 2018 - Klub","SK",14,682,2193,0.6,2739,1643,2018,null,null,"VSO-10","M9"]
["Ľubomír Židuliak",null,"Aeroklub Košice (SK)",null,"Šariš Cup 2018 - Klub","SK",15,536,2193,0.6,2086,1252,2018,null,null,"VSO-10","M6"]
["Maroš Okoš",null,"Aeroklub Prešov (SK)",null,"Šariš Cup 2018 - Klub","SK",16,437,2193,0.6,1582,949,2018,null,null,"VSO-10",75]
["Wojciech Wojtaczka",null,"Nowy Sacz (PL)",null,"Šariš Cup 2018 - Klub","SK",17,0,2193,0.6,0,0,2018,null,null,"Jantar std 2","WR"]
["Marek Niewiadomy",null,"Aeroklub Rzeszowski/KNS Bezmiechowa/ABB",null,"Šariš Cup 2018 - Klub","SK",17,0,2193,0.6,0,0,2018,null,null,"Jantar std 2","AB"]
["Marek Seman",null,"Aeroklub Prešov (SK)",null,"Šariš Cup 2018 - Klub","SK",17,0,2193,0.6,0,0,2018,null,null,"VSO-10"]
["Petr Krejcirik",{"$f":"VLOOKUP(A3423,Pilot,2,0)","v":1960},{"$f":"VLOOKUP(A3423,Pilot,3,0)","v":"Hranice"},{"$f":"VLOOKUP(A3423,Pilot,4,0)","v":"CZ/M"},"PMSR 2018 - Kombi","SK",1,5346,5346,0.91,{"$f":"ROUND(H3423/I3423*10000*0.7+(MAX($G$3423:$G$3442)-G3423)/(MAX($G$3423:$G$3442)-1)*10000*0.3,0)","v":10000},{"$f":"ROUND(J3423*K3423,0)","v":9100},2018,"x",null,"JS1-CTJ 18 EVO","ZF",{"$f":"VLOOKUP(A3423,Pilot,5,0)","v":"M"},{"$f":"IF(ISERROR(VLOOKUP(A3423,Pilot,6,0)),\"Není v databázi\",VLOOKUP(A3423,Pilot,6,0))","v":""}]
["Viliam Kubovcik",null,"AK Poprad",null,"PMSR 2018 - Kombi","SK",2,5324,5346,0.91,{"$f":"ROUND(H3424/I3424*10000*0.7+(MAX($G$3423:$G$3442)-G3424)/(MAX($G$3423:$G$3442)-1)*10000*0.3,0)","v":9813},{"$f":"ROUND(J3424*K3424,0)","v":8930},2018,null,null,"Ventus 2cxt","W"]
["Dominik Jancik",null,"Nitra",null,"PMSR 2018 - Kombi","SK",3,5203,5346,0.91,9497,8642,2018,null,null,"LS-8 /15m","SI"]
["Niko & Darnady",null,"AK PRIEVIDZA / AK NITRA",null,"PMSR 2018 - Kombi","SK",4,5195,5346,0.91,9329,8489,2018,null,null,"Duo Discus (700 kg)","2X"]
["Vladimir Foltin",null,"Aeroklub Nitra",null,"PMSR 2018 - Kombi","SK",5,5000,5346,0.91,8915,8113,2018,null,null,"LS 10/18m",10]
["Maros Divok",null,"Spišská Nová Ves",null,"PMSR 2018 - Kombi","SK",6,4902,5346,0.91,8629,7852,2018,null,null,"Discus 2b","DI"]
["Lubor Kuvik",null,"Air Sympatia",null,"PMSR 2018 - Kombi","SK",7,4658,5346,0.91,8152,7418,2018,null,null,"ASG 29E/18m","LK"]
["Somol & Fratrik",null,"SGC Martin",null,"PMSR 2018 - Kombi","SK",8,4645,5346,0.91,7977,7259,2018,null,null,"Duo Discus WL (700 kg)","SGC"]
["Fürješ & Belakova",null,"SGC MARTIN",null,"PMSR 2018 - Kombi","SK",9,4377,5346,0.91,7468,6796,2018,null,null,"Arcus M","TWO"]
["Tibor Arpas",null,"Nitra",null,"PMSR 2018 - Kombi","SK",10,4363,5346,0.91,7292,6636,2018,null,null,"LS-8 /15m","JW"]
["Jana Treslova",{"$f":"VLOOKUP(A3433,Pilot,2,0)","v":1963},{"$f":"VLOOKUP(A3433,Pilot,3,0)","v":"Raná"},{"$f":"VLOOKUP(A3433,Pilot,4,0)","v":"CZ/C2"},"PMSR 2018 - Kombi","SK",11,4327,5346,0.91,7087,6449,2018,null,null,"LS-8 /15m","EU",{"$f":"VLOOKUP(A3433,Pilot,5,0)","v":"F"},{"$f":"IF(ISERROR(VLOOKUP(A3433,Pilot,6,0)),\"Není v databázi\",VLOOKUP(A3433,Pilot,6,0))","v":""}]
["Jozef Pesko",null,"Nitra",null,"PMSR 2018 - Kombi","SK",12,4198,5346,0.91,6760,6152,2018,null,null,"LS-8t /18m","HM"]
["Jakubcak & Jesensky",null,"SGC Martin",null,"PMSR 2018 - Kombi","SK",13,3595,5346,0.91,5813,5290,2018,null,null,"Arcus M","CAR"]
["Peter Janoska",null,"Nitra",null,"PMSR 2018 - Kombi","SK",14,3453,5346,0.91,5469,4977,2018,null,null,"LS-6c /15m","N6"]
["Hupka & Holák",null,"Nitra",null,"PMSR 2018 - Kombi","SK",15,2940,5346,0.91,4639,4221,2018,null,null,"DG-1000T","NIT"]
["Jan Divok",null,"Spišská Nová Ves",null,"PMSR 2018 - Kombi","SK",16,2863,5346,0.91,4380,3986,2018,null,null,"Discus 2T /18m","DJ"]
["Martin Picka",{"$f":"VLOOKUP(A3439,Pilot,2,0)","v":1974},{"$f":"VLOOKUP(A3439,Pilot,3,0)","v":"Letkov"},{"$f":"VLOOKUP(A3439,Pilot,4,0)","v":"CZ/C1"},"PMSR 2018 - Kombi","SK",17,2720,5346,0.91,4035,3672,2018,null,null,"Duo Discus (750 kg)",777,{"$f":"VLOOKUP(A3439,Pilot,5,0)","v":"M"},{"$f":"IF(ISERROR(VLOOKUP(A3439,Pilot,6,0)),\"Není v databázi\",VLOOKUP(A3439,Pilot,6,0))","v":""}]
["Zdislaw Bednarczuk",null,"PL",null,"PMSR 2018 - Kombi","SK",18,1868,5346,0.91,2762,2513,2018,null,null,"JS 1 Revelation","ZB"]
["Miloš Mach",null,"Nové Zámky",null,"PMSR 2018 - Kombi","SK",19,1862,5346,0.91,2596,2362,2018,null,null,"Discus 2T /18m","JH"]
["Jan Keher",null,"Prievidza",null,"PMSR 2018 - Kombi","SK",20,1661,5346,0.91,2175,1979,2018,null,null,"Discus b","DR"]
["Evgeny Zlobin",null,"RUS",null,"SGP 2018 RU - Klub GP","RU",1,16,null,{"$f":"VLOOKUP(E3443,Soutez,8,0)","v":0},{"$f":"ROUND((MAX($G$3443:$G$3459)-G3443)/(MAX($G$3443:$G$3459)-1)*10000,0)","v":10000},{"$f":"ROUND(J3443*K3443,0)","v":0},2018,null,null,"Std.Jantar-2","MI"]
["Vladimir Radovskiy",null,"RUS",null,"SGP 2018 RU - Klub GP","RU",2,12,null,{"$f":"VLOOKUP(E3444,Soutez,8,0)","v":0},{"$f":"ROUND((MAX($G$3443:$G$3459)-G3444)/(MAX($G$3443:$G$3459)-1)*10000,0)","v":9091},{"$f":"ROUND(J3444*K3444,0)","v":0},2018,null,null,"Jantar st.2","I"]
["Petr Krejcirik",{"$f":"VLOOKUP(A3445,Pilot,2,0)","v":1960},{"$f":"VLOOKUP(A3445,Pilot,3,0)","v":"Hranice"},{"$f":"VLOOKUP(A3445,Pilot,4,0)","v":"CZ/M"},"SGP 2018 RU - Klub GP","RU",3,11,null,0,8182,0,2018,null,null,"Jantar Std","VP",{"$f":"VLOOKUP(A3445,Pilot,5,0)","v":"M"},{"$f":"IF(ISERROR(VLOOKUP(A3445,Pilot,6,0)),\"Není v databázi\",VLOOKUP(A3445,Pilot,6,0))","v":""}]
["Vasiliy Erofeev",null,"RUS",null,"SGP 2018 RU - Klub GP","RU",4,9,null,0,7273,0,2018,null,null,"Jantar Std 2","VM"]
["Viacheslav Chekhov",null,"RUS",null,"SGP 2018 RU - Klub GP","RU",5,8,null,0,6364,0,2018,null,null,"Jantar St","VC"]
["Sergey Klyuev",null,"RUS",null,"SGP 2018 RU - Klub GP","RU",6,7,null,0,5455,0,2018,null,null,"Jantar st.3","SK"]
["Anton Minskiy",null,"RUS",null,"SGP 2018 RU - Klub GP","RU",7,6,null,0,4545,0,2018,null,null,"Jantar Std 3","V7"]
["Alexey Shkredov",null,"RUS",null,"SGP 2018 RU - Klub GP","RU",8,5,null,0,3636,0,2018,null,null,"Jantar St-2","AK"]
["Alexander Kaplunov",null,"RUS",null,"SGP 2018 RU - Klub GP","RU",9,3,null,0,2727,0,2018,null,null,"Jantar Std 3","L"]
["Maksim Palutin",null,"RUS",null,"SGP 2018 RU - Klub GP","RU",10,3,null,0,1818,0,2018,null,null,"Jantar-Std-3","V"]
["Ivan Kazakov",null,"RUS",null,"SGP 2018 RU - Klub GP","RU",11,1,null,0,909,0,2018,null,null,"Jantar-Std 3","CP"]
["Aleksandr Masiukov",null,"RUS",null,"SGP 2018 RU - Klub GP","RU",12,0,null,0,0,0,2018,null,null,"Jantar-Std 3",52]
["Sergei Serov",null,"RUS",null,"SGP 2018 RU - Klub GP","RU",12,0,null,0,0,0,2018,null,null,"Jantar std.3","AS"]
["Dmitriy Pyanov",null,"RUS",null,"SGP 2018 RU - Klub GP","RU",12,0,null,0,0,0,2018,null,null,"Jantar St.",80]
["Sergey Ryabchinsky",null,"RUS",null,"SGP 2018 RU - Klub GP","RU",12,0,null,0,0,0,2018,null,null,"Jantar","SO"]
["Dmitrii Timoshenko",null,"RUS",null,"SGP 2018 RU - Klub GP","RU",12,0,null,0,0,0,2018,null,null,"Jantar-st-2","A"]
["Erazem Polutnik",null,"SLO",null,"SGP 2018 RU - Klub GP","RU",12,0,null,0,0,0,2018,null,null,"Jantar Std",47]
["Sebastian Kawa",null,"POL",null,"8. WSGP Final 2018 - 18m GP","CL",1,44,null,{"$f":"VLOOKUP(E3460,Soutez,8,0)","v":1.0549999999999999},{"$f":"ROUND((MAX($G$3460:$G$3478)-G3460)/(MAX($G$3460:$G$3478)-1)*10000,0)","v":10000},{"$f":"ROUND(J3460*K3460,0)","v":10550},2018,null,null,"JS1C-EVO","P"]
["Sebastian Nägel",null,"DEU",null,"8. WSGP Final 2018 - 18m GP","CL",2,42,null,1.0549999999999999,9412,{"$f":"ROUND(J3461*K3461,0)","v":9930},2018,null,null,"Ventus-3T","WM"]
["Mario Kiessling",null,"DEU",null,"8. WSGP Final 2018 - 18m GP","CL",3,38,null,1.0549999999999999,8824,9309,2018,null,null,"Ventus-3T","I"]
["Werner Amann",null,"AUT",null,"8. WSGP Final 2018 - 18m GP","CL",4,27,null,1.0549999999999999,8235,8688,2018,null,null,"ASG 29","WG"]
["Boštjan Pristavec",null,"SVN",null,"8. WSGP Final 2018 - 18m GP","CL",5,20,null,1.0549999999999999,7647,8068,2018,null,null,"JS1C-EVO","EJ"]
["Didier Hauss",null,"FRA",null,"8. WSGP Final 2018 - 18m GP","CL",6,19,null,1.0549999999999999,7059,7447,2018,null,null,"Ventus-2cxa","DID"]
["René Vidal",null,"CHL",null,"8. WSGP Final 2018 - 18m GP","CL",7,17,null,1.0549999999999999,6471,6827,2018,null,null,"Ventus-3T","AT"]
["Thomas Gostner",null,"ITA",null,"8. WSGP Final 2018 - 18m GP","CL",8,15,null,1.0549999999999999,5882,6206,2018,null,null,"Ventus-3T","GT"]
["Tilo Holighaus",null,"DEU",null,"8. WSGP Final 2018 - 18m GP","CL",9,11,null,1.0549999999999999,5294,5585,2018,null,null,"Ventus-3T","3V"]
["Giorgio Galetto",null,"ITA",null,"8. WSGP Final 2018 - 18m GP","CL",10,11,null,1.0549999999999999,4706,4965,2018,null,null,"Ventus-3T","Y"]
["Jon Gatfield",null,"GBR",null,"8. WSGP Final 2018 - 18m GP","CL",11,8,null,1.0549999999999999,4118,4344,2018,null,null,"ASG 29Es","YO"]
["Andres Errazuriz Beeche",null,"CHL",null,"8. WSGP Final 2018 - 18m GP","CL",12,7,null,1.0549999999999999,3529,3723,2018,null,null,"Ventus-2cT","GN"]
["Łukasz Wójcik",null,"POL",null,"8. WSGP Final 2018 - 18m GP","CL",13,6,null,1.0549999999999999,2941,3103,2018,null,null,"ASG 29","PL"]
["Fridolin Hauser",null,"CHE",null,"8. WSGP Final 2018 - 18m GP","CL",14,5,null,1.0549999999999999,2353,2482,2018,null,null,"ASG 29","4S"]
["Gintas Zube",null,"LTU",null,"8. WSGP Final 2018 - 18m GP","CL",15,5,null,1.0549999999999999,1765,1862,2018,null,null,"ASG 29","AR"]
["Roman Mracek",{"$f":"VLOOKUP(A3475,Pilot,2,0)","v":1980},{"$f":"VLOOKUP(A3475,Pilot,3,0)","v":"Letkov"},{"$f":"VLOOKUP(A3475,Pilot,4,0)","v":"CZ/C1"},"8. WSGP Final 2018 - 18m GP","CL",16,2,null,1.0549999999999999,1176,1241,2018,null,null,"ASG 29E","QX",{"$f":"VLOOKUP(A3475,Pilot,5,0)","v":"M"},{"$f":"IF(ISERROR(VLOOKUP(A3475,Pilot,6,0)),\"Není v databázi\",VLOOKUP(A3475,Pilot,6,0))","v":""}]
["Tomas Reich",null,"CHL",null,"8. WSGP Final 2018 - 18m GP","CL",17,1,null,1.0549999999999999,588,620,2018,null,null,"Ventus-2cxM","ZZ"]
["Mark Tingey",null,"NZL",null,"8. WSGP Final 2018 - 18m GP","CL",18,0,null,1.0549999999999999,0,0,2018,null,null,"JS1C-EVO","OB"]
["Tom Kelley",null,"USA",null,"8. WSGP Final 2018 - 18m GP","CL",18,0,null,1.0549999999999999,0,{"$f":"ROUND(J3478*K3478,0)","v":0},2018,null,null,"ASH 26",11]
["Roman Mracek",{"$f":"VLOOKUP(A3479,Pilot,2,0)","v":1980},{"$f":"VLOOKUP(A3479,Pilot,3,0)","v":"Letkov"},{"$f":"VLOOKUP(A3479,Pilot,4,0)","v":"CZ/C1"},"38. MAM 2018 - Kombi","SK",1,7337,7337,0,{"$f":"ROUND(H3479/I3479*10000*0.7+(MAX($G$3479:$G$3488)-G3479)/(MAX($G$3479:$G$3488)-1)*10000*0.3,0)","v":10000},{"$f":"ROUND(J3479*K3479,0)","v":0},2018,null,null,"Duo Discus T","DL",{"$f":"VLOOKUP(A3479,Pilot,5,0)","v":"M"},{"$f":"IF(ISERROR(VLOOKUP(A3479,Pilot,6,0)),\"Není v databázi\",VLOOKUP(A3479,Pilot,6,0))","v":""}]
["Jurovicova & Jurovic",null,"SK",null,"38. MAM 2018 - Kombi","SK",2,6767,7337,0,9081,{"$f":"ROUND(J3480*K3480,0)","v":0},2018,null,null,"Duo Discus","2X"]
["Kollar & Kromka",null,"SK",null,"38. MAM 2018 - Kombi","SK",3,6724,7337,0,8665,0,2018,null,null,"Arcus M","TA3"]
["Kotvas & Simoncic",null,"SK",null,"38. MAM 2018 - Kombi","SK",4,6411,7337,0,7992,0,2018,null,null,"DG 1000/20m","NIT"]
["Dusan Bernat",null,"SK",null,"38. MAM 2018 - Kombi","SK",5,5557,7337,0,6802,0,2018,null,null,"Ventus 17.6m","AD"]
["Milan Lojdl",null,"SK",null,"38. MAM 2018 - Kombi","SK",6,4638,7337,0,5550,0,2018,null,null,"Ventus 2cT/18m","MJ"]
["Peter Skrabalek",null,"SK",null,"38. MAM 2018 - Kombi","SK",7,4008,7337,0,4574,0,2018,null,null,"ASW 20","II"]
["Jan Hrncirik",null,"SK",null,"38. MAM 2018 - Kombi","SK",8,3981,7337,0,4173,0,2018,null,null,"Discus 2cT","JH"]
["Mikula & Laho",null,"SK",null,"38. MAM 2018 - Kombi","SK",9,2236,7337,0,2133,0,2018,null,null,"Janus CM FG","T"]
["Jan Kovalcik",null,"SK",null,"38. MAM 2018 - Kombi","SK","HC",707,7337,null,null,null,2018,null,null,"Pegase","OI",null,null,"Mimo soutež, nenastoupil do prvního soutěžního dne"]
["Michal Lesinger",{"$f":"VLOOKUP(A3489,Pilot,2,0)","v":1966},{"$f":"VLOOKUP(A3489,Pilot,3,0)","v":"Moravská Třebová"},{"$f":"VLOOKUP(A3489,Pilot,4,0)","v":"CZ/M"},"Pribina Cup 2018 - Klub","SK",1,1380,1380,{"$f":"VLOOKUP(E3489,Soutez,8,0)","v":0},{"$f":"ROUND(H3489/I3489*10000*0.7+(MAX($G$3490:$G$3522)-G3489)/(MAX($G$3490:$G$3522)-1)*10000*0.3,0)","v":10000},{"$f":"ROUND(J3489*K3489,0)","v":0},2018,null,null,"ASW 19","LL",{"$f":"VLOOKUP(A3489,Pilot,5,0)","v":"M"},{"$f":"IF(ISERROR(VLOOKUP(A3489,Pilot,6,0)),\"Není v databázi\",VLOOKUP(A3489,Pilot,6,0))","v":""}]
["Uwe Wahlig",null,"Segelfluggruppe Bensheim e.V.",null,"Pribina Cup 2018 - Klub","SK",2,1363,1380,0,{"$f":"ROUND(H3490/I3490*10000*0.7+(MAX($G$3490:$G$3522)-G3490)/(MAX($G$3490:$G$3522)-1)*10000*0.3,0)","v":9823},{"$f":"ROUND(J3490*K3490,0)","v":0},2018,null,null,"LS 3","SN"]
["Florian Heilmann,",null,"FC Kamenz",null,"Pribina Cup 2018 - Klub","SK",3,1351,1380,0,9671,0,2018,null,null,"Std. Jantar 3",9]
["Felix Hoffmann",null,"Aero Club Buende e.V.",null,"Pribina Cup 2018 - Klub","SK",4,1325,1380,0,9448,0,2018,null,null,"H301 Libelle","6X"]
["Martin Jurovic",null,null,null,"Pribina Cup 2018 - Klub","SK",5,1268,1380,0,9068,0,2018,null,null,"Pegase","J2"]
["Wolli Beyer",null,null,null,"Pribina Cup 2018 - Klub","SK",6,1267,1380,0,8972,0,2018,null,null,"H301 Libelle","YYY"]
["Paul Altrichter",null,null,null,"Pribina Cup 2018 - Klub","SK",6,1267,1380,0,8972,0,2018,null,null,"LS 4","AX"]
["Edmund Schuller",null,null,null,"Pribina Cup 2018 - Klub","SK",8,1222,1380,0,8562,0,2018,null,null,"ASW 24","ZS"]
["Martin Picka",{"$f":"VLOOKUP(A3497,Pilot,2,0)","v":1974},{"$f":"VLOOKUP(A3497,Pilot,3,0)","v":"Letkov"},{"$f":"VLOOKUP(A3497,Pilot,4,0)","v":"CZ/C1"},"Pribina Cup 2018 - Klub","SK",9,1188,1380,0,8299,0,2018,null,null,"ASW 19","BU",{"$f":"VLOOKUP(A3497,Pilot,5,0)","v":"M"},{"$f":"IF(ISERROR(VLOOKUP(A3497,Pilot,6,0)),\"Není v databázi\",VLOOKUP(A3497,Pilot,6,0))","v":""}]
["Mark Travner",null,"Aeroklub Celje",null,"Pribina Cup 2018 - Klub","SK",10,1164,1380,0,8086,0,2018,null,null,"DG 100","LX"]
["Jernej Lokovsek",null,"Aeroklub Ljubljana",null,"Pribina Cup 2018 - Klub","SK",11,1160,1380,0,7975,0,2018,null,null,"Discus CS","NL"]
["Milan Surovčík",null,"Zilina",null,"Pribina Cup 2018 - Klub","SK",12,1093,1380,0,7544,0,2018,null,null,"Pegase","EL"]
["Juliusz Pieniazek",null,"Aeroklub Podhalanski",null,"Pribina Cup 2018 - Klub","SK",13,1038,1380,0,7174,0,2018,null,null,"SZD 55","QQ"]
["Stefan Langer",null,"SFG Donauwoerth Monheim",null,"Pribina Cup 2018 - Klub","SK",14,1027,1380,0,7028,0,2018,null,null,"Std. Libelle","SL"]
["Jindrich Svorc",{"$f":"VLOOKUP(A3503,Pilot,2,0)","v":1978},{"$f":"VLOOKUP(A3503,Pilot,3,0)","v":"Letňany"},{"$f":"VLOOKUP(A3503,Pilot,4,0)","v":"CZ/C1"},"Pribina Cup 2018 - Klub","SK",15,984,1380,0,6719,0,2018,null,null,"Std. Cirrus","IMI",{"$f":"VLOOKUP(A3503,Pilot,5,0)","v":"M"},{"$f":"IF(ISERROR(VLOOKUP(A3503,Pilot,6,0)),\"Není v databázi\",VLOOKUP(A3503,Pilot,6,0))","v":""}]
["Krisztian Kovacs",null,"Aero Club Szolnok, Hungary",null,"Pribina Cup 2018 - Klub","SK",16,972,1380,0,6567,0,2018,null,null,"ASW 15","IE"]
["Markus Uhlig",null,"FC Grossrückerswalde",null,"Pribina Cup 2018 - Klub","SK",17,934,1380,0,6283,0,2018,null,null,"Std. Jantar 3","M4"]
["Jan Kovalcik",null,null,null,"Pribina Cup 2018 - Klub","SK",18,924,1380,0,6142,0,2018,null,null,"Pegase","OI"]
["Patrick Schkrock",null,null,null,"Pribina Cup 2018 - Klub","SK",19,875,1380,0,5802,0,2018,null,null,"Std. Libelle",82]
["Christian Deussen",null,null,null,"Pribina Cup 2018 - Klub","SK",20,852,1380,0,5594,0,2018,null,null,"DG 100","S8"]
["Adam Kacvinsky",null,null,null,"Pribina Cup 2018 - Klub","SK",21,804,1380,0,5260,0,2018,null,null,"ASW 19","BA4"]
["Adam Bialy",null,null,null,"Pribina Cup 2018 - Klub","SK",22,797,1380,0,5134,0,2018,null,null,"Std. Jantar 3","BI"]
["Mindaugas Zaliukas",null,"Kaunas Aeroclub, Pociunai",null,"Pribina Cup 2018 - Klub","SK",23,705,1380,0,4576,0,2018,null,null,"Glasflugel 304","MZ"]
["Robert Gärtner",null,null,null,"Pribina Cup 2018 - Klub","SK",24,680,1380,0,4358,0,2018,null,null,"Std. Jantar 3","3W"]
["Marek Straka",null,null,null,"Pribina Cup 2018 - Klub","SK",25,665,1380,0,4191,0,2018,null,null,"ASW 19","AI"]
["Pawel Glowacki",null,null,null,"Pribina Cup 2018 - Klub","SK",26,583,1380,0,3685,0,2018,null,null,"Pegase","J7"]
["Alrik Dargel",null,null,null,"Pribina Cup 2018 - Klub","SK",27,393,1380,0,2630,0,2018,null,null,"Speed Astir IIb","JF"]
["Kamil Bojarski",null,"Aeroklub Lubelski",null,"Pribina Cup 2018 - Klub","SK",28,357,1380,0,2356,0,2018,null,null,"SZD 51 Junior","H"]
["Kinga Tchorz",null,null,null,"Pribina Cup 2018 - Klub","SK",29,315,1380,0,2052,0,2018,null,null,"Std. Jantar 3","BZ"]
["Igor Čech",null,null,null,"Pribina Cup 2018 - Klub","SK",30,301,1380,0,1890,0,2018,null,null,"Silent 2","ZI"]
["Milos Horvat",null,null,null,"Pribina Cup 2018 - Klub","SK",31,283,1380,0,1708,0,2018,null,null,"ASW 15","BA5"]
["Luka Ranđelović",null,"AK Celje",null,"Pribina Cup 2018 - Klub","SK",32,280,1380,0,1602,0,2018,null,null,"Hornet","L5"]
["Max Witke",null,null,null,"Pribina Cup 2018 - Klub","SK",33,199,1380,{"$f":"VLOOKUP(E3521,Soutez,8,0)","v":0},1100,0,2018,null,null,"LS 7 WL","JD"]
["Gerhard Cieply",null,null,null,"Pribina Cup 2018 - Klub","SK",34,0,1380,0,0,0,2018,null,null,"LS 1 f","GC"]
["Tomasz Hornik",null,"Aeroklub Nadwiślański",null,"Pribina Cup 2018 - Kombi 15m","SK",1,1715,1715,0,{"$f":"ROUND(H3523/I3523*10000*0.7+(MAX($G$3523:$G$3548)-G3523)/(MAX($G$3523:$G$3548)-1)*10000*0.3,0)","v":10000},{"$f":"ROUND(J3523*K3523,0)","v":0},2018,null,null,"Diana 2","RP"]
["Jan Knischewski",null,null,null,"Pribina Cup 2018 - Kombi 15m","SK",2,1681,1715,0,9741,{"$f":"ROUND(J3524*K3524,0)","v":0},2018,null,null,"LS 8","OK"]
["Karsten Leucker",null,"Aero-Club Ansbach",null,"Pribina Cup 2018 - Kombi 15m","SK",3,1669,1715,0,9572,0,2018,null,null,"Discus 2b","CX"]
["Simon Briel",null,null,null,"Pribina Cup 2018 - Kombi 15m","SK",4,1651,1715,0,9379,0,2018,null,null,"Discus 2a","SB"]
["Wojciech Wojtaczka",null,"Aeroklub Podhalanski",null,"Pribina Cup 2018 - Kombi 15m","SK",5,1568,1715,0,8920,0,2018,null,null,"Discus 2a","Y"]
["Thomas Hynek",null,"Flugschule ASKÖ Wien",null,"Pribina Cup 2018 - Kombi 15m","SK",6,1545,1715,0,8706,0,2018,null,null,"Ventus 2b","CC"]
["David Mach",{"$f":"VLOOKUP(A3529,Pilot,2,0)","v":1994},{"$f":"VLOOKUP(A3529,Pilot,3,0)","v":"Hronov"},{"$f":"VLOOKUP(A3529,Pilot,4,0)","v":"CZ/C2"},"Pribina Cup 2018 - Kombi 15m","SK",7,1533,1715,0,8537,0,2018,null,null,"LS 8","JBI",{"$f":"VLOOKUP(A3529,Pilot,5,0)","v":"M"},{"$f":"IF(ISERROR(VLOOKUP(A3529,Pilot,6,0)),\"Není v databázi\",VLOOKUP(A3529,Pilot,6,0))","v":"Junior v roce 2019"}]
["Nick Fremau",null,"Brasschaatse Zweefvliegclub",null,"Pribina Cup 2018 - Kombi 15m","SK",8,1466,1715,0,8144,0,2018,null,null,"LS 8","L8"]
["Patrick Puskeiler",null,"Fliegergruppe Wolf Hirth e.V.",null,"Pribina Cup 2018 - Kombi 15m","SK",9,1374,1715,0,7648,0,2018,null,null,"Discus 2a","ALB"]
["Michael Roche",null,null,null,"Pribina Cup 2018 - Kombi 15m","SK",10,1351,1715,0,7434,0,2018,null,null,"Discus 2b","YN"]
["Jana Treslova",{"$f":"VLOOKUP(A3533,Pilot,2,0)","v":1963},{"$f":"VLOOKUP(A3533,Pilot,3,0)","v":"Raná"},{"$f":"VLOOKUP(A3533,Pilot,4,0)","v":"CZ/C2"},"Pribina Cup 2018 - Kombi 15m","SK",11,1349,1715,0,7306,0,2018,null,null,"LS 8","EU",{"$f":"VLOOKUP(A3533,Pilot,5,0)","v":"F"},{"$f":"IF(ISERROR(VLOOKUP(A3533,Pilot,6,0)),\"Není v databázi\",VLOOKUP(A3533,Pilot,6,0))","v":""}]
["Robbie Seton",null,null,null,"Pribina Cup 2018 - Kombi 15m","SK",12,1342,1715,0,7158,0,2018,null,null,"LS 8","ISR"]
["Martin Schwab",null,"FG Waldviertel",null,"Pribina Cup 2018 - Kombi 15m","SK",13,1275,1715,0,6764,0,2018,null,null,"Discus 2a","KG"]
["Pascal Brunner",null,"SG Zuerich",null,"Pribina Cup 2018 - Kombi 15m","SK",14,1076,1715,0,5832,0,2018,null,null,"Discus 2b","ST"]
["Artur Lonczuk",null,null,null,"Pribina Cup 2018 - Kombi 15m","SK",15,1059,1715,0,5642,0,2018,null,null,"LS 8","LOT"]
["Hana Treslova",{"$f":"VLOOKUP(A3538,Pilot,2,0)","v":1991},{"$f":"VLOOKUP(A3538,Pilot,3,0)","v":"Raná"},{"$f":"VLOOKUP(A3538,Pilot,4,0)","v":"CZ/C2"},"Pribina Cup 2018 - Kombi 15m","SK",16,954,1715,0,5094,0,2018,null,null,"Discus 2a","GX",{"$f":"VLOOKUP(A3538,Pilot,5,0)","v":"F"},{"$f":"IF(ISERROR(VLOOKUP(A3538,Pilot,6,0)),\"Není v databázi\",VLOOKUP(A3538,Pilot,6,0))","v":""}]
["Aldo Cernezzi",null,"Varese",null,"Pribina Cup 2018 - Kombi 15m","SK",17,927,1715,0,4864,0,2018,null,null,"DG 600","DW"]
["Istvan Reti",null,null,null,"Pribina Cup 2018 - Kombi 15m","SK",18,922,1715,0,4723,0,2018,null,null,"Ventus 2a","IR"]
["Marek Niewiadomy",null,"Aeroklub Rzeszowski",null,"Pribina Cup 2018 - Kombi 15m","SK",19,906,1715,0,4538,0,2018,null,null,"Discus 2a","I"]
["Nico Klingspohn",null,"Luftsportverein Gifhorn e.V.",null,"Pribina Cup 2018 - Kombi 15m","SK",20,796,1715,0,3969,0,2018,null,null,"Discus 2a","NK"]
["Bjorn Gintzel",null,"Aeroclub Bonn-Hangelar e.V.",null,"Pribina Cup 2018 - Kombi 15m","SK",21,724,1715,0,3555,0,2018,null,null,"LS 8","AR"]
["Wolfgang Zimmermann",null,"Flugring Austria Wiener Neustadt",null,"Pribina Cup 2018 - Kombi 15m","SK",22,582,1715,0,2856,0,2018,null,null,"Ventus 2b","GI"]
["Gvidas Sabeckis",null,"KASSK",null,"Pribina Cup 2018 - Kombi 15m","SK",23,557,1715,0,2633,0,2018,null,null,"LS 8","P2"]
["Vytautas Sabeckis",null,null,null,"Pribina Cup 2018 - Kombi 15m","SK",24,467,1715,0,2146,0,2018,null,null,"LAK 19/15m","ZM"]
["Jonas Pitschen",null,"SG Zuerich",null,"Pribina Cup 2018 - Kombi 15m","SK",25,326,1715,0,1451,0,2018,null,null,"Discus 2b","Z2"]
["Philip Joens",null,null,null,"Pribina Cup 2018 - Kombi 15m","SK",26,0,1715,0,0,0,2018,null,null,"LS 7","AP"]
["Lukasz Wojcik",null,"Wloclawek",null,"Pribina Cup 2018 - Kombi Open","SK",1,1598,1598,0,{"$f":"ROUND(H3549/I3549*10000*0.7+(MAX($G$3549:$G$3566)-G3549)/(MAX($G$3549:$G$3566)-1)*10000*0.3,0)","v":10000},{"$f":"ROUND(J3549*K3549,0)","v":0},2018,null,null,"JS 1/18m","P"]
["Piotr Jarysz",null,"Aeroklub Koninski",null,"Pribina Cup 2018 - Kombi Open","SK",2,1591,1598,0,9793,{"$f":"ROUND(J3550*K3550,0)","v":0},2018,null,null,"ASG 29/18m","PL"]
["Yves Gerster",null,null,null,"Pribina Cup 2018 - Kombi Open","SK",3,1410,1598,0,8824,0,2018,null,null,"DG 400/17m","VY"]
["Robin Sittmann",null,"Aero Club Rhein-Nahe",null,"Pribina Cup 2018 - Kombi Open","SK",4,1383,1598,0,8529,0,2018,null,null,"Discus 2C/18m","MA"]
["Wim Akkermans",null,null,null,"Pribina Cup 2018 - Kombi Open","SK",5,1358,1598,{"$f":"VLOOKUP(E3553,Soutez,8,0)","v":0},8243,0,2018,null,null,"ASG 29/18m","9E"]
["Petr Krejcirik",{"$f":"VLOOKUP(A3554,Pilot,2,0)","v":1960},{"$f":"VLOOKUP(A3554,Pilot,3,0)","v":"Hranice"},{"$f":"VLOOKUP(A3554,Pilot,4,0)","v":"CZ/M"},"Pribina Cup 2018 - Kombi Open","SK",6,1317,1598,0,7887,0,2018,null,null,"JS 1/18m","ZF",{"$f":"VLOOKUP(A3554,Pilot,5,0)","v":"M"},{"$f":"IF(ISERROR(VLOOKUP(A3554,Pilot,6,0)),\"Není v databázi\",VLOOKUP(A3554,Pilot,6,0))","v":""}]
["Sven Kolb",null,"SFG-Dornbirn",null,"Pribina Cup 2018 - Kombi Open","SK",7,1159,1598,0,7018,0,2018,null,null,"Antares 20m","ZE"]
["Boštjan Pristavec",null,"AK ALC Lesce Bled",null,"Pribina Cup 2018 - Kombi Open","SK",8,1156,1598,0,6829,0,2018,null,null,"EB 28",7]
["Jan Hertrich,",null,null,null,"Pribina Cup 2018 - Kombi Open","SK",9,1152,1598,0,6635,0,2018,null,null,"LS 8/18m","EO"]
["Zdislaw Bednarczuk",null,null,null,"Pribina Cup 2018 - Kombi Open","SK",10,1133,1598,0,6375,0,2018,null,null,"ASG 29/18m","ZB"]
["Dirk Windmüller,",null,"SFC Schwäbisch Hall",null,"Pribina Cup 2018 - Kombi Open","SK",11,1088,1598,0,6001,0,2018,null,null,"ASG 29/18m","WIN"]
["Petr Panek",{"$f":"VLOOKUP(A3560,Pilot,2,0)","v":1975},{"$f":"VLOOKUP(A3560,Pilot,3,0)","v":"Dvůr Králové"},{"$f":"VLOOKUP(A3560,Pilot,4,0)","v":"CZ/C2"},"Pribina Cup 2018 - Kombi Open","SK",12,956,1598,0,5247,0,2018,null,null,"JS 1/18m","IGC",{"$f":"VLOOKUP(A3560,Pilot,5,0)","v":"M"},{"$f":"IF(ISERROR(VLOOKUP(A3560,Pilot,6,0)),\"Není v databázi\",VLOOKUP(A3560,Pilot,6,0))","v":""}]
["Rene Schoenmann",null,null,null,"Pribina Cup 2018 - Kombi Open","SK",13,826,1598,0,4501,0,2018,null,null,"JS 1/18m","RS"]
["Karel Krobath",null,null,null,"Pribina Cup 2018 - Kombi Open","SK",14,750,1598,0,3991,0,2018,null,null,"HPH 304S Shark","Q"]
["Kai Glatter",null,"AC Pirna",null,"Pribina Cup 2018 - Kombi Open","SK",15,697,1598,0,3583,0,2018,null,null,"JS 1/18m","MD"]
["Miguel Schwan",null,null,null,"Pribina Cup 2018 - Kombi Open","SK",16,610,1598,0,3025,0,2018,null,null,"Ventus 2cT/18m","IX"]
["Mathias Muench",null,"Alpenflugzentrum Unterwossen",null,"Pribina Cup 2018 - Kombi Open","SK",17,560,1598,0,2630,0,2018,null,null,"DG 800/18m","MU"]
["Sorin Lingureanu",null,"Tampereen Ilmailuyhdistys",null,"Pribina Cup 2018 - Kombi Open","SK",18,476,1598,0,2085,0,2018,null,null,"Ventus 2c/18m","ZR"]
["Janowitsch & Leitgeb",null,null,null,"Pribina Cup 2018 - Duo 20m","SK",1,1648,1648,0,{"$f":"ROUND(H3567/I3567*10000*0.7+(MAX($G$3567:$G$3579)-G3567)/(MAX($G$3567:$G$3579)-1)*10000*0.3,0)","v":10000},{"$f":"ROUND(J3567*K3567,0)","v":0},2018,null,null,"Arcus E","E"]
["Tourula & Kankare",null,"Helsingin Ilmailukerho",null,"Pribina Cup 2018 - Duo 20m","SK",2,1585,1648,0,{"$f":"ROUND(H3568/I3568*10000*0.7+(MAX($G$3567:$G$3579)-G3568)/(MAX($G$3567:$G$3579)-1)*10000*0.3,0)","v":9482},{"$f":"ROUND(J3568*K3568,0)","v":0},2018,null,null,"DG 1000/20m","NIT"]
["Prodorutti & Bardelli",null,null,null,"Pribina Cup 2018 - Duo 20m","SK",3,1361,1648,0,8281,0,2018,null,null,"Arcus","BPG"]
["Levin & Wettemann",null,"Fliegergruppe Neckartal-Koengen e.V.",null,"Pribina Cup 2018 - Duo 20m","SK",4,1315,1648,0,7836,0,2018,null,null,"Duo Discus","H1"]
["Litzelmann & Holighaus",null,"LSV Thermik Alfeld",null,"Pribina Cup 2018 - Duo 20m","SK",5,1289,1648,0,7475,0,2018,null,null,"Arcus","TWO"]
["Kretzschmar & Triebel",null,null,null,"Pribina Cup 2018 - Duo 20m","SK",6,1263,1648,0,7115,0,2018,null,null,"Arcus","SP"]
["Christoph Koch",null,"SFC Fürstenfeld",null,"Pribina Cup 2018 - Duo 20m","SK",7,1160,1648,0,6427,0,2018,null,null,"Duo Discus","SI"]
["Sibanc & Raner",null,"Aeroklub Celje",null,"Pribina Cup 2018 - Duo 20m","SK",8,1144,1648,0,6109,0,2018,null,null,"Arcus","ET"]
["Stefano Ghiorzo",null,"ACAO - Varese - ITALY",null,"Pribina Cup 2018 - Duo 20m","SK",9,1087,1648,0,5617,0,2018,null,null,"HPH304TS TwinShark","TS"]
["Bialy & Biala",null,"Radom",null,"Pribina Cup 2018 - Duo 20m","SK",10,1031,1648,0,5129,0,2018,null,null,"Duo Discus","POL"]
["Halonen & Toppari",null,"Imatran Ilmailukerho",null,"Pribina Cup 2018 - Duo 20m","SK",11,984,1648,0,4680,0,2018,null,null,"Arcus","RA"]
["Karel Mares",{"$f":"VLOOKUP(A3578,Pilot,2,0)","v":1974},{"$f":"VLOOKUP(A3578,Pilot,3,0)","v":"Slaný"},{"$f":"VLOOKUP(A3578,Pilot,4,0)","v":"CZ/C1"},"Pribina Cup 2018 - Duo 20m","SK",12,774,1648,0,3538,0,2018,null,null,"Duo Discus","DD",{"$f":"VLOOKUP(A3578,Pilot,5,0)","v":"M"},{"$f":"IF(ISERROR(VLOOKUP(A3578,Pilot,6,0)),\"Není v databázi\",VLOOKUP(A3578,Pilot,6,0))","v":""}]
["Jurovic & Kubán",null,null,null,"Pribina Cup 2018 - Duo 20m","SK",13,435,1648,0,1848,0,2018,null,null,"Duo Discus","2X"]

{"sheet":"Temp","index":5,"n_rows":1,"n_cols":20,"rows_kept":1,"cut":false,"hidden":false,"merged":[]}
["Jméno","Rok narození","Aeroklub","Region","Soutěž","Stát","Pořadí ve třídě","Body ve třídě","Max. B ve třídě","Ki","Bi","Bi×Ki","Rok","G","W","Typ","CN","M/F","Junior","Poznámka"]

{"sheet":"Zebrik G","index":6,"n_rows":472,"n_cols":14,"rows_kept":472,"cut":false,"hidden":false,"merged":[]}
[null,{"$f":"\"Všeobecný Žebřík pilotů plachtařů PK AeČR \"&A6","v":"Všeobecný Žebřík pilotů plachtařů PK AeČR 2018"},null,null,null,null,{"$f":"Zmeny!A4","v":"2018-10-28"},"Rev.",{"$f":"Zmeny!B4","v":"01"},{"$f":"Zmeny!C4","v":"Upravené koeficienty soutěží"}]
[]
[null,"G","x",null,null,null,null,null,"Junior v roce:","Junior v roce:",{"$f":"\"Repre družstvo \"&I4","v":"Repre družstvo 2019"},{"$f":"\"Repre výběr \"&I4","v":"Repre výběr 2019"},{"$f":"\"W \"&L3","v":"W Repre výběr 2019"},"Poznámka"]
[null,null,null,null,null,null,null,null,{"$f":"A6+1","v":2019},{"$f":"A6+2","v":2020},"(RD)","(RV)","(WRV)"]
["Pořadí",null,null,null,null,null,"Data",null,{"$f":"COUNTIF(I7:I1000,\"Junior v roce \"&$I$4)","v":39},{"$f":"COUNTIF(J7:J1000,\"Junior v roce \"&$J$4)","v":30},{"$f":"COUNTIF(K7:K1000,\"RD \"&$I$4)","v":26},{"$f":"COUNTIF(L7:L1000,\"RV \"&$I$4)","v":31},{"$f":"COUNTIF(M7:M1000,\"RV \"&$I$4)","v":0},{"$f":"COUNTIF(N7:N1000,\"<>\")","v":0}]
[2018,"Jméno","Rok narození","Aeroklub","Region","M/F","Počet G","Součet z Bi×Kn"]
[{"$f":"RANK(H7,H:H)","v":1},"Miloslav Cink",1987,"Letkov","CZ/C1","M",3,31559,{"$f":"IF(C7=\"(prázdné)\",\"\",IF(($I$4-C7)>25,\"\",\"Junior v roce \"&$I$4))","v":""},{"$f":"IF(C7=\"(prázdné)\",\"\",IF(($J$4-C7)>25,\"\",\"Junior v roce \"&$J$4))","v":""},"RD 2019","RV 2019",{"$f":"IF(ISERROR(VLOOKUP(B7,'Zebrik W'!$B$7:$L$1002,11,0)),\"\",IF(VLOOKUP(B7,'Zebrik W'!$B$7:$L$1002,11,0)=0,\"--\",VLOOKUP(B7,'Zebrik W'!$B$7:$L$1002,11,0)))","v":""}]
[{"$f":"RANK(H8,H:H)","v":2},"Jaroslav Tomana",1975,"Zbraslavice","CZ/C1","M",3,31458,{"$f":"IF(C8=\"(prázdné)\",\"\",IF(($I$4-C8)>25,\"\",\"Junior v roce \"&$I$4))","v":""},{"$f":"IF(C8=\"(prázdné)\",\"\",IF(($J$4-C8)>25,\"\",\"Junior v roce \"&$J$4))","v":""},"RD 2019","RV 2019",{"$f":"IF(ISERROR(VLOOKUP(B8,'Zebrik W'!$B$7:$L$1002,11,0)),\"\",IF(VLOOKUP(B8,'Zebrik W'!$B$7:$L$1002,11,0)=0,\"--\",VLOOKUP(B8,'Zebrik W'!$B$7:$L$1002,11,0)))","v":""}]
[3,"Pavel Louzecky",1957,"Přibyslav","CZ/C2","M",3,31225,"","","RD 2019","RV 2019",{"$f":"IF(ISERROR(VLOOKUP(B9,'Zebrik W'!$B$7:$L$1002,11,0)),\"\",IF(VLOOKUP(B9,'Zebrik W'!$B$7:$L$1002,11,0)=0,\"--\",VLOOKUP(B9,'Zebrik W'!$B$7:$L$1002,11,0)))","v":""}]
[4,"Roman Mracek",1980,"Letkov","CZ/C1","M",3,31125,"","","RD 2019","RV 2019",{"$f":"IF(ISERROR(VLOOKUP(B10,'Zebrik W'!$B$7:$L$1002,11,0)),\"\",IF(VLOOKUP(B10,'Zebrik W'!$B$7:$L$1002,11,0)=0,\"--\",VLOOKUP(B10,'Zebrik W'!$B$7:$L$1002,11,0)))","v":""}]
[5,"Tomas Suchanek",1964,"GAC Benešov","CZ/C1","M",3,30918,"","","RD 2019","RV 2019",{"$f":"IF(ISERROR(VLOOKUP(B11,'Zebrik W'!$B$7:$L$1002,11,0)),\"\",IF(VLOOKUP(B11,'Zebrik W'!$B$7:$L$1002,11,0)=0,\"--\",VLOOKUP(B11,'Zebrik W'!$B$7:$L$1002,11,0)))","v":""}]
[6,"Ivan Novak",1962,"Mladá Boleslav","CZ/C1","M",3,30913,"","","RD 2019","RV 2019",{"$f":"IF(ISERROR(VLOOKUP(B12,'Zebrik W'!$B$7:$L$1002,11,0)),\"\",IF(VLOOKUP(B12,'Zebrik W'!$B$7:$L$1002,11,0)=0,\"--\",VLOOKUP(B12,'Zebrik W'!$B$7:$L$1002,11,0)))","v":""}]
[7,"Petr Tichy",1973,"Zbraslavice","CZ/C1","M",3,30460,"","","RD 2019","RV 2019",{"$f":"IF(ISERROR(VLOOKUP(B13,'Zebrik W'!$B$7:$L$1002,11,0)),\"\",IF(VLOOKUP(B13,'Zebrik W'!$B$7:$L$1002,11,0)=0,\"--\",VLOOKUP(B13,'Zebrik W'!$B$7:$L$1002,11,0)))","v":""}]
[8,"Marek Pechanec",1970,"Luhačovice","CZ/M","M",3,29812,"","","RD 2019","RV 2019",{"$f":"IF(ISERROR(VLOOKUP(B14,'Zebrik W'!$B$7:$L$1002,11,0)),\"\",IF(VLOOKUP(B14,'Zebrik W'!$B$7:$L$1002,11,0)=0,\"--\",VLOOKUP(B14,'Zebrik W'!$B$7:$L$1002,11,0)))","v":""}]
[9,"David Mach",1994,"Hronov","CZ/C2","M",3,29785,"Junior v roce 2019","","RD 2019","RV 2019",{"$f":"IF(ISERROR(VLOOKUP(B15,'Zebrik W'!$B$7:$L$1002,11,0)),\"\",IF(VLOOKUP(B15,'Zebrik W'!$B$7:$L$1002,11,0)=0,\"--\",VLOOKUP(B15,'Zebrik W'!$B$7:$L$1002,11,0)))","v":""}]
[10,"Jan Louda",1986,"Mladá Boleslav","CZ/C1","M",3,29285,"","",null,"RV 2019",{"$f":"IF(ISERROR(VLOOKUP(B16,'Zebrik W'!$B$7:$L$1002,11,0)),\"\",IF(VLOOKUP(B16,'Zebrik W'!$B$7:$L$1002,11,0)=0,\"--\",VLOOKUP(B16,'Zebrik W'!$B$7:$L$1002,11,0)))","v":""}]
[11,"Michal Lesinger",1966,"Moravská Třebová","CZ/M","M",3,29140,"","","RD 2019","RV 2019",{"$f":"IF(ISERROR(VLOOKUP(B17,'Zebrik W'!$B$7:$L$1002,11,0)),\"\",IF(VLOOKUP(B17,'Zebrik W'!$B$7:$L$1002,11,0)=0,\"--\",VLOOKUP(B17,'Zebrik W'!$B$7:$L$1002,11,0)))","v":""}]
[12,"Radek Krejcirik",1991,"Hranice","CZ/M","M",3,28916,"","","RD 2019","RV 2019",{"$f":"IF(ISERROR(VLOOKUP(B18,'Zebrik W'!$B$7:$L$1002,11,0)),\"\",IF(VLOOKUP(B18,'Zebrik W'!$B$7:$L$1002,11,0)=0,\"--\",VLOOKUP(B18,'Zebrik W'!$B$7:$L$1002,11,0)))","v":""}]
[13,"Petr Krejcirik",1960,"Hranice","CZ/M","M",3,28573,"","","RD 2019","RV 2019",{"$f":"IF(ISERROR(VLOOKUP(B19,'Zebrik W'!$B$7:$L$1002,11,0)),\"\",IF(VLOOKUP(B19,'Zebrik W'!$B$7:$L$1002,11,0)=0,\"--\",VLOOKUP(B19,'Zebrik W'!$B$7:$L$1002,11,0)))","v":""}]
[14,"Karel Novak",1993,"Mladá Boleslav","CZ/C1","M",3,28253,"","",null,"RV 2019",{"$f":"IF(ISERROR(VLOOKUP(B20,'Zebrik W'!$B$7:$L$1002,11,0)),\"\",IF(VLOOKUP(B20,'Zebrik W'!$B$7:$L$1002,11,0)=0,\"--\",VLOOKUP(B20,'Zebrik W'!$B$7:$L$1002,11,0)))","v":""}]
[15,"Ondrej Bordovsky",1983,"Krnov","CZ/M","M",3,27938,"","","RD 2019","RV 2019",{"$f":"IF(ISERROR(VLOOKUP(B21,'Zebrik W'!$B$7:$L$1002,11,0)),\"\",IF(VLOOKUP(B21,'Zebrik W'!$B$7:$L$1002,11,0)=0,\"--\",VLOOKUP(B21,'Zebrik W'!$B$7:$L$1002,11,0)))","v":""}]
[16,"Zdenek Boruvka 86",1986,"Jičín","CZ/C2","M",3,27911,"","",null,"RV 2019",{"$f":"IF(ISERROR(VLOOKUP(B22,'Zebrik W'!$B$7:$L$1002,11,0)),\"\",IF(VLOOKUP(B22,'Zebrik W'!$B$7:$L$1002,11,0)=0,\"--\",VLOOKUP(B22,'Zebrik W'!$B$7:$L$1002,11,0)))","v":""}]
[17,"Lubomir Motl",1959,"Kyjov","CZ/M","M",3,27795,"","",null,"RV 2019",{"$f":"IF(ISERROR(VLOOKUP(B23,'Zebrik W'!$B$7:$L$1002,11,0)),\"\",IF(VLOOKUP(B23,'Zebrik W'!$B$7:$L$1002,11,0)=0,\"--\",VLOOKUP(B23,'Zebrik W'!$B$7:$L$1002,11,0)))","v":""}]
[18,"Jana Veprekova",1961,"Dvůr Králové","CZ/C2","F",3,27591,"","","RD 2019","RV 2019",{"$f":"IF(ISERROR(VLOOKUP(B24,'Zebrik W'!$B$7:$L$1002,11,0)),\"\",IF(VLOOKUP(B24,'Zebrik W'!$B$7:$L$1002,11,0)=0,\"--\",VLOOKUP(B24,'Zebrik W'!$B$7:$L$1002,11,0)))","v":"WRV 2019"}]
[19,"Daniel Ryba",1994,"Dvůr Králové","CZ/C2","M",3,27256,"Junior v roce 2019","","RD 2019","RV 2019",{"$f":"IF(ISERROR(VLOOKUP(B25,'Zebrik W'!$B$7:$L$1002,11,0)),\"\",IF(VLOOKUP(B25,'Zebrik W'!$B$7:$L$1002,11,0)=0,\"--\",VLOOKUP(B25,'Zebrik W'!$B$7:$L$1002,11,0)))","v":""}]
[20,"Petr Koutny",1971,"Křižanov","CZ/M","M",3,27204,"","",null,"RV 2019",{"$f":"IF(ISERROR(VLOOKUP(B26,'Zebrik W'!$B$7:$L$1002,11,0)),\"\",IF(VLOOKUP(B26,'Zebrik W'!$B$7:$L$1002,11,0)=0,\"--\",VLOOKUP(B26,'Zebrik W'!$B$7:$L$1002,11,0)))","v":""}]
[21,"Jan Pavlik",1987,"Křižanov","CZ/M","M",3,27158,"","",null,null,{"$f":"IF(ISERROR(VLOOKUP(B27,'Zebrik W'!$B$7:$L$1002,11,0)),\"\",IF(VLOOKUP(B27,'Zebrik W'!$B$7:$L$1002,11,0)=0,\"--\",VLOOKUP(B27,'Zebrik W'!$B$7:$L$1002,11,0)))","v":""}]
[22,"Dana Novakova",1965,"Mladá Boleslav","CZ/C1","F",3,27005,"","","RD 2019","RV 2019",{"$f":"IF(ISERROR(VLOOKUP(B28,'Zebrik W'!$B$7:$L$1002,11,0)),\"\",IF(VLOOKUP(B28,'Zebrik W'!$B$7:$L$1002,11,0)=0,\"--\",VLOOKUP(B28,'Zebrik W'!$B$7:$L$1002,11,0)))","v":"WRV 2019"}]
[23,"Danes Grula",1961,"Medlánky","CZ/M","M",3,26973,"","",null,null,{"$f":"IF(ISERROR(VLOOKUP(B29,'Zebrik W'!$B$7:$L$1002,11,0)),\"\",IF(VLOOKUP(B29,'Zebrik W'!$B$7:$L$1002,11,0)=0,\"--\",VLOOKUP(B29,'Zebrik W'!$B$7:$L$1002,11,0)))","v":""}]
[24,"Petr Panek",1975,"Dvůr Králové","CZ/C2","M",3,26535,"","",null,null,{"$f":"IF(ISERROR(VLOOKUP(B30,'Zebrik W'!$B$7:$L$1002,11,0)),\"\",IF(VLOOKUP(B30,'Zebrik W'!$B$7:$L$1002,11,0)=0,\"--\",VLOOKUP(B30,'Zebrik W'!$B$7:$L$1002,11,0)))","v":""}]
[25,"Hana Treslova",1991,"Raná","CZ/C2","F",3,26439,"","","RD 2019","RV 2019",{"$f":"IF(ISERROR(VLOOKUP(B31,'Zebrik W'!$B$7:$L$1002,11,0)),\"\",IF(VLOOKUP(B31,'Zebrik W'!$B$7:$L$1002,11,0)=0,\"--\",VLOOKUP(B31,'Zebrik W'!$B$7:$L$1002,11,0)))","v":"WRV 2019"}]
[26,"Jan Viskot",1995,"Břeclav","CZ/M","M",3,26305,"Junior v roce 2019","Junior v roce 2020","RD 2019","RV 2019",{"$f":"IF(ISERROR(VLOOKUP(B32,'Zebrik W'!$B$7:$L$1002,11,0)),\"\",IF(VLOOKUP(B32,'Zebrik W'!$B$7:$L$1002,11,0)=0,\"--\",VLOOKUP(B32,'Zebrik W'!$B$7:$L$1002,11,0)))","v":""}]
[27,"Klara Teichmannova",1993,"Hronov","CZ/C2","F",3,26283,"","","RD 2019","RV 2019",{"$f":"IF(ISERROR(VLOOKUP(B33,'Zebrik W'!$B$7:$L$1002,11,0)),\"\",IF(VLOOKUP(B33,'Zebrik W'!$B$7:$L$1002,11,0)=0,\"--\",VLOOKUP(B33,'Zebrik W'!$B$7:$L$1002,11,0)))","v":"WRV 2019"}]
[28,"Pavel Trybenekr",1990,"Hořice","CZ/C2","M",3,26097,"","",null,null,{"$f":"IF(ISERROR(VLOOKUP(B34,'Zebrik W'!$B$7:$L$1002,11,0)),\"\",IF(VLOOKUP(B34,'Zebrik W'!$B$7:$L$1002,11,0)=0,\"--\",VLOOKUP(B34,'Zebrik W'!$B$7:$L$1002,11,0)))","v":""}]
[29,"Jan Boruvka",1984,"Jičín","CZ/C2","M",3,25802,"","",null,null,{"$f":"IF(ISERROR(VLOOKUP(B35,'Zebrik W'!$B$7:$L$1002,11,0)),\"\",IF(VLOOKUP(B35,'Zebrik W'!$B$7:$L$1002,11,0)=0,\"--\",VLOOKUP(B35,'Zebrik W'!$B$7:$L$1002,11,0)))","v":""}]
[30,"Alena Netusilova",1970,"Zbraslavice","CZ/C1","F",3,25743,"","","RD 2019","RV 2019",{"$f":"IF(ISERROR(VLOOKUP(B36,'Zebrik W'!$B$7:$L$1002,11,0)),\"\",IF(VLOOKUP(B36,'Zebrik W'!$B$7:$L$1002,11,0)=0,\"--\",VLOOKUP(B36,'Zebrik W'!$B$7:$L$1002,11,0)))","v":"WRV 2019"}]
[31,"Jaromir Macoun",1999,"Jičín","CZ/C2","M",3,25717,"Junior v roce 2019","Junior v roce 2020","RD 2019","RV 2019",{"$f":"IF(ISERROR(VLOOKUP(B37,'Zebrik W'!$B$7:$L$1002,11,0)),\"\",IF(VLOOKUP(B37,'Zebrik W'!$B$7:$L$1002,11,0)=0,\"--\",VLOOKUP(B37,'Zebrik W'!$B$7:$L$1002,11,0)))","v":""}]
[32,"Richard Vlcek",1993,"Kunovice","CZ/M","M",3,25588,"","",null,null,{"$f":"IF(ISERROR(VLOOKUP(B38,'Zebrik W'!$B$7:$L$1002,11,0)),\"\",IF(VLOOKUP(B38,'Zebrik W'!$B$7:$L$1002,11,0)=0,\"--\",VLOOKUP(B38,'Zebrik W'!$B$7:$L$1002,11,0)))","v":""}]
[33,"Jan Zapletal",1997,"Kroměříž","CZ/M","M",3,25457,"Junior v roce 2019","Junior v roce 2020","RD 2019","RV 2019",{"$f":"IF(ISERROR(VLOOKUP(B39,'Zebrik W'!$B$7:$L$1002,11,0)),\"\",IF(VLOOKUP(B39,'Zebrik W'!$B$7:$L$1002,11,0)=0,\"--\",VLOOKUP(B39,'Zebrik W'!$B$7:$L$1002,11,0)))","v":""}]
[34,"Ivan Harasta 65",1965,"Toužim","CZ/C1","M",3,25356,"","",null,null,{"$f":"IF(ISERROR(VLOOKUP(B40,'Zebrik W'!$B$7:$L$1002,11,0)),\"\",IF(VLOOKUP(B40,'Zebrik W'!$B$7:$L$1002,11,0)=0,\"--\",VLOOKUP(B40,'Zebrik W'!$B$7:$L$1002,11,0)))","v":""}]
[35,"Karel Mares",1974,"Slaný","CZ/C1","M",3,25313,"","",null,null,{"$f":"IF(ISERROR(VLOOKUP(B41,'Zebrik W'!$B$7:$L$1002,11,0)),\"\",IF(VLOOKUP(B41,'Zebrik W'!$B$7:$L$1002,11,0)=0,\"--\",VLOOKUP(B41,'Zebrik W'!$B$7:$L$1002,11,0)))","v":""}]
[36,"Vaclav Marel",1974,"Jaroměř","CZ/C2","M",3,25255,"","",null,null,{"$f":"IF(ISERROR(VLOOKUP(B42,'Zebrik W'!$B$7:$L$1002,11,0)),\"\",IF(VLOOKUP(B42,'Zebrik W'!$B$7:$L$1002,11,0)=0,\"--\",VLOOKUP(B42,'Zebrik W'!$B$7:$L$1002,11,0)))","v":""}]
[37,"Zdenek Balcarek",1967,"Kroměříž","CZ/M","M",3,24853,"","",null,null,{"$f":"IF(ISERROR(VLOOKUP(B43,'Zebrik W'!$B$7:$L$1002,11,0)),\"\",IF(VLOOKUP(B43,'Zebrik W'!$B$7:$L$1002,11,0)=0,\"--\",VLOOKUP(B43,'Zebrik W'!$B$7:$L$1002,11,0)))","v":""}]
[38,"Marek Svancara",1976,"GAC Benešov","CZ/C1","M",3,24761,"","",null,null,{"$f":"IF(ISERROR(VLOOKUP(B44,'Zebrik W'!$B$7:$L$1002,11,0)),\"\",IF(VLOOKUP(B44,'Zebrik W'!$B$7:$L$1002,11,0)=0,\"--\",VLOOKUP(B44,'Zebrik W'!$B$7:$L$1002,11,0)))","v":""}]
[39,"Barbora Moravcova",1994,"Zbraslavice","CZ/C1","F",3,24573,"Junior v roce 2019","","RD 2019","RV 2019",{"$f":"IF(ISERROR(VLOOKUP(B45,'Zebrik W'!$B$7:$L$1002,11,0)),\"\",IF(VLOOKUP(B45,'Zebrik W'!$B$7:$L$1002,11,0)=0,\"--\",VLOOKUP(B45,'Zebrik W'!$B$7:$L$1002,11,0)))","v":"WRV 2019"}]
[40,"Martin Hrivna",1978,"Zbraslavice","CZ/C1","M",3,24531,"","",null,null,{"$f":"IF(ISERROR(VLOOKUP(B46,'Zebrik W'!$B$7:$L$1002,11,0)),\"\",IF(VLOOKUP(B46,'Zebrik W'!$B$7:$L$1002,11,0)=0,\"--\",VLOOKUP(B46,'Zebrik W'!$B$7:$L$1002,11,0)))","v":""}]
[41,"Jiri Kusbach",1959,"Luhačovice","CZ/M","M",3,24473,"","",null,null,{"$f":"IF(ISERROR(VLOOKUP(B47,'Zebrik W'!$B$7:$L$1002,11,0)),\"\",IF(VLOOKUP(B47,'Zebrik W'!$B$7:$L$1002,11,0)=0,\"--\",VLOOKUP(B47,'Zebrik W'!$B$7:$L$1002,11,0)))","v":""}]
[42,"Petr Hotovy",1958,"Česká Lípa","CZ/C2","M",3,24392,"","",null,null,{"$f":"IF(ISERROR(VLOOKUP(B48,'Zebrik W'!$B$7:$L$1002,11,0)),\"\",IF(VLOOKUP(B48,'Zebrik W'!$B$7:$L$1002,11,0)=0,\"--\",VLOOKUP(B48,'Zebrik W'!$B$7:$L$1002,11,0)))","v":""}]
[43,"Jan Horak",1971,"Zbraslavice","CZ/C1","M",3,24337,"","",null,null,{"$f":"IF(ISERROR(VLOOKUP(B49,'Zebrik W'!$B$7:$L$1002,11,0)),\"\",IF(VLOOKUP(B49,'Zebrik W'!$B$7:$L$1002,11,0)=0,\"--\",VLOOKUP(B49,'Zebrik W'!$B$7:$L$1002,11,0)))","v":""}]
[44,"Jana Treslova",1963,"Raná","CZ/C2","F",3,24325,"","","RD 2019","RV 2019",{"$f":"IF(ISERROR(VLOOKUP(B50,'Zebrik W'!$B$7:$L$1002,11,0)),\"\",IF(VLOOKUP(B50,'Zebrik W'!$B$7:$L$1002,11,0)=0,\"--\",VLOOKUP(B50,'Zebrik W'!$B$7:$L$1002,11,0)))","v":"WRV 2019"}]
[45,"Lukas Capek",1992,"Letňany","CZ/C1","M",3,23499,"","",null,null,{"$f":"IF(ISERROR(VLOOKUP(B51,'Zebrik W'!$B$7:$L$1002,11,0)),\"\",IF(VLOOKUP(B51,'Zebrik W'!$B$7:$L$1002,11,0)=0,\"--\",VLOOKUP(B51,'Zebrik W'!$B$7:$L$1002,11,0)))","v":""}]
[46,"Zdenek Boruvka 54",1954,"Jičín","CZ/C2","M",3,23497,"","",null,null,{"$f":"IF(ISERROR(VLOOKUP(B52,'Zebrik W'!$B$7:$L$1002,11,0)),\"\",IF(VLOOKUP(B52,'Zebrik W'!$B$7:$L$1002,11,0)=0,\"--\",VLOOKUP(B52,'Zebrik W'!$B$7:$L$1002,11,0)))","v":""}]
[47,"Pavel Rericha",1967,"Moravská Třebová","CZ/M","M",3,23357,"","",null,null,{"$f":"IF(ISERROR(VLOOKUP(B53,'Zebrik W'!$B$7:$L$1002,11,0)),\"\",IF(VLOOKUP(B53,'Zebrik W'!$B$7:$L$1002,11,0)=0,\"--\",VLOOKUP(B53,'Zebrik W'!$B$7:$L$1002,11,0)))","v":""}]
[48,"Lenka Kuthanova",1960,"LK Břeclav","CZ/M","F",3,23033,"","","RD 2019","RV 2019",{"$f":"IF(ISERROR(VLOOKUP(B54,'Zebrik W'!$B$7:$L$1002,11,0)),\"\",IF(VLOOKUP(B54,'Zebrik W'!$B$7:$L$1002,11,0)=0,\"--\",VLOOKUP(B54,'Zebrik W'!$B$7:$L$1002,11,0)))","v":"WRV 2019"}]
[49,"Jan Zahradka",1981,"Hodkovice","CZ/C2","M",3,22903,"","",null,null,{"$f":"IF(ISERROR(VLOOKUP(B55,'Zebrik W'!$B$7:$L$1002,11,0)),\"\",IF(VLOOKUP(B55,'Zebrik W'!$B$7:$L$1002,11,0)=0,\"--\",VLOOKUP(B55,'Zebrik W'!$B$7:$L$1002,11,0)))","v":""}]
[50,"Jan Vavrin",1987,"Vysoké Mýto","CZ/C2","M",3,22874,"","",null,null,{"$f":"IF(ISERROR(VLOOKUP(B56,'Zebrik W'!$B$7:$L$1002,11,0)),\"\",IF(VLOOKUP(B56,'Zebrik W'!$B$7:$L$1002,11,0)=0,\"--\",VLOOKUP(B56,'Zebrik W'!$B$7:$L$1002,11,0)))","v":""}]
[51,"Vojtech Novotny",1992,"Kralupy","CZ/C1","M",3,22859,"","",null,null,{"$f":"IF(ISERROR(VLOOKUP(B57,'Zebrik W'!$B$7:$L$1002,11,0)),\"\",IF(VLOOKUP(B57,'Zebrik W'!$B$7:$L$1002,11,0)=0,\"--\",VLOOKUP(B57,'Zebrik W'!$B$7:$L$1002,11,0)))","v":""}]
[52,"Jiri Fousek",1990,"Raná","CZ/C2","M",3,22855,"","",null,null,{"$f":"IF(ISERROR(VLOOKUP(B58,'Zebrik W'!$B$7:$L$1002,11,0)),\"\",IF(VLOOKUP(B58,'Zebrik W'!$B$7:$L$1002,11,0)=0,\"--\",VLOOKUP(B58,'Zebrik W'!$B$7:$L$1002,11,0)))","v":""}]
[53,"Ondrej Sindelar",1979,"Mladá Boleslav","CZ/C1","M",3,22807,"","",null,null,{"$f":"IF(ISERROR(VLOOKUP(B59,'Zebrik W'!$B$7:$L$1002,11,0)),\"\",IF(VLOOKUP(B59,'Zebrik W'!$B$7:$L$1002,11,0)=0,\"--\",VLOOKUP(B59,'Zebrik W'!$B$7:$L$1002,11,0)))","v":""}]
[54,"Jan Ratz",1987,"Plasy","CZ/C1","M",3,22777,"","",null,null,{"$f":"IF(ISERROR(VLOOKUP(B60,'Zebrik W'!$B$7:$L$1002,11,0)),\"\",IF(VLOOKUP(B60,'Zebrik W'!$B$7:$L$1002,11,0)=0,\"--\",VLOOKUP(B60,'Zebrik W'!$B$7:$L$1002,11,0)))","v":""}]
[55,"Michal Krupicka",1975,"Most","CZ/C2","M",3,22701,"","",null,null,{"$f":"IF(ISERROR(VLOOKUP(B61,'Zebrik W'!$B$7:$L$1002,11,0)),\"\",IF(VLOOKUP(B61,'Zebrik W'!$B$7:$L$1002,11,0)=0,\"--\",VLOOKUP(B61,'Zebrik W'!$B$7:$L$1002,11,0)))","v":""}]
[56,"Lukas Koukal",1991,"Letkov","CZ/C1","M",3,22671,"","",null,null,{"$f":"IF(ISERROR(VLOOKUP(B62,'Zebrik W'!$B$7:$L$1002,11,0)),\"\",IF(VLOOKUP(B62,'Zebrik W'!$B$7:$L$1002,11,0)=0,\"--\",VLOOKUP(B62,'Zebrik W'!$B$7:$L$1002,11,0)))","v":""}]
[57,"Petra Piskata",1989,"Hranice","CZ/M","F",3,22599,"","","RD 2019","RV 2019",{"$f":"IF(ISERROR(VLOOKUP(B63,'Zebrik W'!$B$7:$L$1002,11,0)),\"\",IF(VLOOKUP(B63,'Zebrik W'!$B$7:$L$1002,11,0)=0,\"--\",VLOOKUP(B63,'Zebrik W'!$B$7:$L$1002,11,0)))","v":"WRV 2019"}]
[58,"Jiri Stepanek",1956,"Moravská Třebová","CZ/M","M",3,22540,"","",null,null,{"$f":"IF(ISERROR(VLOOKUP(B64,'Zebrik W'!$B$7:$L$1002,11,0)),\"\",IF(VLOOKUP(B64,'Zebrik W'!$B$7:$L$1002,11,0)=0,\"--\",VLOOKUP(B64,'Zebrik W'!$B$7:$L$1002,11,0)))","v":""}]
[59,"Leos Strnadek",1983,"Hodkovice","CZ/C2","M",3,22324,"","",null,null,{"$f":"IF(ISERROR(VLOOKUP(B65,'Zebrik W'!$B$7:$L$1002,11,0)),\"\",IF(VLOOKUP(B65,'Zebrik W'!$B$7:$L$1002,11,0)=0,\"--\",VLOOKUP(B65,'Zebrik W'!$B$7:$L$1002,11,0)))","v":""}]
[60,"Petr Stepanek",1989,"Moravská Třebová","CZ/M","M",3,22195,"","",null,null,{"$f":"IF(ISERROR(VLOOKUP(B66,'Zebrik W'!$B$7:$L$1002,11,0)),\"\",IF(VLOOKUP(B66,'Zebrik W'!$B$7:$L$1002,11,0)=0,\"--\",VLOOKUP(B66,'Zebrik W'!$B$7:$L$1002,11,0)))","v":""}]
[61,"Zdenek Schenk",1972,"Hranice","CZ/M","M",3,22070,"","",null,null,{"$f":"IF(ISERROR(VLOOKUP(B67,'Zebrik W'!$B$7:$L$1002,11,0)),\"\",IF(VLOOKUP(B67,'Zebrik W'!$B$7:$L$1002,11,0)=0,\"--\",VLOOKUP(B67,'Zebrik W'!$B$7:$L$1002,11,0)))","v":""}]
[62,"Antonin Novotny",1972,"Luhačovice","CZ/M","M",3,21616,"","",null,null,{"$f":"IF(ISERROR(VLOOKUP(B68,'Zebrik W'!$B$7:$L$1002,11,0)),\"\",IF(VLOOKUP(B68,'Zebrik W'!$B$7:$L$1002,11,0)=0,\"--\",VLOOKUP(B68,'Zebrik W'!$B$7:$L$1002,11,0)))","v":""}]
[63,"Radek Zima 78",1978,"Hodkovice","CZ/C2","M",3,21512,"","",null,null,{"$f":"IF(ISERROR(VLOOKUP(B69,'Zebrik W'!$B$7:$L$1002,11,0)),\"\",IF(VLOOKUP(B69,'Zebrik W'!$B$7:$L$1002,11,0)=0,\"--\",VLOOKUP(B69,'Zebrik W'!$B$7:$L$1002,11,0)))","v":""}]
[64,"Jan Smaha",1958,"Česká Lípa","CZ/C2","M",3,21277,"","",null,null,{"$f":"IF(ISERROR(VLOOKUP(B70,'Zebrik W'!$B$7:$L$1002,11,0)),\"\",IF(VLOOKUP(B70,'Zebrik W'!$B$7:$L$1002,11,0)=0,\"--\",VLOOKUP(B70,'Zebrik W'!$B$7:$L$1002,11,0)))","v":""}]
[65,"Jan Vozeh",1995,"Rakovník","CZ/C1","M",3,21235,"Junior v roce 2019","Junior v roce 2020",null,null,{"$f":"IF(ISERROR(VLOOKUP(B71,'Zebrik W'!$B$7:$L$1002,11,0)),\"\",IF(VLOOKUP(B71,'Zebrik W'!$B$7:$L$1002,11,0)=0,\"--\",VLOOKUP(B71,'Zebrik W'!$B$7:$L$1002,11,0)))","v":""}]
[{"$f":"RANK(H72,H:H)","v":66},"Petr Setka",1971,"Letkov","CZ/C1","M",3,20977,{"$f":"IF(C72=\"(prázdné)\",\"\",IF(($I$4-C72)>25,\"\",\"Junior v roce \"&$I$4))","v":""},{"$f":"IF(C72=\"(prázdné)\",\"\",IF(($J$4-C72)>25,\"\",\"Junior v roce \"&$J$4))","v":""},null,null,{"$f":"IF(ISERROR(VLOOKUP(B72,'Zebrik W'!$B$7:$L$1002,11,0)),\"\",IF(VLOOKUP(B72,'Zebrik W'!$B$7:$L$1002,11,0)=0,\"--\",VLOOKUP(B72,'Zebrik W'!$B$7:$L$1002,11,0)))","v":""}]
[67,"Martin Picka",1974,"Letkov","CZ/C1","M",3,20963,"","",null,null,{"$f":"IF(ISERROR(VLOOKUP(B73,'Zebrik W'!$B$7:$L$1002,11,0)),\"\",IF(VLOOKUP(B73,'Zebrik W'!$B$7:$L$1002,11,0)=0,\"--\",VLOOKUP(B73,'Zebrik W'!$B$7:$L$1002,11,0)))","v":""}]
[68,"Lumir Motyka",1955,"Frýdlant","CZ/M","M",3,20725,"","",null,null,{"$f":"IF(ISERROR(VLOOKUP(B74,'Zebrik W'!$B$7:$L$1002,11,0)),\"\",IF(VLOOKUP(B74,'Zebrik W'!$B$7:$L$1002,11,0)=0,\"--\",VLOOKUP(B74,'Zebrik W'!$B$7:$L$1002,11,0)))","v":""}]
[68,"Martin Pekar",1973,"Šumperk","CZ/M","M",3,20725,"","",null,null,{"$f":"IF(ISERROR(VLOOKUP(B75,'Zebrik W'!$B$7:$L$1002,11,0)),\"\",IF(VLOOKUP(B75,'Zebrik W'!$B$7:$L$1002,11,0)=0,\"--\",VLOOKUP(B75,'Zebrik W'!$B$7:$L$1002,11,0)))","v":""}]
[70,"Ondrej Dupal",1966,"GAC Benešov","CZ/C1","M",3,20578,"","",null,null,{"$f":"IF(ISERROR(VLOOKUP(B76,'Zebrik W'!$B$7:$L$1002,11,0)),\"\",IF(VLOOKUP(B76,'Zebrik W'!$B$7:$L$1002,11,0)=0,\"--\",VLOOKUP(B76,'Zebrik W'!$B$7:$L$1002,11,0)))","v":""}]
[71,"Ivan Tvrdik",1997,"Letňany","CZ/C1","M",3,20434,"Junior v roce 2019","Junior v roce 2020",null,null,{"$f":"IF(ISERROR(VLOOKUP(B77,'Zebrik W'!$B$7:$L$1002,11,0)),\"\",IF(VLOOKUP(B77,'Zebrik W'!$B$7:$L$1002,11,0)=0,\"--\",VLOOKUP(B77,'Zebrik W'!$B$7:$L$1002,11,0)))","v":""}]
[72,"Anna Hajkova",1989,"Mladá Boleslav","CZ/C1","F",3,20248,"","",null,null,{"$f":"IF(ISERROR(VLOOKUP(B78,'Zebrik W'!$B$7:$L$1002,11,0)),\"\",IF(VLOOKUP(B78,'Zebrik W'!$B$7:$L$1002,11,0)=0,\"--\",VLOOKUP(B78,'Zebrik W'!$B$7:$L$1002,11,0)))","v":"--"}]
[73,"Jan Kotan",1982,"Letňany","CZ/C1","M",3,20133,"","",null,null,{"$f":"IF(ISERROR(VLOOKUP(B79,'Zebrik W'!$B$7:$L$1002,11,0)),\"\",IF(VLOOKUP(B79,'Zebrik W'!$B$7:$L$1002,11,0)=0,\"--\",VLOOKUP(B79,'Zebrik W'!$B$7:$L$1002,11,0)))","v":""}]
[74,"Slavomir Piskaty 84",1984,"Kunovice","CZ/M","M",3,20091,"","",null,null,{"$f":"IF(ISERROR(VLOOKUP(B80,'Zebrik W'!$B$7:$L$1002,11,0)),\"\",IF(VLOOKUP(B80,'Zebrik W'!$B$7:$L$1002,11,0)=0,\"--\",VLOOKUP(B80,'Zebrik W'!$B$7:$L$1002,11,0)))","v":""}]
[75,"Karel Benisek 76",1976,"Toužim","CZ/C1","M",3,19965,"","",null,null,{"$f":"IF(ISERROR(VLOOKUP(B81,'Zebrik W'!$B$7:$L$1002,11,0)),\"\",IF(VLOOKUP(B81,'Zebrik W'!$B$7:$L$1002,11,0)=0,\"--\",VLOOKUP(B81,'Zebrik W'!$B$7:$L$1002,11,0)))","v":""}]
[76,"Pavlina Horackova",1965,"Šumperk","CZ/M","F",3,19846,"","",null,null,{"$f":"IF(ISERROR(VLOOKUP(B82,'Zebrik W'!$B$7:$L$1002,11,0)),\"\",IF(VLOOKUP(B82,'Zebrik W'!$B$7:$L$1002,11,0)=0,\"--\",VLOOKUP(B82,'Zebrik W'!$B$7:$L$1002,11,0)))","v":"--"}]
[77,"Lukas Plocek",1990,"Mladá Boleslav","CZ/C1","M",3,19792,"","",null,null,{"$f":"IF(ISERROR(VLOOKUP(B83,'Zebrik W'!$B$7:$L$1002,11,0)),\"\",IF(VLOOKUP(B83,'Zebrik W'!$B$7:$L$1002,11,0)=0,\"--\",VLOOKUP(B83,'Zebrik W'!$B$7:$L$1002,11,0)))","v":""}]
[78,"Tomas Jilek",1995,"Raná","CZ/C2","M",3,19743,"Junior v roce 2019","Junior v roce 2020",null,null,{"$f":"IF(ISERROR(VLOOKUP(B84,'Zebrik W'!$B$7:$L$1002,11,0)),\"\",IF(VLOOKUP(B84,'Zebrik W'!$B$7:$L$1002,11,0)=0,\"--\",VLOOKUP(B84,'Zebrik W'!$B$7:$L$1002,11,0)))","v":""}]
[79,"Jiri Steiger",1969,"Olomouc","CZ/M","M",3,19620,"","",null,null,{"$f":"IF(ISERROR(VLOOKUP(B85,'Zebrik W'!$B$7:$L$1002,11,0)),\"\",IF(VLOOKUP(B85,'Zebrik W'!$B$7:$L$1002,11,0)=0,\"--\",VLOOKUP(B85,'Zebrik W'!$B$7:$L$1002,11,0)))","v":""}]
[80,"Karel Knotek",1961,"Soběslav","CZ/C1","M",3,19568,"","",null,null,{"$f":"IF(ISERROR(VLOOKUP(B86,'Zebrik W'!$B$7:$L$1002,11,0)),\"\",IF(VLOOKUP(B86,'Zebrik W'!$B$7:$L$1002,11,0)=0,\"--\",VLOOKUP(B86,'Zebrik W'!$B$7:$L$1002,11,0)))","v":""}]
[81,"Frantisek Filandr",1956,"Most","CZ/C2","M",3,19553,"","",null,null,{"$f":"IF(ISERROR(VLOOKUP(B87,'Zebrik W'!$B$7:$L$1002,11,0)),\"\",IF(VLOOKUP(B87,'Zebrik W'!$B$7:$L$1002,11,0)=0,\"--\",VLOOKUP(B87,'Zebrik W'!$B$7:$L$1002,11,0)))","v":""}]
[82,"Jaroslav Buryan",1953,"Zábřeh","CZ/M","M",3,19363,"","",null,null,{"$f":"IF(ISERROR(VLOOKUP(B88,'Zebrik W'!$B$7:$L$1002,11,0)),\"\",IF(VLOOKUP(B88,'Zebrik W'!$B$7:$L$1002,11,0)=0,\"--\",VLOOKUP(B88,'Zebrik W'!$B$7:$L$1002,11,0)))","v":""}]
[83,"Radek Kucirek",1973,"Havlíčkův Brod","CZ/C2","M",3,19161,"","",null,null,{"$f":"IF(ISERROR(VLOOKUP(B89,'Zebrik W'!$B$7:$L$1002,11,0)),\"\",IF(VLOOKUP(B89,'Zebrik W'!$B$7:$L$1002,11,0)=0,\"--\",VLOOKUP(B89,'Zebrik W'!$B$7:$L$1002,11,0)))","v":""}]
[84,"Petr Starek",1974,"Zbraslavice","CZ/C1","M",3,18753,"","",null,null,{"$f":"IF(ISERROR(VLOOKUP(B90,'Zebrik W'!$B$7:$L$1002,11,0)),\"\",IF(VLOOKUP(B90,'Zebrik W'!$B$7:$L$1002,11,0)=0,\"--\",VLOOKUP(B90,'Zebrik W'!$B$7:$L$1002,11,0)))","v":""}]
[85,"Milan Svoboda 80",1980,"Havlíčkův Brod","CZ/C2","M",3,18447,"","",null,null,{"$f":"IF(ISERROR(VLOOKUP(B91,'Zebrik W'!$B$7:$L$1002,11,0)),\"\",IF(VLOOKUP(B91,'Zebrik W'!$B$7:$L$1002,11,0)=0,\"--\",VLOOKUP(B91,'Zebrik W'!$B$7:$L$1002,11,0)))","v":""}]
[86,"Ladislav Jozsa",1981,"Medlánky","CZ/M","M",3,18404,"","",null,null,{"$f":"IF(ISERROR(VLOOKUP(B92,'Zebrik W'!$B$7:$L$1002,11,0)),\"\",IF(VLOOKUP(B92,'Zebrik W'!$B$7:$L$1002,11,0)=0,\"--\",VLOOKUP(B92,'Zebrik W'!$B$7:$L$1002,11,0)))","v":""}]
[87,"Matej Krestes",1986,"Slaný","CZ/C1","M",3,18163,"","",null,null,{"$f":"IF(ISERROR(VLOOKUP(B93,'Zebrik W'!$B$7:$L$1002,11,0)),\"\",IF(VLOOKUP(B93,'Zebrik W'!$B$7:$L$1002,11,0)=0,\"--\",VLOOKUP(B93,'Zebrik W'!$B$7:$L$1002,11,0)))","v":""}]
[88,"Jan Dersak 69",1969,"Kralupy","CZ/C1","M",3,18147,"","",null,null,{"$f":"IF(ISERROR(VLOOKUP(B94,'Zebrik W'!$B$7:$L$1002,11,0)),\"\",IF(VLOOKUP(B94,'Zebrik W'!$B$7:$L$1002,11,0)=0,\"--\",VLOOKUP(B94,'Zebrik W'!$B$7:$L$1002,11,0)))","v":""}]
[89,"Jan Hruska",1988,"Tábor","CZ/C1","M",3,18143,"","",null,null,{"$f":"IF(ISERROR(VLOOKUP(B95,'Zebrik W'!$B$7:$L$1002,11,0)),\"\",IF(VLOOKUP(B95,'Zebrik W'!$B$7:$L$1002,11,0)=0,\"--\",VLOOKUP(B95,'Zebrik W'!$B$7:$L$1002,11,0)))","v":""}]
[90,"Frantisek Vancura",1966,"Hranice","CZ/M","M",3,17818,"","",null,null,{"$f":"IF(ISERROR(VLOOKUP(B96,'Zebrik W'!$B$7:$L$1002,11,0)),\"\",IF(VLOOKUP(B96,'Zebrik W'!$B$7:$L$1002,11,0)=0,\"--\",VLOOKUP(B96,'Zebrik W'!$B$7:$L$1002,11,0)))","v":""}]
[91,"Marek Kornec",1957,"Dvůr Králové","CZ/C2","M",3,17782,"","",null,null,{"$f":"IF(ISERROR(VLOOKUP(B97,'Zebrik W'!$B$7:$L$1002,11,0)),\"\",IF(VLOOKUP(B97,'Zebrik W'!$B$7:$L$1002,11,0)=0,\"--\",VLOOKUP(B97,'Zebrik W'!$B$7:$L$1002,11,0)))","v":""}]
[92,"Josef Hlusek",1993,"Kunovice","CZ/M","M",3,17745,"","",null,null,{"$f":"IF(ISERROR(VLOOKUP(B98,'Zebrik W'!$B$7:$L$1002,11,0)),\"\",IF(VLOOKUP(B98,'Zebrik W'!$B$7:$L$1002,11,0)=0,\"--\",VLOOKUP(B98,'Zebrik W'!$B$7:$L$1002,11,0)))","v":""}]
[93,"David Sachl",1978,"Kralupy","CZ/C1","M",3,17692,"","",null,null,{"$f":"IF(ISERROR(VLOOKUP(B99,'Zebrik W'!$B$7:$L$1002,11,0)),\"\",IF(VLOOKUP(B99,'Zebrik W'!$B$7:$L$1002,11,0)=0,\"--\",VLOOKUP(B99,'Zebrik W'!$B$7:$L$1002,11,0)))","v":""}]
[94,"Rene Hudak",1972,"Kunovice","CZ/M","M",3,17607,"","",null,null,{"$f":"IF(ISERROR(VLOOKUP(B100,'Zebrik W'!$B$7:$L$1002,11,0)),\"\",IF(VLOOKUP(B100,'Zebrik W'!$B$7:$L$1002,11,0)=0,\"--\",VLOOKUP(B100,'Zebrik W'!$B$7:$L$1002,11,0)))","v":""}]
[95,"Michal Kodousek",1983,"Jaroměř","CZ/C2","M",2,17450,"","",null,null,{"$f":"IF(ISERROR(VLOOKUP(B101,'Zebrik W'!$B$7:$L$1002,11,0)),\"\",IF(VLOOKUP(B101,'Zebrik W'!$B$7:$L$1002,11,0)=0,\"--\",VLOOKUP(B101,'Zebrik W'!$B$7:$L$1002,11,0)))","v":""}]
[96,"Jan Simon",1970,"Kralupy","CZ/C1","M",3,17393,"","",null,null,{"$f":"IF(ISERROR(VLOOKUP(B102,'Zebrik W'!$B$7:$L$1002,11,0)),\"\",IF(VLOOKUP(B102,'Zebrik W'!$B$7:$L$1002,11,0)=0,\"--\",VLOOKUP(B102,'Zebrik W'!$B$7:$L$1002,11,0)))","v":""}]
[97,"Antonin Konicek",1973,"Kunovice","CZ/M","M",3,17366,"","",null,null,{"$f":"IF(ISERROR(VLOOKUP(B103,'Zebrik W'!$B$7:$L$1002,11,0)),\"\",IF(VLOOKUP(B103,'Zebrik W'!$B$7:$L$1002,11,0)=0,\"--\",VLOOKUP(B103,'Zebrik W'!$B$7:$L$1002,11,0)))","v":""}]
[98,"Martin Piskacek",1991,"Beroun","CZ/C1","M",3,17224,"","",null,null,{"$f":"IF(ISERROR(VLOOKUP(B104,'Zebrik W'!$B$7:$L$1002,11,0)),\"\",IF(VLOOKUP(B104,'Zebrik W'!$B$7:$L$1002,11,0)=0,\"--\",VLOOKUP(B104,'Zebrik W'!$B$7:$L$1002,11,0)))","v":""}]
[99,"Wolfgang Sluka",1942,"Liberec","CZ/C2","M",3,17192,"","",null,null,{"$f":"IF(ISERROR(VLOOKUP(B105,'Zebrik W'!$B$7:$L$1002,11,0)),\"\",IF(VLOOKUP(B105,'Zebrik W'!$B$7:$L$1002,11,0)=0,\"--\",VLOOKUP(B105,'Zebrik W'!$B$7:$L$1002,11,0)))","v":""}]
[100,"Martin Urner",1974,"Letňany","CZ/C1","M",3,17085,"","",null,null,{"$f":"IF(ISERROR(VLOOKUP(B106,'Zebrik W'!$B$7:$L$1002,11,0)),\"\",IF(VLOOKUP(B106,'Zebrik W'!$B$7:$L$1002,11,0)=0,\"--\",VLOOKUP(B106,'Zebrik W'!$B$7:$L$1002,11,0)))","v":""}]
[101,"Jan Sindelar",1946,"Kunovice","CZ/M","M",3,17080,"","",null,null,{"$f":"IF(ISERROR(VLOOKUP(B107,'Zebrik W'!$B$7:$L$1002,11,0)),\"\",IF(VLOOKUP(B107,'Zebrik W'!$B$7:$L$1002,11,0)=0,\"--\",VLOOKUP(B107,'Zebrik W'!$B$7:$L$1002,11,0)))","v":""}]
[102,"Daniel Suchy",1995,"Hranice","CZ/M","M",3,16885,"Junior v roce 2019","Junior v roce 2020",null,null,{"$f":"IF(ISERROR(VLOOKUP(B108,'Zebrik W'!$B$7:$L$1002,11,0)),\"\",IF(VLOOKUP(B108,'Zebrik W'!$B$7:$L$1002,11,0)=0,\"--\",VLOOKUP(B108,'Zebrik W'!$B$7:$L$1002,11,0)))","v":""}]
[103,"Slavomir Valecko",1960,"Hranice","CZ/M","M",3,16838,"","",null,null,{"$f":"IF(ISERROR(VLOOKUP(B109,'Zebrik W'!$B$7:$L$1002,11,0)),\"\",IF(VLOOKUP(B109,'Zebrik W'!$B$7:$L$1002,11,0)=0,\"--\",VLOOKUP(B109,'Zebrik W'!$B$7:$L$1002,11,0)))","v":""}]
[104,"Eva Cerna",1964,"Příbram","CZ/C1","F",3,16732,"","",null,null,{"$f":"IF(ISERROR(VLOOKUP(B110,'Zebrik W'!$B$7:$L$1002,11,0)),\"\",IF(VLOOKUP(B110,'Zebrik W'!$B$7:$L$1002,11,0)=0,\"--\",VLOOKUP(B110,'Zebrik W'!$B$7:$L$1002,11,0)))","v":"--"}]
[105,"Ondrej Blaha",1976,"Letňany","CZ/C1","M",3,16677,"","",null,null,{"$f":"IF(ISERROR(VLOOKUP(B111,'Zebrik W'!$B$7:$L$1002,11,0)),\"\",IF(VLOOKUP(B111,'Zebrik W'!$B$7:$L$1002,11,0)=0,\"--\",VLOOKUP(B111,'Zebrik W'!$B$7:$L$1002,11,0)))","v":""}]
[106,"Tomas Rendla",1973,"Zbraslavice","CZ/C1","M",3,16673,"","",null,null,{"$f":"IF(ISERROR(VLOOKUP(B112,'Zebrik W'!$B$7:$L$1002,11,0)),\"\",IF(VLOOKUP(B112,'Zebrik W'!$B$7:$L$1002,11,0)=0,\"--\",VLOOKUP(B112,'Zebrik W'!$B$7:$L$1002,11,0)))","v":""}]
[107,"Vojtech Pivonka",1976,"Vrchlabí","CZ/C2","M",3,16555,"","",null,null,{"$f":"IF(ISERROR(VLOOKUP(B113,'Zebrik W'!$B$7:$L$1002,11,0)),\"\",IF(VLOOKUP(B113,'Zebrik W'!$B$7:$L$1002,11,0)=0,\"--\",VLOOKUP(B113,'Zebrik W'!$B$7:$L$1002,11,0)))","v":""}]
[108,"Michal Cupak",1991,"Medlánky","CZ/M","M",3,16517,"","",null,null,{"$f":"IF(ISERROR(VLOOKUP(B114,'Zebrik W'!$B$7:$L$1002,11,0)),\"\",IF(VLOOKUP(B114,'Zebrik W'!$B$7:$L$1002,11,0)=0,\"--\",VLOOKUP(B114,'Zebrik W'!$B$7:$L$1002,11,0)))","v":""}]
[109,"Radim Vadasz",1989,"Soběslav","CZ/C1","M",3,16509,"","",null,null,{"$f":"IF(ISERROR(VLOOKUP(B115,'Zebrik W'!$B$7:$L$1002,11,0)),\"\",IF(VLOOKUP(B115,'Zebrik W'!$B$7:$L$1002,11,0)=0,\"--\",VLOOKUP(B115,'Zebrik W'!$B$7:$L$1002,11,0)))","v":""}]
[110,"Pavel Zima",1979,"Břeclav","CZ/M","M",3,16319,"","",null,null,{"$f":"IF(ISERROR(VLOOKUP(B116,'Zebrik W'!$B$7:$L$1002,11,0)),\"\",IF(VLOOKUP(B116,'Zebrik W'!$B$7:$L$1002,11,0)=0,\"--\",VLOOKUP(B116,'Zebrik W'!$B$7:$L$1002,11,0)))","v":""}]
[111,"Miroslav Stepan",1955,"Žamberk","CZ/C2","M",3,16109,"","",null,null,{"$f":"IF(ISERROR(VLOOKUP(B117,'Zebrik W'!$B$7:$L$1002,11,0)),\"\",IF(VLOOKUP(B117,'Zebrik W'!$B$7:$L$1002,11,0)=0,\"--\",VLOOKUP(B117,'Zebrik W'!$B$7:$L$1002,11,0)))","v":""}]
[112,"David Popovsky",1976,"Rakovník","CZ/C1","M",2,15973,"","",null,null,{"$f":"IF(ISERROR(VLOOKUP(B118,'Zebrik W'!$B$7:$L$1002,11,0)),\"\",IF(VLOOKUP(B118,'Zebrik W'!$B$7:$L$1002,11,0)=0,\"--\",VLOOKUP(B118,'Zebrik W'!$B$7:$L$1002,11,0)))","v":""}]
[113,"Martin Urban",1971,"Frýdlant","CZ/M","M",3,15909,"","",null,null,{"$f":"IF(ISERROR(VLOOKUP(B119,'Zebrik W'!$B$7:$L$1002,11,0)),\"\",IF(VLOOKUP(B119,'Zebrik W'!$B$7:$L$1002,11,0)=0,\"--\",VLOOKUP(B119,'Zebrik W'!$B$7:$L$1002,11,0)))","v":""}]
[114,"Lukas Maly",1998,"Vysoké Mýto","CZ/C2","M",3,15781,"Junior v roce 2019","Junior v roce 2020",null,null,{"$f":"IF(ISERROR(VLOOKUP(B120,'Zebrik W'!$B$7:$L$1002,11,0)),\"\",IF(VLOOKUP(B120,'Zebrik W'!$B$7:$L$1002,11,0)=0,\"--\",VLOOKUP(B120,'Zebrik W'!$B$7:$L$1002,11,0)))","v":""}]
[115,"Oldrich Slavicek",1959,"Hronov","CZ/C2","M",3,15666,"","",null,null,{"$f":"IF(ISERROR(VLOOKUP(B121,'Zebrik W'!$B$7:$L$1002,11,0)),\"\",IF(VLOOKUP(B121,'Zebrik W'!$B$7:$L$1002,11,0)=0,\"--\",VLOOKUP(B121,'Zebrik W'!$B$7:$L$1002,11,0)))","v":""}]
[116,"Jakub Kmosek",1978,"Zbraslavice","CZ/C1","M",2,15618,"","",null,null,{"$f":"IF(ISERROR(VLOOKUP(B122,'Zebrik W'!$B$7:$L$1002,11,0)),\"\",IF(VLOOKUP(B122,'Zebrik W'!$B$7:$L$1002,11,0)=0,\"--\",VLOOKUP(B122,'Zebrik W'!$B$7:$L$1002,11,0)))","v":""}]
[117,"Rostislav Stryk",1972,"Frýdlant","CZ/M","M",3,15455,"","",null,null,{"$f":"IF(ISERROR(VLOOKUP(B123,'Zebrik W'!$B$7:$L$1002,11,0)),\"\",IF(VLOOKUP(B123,'Zebrik W'!$B$7:$L$1002,11,0)=0,\"--\",VLOOKUP(B123,'Zebrik W'!$B$7:$L$1002,11,0)))","v":""}]
[118,"Jindrich Hruska",1986,"Soběslav","CZ/C1","M",3,15440,"","",null,null,{"$f":"IF(ISERROR(VLOOKUP(B124,'Zebrik W'!$B$7:$L$1002,11,0)),\"\",IF(VLOOKUP(B124,'Zebrik W'!$B$7:$L$1002,11,0)=0,\"--\",VLOOKUP(B124,'Zebrik W'!$B$7:$L$1002,11,0)))","v":""}]
[119,"Vladimir Prihoda",1953,"Kralupy","CZ/C1","M",3,15249,"","",null,null,{"$f":"IF(ISERROR(VLOOKUP(B125,'Zebrik W'!$B$7:$L$1002,11,0)),\"\",IF(VLOOKUP(B125,'Zebrik W'!$B$7:$L$1002,11,0)=0,\"--\",VLOOKUP(B125,'Zebrik W'!$B$7:$L$1002,11,0)))","v":""}]
[120,"Pavel Derda",1952,"Dvůr Králové","CZ/C2","M",3,15210,"","",null,null,{"$f":"IF(ISERROR(VLOOKUP(B126,'Zebrik W'!$B$7:$L$1002,11,0)),\"\",IF(VLOOKUP(B126,'Zebrik W'!$B$7:$L$1002,11,0)=0,\"--\",VLOOKUP(B126,'Zebrik W'!$B$7:$L$1002,11,0)))","v":""}]
[121,"Milan Dvorak",1965,"Liberec","CZ/C2","M",3,15053,"","",null,null,{"$f":"IF(ISERROR(VLOOKUP(B127,'Zebrik W'!$B$7:$L$1002,11,0)),\"\",IF(VLOOKUP(B127,'Zebrik W'!$B$7:$L$1002,11,0)=0,\"--\",VLOOKUP(B127,'Zebrik W'!$B$7:$L$1002,11,0)))","v":""}]
[122,"Libor Bednarik",1972,"Kunovice","CZ/M","M",3,15037,"","",null,null,{"$f":"IF(ISERROR(VLOOKUP(B128,'Zebrik W'!$B$7:$L$1002,11,0)),\"\",IF(VLOOKUP(B128,'Zebrik W'!$B$7:$L$1002,11,0)=0,\"--\",VLOOKUP(B128,'Zebrik W'!$B$7:$L$1002,11,0)))","v":""}]
[123,"Marek Pechar",1995,"Chrudim","CZ/C2","M",3,15022,"Junior v roce 2019","Junior v roce 2020",null,null,{"$f":"IF(ISERROR(VLOOKUP(B129,'Zebrik W'!$B$7:$L$1002,11,0)),\"\",IF(VLOOKUP(B129,'Zebrik W'!$B$7:$L$1002,11,0)=0,\"--\",VLOOKUP(B129,'Zebrik W'!$B$7:$L$1002,11,0)))","v":""}]
[124,"Petr Hofman",1984,"Letňany","CZ/C1","M",2,15000,"","",null,null,{"$f":"IF(ISERROR(VLOOKUP(B130,'Zebrik W'!$B$7:$L$1002,11,0)),\"\",IF(VLOOKUP(B130,'Zebrik W'!$B$7:$L$1002,11,0)=0,\"--\",VLOOKUP(B130,'Zebrik W'!$B$7:$L$1002,11,0)))","v":""}]
[125,"Jaroslav Sima",1972,"Chomutov","CZ/C2","M",3,14994,"","",null,null,{"$f":"IF(ISERROR(VLOOKUP(B131,'Zebrik W'!$B$7:$L$1002,11,0)),\"\",IF(VLOOKUP(B131,'Zebrik W'!$B$7:$L$1002,11,0)=0,\"--\",VLOOKUP(B131,'Zebrik W'!$B$7:$L$1002,11,0)))","v":""}]
[126,"Jakub Kohn",1992,"Prostějov","CZ/M","M",3,14975,"","",null,null,{"$f":"IF(ISERROR(VLOOKUP(B132,'Zebrik W'!$B$7:$L$1002,11,0)),\"\",IF(VLOOKUP(B132,'Zebrik W'!$B$7:$L$1002,11,0)=0,\"--\",VLOOKUP(B132,'Zebrik W'!$B$7:$L$1002,11,0)))","v":""}]
[126,"Miroslav Koci",1961,"Žamberk","CZ/C2","M",3,14975,"","",null,null,{"$f":"IF(ISERROR(VLOOKUP(B133,'Zebrik W'!$B$7:$L$1002,11,0)),\"\",IF(VLOOKUP(B133,'Zebrik W'!$B$7:$L$1002,11,0)=0,\"--\",VLOOKUP(B133,'Zebrik W'!$B$7:$L$1002,11,0)))","v":""}]
[128,"Vaclav Svoboda",1970,"Letkov","CZ/C1","M",3,14963,"","",null,null,{"$f":"IF(ISERROR(VLOOKUP(B134,'Zebrik W'!$B$7:$L$1002,11,0)),\"\",IF(VLOOKUP(B134,'Zebrik W'!$B$7:$L$1002,11,0)=0,\"--\",VLOOKUP(B134,'Zebrik W'!$B$7:$L$1002,11,0)))","v":""}]
[129,"Ondrej Dvorak 98",1998,"Mladá Boleslav","CZ/C1","M",3,14937,"Junior v roce 2019","Junior v roce 2020",null,null,{"$f":"IF(ISERROR(VLOOKUP(B135,'Zebrik W'!$B$7:$L$1002,11,0)),\"\",IF(VLOOKUP(B135,'Zebrik W'!$B$7:$L$1002,11,0)=0,\"--\",VLOOKUP(B135,'Zebrik W'!$B$7:$L$1002,11,0)))","v":""}]
[{"$f":"RANK(H136,H:H)","v":130},"Lukas Hynek",1979,"Dvůr Králové","CZ/C2","M",3,14823,{"$f":"IF(C136=\"(prázdné)\",\"\",IF(($I$4-C136)>25,\"\",\"Junior v roce \"&$I$4))","v":""},{"$f":"IF(C136=\"(prázdné)\",\"\",IF(($J$4-C136)>25,\"\",\"Junior v roce \"&$J$4))","v":""},null,null,{"$f":"IF(ISERROR(VLOOKUP(B136,'Zebrik W'!$B$7:$L$1002,11,0)),\"\",IF(VLOOKUP(B136,'Zebrik W'!$B$7:$L$1002,11,0)=0,\"--\",VLOOKUP(B136,'Zebrik W'!$B$7:$L$1002,11,0)))","v":""}]
[131,"Jiri Klicnar",1965,"Medlánky","CZ/M","M",3,14598,"","",null,null,{"$f":"IF(ISERROR(VLOOKUP(B137,'Zebrik W'!$B$7:$L$1002,11,0)),\"\",IF(VLOOKUP(B137,'Zebrik W'!$B$7:$L$1002,11,0)=0,\"--\",VLOOKUP(B137,'Zebrik W'!$B$7:$L$1002,11,0)))","v":""}]
[132,"Milan Meisner",1961,"Dvůr Králové","CZ/C2","M",3,14452,"","",null,null,{"$f":"IF(ISERROR(VLOOKUP(B138,'Zebrik W'!$B$7:$L$1002,11,0)),\"\",IF(VLOOKUP(B138,'Zebrik W'!$B$7:$L$1002,11,0)=0,\"--\",VLOOKUP(B138,'Zebrik W'!$B$7:$L$1002,11,0)))","v":""}]
[133,"Milos Matejka",1956,"Beroun","CZ/C1","M",3,14295,"","",null,null,{"$f":"IF(ISERROR(VLOOKUP(B139,'Zebrik W'!$B$7:$L$1002,11,0)),\"\",IF(VLOOKUP(B139,'Zebrik W'!$B$7:$L$1002,11,0)=0,\"--\",VLOOKUP(B139,'Zebrik W'!$B$7:$L$1002,11,0)))","v":""}]
[134,"Petr Vodicka",1965,"Jaroměř","CZ/C2","M",2,14268,"","",null,null,{"$f":"IF(ISERROR(VLOOKUP(B140,'Zebrik W'!$B$7:$L$1002,11,0)),\"\",IF(VLOOKUP(B140,'Zebrik W'!$B$7:$L$1002,11,0)=0,\"--\",VLOOKUP(B140,'Zebrik W'!$B$7:$L$1002,11,0)))","v":""}]
[135,"Jan Kostka",1996,"Kladno","CZ/C1","M",3,14249,"Junior v roce 2019","Junior v roce 2020",null,null,{"$f":"IF(ISERROR(VLOOKUP(B141,'Zebrik W'!$B$7:$L$1002,11,0)),\"\",IF(VLOOKUP(B141,'Zebrik W'!$B$7:$L$1002,11,0)=0,\"--\",VLOOKUP(B141,'Zebrik W'!$B$7:$L$1002,11,0)))","v":""}]
[136,"Petr Jiranek 63",1962,"Toužim","CZ/C1","M",3,13995,"","",null,null,{"$f":"IF(ISERROR(VLOOKUP(B142,'Zebrik W'!$B$7:$L$1002,11,0)),\"\",IF(VLOOKUP(B142,'Zebrik W'!$B$7:$L$1002,11,0)=0,\"--\",VLOOKUP(B142,'Zebrik W'!$B$7:$L$1002,11,0)))","v":""}]
[137,"Vit Prokop",1987,"Medlánky","CZ/M","M",3,13948,"","",null,null,{"$f":"IF(ISERROR(VLOOKUP(B143,'Zebrik W'!$B$7:$L$1002,11,0)),\"\",IF(VLOOKUP(B143,'Zebrik W'!$B$7:$L$1002,11,0)=0,\"--\",VLOOKUP(B143,'Zebrik W'!$B$7:$L$1002,11,0)))","v":""}]
[138,"Vladimir Jirka",1965,"Zábřeh","CZ/M","M",3,13836,"","",null,null,{"$f":"IF(ISERROR(VLOOKUP(B144,'Zebrik W'!$B$7:$L$1002,11,0)),\"\",IF(VLOOKUP(B144,'Zebrik W'!$B$7:$L$1002,11,0)=0,\"--\",VLOOKUP(B144,'Zebrik W'!$B$7:$L$1002,11,0)))","v":""}]
[139,"Jiri Maier 66",1966,"Raná","CZ/C2","M",3,13805,"","",null,null,{"$f":"IF(ISERROR(VLOOKUP(B145,'Zebrik W'!$B$7:$L$1002,11,0)),\"\",IF(VLOOKUP(B145,'Zebrik W'!$B$7:$L$1002,11,0)=0,\"--\",VLOOKUP(B145,'Zebrik W'!$B$7:$L$1002,11,0)))","v":""}]
[140,"Petr Valenta",1994,"Kunovice","CZ/M","M",2,13781,"Junior v roce 2019","",null,null,{"$f":"IF(ISERROR(VLOOKUP(B146,'Zebrik W'!$B$7:$L$1002,11,0)),\"\",IF(VLOOKUP(B146,'Zebrik W'!$B$7:$L$1002,11,0)=0,\"--\",VLOOKUP(B146,'Zebrik W'!$B$7:$L$1002,11,0)))","v":""}]
[141,"Martin Koci",1975,"Ústí nad Orlicí","CZ/C2","M",3,13727,"","",null,null,{"$f":"IF(ISERROR(VLOOKUP(B147,'Zebrik W'!$B$7:$L$1002,11,0)),\"\",IF(VLOOKUP(B147,'Zebrik W'!$B$7:$L$1002,11,0)=0,\"--\",VLOOKUP(B147,'Zebrik W'!$B$7:$L$1002,11,0)))","v":""}]
[142,"Jiri Koudela",1974,"Vyškov","CZ/M","M",3,13668,"","",null,null,{"$f":"IF(ISERROR(VLOOKUP(B148,'Zebrik W'!$B$7:$L$1002,11,0)),\"\",IF(VLOOKUP(B148,'Zebrik W'!$B$7:$L$1002,11,0)=0,\"--\",VLOOKUP(B148,'Zebrik W'!$B$7:$L$1002,11,0)))","v":""}]
[143,"Martin Stepanek",1987,"Moravská Třebová","CZ/M","M",2,13659,"","",null,null,{"$f":"IF(ISERROR(VLOOKUP(B149,'Zebrik W'!$B$7:$L$1002,11,0)),\"\",IF(VLOOKUP(B149,'Zebrik W'!$B$7:$L$1002,11,0)=0,\"--\",VLOOKUP(B149,'Zebrik W'!$B$7:$L$1002,11,0)))","v":""}]
[144,"Ivan Kuzelka",1945,"Havlíčkův Brod","CZ/C2","M",3,13643,"","",null,null,{"$f":"IF(ISERROR(VLOOKUP(B150,'Zebrik W'!$B$7:$L$1002,11,0)),\"\",IF(VLOOKUP(B150,'Zebrik W'!$B$7:$L$1002,11,0)=0,\"--\",VLOOKUP(B150,'Zebrik W'!$B$7:$L$1002,11,0)))","v":""}]
[145,"Pavel Svoboda",1938,"Letňany","CZ/C1","M",3,13635,"","",null,null,{"$f":"IF(ISERROR(VLOOKUP(B151,'Zebrik W'!$B$7:$L$1002,11,0)),\"\",IF(VLOOKUP(B151,'Zebrik W'!$B$7:$L$1002,11,0)=0,\"--\",VLOOKUP(B151,'Zebrik W'!$B$7:$L$1002,11,0)))","v":""}]
[146,"David Tejnora",1982,"Kolín","CZ/C1","M",3,13548,"","",null,null,{"$f":"IF(ISERROR(VLOOKUP(B152,'Zebrik W'!$B$7:$L$1002,11,0)),\"\",IF(VLOOKUP(B152,'Zebrik W'!$B$7:$L$1002,11,0)=0,\"--\",VLOOKUP(B152,'Zebrik W'!$B$7:$L$1002,11,0)))","v":""}]
[147,"Ondrej Dvorak 87",1987,"Raná","CZ/C2","M",2,13394,"","",null,null,{"$f":"IF(ISERROR(VLOOKUP(B153,'Zebrik W'!$B$7:$L$1002,11,0)),\"\",IF(VLOOKUP(B153,'Zebrik W'!$B$7:$L$1002,11,0)=0,\"--\",VLOOKUP(B153,'Zebrik W'!$B$7:$L$1002,11,0)))","v":""}]
[148,"Martin Kriz",1968,"Přibyslav","CZ/C2","M",3,13346,"","",null,null,{"$f":"IF(ISERROR(VLOOKUP(B154,'Zebrik W'!$B$7:$L$1002,11,0)),\"\",IF(VLOOKUP(B154,'Zebrik W'!$B$7:$L$1002,11,0)=0,\"--\",VLOOKUP(B154,'Zebrik W'!$B$7:$L$1002,11,0)))","v":""}]
[149,"Michal Drab",1969,"Letkov","CZ/C1","M",2,13345,"","",null,null,{"$f":"IF(ISERROR(VLOOKUP(B155,'Zebrik W'!$B$7:$L$1002,11,0)),\"\",IF(VLOOKUP(B155,'Zebrik W'!$B$7:$L$1002,11,0)=0,\"--\",VLOOKUP(B155,'Zebrik W'!$B$7:$L$1002,11,0)))","v":""}]
[150,"Pavel Trojan",1960,"Chrudim","CZ/C2","M",3,13341,"","",null,null,{"$f":"IF(ISERROR(VLOOKUP(B156,'Zebrik W'!$B$7:$L$1002,11,0)),\"\",IF(VLOOKUP(B156,'Zebrik W'!$B$7:$L$1002,11,0)=0,\"--\",VLOOKUP(B156,'Zebrik W'!$B$7:$L$1002,11,0)))","v":""}]
[151,"Carsten Tietz",1966,"Hronov","CZ/C2","M",3,13318,"","",null,null,{"$f":"IF(ISERROR(VLOOKUP(B157,'Zebrik W'!$B$7:$L$1002,11,0)),\"\",IF(VLOOKUP(B157,'Zebrik W'!$B$7:$L$1002,11,0)=0,\"--\",VLOOKUP(B157,'Zebrik W'!$B$7:$L$1002,11,0)))","v":""}]
[152,"Pavel Jiranek",1993,"Toužim","CZ/C1","M",2,13302,"","",null,null,{"$f":"IF(ISERROR(VLOOKUP(B158,'Zebrik W'!$B$7:$L$1002,11,0)),\"\",IF(VLOOKUP(B158,'Zebrik W'!$B$7:$L$1002,11,0)=0,\"--\",VLOOKUP(B158,'Zebrik W'!$B$7:$L$1002,11,0)))","v":""}]
[153,"David Zapletal",1970,"Mladá Boleslav","CZ/C1","M",3,13295,"","",null,null,{"$f":"IF(ISERROR(VLOOKUP(B159,'Zebrik W'!$B$7:$L$1002,11,0)),\"\",IF(VLOOKUP(B159,'Zebrik W'!$B$7:$L$1002,11,0)=0,\"--\",VLOOKUP(B159,'Zebrik W'!$B$7:$L$1002,11,0)))","v":""}]
[154,"Jiri Prochazka",1971,"Toužim","CZ/C1","M",3,13278,"","",null,null,{"$f":"IF(ISERROR(VLOOKUP(B160,'Zebrik W'!$B$7:$L$1002,11,0)),\"\",IF(VLOOKUP(B160,'Zebrik W'!$B$7:$L$1002,11,0)=0,\"--\",VLOOKUP(B160,'Zebrik W'!$B$7:$L$1002,11,0)))","v":""}]
[155,"Josef Rydl",1940,"Turnov","CZ/C2","M",3,13188,"","",null,null,{"$f":"IF(ISERROR(VLOOKUP(B161,'Zebrik W'!$B$7:$L$1002,11,0)),\"\",IF(VLOOKUP(B161,'Zebrik W'!$B$7:$L$1002,11,0)=0,\"--\",VLOOKUP(B161,'Zebrik W'!$B$7:$L$1002,11,0)))","v":""}]
[156,"Slavomir Piskaty 58",1958,"Kunovice","CZ/M","M",3,13149,"","",null,null,{"$f":"IF(ISERROR(VLOOKUP(B162,'Zebrik W'!$B$7:$L$1002,11,0)),\"\",IF(VLOOKUP(B162,'Zebrik W'!$B$7:$L$1002,11,0)=0,\"--\",VLOOKUP(B162,'Zebrik W'!$B$7:$L$1002,11,0)))","v":""}]
[157,"Roman Lanzendorf",1964,"Letkov","CZ/C1","M",3,13146,"","",null,null,{"$f":"IF(ISERROR(VLOOKUP(B163,'Zebrik W'!$B$7:$L$1002,11,0)),\"\",IF(VLOOKUP(B163,'Zebrik W'!$B$7:$L$1002,11,0)=0,\"--\",VLOOKUP(B163,'Zebrik W'!$B$7:$L$1002,11,0)))","v":""}]
[158,"Katerina Vojtova",1983,"Slaný","CZ/C1","F",3,13083,"","",null,null,{"$f":"IF(ISERROR(VLOOKUP(B164,'Zebrik W'!$B$7:$L$1002,11,0)),\"\",IF(VLOOKUP(B164,'Zebrik W'!$B$7:$L$1002,11,0)=0,\"--\",VLOOKUP(B164,'Zebrik W'!$B$7:$L$1002,11,0)))","v":"--"}]
[159,"Pavel Liska",1965,"Roudnice","CZ/C2","M",3,13071,"","",null,null,{"$f":"IF(ISERROR(VLOOKUP(B165,'Zebrik W'!$B$7:$L$1002,11,0)),\"\",IF(VLOOKUP(B165,'Zebrik W'!$B$7:$L$1002,11,0)=0,\"--\",VLOOKUP(B165,'Zebrik W'!$B$7:$L$1002,11,0)))","v":""}]
[160,"Jiri Hula",1973,"Slaný","CZ/C1","M",3,13011,"","",null,null,{"$f":"IF(ISERROR(VLOOKUP(B166,'Zebrik W'!$B$7:$L$1002,11,0)),\"\",IF(VLOOKUP(B166,'Zebrik W'!$B$7:$L$1002,11,0)=0,\"--\",VLOOKUP(B166,'Zebrik W'!$B$7:$L$1002,11,0)))","v":""}]
[161,"Martin Cicvarek",1966,"Liberec","CZ/C2","M",3,12966,"","",null,null,{"$f":"IF(ISERROR(VLOOKUP(B167,'Zebrik W'!$B$7:$L$1002,11,0)),\"\",IF(VLOOKUP(B167,'Zebrik W'!$B$7:$L$1002,11,0)=0,\"--\",VLOOKUP(B167,'Zebrik W'!$B$7:$L$1002,11,0)))","v":""}]
[162,"Josef Kolman",1983,"Letňany","CZ/C1","M",2,12912,"","",null,null,{"$f":"IF(ISERROR(VLOOKUP(B168,'Zebrik W'!$B$7:$L$1002,11,0)),\"\",IF(VLOOKUP(B168,'Zebrik W'!$B$7:$L$1002,11,0)=0,\"--\",VLOOKUP(B168,'Zebrik W'!$B$7:$L$1002,11,0)))","v":""}]
[163,"Tomas Talanda",1988,"Křižanov","CZ/M","M",2,12820,"","",null,null,{"$f":"IF(ISERROR(VLOOKUP(B169,'Zebrik W'!$B$7:$L$1002,11,0)),\"\",IF(VLOOKUP(B169,'Zebrik W'!$B$7:$L$1002,11,0)=0,\"--\",VLOOKUP(B169,'Zebrik W'!$B$7:$L$1002,11,0)))","v":""}]
[164,"Tomas Hlavacek",1984,"Kolín","CZ/C1","M",3,12682,"","",null,null,{"$f":"IF(ISERROR(VLOOKUP(B170,'Zebrik W'!$B$7:$L$1002,11,0)),\"\",IF(VLOOKUP(B170,'Zebrik W'!$B$7:$L$1002,11,0)=0,\"--\",VLOOKUP(B170,'Zebrik W'!$B$7:$L$1002,11,0)))","v":""}]
[165,"Milan Svoboda 34",1934,"Letkov","CZ/C1","M",3,12667,"","",null,null,{"$f":"IF(ISERROR(VLOOKUP(B171,'Zebrik W'!$B$7:$L$1002,11,0)),\"\",IF(VLOOKUP(B171,'Zebrik W'!$B$7:$L$1002,11,0)=0,\"--\",VLOOKUP(B171,'Zebrik W'!$B$7:$L$1002,11,0)))","v":""}]
[166,"Oldrich Houzvicka",1975,"Frýdlant","CZ/M","M",3,12640,"","",null,null,{"$f":"IF(ISERROR(VLOOKUP(B172,'Zebrik W'!$B$7:$L$1002,11,0)),\"\",IF(VLOOKUP(B172,'Zebrik W'!$B$7:$L$1002,11,0)=0,\"--\",VLOOKUP(B172,'Zebrik W'!$B$7:$L$1002,11,0)))","v":""}]
[167,"Martin Svarc",1981,"Olomouc","CZ/M","M",3,12638,"","",null,null,{"$f":"IF(ISERROR(VLOOKUP(B173,'Zebrik W'!$B$7:$L$1002,11,0)),\"\",IF(VLOOKUP(B173,'Zebrik W'!$B$7:$L$1002,11,0)=0,\"--\",VLOOKUP(B173,'Zebrik W'!$B$7:$L$1002,11,0)))","v":""}]
[168,"Jaromir Vlk",1959,"Šumperk","CZ/M","M",3,12548,"","",null,null,{"$f":"IF(ISERROR(VLOOKUP(B174,'Zebrik W'!$B$7:$L$1002,11,0)),\"\",IF(VLOOKUP(B174,'Zebrik W'!$B$7:$L$1002,11,0)=0,\"--\",VLOOKUP(B174,'Zebrik W'!$B$7:$L$1002,11,0)))","v":""}]
[169,"Petr Jiranek 91",1991,"Toužim","CZ/C1","M",2,12472,"","",null,null,{"$f":"IF(ISERROR(VLOOKUP(B175,'Zebrik W'!$B$7:$L$1002,11,0)),\"\",IF(VLOOKUP(B175,'Zebrik W'!$B$7:$L$1002,11,0)=0,\"--\",VLOOKUP(B175,'Zebrik W'!$B$7:$L$1002,11,0)))","v":""}]
[170,"Michal Navratil",1985,"Křižanov","CZ/M","M",2,12449,"","",null,null,{"$f":"IF(ISERROR(VLOOKUP(B176,'Zebrik W'!$B$7:$L$1002,11,0)),\"\",IF(VLOOKUP(B176,'Zebrik W'!$B$7:$L$1002,11,0)=0,\"--\",VLOOKUP(B176,'Zebrik W'!$B$7:$L$1002,11,0)))","v":""}]
[171,"Jaromir Hendrych",1954,"Raná","CZ/C2","M",3,12440,"","",null,null,{"$f":"IF(ISERROR(VLOOKUP(B177,'Zebrik W'!$B$7:$L$1002,11,0)),\"\",IF(VLOOKUP(B177,'Zebrik W'!$B$7:$L$1002,11,0)=0,\"--\",VLOOKUP(B177,'Zebrik W'!$B$7:$L$1002,11,0)))","v":""}]
[172,"Vit Morkovsky",2000,"Polička","CZ/C2","M",2,12431,"Junior v roce 2019","Junior v roce 2020",null,null,{"$f":"IF(ISERROR(VLOOKUP(B178,'Zebrik W'!$B$7:$L$1002,11,0)),\"\",IF(VLOOKUP(B178,'Zebrik W'!$B$7:$L$1002,11,0)=0,\"--\",VLOOKUP(B178,'Zebrik W'!$B$7:$L$1002,11,0)))","v":""}]
[173,"Barbora Kubickova",1993,"Medlánky","CZ/M","F",3,12394,"","",null,null,{"$f":"IF(ISERROR(VLOOKUP(B179,'Zebrik W'!$B$7:$L$1002,11,0)),\"\",IF(VLOOKUP(B179,'Zebrik W'!$B$7:$L$1002,11,0)=0,\"--\",VLOOKUP(B179,'Zebrik W'!$B$7:$L$1002,11,0)))","v":"--"}]
[174,"Jaromir Pauer",1974,"Hosín","CZ/C1","M",2,12357,"","",null,null,{"$f":"IF(ISERROR(VLOOKUP(B180,'Zebrik W'!$B$7:$L$1002,11,0)),\"\",IF(VLOOKUP(B180,'Zebrik W'!$B$7:$L$1002,11,0)=0,\"--\",VLOOKUP(B180,'Zebrik W'!$B$7:$L$1002,11,0)))","v":""}]
[175,"Jan Hybner",1977,"Liberec","CZ/C2","M",3,12345,"","",null,null,{"$f":"IF(ISERROR(VLOOKUP(B181,'Zebrik W'!$B$7:$L$1002,11,0)),\"\",IF(VLOOKUP(B181,'Zebrik W'!$B$7:$L$1002,11,0)=0,\"--\",VLOOKUP(B181,'Zebrik W'!$B$7:$L$1002,11,0)))","v":""}]
[176,"Daniel Novak",1971,"Letkov","CZ/C1","M",2,12096,"","",null,null,{"$f":"IF(ISERROR(VLOOKUP(B182,'Zebrik W'!$B$7:$L$1002,11,0)),\"\",IF(VLOOKUP(B182,'Zebrik W'!$B$7:$L$1002,11,0)=0,\"--\",VLOOKUP(B182,'Zebrik W'!$B$7:$L$1002,11,0)))","v":""}]
[177,"Lubor Zeleny",1957,"Přibyslav","CZ/C2","M",2,12066,"","",null,null,{"$f":"IF(ISERROR(VLOOKUP(B183,'Zebrik W'!$B$7:$L$1002,11,0)),\"\",IF(VLOOKUP(B183,'Zebrik W'!$B$7:$L$1002,11,0)=0,\"--\",VLOOKUP(B183,'Zebrik W'!$B$7:$L$1002,11,0)))","v":""}]
[178,"Petr Bartak",1984,"Letkov","CZ/C1","M",2,11988,"","",null,null,{"$f":"IF(ISERROR(VLOOKUP(B184,'Zebrik W'!$B$7:$L$1002,11,0)),\"\",IF(VLOOKUP(B184,'Zebrik W'!$B$7:$L$1002,11,0)=0,\"--\",VLOOKUP(B184,'Zebrik W'!$B$7:$L$1002,11,0)))","v":""}]
[179,"Ondrej Teichman",1984,"Dvůr Králové","CZ/C2","M",3,11976,"","",null,null,{"$f":"IF(ISERROR(VLOOKUP(B185,'Zebrik W'!$B$7:$L$1002,11,0)),\"\",IF(VLOOKUP(B185,'Zebrik W'!$B$7:$L$1002,11,0)=0,\"--\",VLOOKUP(B185,'Zebrik W'!$B$7:$L$1002,11,0)))","v":""}]
[180,"Petr Frycek",1960,"Most","CZ/C2","M",3,11945,"","",null,null,{"$f":"IF(ISERROR(VLOOKUP(B186,'Zebrik W'!$B$7:$L$1002,11,0)),\"\",IF(VLOOKUP(B186,'Zebrik W'!$B$7:$L$1002,11,0)=0,\"--\",VLOOKUP(B186,'Zebrik W'!$B$7:$L$1002,11,0)))","v":""}]
[181,"Vojtech Hajek",1987,"Mladá Boleslav","CZ/C1","M",2,11796,"","",null,null,{"$f":"IF(ISERROR(VLOOKUP(B187,'Zebrik W'!$B$7:$L$1002,11,0)),\"\",IF(VLOOKUP(B187,'Zebrik W'!$B$7:$L$1002,11,0)=0,\"--\",VLOOKUP(B187,'Zebrik W'!$B$7:$L$1002,11,0)))","v":""}]
[182,"Jan Rott",1962,"Plasy","CZ/C1","M",3,11698,"","",null,null,{"$f":"IF(ISERROR(VLOOKUP(B188,'Zebrik W'!$B$7:$L$1002,11,0)),\"\",IF(VLOOKUP(B188,'Zebrik W'!$B$7:$L$1002,11,0)=0,\"--\",VLOOKUP(B188,'Zebrik W'!$B$7:$L$1002,11,0)))","v":""}]
[183,"Radek Hybl",1980,"Šumperk","CZ/M","M",2,11697,"","",null,null,{"$f":"IF(ISERROR(VLOOKUP(B189,'Zebrik W'!$B$7:$L$1002,11,0)),\"\",IF(VLOOKUP(B189,'Zebrik W'!$B$7:$L$1002,11,0)=0,\"--\",VLOOKUP(B189,'Zebrik W'!$B$7:$L$1002,11,0)))","v":""}]
[184,"Lukas Kotek",1994,"Frýdlant","CZ/M","M",3,11665,"Junior v roce 2019","",null,null,{"$f":"IF(ISERROR(VLOOKUP(B190,'Zebrik W'!$B$7:$L$1002,11,0)),\"\",IF(VLOOKUP(B190,'Zebrik W'!$B$7:$L$1002,11,0)=0,\"--\",VLOOKUP(B190,'Zebrik W'!$B$7:$L$1002,11,0)))","v":""}]
[185,"Josef Busek",1967,"Hosín","CZ/C1","M",2,11656,"","",null,null,{"$f":"IF(ISERROR(VLOOKUP(B191,'Zebrik W'!$B$7:$L$1002,11,0)),\"\",IF(VLOOKUP(B191,'Zebrik W'!$B$7:$L$1002,11,0)=0,\"--\",VLOOKUP(B191,'Zebrik W'!$B$7:$L$1002,11,0)))","v":""}]
[186,"Petr Fisar",1974,"Ústí nad Orlicí","CZ/C2","M",3,11527,"","",null,null,{"$f":"IF(ISERROR(VLOOKUP(B192,'Zebrik W'!$B$7:$L$1002,11,0)),\"\",IF(VLOOKUP(B192,'Zebrik W'!$B$7:$L$1002,11,0)=0,\"--\",VLOOKUP(B192,'Zebrik W'!$B$7:$L$1002,11,0)))","v":""}]
[187,"Tomas Mezera",1973,"Raná","CZ/C2","M",3,11501,"","",null,null,{"$f":"IF(ISERROR(VLOOKUP(B193,'Zebrik W'!$B$7:$L$1002,11,0)),\"\",IF(VLOOKUP(B193,'Zebrik W'!$B$7:$L$1002,11,0)=0,\"--\",VLOOKUP(B193,'Zebrik W'!$B$7:$L$1002,11,0)))","v":""}]
[188,"Pavel Brodsky",1992,"Hořice","CZ/C2","M",2,11460,"","",null,null,{"$f":"IF(ISERROR(VLOOKUP(B194,'Zebrik W'!$B$7:$L$1002,11,0)),\"\",IF(VLOOKUP(B194,'Zebrik W'!$B$7:$L$1002,11,0)=0,\"--\",VLOOKUP(B194,'Zebrik W'!$B$7:$L$1002,11,0)))","v":""}]
[189,"Petr Hybner",1951,"Liberec","CZ/C2","M",3,11445,"","",null,null,{"$f":"IF(ISERROR(VLOOKUP(B195,'Zebrik W'!$B$7:$L$1002,11,0)),\"\",IF(VLOOKUP(B195,'Zebrik W'!$B$7:$L$1002,11,0)=0,\"--\",VLOOKUP(B195,'Zebrik W'!$B$7:$L$1002,11,0)))","v":""}]
[190,"Michal Kratochvil",1984,"Slaný","CZ/C1","M",2,11375,"","",null,null,{"$f":"IF(ISERROR(VLOOKUP(B196,'Zebrik W'!$B$7:$L$1002,11,0)),\"\",IF(VLOOKUP(B196,'Zebrik W'!$B$7:$L$1002,11,0)=0,\"--\",VLOOKUP(B196,'Zebrik W'!$B$7:$L$1002,11,0)))","v":""}]
[191,"Josef Andrasovsky",1954,"Jaroměř","CZ/C2","M",3,11249,"","",null,null,{"$f":"IF(ISERROR(VLOOKUP(B197,'Zebrik W'!$B$7:$L$1002,11,0)),\"\",IF(VLOOKUP(B197,'Zebrik W'!$B$7:$L$1002,11,0)=0,\"--\",VLOOKUP(B197,'Zebrik W'!$B$7:$L$1002,11,0)))","v":""}]
[192,"Jan Zezula",1979,"Letňany","CZ/C1","M",3,11167,"","",null,null,{"$f":"IF(ISERROR(VLOOKUP(B198,'Zebrik W'!$B$7:$L$1002,11,0)),\"\",IF(VLOOKUP(B198,'Zebrik W'!$B$7:$L$1002,11,0)=0,\"--\",VLOOKUP(B198,'Zebrik W'!$B$7:$L$1002,11,0)))","v":""}]
[193,"Jiri Pesta",1973,"Dvůr Králové","CZ/C2","M",2,11141,"","",null,null,{"$f":"IF(ISERROR(VLOOKUP(B199,'Zebrik W'!$B$7:$L$1002,11,0)),\"\",IF(VLOOKUP(B199,'Zebrik W'!$B$7:$L$1002,11,0)=0,\"--\",VLOOKUP(B199,'Zebrik W'!$B$7:$L$1002,11,0)))","v":""}]
[{"$f":"RANK(H200,H:H)","v":194},"Martin Valenta",1969,"Toužim","CZ/C1","M",2,11139,{"$f":"IF(C200=\"(prázdné)\",\"\",IF(($I$4-C200)>25,\"\",\"Junior v roce \"&$I$4))","v":""},{"$f":"IF(C200=\"(prázdné)\",\"\",IF(($J$4-C200)>25,\"\",\"Junior v roce \"&$J$4))","v":""},null,null,{"$f":"IF(ISERROR(VLOOKUP(B200,'Zebrik W'!$B$7:$L$1002,11,0)),\"\",IF(VLOOKUP(B200,'Zebrik W'!$B$7:$L$1002,11,0)=0,\"--\",VLOOKUP(B200,'Zebrik W'!$B$7:$L$1002,11,0)))","v":""}]
[195,"Marek Blatak",1969,"Šumperk","CZ/M","M",2,11092,"","",null,null,{"$f":"IF(ISERROR(VLOOKUP(B201,'Zebrik W'!$B$7:$L$1002,11,0)),\"\",IF(VLOOKUP(B201,'Zebrik W'!$B$7:$L$1002,11,0)=0,\"--\",VLOOKUP(B201,'Zebrik W'!$B$7:$L$1002,11,0)))","v":""}]
[196,"Karel Kotlan",1957,"Medlánky","CZ/M","M",3,10979,"","",null,null,{"$f":"IF(ISERROR(VLOOKUP(B202,'Zebrik W'!$B$7:$L$1002,11,0)),\"\",IF(VLOOKUP(B202,'Zebrik W'!$B$7:$L$1002,11,0)=0,\"--\",VLOOKUP(B202,'Zebrik W'!$B$7:$L$1002,11,0)))","v":""}]
[197,"Martin Ficnar",1971,"Šumperk","CZ/M","M",2,10977,"","",null,null,{"$f":"IF(ISERROR(VLOOKUP(B203,'Zebrik W'!$B$7:$L$1002,11,0)),\"\",IF(VLOOKUP(B203,'Zebrik W'!$B$7:$L$1002,11,0)=0,\"--\",VLOOKUP(B203,'Zebrik W'!$B$7:$L$1002,11,0)))","v":""}]
[198,"Michal Cechmanek",1978,"Luhačovice","CZ/M","M",3,10966,"","",null,null,{"$f":"IF(ISERROR(VLOOKUP(B204,'Zebrik W'!$B$7:$L$1002,11,0)),\"\",IF(VLOOKUP(B204,'Zebrik W'!$B$7:$L$1002,11,0)=0,\"--\",VLOOKUP(B204,'Zebrik W'!$B$7:$L$1002,11,0)))","v":""}]
[199,"Miroslav Cervenka",1980,"Křižanov","CZ/M","M",2,10836,"","",null,null,{"$f":"IF(ISERROR(VLOOKUP(B205,'Zebrik W'!$B$7:$L$1002,11,0)),\"\",IF(VLOOKUP(B205,'Zebrik W'!$B$7:$L$1002,11,0)=0,\"--\",VLOOKUP(B205,'Zebrik W'!$B$7:$L$1002,11,0)))","v":""}]
[200,"Sarka Lochova",1966,"Šumperk","CZ/M","F",3,10830,"","",null,null,{"$f":"IF(ISERROR(VLOOKUP(B206,'Zebrik W'!$B$7:$L$1002,11,0)),\"\",IF(VLOOKUP(B206,'Zebrik W'!$B$7:$L$1002,11,0)=0,\"--\",VLOOKUP(B206,'Zebrik W'!$B$7:$L$1002,11,0)))","v":"--"}]
[201,"Martin Fric",1967,"Raná","CZ/C2","M",2,10817,"","",null,null,{"$f":"IF(ISERROR(VLOOKUP(B207,'Zebrik W'!$B$7:$L$1002,11,0)),\"\",IF(VLOOKUP(B207,'Zebrik W'!$B$7:$L$1002,11,0)=0,\"--\",VLOOKUP(B207,'Zebrik W'!$B$7:$L$1002,11,0)))","v":""}]
[202,"Jan Mareth",1979,"Frýdlant","CZ/M","M",3,10800,"","",null,null,{"$f":"IF(ISERROR(VLOOKUP(B208,'Zebrik W'!$B$7:$L$1002,11,0)),\"\",IF(VLOOKUP(B208,'Zebrik W'!$B$7:$L$1002,11,0)=0,\"--\",VLOOKUP(B208,'Zebrik W'!$B$7:$L$1002,11,0)))","v":""}]
[203,"Roman Konarik",1976,"Luhačovice","CZ/M","M",2,10710,"","",null,null,{"$f":"IF(ISERROR(VLOOKUP(B209,'Zebrik W'!$B$7:$L$1002,11,0)),\"\",IF(VLOOKUP(B209,'Zebrik W'!$B$7:$L$1002,11,0)=0,\"--\",VLOOKUP(B209,'Zebrik W'!$B$7:$L$1002,11,0)))","v":""}]
[204,"Petr Lonsky",1965,"Toužim","CZ/C1","M",3,10697,"","",null,null,{"$f":"IF(ISERROR(VLOOKUP(B210,'Zebrik W'!$B$7:$L$1002,11,0)),\"\",IF(VLOOKUP(B210,'Zebrik W'!$B$7:$L$1002,11,0)=0,\"--\",VLOOKUP(B210,'Zebrik W'!$B$7:$L$1002,11,0)))","v":""}]
[205,"Michael Fik",1972,"Strakonice","CZ/C1","M",3,10651,"","",null,null,{"$f":"IF(ISERROR(VLOOKUP(B211,'Zebrik W'!$B$7:$L$1002,11,0)),\"\",IF(VLOOKUP(B211,'Zebrik W'!$B$7:$L$1002,11,0)=0,\"--\",VLOOKUP(B211,'Zebrik W'!$B$7:$L$1002,11,0)))","v":""}]
[206,"Jiri Slemr",1979,"Vysoké Mýto","CZ/C2","M",2,10551,"","",null,null,{"$f":"IF(ISERROR(VLOOKUP(B212,'Zebrik W'!$B$7:$L$1002,11,0)),\"\",IF(VLOOKUP(B212,'Zebrik W'!$B$7:$L$1002,11,0)=0,\"--\",VLOOKUP(B212,'Zebrik W'!$B$7:$L$1002,11,0)))","v":""}]
[207,"Ladislav Prokes",1954,"Vrchlabí","CZ/C2","M",2,10475,"","",null,null,{"$f":"IF(ISERROR(VLOOKUP(B213,'Zebrik W'!$B$7:$L$1002,11,0)),\"\",IF(VLOOKUP(B213,'Zebrik W'!$B$7:$L$1002,11,0)=0,\"--\",VLOOKUP(B213,'Zebrik W'!$B$7:$L$1002,11,0)))","v":""}]
[208,"Dusan Gadas",1960,"Hranice","CZ/M","M",2,10454,"","",null,null,{"$f":"IF(ISERROR(VLOOKUP(B214,'Zebrik W'!$B$7:$L$1002,11,0)),\"\",IF(VLOOKUP(B214,'Zebrik W'!$B$7:$L$1002,11,0)=0,\"--\",VLOOKUP(B214,'Zebrik W'!$B$7:$L$1002,11,0)))","v":""}]
[209,"Martin Grmela",1989,"Zbraslavice","CZ/C1","M",2,10423,"","",null,null,{"$f":"IF(ISERROR(VLOOKUP(B215,'Zebrik W'!$B$7:$L$1002,11,0)),\"\",IF(VLOOKUP(B215,'Zebrik W'!$B$7:$L$1002,11,0)=0,\"--\",VLOOKUP(B215,'Zebrik W'!$B$7:$L$1002,11,0)))","v":""}]
[210,"Karel Policky",1950,"Kolín","CZ/C1","M",3,10398,"","",null,null,{"$f":"IF(ISERROR(VLOOKUP(B216,'Zebrik W'!$B$7:$L$1002,11,0)),\"\",IF(VLOOKUP(B216,'Zebrik W'!$B$7:$L$1002,11,0)=0,\"--\",VLOOKUP(B216,'Zebrik W'!$B$7:$L$1002,11,0)))","v":""}]
[211,"Josef Novak",1981,"Kunovice","CZ/M","M",2,10290,"","",null,null,{"$f":"IF(ISERROR(VLOOKUP(B217,'Zebrik W'!$B$7:$L$1002,11,0)),\"\",IF(VLOOKUP(B217,'Zebrik W'!$B$7:$L$1002,11,0)=0,\"--\",VLOOKUP(B217,'Zebrik W'!$B$7:$L$1002,11,0)))","v":""}]
[212,"Tomas Moravec",2000,"Žamberk","CZ/C2","M",2,10281,"Junior v roce 2019","Junior v roce 2020",null,null,{"$f":"IF(ISERROR(VLOOKUP(B218,'Zebrik W'!$B$7:$L$1002,11,0)),\"\",IF(VLOOKUP(B218,'Zebrik W'!$B$7:$L$1002,11,0)=0,\"--\",VLOOKUP(B218,'Zebrik W'!$B$7:$L$1002,11,0)))","v":""}]
[213,"Jaromir Jedlicka",1972,"Letňany","CZ/C1","M",2,10265,"","",null,null,{"$f":"IF(ISERROR(VLOOKUP(B219,'Zebrik W'!$B$7:$L$1002,11,0)),\"\",IF(VLOOKUP(B219,'Zebrik W'!$B$7:$L$1002,11,0)=0,\"--\",VLOOKUP(B219,'Zebrik W'!$B$7:$L$1002,11,0)))","v":""}]
[214,"Tereza Koubkova",1999,"Letňany","CZ/C1","F",2,10213,"Junior v roce 2019","Junior v roce 2020",null,null,{"$f":"IF(ISERROR(VLOOKUP(B220,'Zebrik W'!$B$7:$L$1002,11,0)),\"\",IF(VLOOKUP(B220,'Zebrik W'!$B$7:$L$1002,11,0)=0,\"--\",VLOOKUP(B220,'Zebrik W'!$B$7:$L$1002,11,0)))","v":"--"}]
[215,"Radovan Otto",1968,"Ústí nad Labem","CZ/C2","M",2,10105,"","",null,null,{"$f":"IF(ISERROR(VLOOKUP(B221,'Zebrik W'!$B$7:$L$1002,11,0)),\"\",IF(VLOOKUP(B221,'Zebrik W'!$B$7:$L$1002,11,0)=0,\"--\",VLOOKUP(B221,'Zebrik W'!$B$7:$L$1002,11,0)))","v":""}]
[216,"Michal Maly",1982,"Broumov","CZ/C2","M",2,9912,"","",null,null,{"$f":"IF(ISERROR(VLOOKUP(B222,'Zebrik W'!$B$7:$L$1002,11,0)),\"\",IF(VLOOKUP(B222,'Zebrik W'!$B$7:$L$1002,11,0)=0,\"--\",VLOOKUP(B222,'Zebrik W'!$B$7:$L$1002,11,0)))","v":""}]
[217,"Michal Janda",1972,"Broumov","CZ/C2","M",2,9842,"","",null,null,{"$f":"IF(ISERROR(VLOOKUP(B223,'Zebrik W'!$B$7:$L$1002,11,0)),\"\",IF(VLOOKUP(B223,'Zebrik W'!$B$7:$L$1002,11,0)=0,\"--\",VLOOKUP(B223,'Zebrik W'!$B$7:$L$1002,11,0)))","v":""}]
[218,"Roman Schotli",1970,"Hranice","CZ/M","M",2,9828,"","",null,null,{"$f":"IF(ISERROR(VLOOKUP(B224,'Zebrik W'!$B$7:$L$1002,11,0)),\"\",IF(VLOOKUP(B224,'Zebrik W'!$B$7:$L$1002,11,0)=0,\"--\",VLOOKUP(B224,'Zebrik W'!$B$7:$L$1002,11,0)))","v":""}]
[219,"Frantisek Pycha",1972,"Chrudim","CZ/C2","M",2,9825,"","",null,null,{"$f":"IF(ISERROR(VLOOKUP(B225,'Zebrik W'!$B$7:$L$1002,11,0)),\"\",IF(VLOOKUP(B225,'Zebrik W'!$B$7:$L$1002,11,0)=0,\"--\",VLOOKUP(B225,'Zebrik W'!$B$7:$L$1002,11,0)))","v":""}]
[220,"Jiri Slouka",1967,"Medlánky","CZ/M","M",3,9762,"","",null,null,{"$f":"IF(ISERROR(VLOOKUP(B226,'Zebrik W'!$B$7:$L$1002,11,0)),\"\",IF(VLOOKUP(B226,'Zebrik W'!$B$7:$L$1002,11,0)=0,\"--\",VLOOKUP(B226,'Zebrik W'!$B$7:$L$1002,11,0)))","v":""}]
[221,"Tomas Frinta",1970,"Hodkovice","CZ/C2","M",2,9627,"","",null,null,{"$f":"IF(ISERROR(VLOOKUP(B227,'Zebrik W'!$B$7:$L$1002,11,0)),\"\",IF(VLOOKUP(B227,'Zebrik W'!$B$7:$L$1002,11,0)=0,\"--\",VLOOKUP(B227,'Zebrik W'!$B$7:$L$1002,11,0)))","v":""}]
[222,"Martin Markl",1960,"Kolín","CZ/C1","M",3,9579,"","",null,null,{"$f":"IF(ISERROR(VLOOKUP(B228,'Zebrik W'!$B$7:$L$1002,11,0)),\"\",IF(VLOOKUP(B228,'Zebrik W'!$B$7:$L$1002,11,0)=0,\"--\",VLOOKUP(B228,'Zebrik W'!$B$7:$L$1002,11,0)))","v":""}]
[223,"Josef Novotny",1983,"Přibyslav","CZ/C2","M",1,9340,"","",null,null,{"$f":"IF(ISERROR(VLOOKUP(B229,'Zebrik W'!$B$7:$L$1002,11,0)),\"\",IF(VLOOKUP(B229,'Zebrik W'!$B$7:$L$1002,11,0)=0,\"--\",VLOOKUP(B229,'Zebrik W'!$B$7:$L$1002,11,0)))","v":""}]
[224,"Jaroslav Rapac",1977,"Dvůr Králové","CZ/C2","M",2,9311,"","",null,null,{"$f":"IF(ISERROR(VLOOKUP(B230,'Zebrik W'!$B$7:$L$1002,11,0)),\"\",IF(VLOOKUP(B230,'Zebrik W'!$B$7:$L$1002,11,0)=0,\"--\",VLOOKUP(B230,'Zebrik W'!$B$7:$L$1002,11,0)))","v":""}]
[225,"Vladimir Spilka",1940,"Hranice","CZ/M","M",3,9275,"","",null,null,{"$f":"IF(ISERROR(VLOOKUP(B231,'Zebrik W'!$B$7:$L$1002,11,0)),\"\",IF(VLOOKUP(B231,'Zebrik W'!$B$7:$L$1002,11,0)=0,\"--\",VLOOKUP(B231,'Zebrik W'!$B$7:$L$1002,11,0)))","v":""}]
[226,"Jan Matejovsky",1972,"Hranice","CZ/M","M",3,9272,"","",null,null,{"$f":"IF(ISERROR(VLOOKUP(B232,'Zebrik W'!$B$7:$L$1002,11,0)),\"\",IF(VLOOKUP(B232,'Zebrik W'!$B$7:$L$1002,11,0)=0,\"--\",VLOOKUP(B232,'Zebrik W'!$B$7:$L$1002,11,0)))","v":""}]
[227,"Antonin Kutalek",1943,"Zábřeh","CZ/M","M",3,9234,"","",null,null,{"$f":"IF(ISERROR(VLOOKUP(B233,'Zebrik W'!$B$7:$L$1002,11,0)),\"\",IF(VLOOKUP(B233,'Zebrik W'!$B$7:$L$1002,11,0)=0,\"--\",VLOOKUP(B233,'Zebrik W'!$B$7:$L$1002,11,0)))","v":""}]
[228,"Frantisek Myska",1968,"Most","CZ/C2","M",2,9106,"","",null,null,{"$f":"IF(ISERROR(VLOOKUP(B234,'Zebrik W'!$B$7:$L$1002,11,0)),\"\",IF(VLOOKUP(B234,'Zebrik W'!$B$7:$L$1002,11,0)=0,\"--\",VLOOKUP(B234,'Zebrik W'!$B$7:$L$1002,11,0)))","v":""}]
[229,"Jan Kantor",1983,"Letňany","CZ/C1","M",2,9089,"","",null,null,{"$f":"IF(ISERROR(VLOOKUP(B235,'Zebrik W'!$B$7:$L$1002,11,0)),\"\",IF(VLOOKUP(B235,'Zebrik W'!$B$7:$L$1002,11,0)=0,\"--\",VLOOKUP(B235,'Zebrik W'!$B$7:$L$1002,11,0)))","v":""}]
[230,"Jiri Pelucha",1984,"Frýdlant","CZ/M","M",3,9065,"","",null,null,{"$f":"IF(ISERROR(VLOOKUP(B236,'Zebrik W'!$B$7:$L$1002,11,0)),\"\",IF(VLOOKUP(B236,'Zebrik W'!$B$7:$L$1002,11,0)=0,\"--\",VLOOKUP(B236,'Zebrik W'!$B$7:$L$1002,11,0)))","v":""}]
[231,"Jiri Holcman",1976,"Hosín","CZ/C1","M",2,9054,"","",null,null,{"$f":"IF(ISERROR(VLOOKUP(B237,'Zebrik W'!$B$7:$L$1002,11,0)),\"\",IF(VLOOKUP(B237,'Zebrik W'!$B$7:$L$1002,11,0)=0,\"--\",VLOOKUP(B237,'Zebrik W'!$B$7:$L$1002,11,0)))","v":""}]
[232,"Jakub Hlavacek",1991,"Letkov","CZ/C1","M",1,9051,"","",null,null,{"$f":"IF(ISERROR(VLOOKUP(B238,'Zebrik W'!$B$7:$L$1002,11,0)),\"\",IF(VLOOKUP(B238,'Zebrik W'!$B$7:$L$1002,11,0)=0,\"--\",VLOOKUP(B238,'Zebrik W'!$B$7:$L$1002,11,0)))","v":""}]
[233,"Nikola Zizkovsky",1980,"Kralupy","CZ/C1","M",2,9038,"","",null,null,{"$f":"IF(ISERROR(VLOOKUP(B239,'Zebrik W'!$B$7:$L$1002,11,0)),\"\",IF(VLOOKUP(B239,'Zebrik W'!$B$7:$L$1002,11,0)=0,\"--\",VLOOKUP(B239,'Zebrik W'!$B$7:$L$1002,11,0)))","v":""}]
[234,"Jan Sponer",1988,"Medlánky","CZ/M","M",2,9025,"","",null,null,{"$f":"IF(ISERROR(VLOOKUP(B240,'Zebrik W'!$B$7:$L$1002,11,0)),\"\",IF(VLOOKUP(B240,'Zebrik W'!$B$7:$L$1002,11,0)=0,\"--\",VLOOKUP(B240,'Zebrik W'!$B$7:$L$1002,11,0)))","v":""}]
[235,"Vilem Riha",1990,"Letňany","CZ/C1","M",2,9023,"","",null,null,{"$f":"IF(ISERROR(VLOOKUP(B241,'Zebrik W'!$B$7:$L$1002,11,0)),\"\",IF(VLOOKUP(B241,'Zebrik W'!$B$7:$L$1002,11,0)=0,\"--\",VLOOKUP(B241,'Zebrik W'!$B$7:$L$1002,11,0)))","v":""}]
[236,"Slavomir Tanglmajer",1966,"Chomutov","CZ/C2","M",3,8920,"","",null,null,{"$f":"IF(ISERROR(VLOOKUP(B242,'Zebrik W'!$B$7:$L$1002,11,0)),\"\",IF(VLOOKUP(B242,'Zebrik W'!$B$7:$L$1002,11,0)=0,\"--\",VLOOKUP(B242,'Zebrik W'!$B$7:$L$1002,11,0)))","v":""}]
[237,"Jindrich Hala",1989,"Rakovník","CZ/C1","M",2,8908,"","",null,null,{"$f":"IF(ISERROR(VLOOKUP(B243,'Zebrik W'!$B$7:$L$1002,11,0)),\"\",IF(VLOOKUP(B243,'Zebrik W'!$B$7:$L$1002,11,0)=0,\"--\",VLOOKUP(B243,'Zebrik W'!$B$7:$L$1002,11,0)))","v":""}]
[238,"Martin Suchy",1969,"Hranice","CZ/M","M",3,8904,"","",null,null,{"$f":"IF(ISERROR(VLOOKUP(B244,'Zebrik W'!$B$7:$L$1002,11,0)),\"\",IF(VLOOKUP(B244,'Zebrik W'!$B$7:$L$1002,11,0)=0,\"--\",VLOOKUP(B244,'Zebrik W'!$B$7:$L$1002,11,0)))","v":""}]
[239,"Radmila Horacek Filakovska",1963,"Dvůr Králové","CZ/C2","F",3,8838,"","",null,null,{"$f":"IF(ISERROR(VLOOKUP(B245,'Zebrik W'!$B$7:$L$1002,11,0)),\"\",IF(VLOOKUP(B245,'Zebrik W'!$B$7:$L$1002,11,0)=0,\"--\",VLOOKUP(B245,'Zebrik W'!$B$7:$L$1002,11,0)))","v":"--"}]
[240,"Frantisek Marek",1960,"Křižanov","CZ/M","M",1,8703,"","",null,null,{"$f":"IF(ISERROR(VLOOKUP(B246,'Zebrik W'!$B$7:$L$1002,11,0)),\"\",IF(VLOOKUP(B246,'Zebrik W'!$B$7:$L$1002,11,0)=0,\"--\",VLOOKUP(B246,'Zebrik W'!$B$7:$L$1002,11,0)))","v":""}]
[241,"Josef Bostik",1963,"GAC Benešov","CZ/C1","M",1,8655,"","",null,null,{"$f":"IF(ISERROR(VLOOKUP(B247,'Zebrik W'!$B$7:$L$1002,11,0)),\"\",IF(VLOOKUP(B247,'Zebrik W'!$B$7:$L$1002,11,0)=0,\"--\",VLOOKUP(B247,'Zebrik W'!$B$7:$L$1002,11,0)))","v":""}]
[242,"Matous Schmidt",1981,"Letňany","CZ/C1","M",2,8643,"","",null,null,{"$f":"IF(ISERROR(VLOOKUP(B248,'Zebrik W'!$B$7:$L$1002,11,0)),\"\",IF(VLOOKUP(B248,'Zebrik W'!$B$7:$L$1002,11,0)=0,\"--\",VLOOKUP(B248,'Zebrik W'!$B$7:$L$1002,11,0)))","v":""}]
[243,"Jindrich Svorc",1978,"Letňany","CZ/C1","M",1,8606,"","",null,null,{"$f":"IF(ISERROR(VLOOKUP(B249,'Zebrik W'!$B$7:$L$1002,11,0)),\"\",IF(VLOOKUP(B249,'Zebrik W'!$B$7:$L$1002,11,0)=0,\"--\",VLOOKUP(B249,'Zebrik W'!$B$7:$L$1002,11,0)))","v":""}]
[244,"Martin Soucek",1975,"Mladá Boleslav","CZ/C1","M",2,8548,"","",null,null,{"$f":"IF(ISERROR(VLOOKUP(B250,'Zebrik W'!$B$7:$L$1002,11,0)),\"\",IF(VLOOKUP(B250,'Zebrik W'!$B$7:$L$1002,11,0)=0,\"--\",VLOOKUP(B250,'Zebrik W'!$B$7:$L$1002,11,0)))","v":""}]
[245,"Olga Mokosova",1970,"Jihlava","CZ/M","F",3,8503,"","",null,null,{"$f":"IF(ISERROR(VLOOKUP(B251,'Zebrik W'!$B$7:$L$1002,11,0)),\"\",IF(VLOOKUP(B251,'Zebrik W'!$B$7:$L$1002,11,0)=0,\"--\",VLOOKUP(B251,'Zebrik W'!$B$7:$L$1002,11,0)))","v":"--"}]
[246,"Eduard Svoboda",1957,"Raná","CZ/C2","M",2,8499,"","",null,null,{"$f":"IF(ISERROR(VLOOKUP(B252,'Zebrik W'!$B$7:$L$1002,11,0)),\"\",IF(VLOOKUP(B252,'Zebrik W'!$B$7:$L$1002,11,0)=0,\"--\",VLOOKUP(B252,'Zebrik W'!$B$7:$L$1002,11,0)))","v":""}]
[247,"Vaclav Kult",1973,"Broumov","CZ/C2","M",2,8431,"","",null,null,{"$f":"IF(ISERROR(VLOOKUP(B253,'Zebrik W'!$B$7:$L$1002,11,0)),\"\",IF(VLOOKUP(B253,'Zebrik W'!$B$7:$L$1002,11,0)=0,\"--\",VLOOKUP(B253,'Zebrik W'!$B$7:$L$1002,11,0)))","v":""}]
[248,"Yvona Vyhnankova",1963,"Olomouc","CZ/M","F",3,8396,"","",null,null,{"$f":"IF(ISERROR(VLOOKUP(B254,'Zebrik W'!$B$7:$L$1002,11,0)),\"\",IF(VLOOKUP(B254,'Zebrik W'!$B$7:$L$1002,11,0)=0,\"--\",VLOOKUP(B254,'Zebrik W'!$B$7:$L$1002,11,0)))","v":"--"}]
[249,"Filip Vita",2001,"Kroměříž","CZ/M","M",3,8333,"Junior v roce 2019","Junior v roce 2020",null,null,{"$f":"IF(ISERROR(VLOOKUP(B255,'Zebrik W'!$B$7:$L$1002,11,0)),\"\",IF(VLOOKUP(B255,'Zebrik W'!$B$7:$L$1002,11,0)=0,\"--\",VLOOKUP(B255,'Zebrik W'!$B$7:$L$1002,11,0)))","v":""}]
[250,"Miloslav Hulmak",1963,"Hosín","CZ/C1","M",2,8311,"","",null,null,{"$f":"IF(ISERROR(VLOOKUP(B256,'Zebrik W'!$B$7:$L$1002,11,0)),\"\",IF(VLOOKUP(B256,'Zebrik W'!$B$7:$L$1002,11,0)=0,\"--\",VLOOKUP(B256,'Zebrik W'!$B$7:$L$1002,11,0)))","v":""}]
[251,"Lubomir Papezik",1951,"Luhačovice","CZ/M","M",3,8238,"","",null,null,{"$f":"IF(ISERROR(VLOOKUP(B257,'Zebrik W'!$B$7:$L$1002,11,0)),\"\",IF(VLOOKUP(B257,'Zebrik W'!$B$7:$L$1002,11,0)=0,\"--\",VLOOKUP(B257,'Zebrik W'!$B$7:$L$1002,11,0)))","v":""}]
[252,"Miloslav Cindr",1974,"Ústí nad Orlicí","CZ/C2","M",3,8210,"","",null,null,{"$f":"IF(ISERROR(VLOOKUP(B258,'Zebrik W'!$B$7:$L$1002,11,0)),\"\",IF(VLOOKUP(B258,'Zebrik W'!$B$7:$L$1002,11,0)=0,\"--\",VLOOKUP(B258,'Zebrik W'!$B$7:$L$1002,11,0)))","v":""}]
[253,"Jaroslav Kares",1962,"Olomouc","CZ/M","M",2,8134,"","",null,null,{"$f":"IF(ISERROR(VLOOKUP(B259,'Zebrik W'!$B$7:$L$1002,11,0)),\"\",IF(VLOOKUP(B259,'Zebrik W'!$B$7:$L$1002,11,0)=0,\"--\",VLOOKUP(B259,'Zebrik W'!$B$7:$L$1002,11,0)))","v":""}]
[254,"Linda Vasatova",1990,"Mladá Boleslav","CZ/C1","F",2,8093,"","",null,null,{"$f":"IF(ISERROR(VLOOKUP(B260,'Zebrik W'!$B$7:$L$1002,11,0)),\"\",IF(VLOOKUP(B260,'Zebrik W'!$B$7:$L$1002,11,0)=0,\"--\",VLOOKUP(B260,'Zebrik W'!$B$7:$L$1002,11,0)))","v":"--"}]
[255,"Vaclav Cerny",1949,"Plasy","CZ/C1","M",2,8084,"","",null,null,{"$f":"IF(ISERROR(VLOOKUP(B261,'Zebrik W'!$B$7:$L$1002,11,0)),\"\",IF(VLOOKUP(B261,'Zebrik W'!$B$7:$L$1002,11,0)=0,\"--\",VLOOKUP(B261,'Zebrik W'!$B$7:$L$1002,11,0)))","v":""}]
[256,"Veronika Ambrozova",1984,"Křižanov","CZ/M","F",2,7942,"","",null,null,{"$f":"IF(ISERROR(VLOOKUP(B262,'Zebrik W'!$B$7:$L$1002,11,0)),\"\",IF(VLOOKUP(B262,'Zebrik W'!$B$7:$L$1002,11,0)=0,\"--\",VLOOKUP(B262,'Zebrik W'!$B$7:$L$1002,11,0)))","v":"--"}]
[257,"Petra Diepoldova",1978,"Vysoké Mýto","CZ/C2","F",3,7869,"","",null,null,{"$f":"IF(ISERROR(VLOOKUP(B263,'Zebrik W'!$B$7:$L$1002,11,0)),\"\",IF(VLOOKUP(B263,'Zebrik W'!$B$7:$L$1002,11,0)=0,\"--\",VLOOKUP(B263,'Zebrik W'!$B$7:$L$1002,11,0)))","v":"--"}]
[{"$f":"RANK(H264,H:H)","v":258},"Petr Rygl",1966,"Jičín","CZ/C2","M",2,7856,{"$f":"IF(C264=\"(prázdné)\",\"\",IF(($I$4-C264)>25,\"\",\"Junior v roce \"&$I$4))","v":""},{"$f":"IF(C264=\"(prázdné)\",\"\",IF(($J$4-C264)>25,\"\",\"Junior v roce \"&$J$4))","v":""},null,null,{"$f":"IF(ISERROR(VLOOKUP(B264,'Zebrik W'!$B$7:$L$1002,11,0)),\"\",IF(VLOOKUP(B264,'Zebrik W'!$B$7:$L$1002,11,0)=0,\"--\",VLOOKUP(B264,'Zebrik W'!$B$7:$L$1002,11,0)))","v":""}]
[259,"Boris Bachraty",1974,"Břeclav","CZ/M","M",2,7847,"","",null,null,{"$f":"IF(ISERROR(VLOOKUP(B265,'Zebrik W'!$B$7:$L$1002,11,0)),\"\",IF(VLOOKUP(B265,'Zebrik W'!$B$7:$L$1002,11,0)=0,\"--\",VLOOKUP(B265,'Zebrik W'!$B$7:$L$1002,11,0)))","v":""}]
[260,"Petr Svoboda",1988,"Letkov","CZ/C1","M",1,7791,"","",null,null,{"$f":"IF(ISERROR(VLOOKUP(B266,'Zebrik W'!$B$7:$L$1002,11,0)),\"\",IF(VLOOKUP(B266,'Zebrik W'!$B$7:$L$1002,11,0)=0,\"--\",VLOOKUP(B266,'Zebrik W'!$B$7:$L$1002,11,0)))","v":""}]
[261,"Tomas Prikryl",1973,"Vyškov","CZ/M","M",2,7781,"","",null,null,{"$f":"IF(ISERROR(VLOOKUP(B267,'Zebrik W'!$B$7:$L$1002,11,0)),\"\",IF(VLOOKUP(B267,'Zebrik W'!$B$7:$L$1002,11,0)=0,\"--\",VLOOKUP(B267,'Zebrik W'!$B$7:$L$1002,11,0)))","v":""}]
[262,"Vladimir Kamensky",1983,"Břeclav","CZ/M","M",2,7778,"","",null,null,{"$f":"IF(ISERROR(VLOOKUP(B268,'Zebrik W'!$B$7:$L$1002,11,0)),\"\",IF(VLOOKUP(B268,'Zebrik W'!$B$7:$L$1002,11,0)=0,\"--\",VLOOKUP(B268,'Zebrik W'!$B$7:$L$1002,11,0)))","v":""}]
[263,"Jan Obrucnik",1991,"Kralupy","CZ/C1","M",1,7752,"","",null,null,{"$f":"IF(ISERROR(VLOOKUP(B269,'Zebrik W'!$B$7:$L$1002,11,0)),\"\",IF(VLOOKUP(B269,'Zebrik W'!$B$7:$L$1002,11,0)=0,\"--\",VLOOKUP(B269,'Zebrik W'!$B$7:$L$1002,11,0)))","v":""}]
[264,"Miroslav Sklenar",1964,"Žamberk","CZ/C2","M",2,7682,"","",null,null,{"$f":"IF(ISERROR(VLOOKUP(B270,'Zebrik W'!$B$7:$L$1002,11,0)),\"\",IF(VLOOKUP(B270,'Zebrik W'!$B$7:$L$1002,11,0)=0,\"--\",VLOOKUP(B270,'Zebrik W'!$B$7:$L$1002,11,0)))","v":""}]
[265,"Tomas Profeld",1964,"Jičín","CZ/C2","M",2,7667,"","",null,null,{"$f":"IF(ISERROR(VLOOKUP(B271,'Zebrik W'!$B$7:$L$1002,11,0)),\"\",IF(VLOOKUP(B271,'Zebrik W'!$B$7:$L$1002,11,0)=0,\"--\",VLOOKUP(B271,'Zebrik W'!$B$7:$L$1002,11,0)))","v":""}]
[266,"Zuzana Kutilkova",1993,"Křižanov","CZ/M","F",3,7554,"","",null,null,{"$f":"IF(ISERROR(VLOOKUP(B272,'Zebrik W'!$B$7:$L$1002,11,0)),\"\",IF(VLOOKUP(B272,'Zebrik W'!$B$7:$L$1002,11,0)=0,\"--\",VLOOKUP(B272,'Zebrik W'!$B$7:$L$1002,11,0)))","v":"--"}]
[267,"Jana Mezerova",1975,"Raná","CZ/C2","F",3,7516,"","",null,null,{"$f":"IF(ISERROR(VLOOKUP(B273,'Zebrik W'!$B$7:$L$1002,11,0)),\"\",IF(VLOOKUP(B273,'Zebrik W'!$B$7:$L$1002,11,0)=0,\"--\",VLOOKUP(B273,'Zebrik W'!$B$7:$L$1002,11,0)))","v":"--"}]
[268,"Petr Vlasak",1974,"Medlánky","CZ/M","M",3,7512,"","",null,null,{"$f":"IF(ISERROR(VLOOKUP(B274,'Zebrik W'!$B$7:$L$1002,11,0)),\"\",IF(VLOOKUP(B274,'Zebrik W'!$B$7:$L$1002,11,0)=0,\"--\",VLOOKUP(B274,'Zebrik W'!$B$7:$L$1002,11,0)))","v":""}]
[269,"Jiri Dockal",1982,"Letňany","CZ/C1","M",2,7508,"","",null,null,{"$f":"IF(ISERROR(VLOOKUP(B275,'Zebrik W'!$B$7:$L$1002,11,0)),\"\",IF(VLOOKUP(B275,'Zebrik W'!$B$7:$L$1002,11,0)=0,\"--\",VLOOKUP(B275,'Zebrik W'!$B$7:$L$1002,11,0)))","v":""}]
[270,"Jan Beranek",1976,"Jihlava","CZ/M","M",1,7475,"","",null,null,{"$f":"IF(ISERROR(VLOOKUP(B276,'Zebrik W'!$B$7:$L$1002,11,0)),\"\",IF(VLOOKUP(B276,'Zebrik W'!$B$7:$L$1002,11,0)=0,\"--\",VLOOKUP(B276,'Zebrik W'!$B$7:$L$1002,11,0)))","v":""}]
[271,"Dalibor Pek",1968,"Raná","CZ/C2","M",2,7436,"","",null,null,{"$f":"IF(ISERROR(VLOOKUP(B277,'Zebrik W'!$B$7:$L$1002,11,0)),\"\",IF(VLOOKUP(B277,'Zebrik W'!$B$7:$L$1002,11,0)=0,\"--\",VLOOKUP(B277,'Zebrik W'!$B$7:$L$1002,11,0)))","v":""}]
[272,"Zdenek Mach",1976,"Broumov","CZ/C2","M",2,7360,"","",null,null,{"$f":"IF(ISERROR(VLOOKUP(B278,'Zebrik W'!$B$7:$L$1002,11,0)),\"\",IF(VLOOKUP(B278,'Zebrik W'!$B$7:$L$1002,11,0)=0,\"--\",VLOOKUP(B278,'Zebrik W'!$B$7:$L$1002,11,0)))","v":""}]
[273,"Bohumil Rikal",1946,"Hronov","CZ/C2","M",3,7358,"","",null,null,{"$f":"IF(ISERROR(VLOOKUP(B279,'Zebrik W'!$B$7:$L$1002,11,0)),\"\",IF(VLOOKUP(B279,'Zebrik W'!$B$7:$L$1002,11,0)=0,\"--\",VLOOKUP(B279,'Zebrik W'!$B$7:$L$1002,11,0)))","v":""}]
[274,"Roman Cerny",1971,"Hranice","CZ/M","M",3,7308,"","",null,null,{"$f":"IF(ISERROR(VLOOKUP(B280,'Zebrik W'!$B$7:$L$1002,11,0)),\"\",IF(VLOOKUP(B280,'Zebrik W'!$B$7:$L$1002,11,0)=0,\"--\",VLOOKUP(B280,'Zebrik W'!$B$7:$L$1002,11,0)))","v":""}]
[275,"Martin Zvonicek",1972,"Raná","CZ/C2","M",2,7277,"","",null,null,{"$f":"IF(ISERROR(VLOOKUP(B281,'Zebrik W'!$B$7:$L$1002,11,0)),\"\",IF(VLOOKUP(B281,'Zebrik W'!$B$7:$L$1002,11,0)=0,\"--\",VLOOKUP(B281,'Zebrik W'!$B$7:$L$1002,11,0)))","v":""}]
[276,"David Vrchota",1976,"Jaroměř","CZ/C2","M",1,7260,"","",null,null,{"$f":"IF(ISERROR(VLOOKUP(B282,'Zebrik W'!$B$7:$L$1002,11,0)),\"\",IF(VLOOKUP(B282,'Zebrik W'!$B$7:$L$1002,11,0)=0,\"--\",VLOOKUP(B282,'Zebrik W'!$B$7:$L$1002,11,0)))","v":""}]
[277,"Jiri Janda",1966,"Letňany","CZ/C1","M",2,7250,"","",null,null,{"$f":"IF(ISERROR(VLOOKUP(B283,'Zebrik W'!$B$7:$L$1002,11,0)),\"\",IF(VLOOKUP(B283,'Zebrik W'!$B$7:$L$1002,11,0)=0,\"--\",VLOOKUP(B283,'Zebrik W'!$B$7:$L$1002,11,0)))","v":""}]
[278,"Milos Pajr",1966,"Jičín","CZ/C2","M",1,7216,"","",null,null,{"$f":"IF(ISERROR(VLOOKUP(B284,'Zebrik W'!$B$7:$L$1002,11,0)),\"\",IF(VLOOKUP(B284,'Zebrik W'!$B$7:$L$1002,11,0)=0,\"--\",VLOOKUP(B284,'Zebrik W'!$B$7:$L$1002,11,0)))","v":""}]
[279,"Radek Tobolka",1977,"Jičín","CZ/C2","M",2,7196,"","",null,null,{"$f":"IF(ISERROR(VLOOKUP(B285,'Zebrik W'!$B$7:$L$1002,11,0)),\"\",IF(VLOOKUP(B285,'Zebrik W'!$B$7:$L$1002,11,0)=0,\"--\",VLOOKUP(B285,'Zebrik W'!$B$7:$L$1002,11,0)))","v":""}]
[280,"Jan Kristof",1962,"Frýdlant","CZ/M","M",3,7107,"","",null,null,{"$f":"IF(ISERROR(VLOOKUP(B286,'Zebrik W'!$B$7:$L$1002,11,0)),\"\",IF(VLOOKUP(B286,'Zebrik W'!$B$7:$L$1002,11,0)=0,\"--\",VLOOKUP(B286,'Zebrik W'!$B$7:$L$1002,11,0)))","v":""}]
[281,"Vlastislav Picka",1948,"Jindřichův Hradec","CZ/C1","M",2,7008,"","",null,null,{"$f":"IF(ISERROR(VLOOKUP(B287,'Zebrik W'!$B$7:$L$1002,11,0)),\"\",IF(VLOOKUP(B287,'Zebrik W'!$B$7:$L$1002,11,0)=0,\"--\",VLOOKUP(B287,'Zebrik W'!$B$7:$L$1002,11,0)))","v":""}]
[282,"Tomas Ptacovsky",1981,"Letňany","CZ/C1","M",1,6988,"","",null,null,{"$f":"IF(ISERROR(VLOOKUP(B288,'Zebrik W'!$B$7:$L$1002,11,0)),\"\",IF(VLOOKUP(B288,'Zebrik W'!$B$7:$L$1002,11,0)=0,\"--\",VLOOKUP(B288,'Zebrik W'!$B$7:$L$1002,11,0)))","v":""}]
[283,"Vaclav Sehnal",1962,"Kolín","CZ/C1","M",2,6981,"","",null,null,{"$f":"IF(ISERROR(VLOOKUP(B289,'Zebrik W'!$B$7:$L$1002,11,0)),\"\",IF(VLOOKUP(B289,'Zebrik W'!$B$7:$L$1002,11,0)=0,\"--\",VLOOKUP(B289,'Zebrik W'!$B$7:$L$1002,11,0)))","v":""}]
[284,"Daniel Dvorak",1980,"Letkov","CZ/C1","M",1,6913,"","",null,null,{"$f":"IF(ISERROR(VLOOKUP(B290,'Zebrik W'!$B$7:$L$1002,11,0)),\"\",IF(VLOOKUP(B290,'Zebrik W'!$B$7:$L$1002,11,0)=0,\"--\",VLOOKUP(B290,'Zebrik W'!$B$7:$L$1002,11,0)))","v":""}]
[285,"Jan Cerveny",1984,"Jaroměř","CZ/C2","M",2,6736,"","",null,null,{"$f":"IF(ISERROR(VLOOKUP(B291,'Zebrik W'!$B$7:$L$1002,11,0)),\"\",IF(VLOOKUP(B291,'Zebrik W'!$B$7:$L$1002,11,0)=0,\"--\",VLOOKUP(B291,'Zebrik W'!$B$7:$L$1002,11,0)))","v":""}]
[286,"Petr Havrlant",1965,"Šumperk","CZ/M","M",3,6729,"","",null,null,{"$f":"IF(ISERROR(VLOOKUP(B292,'Zebrik W'!$B$7:$L$1002,11,0)),\"\",IF(VLOOKUP(B292,'Zebrik W'!$B$7:$L$1002,11,0)=0,\"--\",VLOOKUP(B292,'Zebrik W'!$B$7:$L$1002,11,0)))","v":""}]
[286,"Krystof Mimra",1992,"Most","CZ/C2","M",2,6729,"","",null,null,{"$f":"IF(ISERROR(VLOOKUP(B293,'Zebrik W'!$B$7:$L$1002,11,0)),\"\",IF(VLOOKUP(B293,'Zebrik W'!$B$7:$L$1002,11,0)=0,\"--\",VLOOKUP(B293,'Zebrik W'!$B$7:$L$1002,11,0)))","v":""}]
[288,"Oldrich Hlavacek",1973,"Medlánky","CZ/M","M",2,6680,"","",null,null,{"$f":"IF(ISERROR(VLOOKUP(B294,'Zebrik W'!$B$7:$L$1002,11,0)),\"\",IF(VLOOKUP(B294,'Zebrik W'!$B$7:$L$1002,11,0)=0,\"--\",VLOOKUP(B294,'Zebrik W'!$B$7:$L$1002,11,0)))","v":""}]
[289,"Martin Hejny",1984,"Šumperk","CZ/M","M",2,6631,"","",null,null,{"$f":"IF(ISERROR(VLOOKUP(B295,'Zebrik W'!$B$7:$L$1002,11,0)),\"\",IF(VLOOKUP(B295,'Zebrik W'!$B$7:$L$1002,11,0)=0,\"--\",VLOOKUP(B295,'Zebrik W'!$B$7:$L$1002,11,0)))","v":""}]
[290,"Jiri Pajer",1977,"Zbraslavice","CZ/C1","M",1,6602,"","",null,null,{"$f":"IF(ISERROR(VLOOKUP(B296,'Zebrik W'!$B$7:$L$1002,11,0)),\"\",IF(VLOOKUP(B296,'Zebrik W'!$B$7:$L$1002,11,0)=0,\"--\",VLOOKUP(B296,'Zebrik W'!$B$7:$L$1002,11,0)))","v":""}]
[291,"Jiri Vavrina",1958,"Kyjov","CZ/M","M",2,6545,"","",null,null,{"$f":"IF(ISERROR(VLOOKUP(B297,'Zebrik W'!$B$7:$L$1002,11,0)),\"\",IF(VLOOKUP(B297,'Zebrik W'!$B$7:$L$1002,11,0)=0,\"--\",VLOOKUP(B297,'Zebrik W'!$B$7:$L$1002,11,0)))","v":""}]
[292,"Martin Balik",1982,"Kralupy","CZ/C1","M",1,6500,"","",null,null,{"$f":"IF(ISERROR(VLOOKUP(B298,'Zebrik W'!$B$7:$L$1002,11,0)),\"\",IF(VLOOKUP(B298,'Zebrik W'!$B$7:$L$1002,11,0)=0,\"--\",VLOOKUP(B298,'Zebrik W'!$B$7:$L$1002,11,0)))","v":""}]
[293,"Radoslav Pur",1973,"Hosín","CZ/C1","M",2,6499,"","",null,null,{"$f":"IF(ISERROR(VLOOKUP(B299,'Zebrik W'!$B$7:$L$1002,11,0)),\"\",IF(VLOOKUP(B299,'Zebrik W'!$B$7:$L$1002,11,0)=0,\"--\",VLOOKUP(B299,'Zebrik W'!$B$7:$L$1002,11,0)))","v":""}]
[294,"Petr Rajda",1970,"Křižanov","CZ/M","M",1,6480,"","",null,null,{"$f":"IF(ISERROR(VLOOKUP(B300,'Zebrik W'!$B$7:$L$1002,11,0)),\"\",IF(VLOOKUP(B300,'Zebrik W'!$B$7:$L$1002,11,0)=0,\"--\",VLOOKUP(B300,'Zebrik W'!$B$7:$L$1002,11,0)))","v":""}]
[295,"Frantisek Kriz",1961,"Toužim","CZ/C1","M",1,6439,"","",null,null,{"$f":"IF(ISERROR(VLOOKUP(B301,'Zebrik W'!$B$7:$L$1002,11,0)),\"\",IF(VLOOKUP(B301,'Zebrik W'!$B$7:$L$1002,11,0)=0,\"--\",VLOOKUP(B301,'Zebrik W'!$B$7:$L$1002,11,0)))","v":""}]
[296,"Martin Vnoucek",1972,"Vlašim","CZ/C1","M",1,6380,"","",null,null,{"$f":"IF(ISERROR(VLOOKUP(B302,'Zebrik W'!$B$7:$L$1002,11,0)),\"\",IF(VLOOKUP(B302,'Zebrik W'!$B$7:$L$1002,11,0)=0,\"--\",VLOOKUP(B302,'Zebrik W'!$B$7:$L$1002,11,0)))","v":""}]
[297,"Vaclav Kunasek",1987,"Zbraslavice","CZ/C1","M",1,6379,"","",null,null,{"$f":"IF(ISERROR(VLOOKUP(B303,'Zebrik W'!$B$7:$L$1002,11,0)),\"\",IF(VLOOKUP(B303,'Zebrik W'!$B$7:$L$1002,11,0)=0,\"--\",VLOOKUP(B303,'Zebrik W'!$B$7:$L$1002,11,0)))","v":""}]
[298,"Petr Doubek",1974,"Kralupy","CZ/C1","M",2,6326,"","",null,null,{"$f":"IF(ISERROR(VLOOKUP(B304,'Zebrik W'!$B$7:$L$1002,11,0)),\"\",IF(VLOOKUP(B304,'Zebrik W'!$B$7:$L$1002,11,0)=0,\"--\",VLOOKUP(B304,'Zebrik W'!$B$7:$L$1002,11,0)))","v":""}]
[299,"Vaclav Petru",1974,"Letňany","CZ/C1","M",2,6316,"","",null,null,{"$f":"IF(ISERROR(VLOOKUP(B305,'Zebrik W'!$B$7:$L$1002,11,0)),\"\",IF(VLOOKUP(B305,'Zebrik W'!$B$7:$L$1002,11,0)=0,\"--\",VLOOKUP(B305,'Zebrik W'!$B$7:$L$1002,11,0)))","v":""}]
[300,"Tomas Fiala 77",1977,"Luhačovice","CZ/M","M",2,6297,"","",null,null,{"$f":"IF(ISERROR(VLOOKUP(B306,'Zebrik W'!$B$7:$L$1002,11,0)),\"\",IF(VLOOKUP(B306,'Zebrik W'!$B$7:$L$1002,11,0)=0,\"--\",VLOOKUP(B306,'Zebrik W'!$B$7:$L$1002,11,0)))","v":""}]
[301,"Oldrich Bartonik",1961,"Luhačovice","CZ/M","M",1,6296,"","",null,null,{"$f":"IF(ISERROR(VLOOKUP(B307,'Zebrik W'!$B$7:$L$1002,11,0)),\"\",IF(VLOOKUP(B307,'Zebrik W'!$B$7:$L$1002,11,0)=0,\"--\",VLOOKUP(B307,'Zebrik W'!$B$7:$L$1002,11,0)))","v":""}]
[302,"Jaroslav Cempirek 77",1977,"Jihlava","CZ/M","M",1,6275,"","",null,null,{"$f":"IF(ISERROR(VLOOKUP(B308,'Zebrik W'!$B$7:$L$1002,11,0)),\"\",IF(VLOOKUP(B308,'Zebrik W'!$B$7:$L$1002,11,0)=0,\"--\",VLOOKUP(B308,'Zebrik W'!$B$7:$L$1002,11,0)))","v":""}]
[303,"Tomas Malik",1972,"Letňany","CZ/C1","M",1,6261,"","",null,null,{"$f":"IF(ISERROR(VLOOKUP(B309,'Zebrik W'!$B$7:$L$1002,11,0)),\"\",IF(VLOOKUP(B309,'Zebrik W'!$B$7:$L$1002,11,0)=0,\"--\",VLOOKUP(B309,'Zebrik W'!$B$7:$L$1002,11,0)))","v":""}]
[304,"Miroslav Kudlacek",1986,"Polička","CZ/C2","M",1,6253,"","",null,null,{"$f":"IF(ISERROR(VLOOKUP(B310,'Zebrik W'!$B$7:$L$1002,11,0)),\"\",IF(VLOOKUP(B310,'Zebrik W'!$B$7:$L$1002,11,0)=0,\"--\",VLOOKUP(B310,'Zebrik W'!$B$7:$L$1002,11,0)))","v":""}]
[305,"Jarmila Zatykova",1959,"Kralupy","CZ/C1","F",3,6221,"","",null,null,{"$f":"IF(ISERROR(VLOOKUP(B311,'Zebrik W'!$B$7:$L$1002,11,0)),\"\",IF(VLOOKUP(B311,'Zebrik W'!$B$7:$L$1002,11,0)=0,\"--\",VLOOKUP(B311,'Zebrik W'!$B$7:$L$1002,11,0)))","v":"--"}]
[306,"Tomas Ohera",1977,"Letňany","CZ/C1","M",2,6210,"","",null,null,{"$f":"IF(ISERROR(VLOOKUP(B312,'Zebrik W'!$B$7:$L$1002,11,0)),\"\",IF(VLOOKUP(B312,'Zebrik W'!$B$7:$L$1002,11,0)=0,\"--\",VLOOKUP(B312,'Zebrik W'!$B$7:$L$1002,11,0)))","v":""}]
[307,"Vladimir Hammer",2000,"Klatovy","CZ/C1","M",2,6191,"Junior v roce 2019","Junior v roce 2020",null,null,{"$f":"IF(ISERROR(VLOOKUP(B313,'Zebrik W'!$B$7:$L$1002,11,0)),\"\",IF(VLOOKUP(B313,'Zebrik W'!$B$7:$L$1002,11,0)=0,\"--\",VLOOKUP(B313,'Zebrik W'!$B$7:$L$1002,11,0)))","v":""}]
[308,"Radek Zima 75",1975,"Břeclav","CZ/M","M",1,6125,"","",null,null,{"$f":"IF(ISERROR(VLOOKUP(B314,'Zebrik W'!$B$7:$L$1002,11,0)),\"\",IF(VLOOKUP(B314,'Zebrik W'!$B$7:$L$1002,11,0)=0,\"--\",VLOOKUP(B314,'Zebrik W'!$B$7:$L$1002,11,0)))","v":""}]
[309,"Martin Chovan",1973,"Zbraslavice","CZ/C1","M",1,6113,"","",null,null,{"$f":"IF(ISERROR(VLOOKUP(B315,'Zebrik W'!$B$7:$L$1002,11,0)),\"\",IF(VLOOKUP(B315,'Zebrik W'!$B$7:$L$1002,11,0)=0,\"--\",VLOOKUP(B315,'Zebrik W'!$B$7:$L$1002,11,0)))","v":""}]
[310,"Vaclav Hruza",1965,"Břeclav","CZ/M","M",3,6099,"","",null,null,{"$f":"IF(ISERROR(VLOOKUP(B316,'Zebrik W'!$B$7:$L$1002,11,0)),\"\",IF(VLOOKUP(B316,'Zebrik W'!$B$7:$L$1002,11,0)=0,\"--\",VLOOKUP(B316,'Zebrik W'!$B$7:$L$1002,11,0)))","v":""}]
[311,"Tomas Prokop",1972,"Šumperk","CZ/M","M",2,6084,"","",null,null,{"$f":"IF(ISERROR(VLOOKUP(B317,'Zebrik W'!$B$7:$L$1002,11,0)),\"\",IF(VLOOKUP(B317,'Zebrik W'!$B$7:$L$1002,11,0)=0,\"--\",VLOOKUP(B317,'Zebrik W'!$B$7:$L$1002,11,0)))","v":""}]
[312,"Ivan Harasta 98",1998,"Toužim","CZ/C1","M",1,6041,"Junior v roce 2019","Junior v roce 2020",null,null,{"$f":"IF(ISERROR(VLOOKUP(B318,'Zebrik W'!$B$7:$L$1002,11,0)),\"\",IF(VLOOKUP(B318,'Zebrik W'!$B$7:$L$1002,11,0)=0,\"--\",VLOOKUP(B318,'Zebrik W'!$B$7:$L$1002,11,0)))","v":""}]
[313,"Pavel Koudelka",1973,"Křižanov","CZ/M","M",1,6028,"","",null,null,{"$f":"IF(ISERROR(VLOOKUP(B319,'Zebrik W'!$B$7:$L$1002,11,0)),\"\",IF(VLOOKUP(B319,'Zebrik W'!$B$7:$L$1002,11,0)=0,\"--\",VLOOKUP(B319,'Zebrik W'!$B$7:$L$1002,11,0)))","v":""}]
[314,"Tereza Novakova",1993,"Chrudim","CZ/C2","F",3,5958,"","",null,null,{"$f":"IF(ISERROR(VLOOKUP(B320,'Zebrik W'!$B$7:$L$1002,11,0)),\"\",IF(VLOOKUP(B320,'Zebrik W'!$B$7:$L$1002,11,0)=0,\"--\",VLOOKUP(B320,'Zebrik W'!$B$7:$L$1002,11,0)))","v":"--"}]
[315,"Roman Jokl",1979,"Letkov","CZ/C1","M",1,5892,"","",null,null,{"$f":"IF(ISERROR(VLOOKUP(B321,'Zebrik W'!$B$7:$L$1002,11,0)),\"\",IF(VLOOKUP(B321,'Zebrik W'!$B$7:$L$1002,11,0)=0,\"--\",VLOOKUP(B321,'Zebrik W'!$B$7:$L$1002,11,0)))","v":""}]
[316,"Kamil Sohr",1973,"Šumperk","CZ/M","M",2,5877,"","",null,null,{"$f":"IF(ISERROR(VLOOKUP(B322,'Zebrik W'!$B$7:$L$1002,11,0)),\"\",IF(VLOOKUP(B322,'Zebrik W'!$B$7:$L$1002,11,0)=0,\"--\",VLOOKUP(B322,'Zebrik W'!$B$7:$L$1002,11,0)))","v":""}]
[317,"Jan Beran",1999,"Kladno","CZ/C1","M",1,5797,"Junior v roce 2019","Junior v roce 2020",null,null,{"$f":"IF(ISERROR(VLOOKUP(B323,'Zebrik W'!$B$7:$L$1002,11,0)),\"\",IF(VLOOKUP(B323,'Zebrik W'!$B$7:$L$1002,11,0)=0,\"--\",VLOOKUP(B323,'Zebrik W'!$B$7:$L$1002,11,0)))","v":""}]
[318,"Jan Oscatka",1990,"Jaroměř","CZ/C2","M",1,5746,"","",null,null,{"$f":"IF(ISERROR(VLOOKUP(B324,'Zebrik W'!$B$7:$L$1002,11,0)),\"\",IF(VLOOKUP(B324,'Zebrik W'!$B$7:$L$1002,11,0)=0,\"--\",VLOOKUP(B324,'Zebrik W'!$B$7:$L$1002,11,0)))","v":""}]
[319,"Pavel Haluza",1966,"Prostějov","CZ/M","M",2,5732,"","",null,null,{"$f":"IF(ISERROR(VLOOKUP(B325,'Zebrik W'!$B$7:$L$1002,11,0)),\"\",IF(VLOOKUP(B325,'Zebrik W'!$B$7:$L$1002,11,0)=0,\"--\",VLOOKUP(B325,'Zebrik W'!$B$7:$L$1002,11,0)))","v":""}]
[320,"David Riha",1983,"Vlašim","CZ/C1","M",1,5695,"","",null,null,{"$f":"IF(ISERROR(VLOOKUP(B326,'Zebrik W'!$B$7:$L$1002,11,0)),\"\",IF(VLOOKUP(B326,'Zebrik W'!$B$7:$L$1002,11,0)=0,\"--\",VLOOKUP(B326,'Zebrik W'!$B$7:$L$1002,11,0)))","v":""}]
[321,"Jiri Peterka",1951,"Křižanov","CZ/M","M",1,5685,"","",null,null,{"$f":"IF(ISERROR(VLOOKUP(B327,'Zebrik W'!$B$7:$L$1002,11,0)),\"\",IF(VLOOKUP(B327,'Zebrik W'!$B$7:$L$1002,11,0)=0,\"--\",VLOOKUP(B327,'Zebrik W'!$B$7:$L$1002,11,0)))","v":""}]
[{"$f":"RANK(H328,H:H)","v":322},"Ludek Kluger",1963,"Tábor","CZ/C1","M",1,5645,{"$f":"IF(C328=\"(prázdné)\",\"\",IF(($I$4-C328)>25,\"\",\"Junior v roce \"&$I$4))","v":""},{"$f":"IF(C328=\"(prázdné)\",\"\",IF(($J$4-C328)>25,\"\",\"Junior v roce \"&$J$4))","v":""},null,null,{"$f":"IF(ISERROR(VLOOKUP(B328,'Zebrik W'!$B$7:$L$1002,11,0)),\"\",IF(VLOOKUP(B328,'Zebrik W'!$B$7:$L$1002,11,0)=0,\"--\",VLOOKUP(B328,'Zebrik W'!$B$7:$L$1002,11,0)))","v":""}]
[323,"Peter Kaspar",1980,"Vyškov","CZ/M","M",1,5635,"","",null,null,{"$f":"IF(ISERROR(VLOOKUP(B329,'Zebrik W'!$B$7:$L$1002,11,0)),\"\",IF(VLOOKUP(B329,'Zebrik W'!$B$7:$L$1002,11,0)=0,\"--\",VLOOKUP(B329,'Zebrik W'!$B$7:$L$1002,11,0)))","v":""}]
[324,"Petr Kohr",1970,"Raná","CZ/C2","M",2,5623,"","",null,null,{"$f":"IF(ISERROR(VLOOKUP(B330,'Zebrik W'!$B$7:$L$1002,11,0)),\"\",IF(VLOOKUP(B330,'Zebrik W'!$B$7:$L$1002,11,0)=0,\"--\",VLOOKUP(B330,'Zebrik W'!$B$7:$L$1002,11,0)))","v":""}]
[325,"Michal Buryan",1977,"Vysoké Mýto","CZ/C2","M",1,5545,"","",null,null,{"$f":"IF(ISERROR(VLOOKUP(B331,'Zebrik W'!$B$7:$L$1002,11,0)),\"\",IF(VLOOKUP(B331,'Zebrik W'!$B$7:$L$1002,11,0)=0,\"--\",VLOOKUP(B331,'Zebrik W'!$B$7:$L$1002,11,0)))","v":""}]
[326,"Vaclav Kysilka",1979,"GAC Benešov","CZ/C1","M",2,5536,"","",null,null,{"$f":"IF(ISERROR(VLOOKUP(B332,'Zebrik W'!$B$7:$L$1002,11,0)),\"\",IF(VLOOKUP(B332,'Zebrik W'!$B$7:$L$1002,11,0)=0,\"--\",VLOOKUP(B332,'Zebrik W'!$B$7:$L$1002,11,0)))","v":""}]
[327,"Matej Plch",1987,"Letkov","CZ/C1","M",2,5530,"","",null,null,{"$f":"IF(ISERROR(VLOOKUP(B333,'Zebrik W'!$B$7:$L$1002,11,0)),\"\",IF(VLOOKUP(B333,'Zebrik W'!$B$7:$L$1002,11,0)=0,\"--\",VLOOKUP(B333,'Zebrik W'!$B$7:$L$1002,11,0)))","v":""}]
[328,"Albrecht Beat",1953,"Šumperk","CZ/M","M",2,5478,"","",null,null,{"$f":"IF(ISERROR(VLOOKUP(B334,'Zebrik W'!$B$7:$L$1002,11,0)),\"\",IF(VLOOKUP(B334,'Zebrik W'!$B$7:$L$1002,11,0)=0,\"--\",VLOOKUP(B334,'Zebrik W'!$B$7:$L$1002,11,0)))","v":""}]
[329,"Zbynek Fuksa",1956,"Jičín","CZ/C2","M",1,5453,"","",null,null,{"$f":"IF(ISERROR(VLOOKUP(B335,'Zebrik W'!$B$7:$L$1002,11,0)),\"\",IF(VLOOKUP(B335,'Zebrik W'!$B$7:$L$1002,11,0)=0,\"--\",VLOOKUP(B335,'Zebrik W'!$B$7:$L$1002,11,0)))","v":""}]
[330,"Tomas Hulmak",1999,"Hosín","CZ/C1","M",1,5414,"Junior v roce 2019","Junior v roce 2020",null,null,{"$f":"IF(ISERROR(VLOOKUP(B336,'Zebrik W'!$B$7:$L$1002,11,0)),\"\",IF(VLOOKUP(B336,'Zebrik W'!$B$7:$L$1002,11,0)=0,\"--\",VLOOKUP(B336,'Zebrik W'!$B$7:$L$1002,11,0)))","v":""}]
[331,"Tomas Jiricny",1981,"Hodkovice","CZ/C2","M",1,5371,"","",null,null,{"$f":"IF(ISERROR(VLOOKUP(B337,'Zebrik W'!$B$7:$L$1002,11,0)),\"\",IF(VLOOKUP(B337,'Zebrik W'!$B$7:$L$1002,11,0)=0,\"--\",VLOOKUP(B337,'Zebrik W'!$B$7:$L$1002,11,0)))","v":""}]
[332,"Martin Zahalka",1987,"Staňkov","CZ/C1","M",1,5360,"","",null,null,{"$f":"IF(ISERROR(VLOOKUP(B338,'Zebrik W'!$B$7:$L$1002,11,0)),\"\",IF(VLOOKUP(B338,'Zebrik W'!$B$7:$L$1002,11,0)=0,\"--\",VLOOKUP(B338,'Zebrik W'!$B$7:$L$1002,11,0)))","v":""}]
[333,"Milada Moudra",1991,"Hodkovice","CZ/C2","F",2,5356,"","",null,null,{"$f":"IF(ISERROR(VLOOKUP(B339,'Zebrik W'!$B$7:$L$1002,11,0)),\"\",IF(VLOOKUP(B339,'Zebrik W'!$B$7:$L$1002,11,0)=0,\"--\",VLOOKUP(B339,'Zebrik W'!$B$7:$L$1002,11,0)))","v":"--"}]
[334,"Jan Kohout",1970,"Žamberk","CZ/C2","M",1,5348,"","",null,null,{"$f":"IF(ISERROR(VLOOKUP(B340,'Zebrik W'!$B$7:$L$1002,11,0)),\"\",IF(VLOOKUP(B340,'Zebrik W'!$B$7:$L$1002,11,0)=0,\"--\",VLOOKUP(B340,'Zebrik W'!$B$7:$L$1002,11,0)))","v":""}]
[335,"Miroslav Major",1968,"GAC Benešov","CZ/C1","M",2,5341,"","",null,null,{"$f":"IF(ISERROR(VLOOKUP(B341,'Zebrik W'!$B$7:$L$1002,11,0)),\"\",IF(VLOOKUP(B341,'Zebrik W'!$B$7:$L$1002,11,0)=0,\"--\",VLOOKUP(B341,'Zebrik W'!$B$7:$L$1002,11,0)))","v":""}]
[336,"Rostislav Broz",1968,"Vrchlabí","CZ/C2","M",2,5336,"","",null,null,{"$f":"IF(ISERROR(VLOOKUP(B342,'Zebrik W'!$B$7:$L$1002,11,0)),\"\",IF(VLOOKUP(B342,'Zebrik W'!$B$7:$L$1002,11,0)=0,\"--\",VLOOKUP(B342,'Zebrik W'!$B$7:$L$1002,11,0)))","v":""}]
[337,"Tomas Ditrt",1969,"Podhořany","CZ/C2","M",2,5137,"","",null,null,{"$f":"IF(ISERROR(VLOOKUP(B343,'Zebrik W'!$B$7:$L$1002,11,0)),\"\",IF(VLOOKUP(B343,'Zebrik W'!$B$7:$L$1002,11,0)=0,\"--\",VLOOKUP(B343,'Zebrik W'!$B$7:$L$1002,11,0)))","v":""}]
[338,"Zdenek Bohm",1963,"Kolín","CZ/C1","M",2,5085,"","",null,null,{"$f":"IF(ISERROR(VLOOKUP(B344,'Zebrik W'!$B$7:$L$1002,11,0)),\"\",IF(VLOOKUP(B344,'Zebrik W'!$B$7:$L$1002,11,0)=0,\"--\",VLOOKUP(B344,'Zebrik W'!$B$7:$L$1002,11,0)))","v":""}]
[339,"David Cisar",1987,"Křižanov","CZ/M","M",1,5077,"","",null,null,{"$f":"IF(ISERROR(VLOOKUP(B345,'Zebrik W'!$B$7:$L$1002,11,0)),\"\",IF(VLOOKUP(B345,'Zebrik W'!$B$7:$L$1002,11,0)=0,\"--\",VLOOKUP(B345,'Zebrik W'!$B$7:$L$1002,11,0)))","v":""}]
[340,"Rudolf Jung",1954,"Zbraslavice","CZ/C1","M",3,5072,"","",null,null,{"$f":"IF(ISERROR(VLOOKUP(B346,'Zebrik W'!$B$7:$L$1002,11,0)),\"\",IF(VLOOKUP(B346,'Zebrik W'!$B$7:$L$1002,11,0)=0,\"--\",VLOOKUP(B346,'Zebrik W'!$B$7:$L$1002,11,0)))","v":""}]
[341,"Antonin Pilat",1971,"Vyškov","CZ/M","M",1,5039,"","",null,null,{"$f":"IF(ISERROR(VLOOKUP(B347,'Zebrik W'!$B$7:$L$1002,11,0)),\"\",IF(VLOOKUP(B347,'Zebrik W'!$B$7:$L$1002,11,0)=0,\"--\",VLOOKUP(B347,'Zebrik W'!$B$7:$L$1002,11,0)))","v":""}]
[342,"Ivan Ladr",1940,"Dvůr Králové","CZ/C2","M",2,5038,"","",null,null,{"$f":"IF(ISERROR(VLOOKUP(B348,'Zebrik W'!$B$7:$L$1002,11,0)),\"\",IF(VLOOKUP(B348,'Zebrik W'!$B$7:$L$1002,11,0)=0,\"--\",VLOOKUP(B348,'Zebrik W'!$B$7:$L$1002,11,0)))","v":""}]
[343,"Ilja Kopacek",1943,"Jičín","CZ/C2","M",1,4994,"","",null,null,{"$f":"IF(ISERROR(VLOOKUP(B349,'Zebrik W'!$B$7:$L$1002,11,0)),\"\",IF(VLOOKUP(B349,'Zebrik W'!$B$7:$L$1002,11,0)=0,\"--\",VLOOKUP(B349,'Zebrik W'!$B$7:$L$1002,11,0)))","v":""}]
[344,"Sabina Vitova",1998,"Kroměříž","CZ/M","F",3,4921,"Junior v roce 2019","Junior v roce 2020",null,null,{"$f":"IF(ISERROR(VLOOKUP(B350,'Zebrik W'!$B$7:$L$1002,11,0)),\"\",IF(VLOOKUP(B350,'Zebrik W'!$B$7:$L$1002,11,0)=0,\"--\",VLOOKUP(B350,'Zebrik W'!$B$7:$L$1002,11,0)))","v":"--"}]
[345,"Ulf Kern",1958,"Raná","CZ/C2","M",2,4914,"","",null,null,{"$f":"IF(ISERROR(VLOOKUP(B351,'Zebrik W'!$B$7:$L$1002,11,0)),\"\",IF(VLOOKUP(B351,'Zebrik W'!$B$7:$L$1002,11,0)=0,\"--\",VLOOKUP(B351,'Zebrik W'!$B$7:$L$1002,11,0)))","v":""}]
[346,"Jan Florian",1992,"Zbraslavice","CZ/C1","M",1,4862,"","",null,null,{"$f":"IF(ISERROR(VLOOKUP(B352,'Zebrik W'!$B$7:$L$1002,11,0)),\"\",IF(VLOOKUP(B352,'Zebrik W'!$B$7:$L$1002,11,0)=0,\"--\",VLOOKUP(B352,'Zebrik W'!$B$7:$L$1002,11,0)))","v":""}]
[347,"Petr Rozhon",1972,"Hosín","CZ/C1","M",1,4827,"","",null,null,{"$f":"IF(ISERROR(VLOOKUP(B353,'Zebrik W'!$B$7:$L$1002,11,0)),\"\",IF(VLOOKUP(B353,'Zebrik W'!$B$7:$L$1002,11,0)=0,\"--\",VLOOKUP(B353,'Zebrik W'!$B$7:$L$1002,11,0)))","v":""}]
[348,"Vojtech Kostejn",1974,"Hodkovice","CZ/C2","M",1,4815,"","",null,null,{"$f":"IF(ISERROR(VLOOKUP(B354,'Zebrik W'!$B$7:$L$1002,11,0)),\"\",IF(VLOOKUP(B354,'Zebrik W'!$B$7:$L$1002,11,0)=0,\"--\",VLOOKUP(B354,'Zebrik W'!$B$7:$L$1002,11,0)))","v":""}]
[349,"Michal Coufal",1999,"Jičín","CZ/C2","M",1,4799,"Junior v roce 2019","Junior v roce 2020",null,null,{"$f":"IF(ISERROR(VLOOKUP(B355,'Zebrik W'!$B$7:$L$1002,11,0)),\"\",IF(VLOOKUP(B355,'Zebrik W'!$B$7:$L$1002,11,0)=0,\"--\",VLOOKUP(B355,'Zebrik W'!$B$7:$L$1002,11,0)))","v":""}]
[350,"Jan Sustr 76",1976,"Raná","CZ/C2","M",2,4710,"","",null,null,{"$f":"IF(ISERROR(VLOOKUP(B356,'Zebrik W'!$B$7:$L$1002,11,0)),\"\",IF(VLOOKUP(B356,'Zebrik W'!$B$7:$L$1002,11,0)=0,\"--\",VLOOKUP(B356,'Zebrik W'!$B$7:$L$1002,11,0)))","v":""}]
[351,"Monika Jiraskova",1994,"Hronov","CZ/C2","F",1,4679,"Junior v roce 2019","",null,null,{"$f":"IF(ISERROR(VLOOKUP(B357,'Zebrik W'!$B$7:$L$1002,11,0)),\"\",IF(VLOOKUP(B357,'Zebrik W'!$B$7:$L$1002,11,0)=0,\"--\",VLOOKUP(B357,'Zebrik W'!$B$7:$L$1002,11,0)))","v":"--"}]
[352,"Antonin Teichmann",1965,"Hronov","CZ/C2","M",1,4660,"","",null,null,{"$f":"IF(ISERROR(VLOOKUP(B358,'Zebrik W'!$B$7:$L$1002,11,0)),\"\",IF(VLOOKUP(B358,'Zebrik W'!$B$7:$L$1002,11,0)=0,\"--\",VLOOKUP(B358,'Zebrik W'!$B$7:$L$1002,11,0)))","v":""}]
[353,"Petr Tax",1968,"Jičín","CZ/C2","M",1,4646,"","",null,null,{"$f":"IF(ISERROR(VLOOKUP(B359,'Zebrik W'!$B$7:$L$1002,11,0)),\"\",IF(VLOOKUP(B359,'Zebrik W'!$B$7:$L$1002,11,0)=0,\"--\",VLOOKUP(B359,'Zebrik W'!$B$7:$L$1002,11,0)))","v":""}]
[354,"Michal Hemrle",1974,"Česká Lípa","CZ/C2","M",1,4454,"","",null,null,{"$f":"IF(ISERROR(VLOOKUP(B360,'Zebrik W'!$B$7:$L$1002,11,0)),\"\",IF(VLOOKUP(B360,'Zebrik W'!$B$7:$L$1002,11,0)=0,\"--\",VLOOKUP(B360,'Zebrik W'!$B$7:$L$1002,11,0)))","v":""}]
[355,"Libor Danhel",1966,"Kunovice","CZ/M","M",2,4449,"","",null,null,{"$f":"IF(ISERROR(VLOOKUP(B361,'Zebrik W'!$B$7:$L$1002,11,0)),\"\",IF(VLOOKUP(B361,'Zebrik W'!$B$7:$L$1002,11,0)=0,\"--\",VLOOKUP(B361,'Zebrik W'!$B$7:$L$1002,11,0)))","v":""}]
[356,"Tomas Jung",1950,"Zbraslavice","CZ/C1","M",2,4424,"","",null,null,{"$f":"IF(ISERROR(VLOOKUP(B362,'Zebrik W'!$B$7:$L$1002,11,0)),\"\",IF(VLOOKUP(B362,'Zebrik W'!$B$7:$L$1002,11,0)=0,\"--\",VLOOKUP(B362,'Zebrik W'!$B$7:$L$1002,11,0)))","v":""}]
[357,"Jana Krejcova",1972,"Křižanov","CZ/M","F",1,4331,"","",null,null,{"$f":"IF(ISERROR(VLOOKUP(B363,'Zebrik W'!$B$7:$L$1002,11,0)),\"\",IF(VLOOKUP(B363,'Zebrik W'!$B$7:$L$1002,11,0)=0,\"--\",VLOOKUP(B363,'Zebrik W'!$B$7:$L$1002,11,0)))","v":"--"}]
[358,"Rostislav Fric",1973,"Raná","CZ/C2","M",1,4311,"","",null,null,{"$f":"IF(ISERROR(VLOOKUP(B364,'Zebrik W'!$B$7:$L$1002,11,0)),\"\",IF(VLOOKUP(B364,'Zebrik W'!$B$7:$L$1002,11,0)=0,\"--\",VLOOKUP(B364,'Zebrik W'!$B$7:$L$1002,11,0)))","v":""}]
[359,"Jiri Lenik",1947,"Raná","CZ/C2","M",1,4285,"","",null,null,{"$f":"IF(ISERROR(VLOOKUP(B365,'Zebrik W'!$B$7:$L$1002,11,0)),\"\",IF(VLOOKUP(B365,'Zebrik W'!$B$7:$L$1002,11,0)=0,\"--\",VLOOKUP(B365,'Zebrik W'!$B$7:$L$1002,11,0)))","v":""}]
[360,"Jan Podhrazsky",1976,"Šumperk","CZ/M","M",1,4243,"","",null,null,{"$f":"IF(ISERROR(VLOOKUP(B366,'Zebrik W'!$B$7:$L$1002,11,0)),\"\",IF(VLOOKUP(B366,'Zebrik W'!$B$7:$L$1002,11,0)=0,\"--\",VLOOKUP(B366,'Zebrik W'!$B$7:$L$1002,11,0)))","v":""}]
[361,"Roman Michalek",1974,"Toužim","CZ/C1","M",3,4238,"","",null,null,{"$f":"IF(ISERROR(VLOOKUP(B367,'Zebrik W'!$B$7:$L$1002,11,0)),\"\",IF(VLOOKUP(B367,'Zebrik W'!$B$7:$L$1002,11,0)=0,\"--\",VLOOKUP(B367,'Zebrik W'!$B$7:$L$1002,11,0)))","v":""}]
[362,"Jan Horky",1968,"Medlánky","CZ/M","M",3,4225,"","",null,null,{"$f":"IF(ISERROR(VLOOKUP(B368,'Zebrik W'!$B$7:$L$1002,11,0)),\"\",IF(VLOOKUP(B368,'Zebrik W'!$B$7:$L$1002,11,0)=0,\"--\",VLOOKUP(B368,'Zebrik W'!$B$7:$L$1002,11,0)))","v":""}]
[363,"Petr Brezina",1963,"Frýdlant","CZ/M","M",2,4200,"","",null,null,{"$f":"IF(ISERROR(VLOOKUP(B369,'Zebrik W'!$B$7:$L$1002,11,0)),\"\",IF(VLOOKUP(B369,'Zebrik W'!$B$7:$L$1002,11,0)=0,\"--\",VLOOKUP(B369,'Zebrik W'!$B$7:$L$1002,11,0)))","v":""}]
[364,"Petr Malcek",1965,"Letňany","CZ/C1","M",2,4187,"","",null,null,{"$f":"IF(ISERROR(VLOOKUP(B370,'Zebrik W'!$B$7:$L$1002,11,0)),\"\",IF(VLOOKUP(B370,'Zebrik W'!$B$7:$L$1002,11,0)=0,\"--\",VLOOKUP(B370,'Zebrik W'!$B$7:$L$1002,11,0)))","v":""}]
[365,"Josef Kreutzer",1992,"Letkov","CZ/C1","M",1,4165,"","",null,null,{"$f":"IF(ISERROR(VLOOKUP(B371,'Zebrik W'!$B$7:$L$1002,11,0)),\"\",IF(VLOOKUP(B371,'Zebrik W'!$B$7:$L$1002,11,0)=0,\"--\",VLOOKUP(B371,'Zebrik W'!$B$7:$L$1002,11,0)))","v":""}]
[366,"Roman Stoklasa",1984,"Medlánky","CZ/M","M",1,4154,"","",null,null,{"$f":"IF(ISERROR(VLOOKUP(B372,'Zebrik W'!$B$7:$L$1002,11,0)),\"\",IF(VLOOKUP(B372,'Zebrik W'!$B$7:$L$1002,11,0)=0,\"--\",VLOOKUP(B372,'Zebrik W'!$B$7:$L$1002,11,0)))","v":""}]
[367,"Lubomir Doupal",1975,"Krnov","CZ/M","M",2,4138,"","",null,null,{"$f":"IF(ISERROR(VLOOKUP(B373,'Zebrik W'!$B$7:$L$1002,11,0)),\"\",IF(VLOOKUP(B373,'Zebrik W'!$B$7:$L$1002,11,0)=0,\"--\",VLOOKUP(B373,'Zebrik W'!$B$7:$L$1002,11,0)))","v":""}]
[368,"Kristina Santruckova",1996,"Podhořany","CZ/C2","F",2,4011,"Junior v roce 2019","Junior v roce 2020",null,null,{"$f":"IF(ISERROR(VLOOKUP(B374,'Zebrik W'!$B$7:$L$1002,11,0)),\"\",IF(VLOOKUP(B374,'Zebrik W'!$B$7:$L$1002,11,0)=0,\"--\",VLOOKUP(B374,'Zebrik W'!$B$7:$L$1002,11,0)))","v":"--"}]
[369,"Martin Svacina",1965,"Frýdlant","CZ/M","M",3,3990,"","",null,null,{"$f":"IF(ISERROR(VLOOKUP(B375,'Zebrik W'!$B$7:$L$1002,11,0)),\"\",IF(VLOOKUP(B375,'Zebrik W'!$B$7:$L$1002,11,0)=0,\"--\",VLOOKUP(B375,'Zebrik W'!$B$7:$L$1002,11,0)))","v":""}]
[370,"Jiri Tomicek",1947,"Dvůr Králové","CZ/C2","M",2,3947,"","",null,null,{"$f":"IF(ISERROR(VLOOKUP(B376,'Zebrik W'!$B$7:$L$1002,11,0)),\"\",IF(VLOOKUP(B376,'Zebrik W'!$B$7:$L$1002,11,0)=0,\"--\",VLOOKUP(B376,'Zebrik W'!$B$7:$L$1002,11,0)))","v":""}]
[371,"Jan Pokluda",1973,"Šumperk","CZ/M","M",2,3937,"","",null,null,{"$f":"IF(ISERROR(VLOOKUP(B377,'Zebrik W'!$B$7:$L$1002,11,0)),\"\",IF(VLOOKUP(B377,'Zebrik W'!$B$7:$L$1002,11,0)=0,\"--\",VLOOKUP(B377,'Zebrik W'!$B$7:$L$1002,11,0)))","v":""}]
[372,"Dusan Sys",1977,"Šumperk","CZ/M","M",2,3878,"","",null,null,{"$f":"IF(ISERROR(VLOOKUP(B378,'Zebrik W'!$B$7:$L$1002,11,0)),\"\",IF(VLOOKUP(B378,'Zebrik W'!$B$7:$L$1002,11,0)=0,\"--\",VLOOKUP(B378,'Zebrik W'!$B$7:$L$1002,11,0)))","v":""}]
[373,"Jan Pubec",1979,"Plzeň Bory","CZ/C1","M",1,3820,"","",null,null,{"$f":"IF(ISERROR(VLOOKUP(B379,'Zebrik W'!$B$7:$L$1002,11,0)),\"\",IF(VLOOKUP(B379,'Zebrik W'!$B$7:$L$1002,11,0)=0,\"--\",VLOOKUP(B379,'Zebrik W'!$B$7:$L$1002,11,0)))","v":""}]
[374,"Michaela Sirmerova",2000,"Jihlava","CZ/M","F",1,3808,"Junior v roce 2019","Junior v roce 2020",null,null,{"$f":"IF(ISERROR(VLOOKUP(B380,'Zebrik W'!$B$7:$L$1002,11,0)),\"\",IF(VLOOKUP(B380,'Zebrik W'!$B$7:$L$1002,11,0)=0,\"--\",VLOOKUP(B380,'Zebrik W'!$B$7:$L$1002,11,0)))","v":"--"}]
[375,"Jaroslav Kacer",1978,"Raná","CZ/C2","M",1,3796,"","",null,null,{"$f":"IF(ISERROR(VLOOKUP(B381,'Zebrik W'!$B$7:$L$1002,11,0)),\"\",IF(VLOOKUP(B381,'Zebrik W'!$B$7:$L$1002,11,0)=0,\"--\",VLOOKUP(B381,'Zebrik W'!$B$7:$L$1002,11,0)))","v":""}]
[376,"Bedrich Honzicek",1972,"Letňany","CZ/C1","M",1,3790,"","",null,null,{"$f":"IF(ISERROR(VLOOKUP(B382,'Zebrik W'!$B$7:$L$1002,11,0)),\"\",IF(VLOOKUP(B382,'Zebrik W'!$B$7:$L$1002,11,0)=0,\"--\",VLOOKUP(B382,'Zebrik W'!$B$7:$L$1002,11,0)))","v":""}]
[377,"Jiri Cincera",1966,"Toužim","CZ/C1","M",1,3698,"","",null,null,{"$f":"IF(ISERROR(VLOOKUP(B383,'Zebrik W'!$B$7:$L$1002,11,0)),\"\",IF(VLOOKUP(B383,'Zebrik W'!$B$7:$L$1002,11,0)=0,\"--\",VLOOKUP(B383,'Zebrik W'!$B$7:$L$1002,11,0)))","v":""}]
[378,"Tomas Ondrusek",1994,"Letkov","CZ/C1","M",1,3676,"Junior v roce 2019","",null,null,{"$f":"IF(ISERROR(VLOOKUP(B384,'Zebrik W'!$B$7:$L$1002,11,0)),\"\",IF(VLOOKUP(B384,'Zebrik W'!$B$7:$L$1002,11,0)=0,\"--\",VLOOKUP(B384,'Zebrik W'!$B$7:$L$1002,11,0)))","v":""}]
[379,"Stanislav John",1974,"Hosín","CZ/C1","M",1,3599,"","",null,null,{"$f":"IF(ISERROR(VLOOKUP(B385,'Zebrik W'!$B$7:$L$1002,11,0)),\"\",IF(VLOOKUP(B385,'Zebrik W'!$B$7:$L$1002,11,0)=0,\"--\",VLOOKUP(B385,'Zebrik W'!$B$7:$L$1002,11,0)))","v":""}]
[380,"Petr Kolacek",1965,"Šumperk","CZ/M","M",1,3585,"","",null,null,{"$f":"IF(ISERROR(VLOOKUP(B386,'Zebrik W'!$B$7:$L$1002,11,0)),\"\",IF(VLOOKUP(B386,'Zebrik W'!$B$7:$L$1002,11,0)=0,\"--\",VLOOKUP(B386,'Zebrik W'!$B$7:$L$1002,11,0)))","v":""}]
[381,"Karel Ertl",1939,"LK Břeclav","CZ/M","M",3,3578,"","",null,null,{"$f":"IF(ISERROR(VLOOKUP(B387,'Zebrik W'!$B$7:$L$1002,11,0)),\"\",IF(VLOOKUP(B387,'Zebrik W'!$B$7:$L$1002,11,0)=0,\"--\",VLOOKUP(B387,'Zebrik W'!$B$7:$L$1002,11,0)))","v":""}]
[382,"Tomas Seifert",1972,"Raná","CZ/C2","M",1,3556,"","",null,null,{"$f":"IF(ISERROR(VLOOKUP(B388,'Zebrik W'!$B$7:$L$1002,11,0)),\"\",IF(VLOOKUP(B388,'Zebrik W'!$B$7:$L$1002,11,0)=0,\"--\",VLOOKUP(B388,'Zebrik W'!$B$7:$L$1002,11,0)))","v":""}]
[383,"Jiri Hodan",1959,"Zbraslavice","CZ/C1","M",2,3466,"","",null,null,{"$f":"IF(ISERROR(VLOOKUP(B389,'Zebrik W'!$B$7:$L$1002,11,0)),\"\",IF(VLOOKUP(B389,'Zebrik W'!$B$7:$L$1002,11,0)=0,\"--\",VLOOKUP(B389,'Zebrik W'!$B$7:$L$1002,11,0)))","v":""}]
[384,"Pavel Sulc",1976,"Hodkovice","CZ/C2","M",1,3461,"","",null,null,{"$f":"IF(ISERROR(VLOOKUP(B390,'Zebrik W'!$B$7:$L$1002,11,0)),\"\",IF(VLOOKUP(B390,'Zebrik W'!$B$7:$L$1002,11,0)=0,\"--\",VLOOKUP(B390,'Zebrik W'!$B$7:$L$1002,11,0)))","v":""}]
[385,"Lukas Zemek",1994,"Letkov","CZ/C1","M",1,3323,"Junior v roce 2019","",null,null,{"$f":"IF(ISERROR(VLOOKUP(B391,'Zebrik W'!$B$7:$L$1002,11,0)),\"\",IF(VLOOKUP(B391,'Zebrik W'!$B$7:$L$1002,11,0)=0,\"--\",VLOOKUP(B391,'Zebrik W'!$B$7:$L$1002,11,0)))","v":""}]
[{"$f":"RANK(H392,H:H)","v":386},"Jiri Suchomel",1950,"Broumov","CZ/C2","M",1,3295,{"$f":"IF(C392=\"(prázdné)\",\"\",IF(($I$4-C392)>25,\"\",\"Junior v roce \"&$I$4))","v":""},{"$f":"IF(C392=\"(prázdné)\",\"\",IF(($J$4-C392)>25,\"\",\"Junior v roce \"&$J$4))","v":""},null,null,{"$f":"IF(ISERROR(VLOOKUP(B392,'Zebrik W'!$B$7:$L$1002,11,0)),\"\",IF(VLOOKUP(B392,'Zebrik W'!$B$7:$L$1002,11,0)=0,\"--\",VLOOKUP(B392,'Zebrik W'!$B$7:$L$1002,11,0)))","v":""}]
[386,"Jiri Maier 99",1999,"Raná","CZ/C2","M",1,3295,"Junior v roce 2019","Junior v roce 2020",null,null,{"$f":"IF(ISERROR(VLOOKUP(B393,'Zebrik W'!$B$7:$L$1002,11,0)),\"\",IF(VLOOKUP(B393,'Zebrik W'!$B$7:$L$1002,11,0)=0,\"--\",VLOOKUP(B393,'Zebrik W'!$B$7:$L$1002,11,0)))","v":""}]
[388,"Ales Vyhnal",1989,"Kralupy","CZ/C1","M",1,3279,"","",null,null,{"$f":"IF(ISERROR(VLOOKUP(B394,'Zebrik W'!$B$7:$L$1002,11,0)),\"\",IF(VLOOKUP(B394,'Zebrik W'!$B$7:$L$1002,11,0)=0,\"--\",VLOOKUP(B394,'Zebrik W'!$B$7:$L$1002,11,0)))","v":""}]
[389,"Karel Lang",1967,"Medlánky","CZ/M","M",1,3213,"","",null,null,{"$f":"IF(ISERROR(VLOOKUP(B395,'Zebrik W'!$B$7:$L$1002,11,0)),\"\",IF(VLOOKUP(B395,'Zebrik W'!$B$7:$L$1002,11,0)=0,\"--\",VLOOKUP(B395,'Zebrik W'!$B$7:$L$1002,11,0)))","v":""}]
[390,"Lukas Jezek",1975,"Jičín","CZ/C2","M",1,3109,"","",null,null,{"$f":"IF(ISERROR(VLOOKUP(B396,'Zebrik W'!$B$7:$L$1002,11,0)),\"\",IF(VLOOKUP(B396,'Zebrik W'!$B$7:$L$1002,11,0)=0,\"--\",VLOOKUP(B396,'Zebrik W'!$B$7:$L$1002,11,0)))","v":""}]
[391,"Jiri Vokrinek",1965,"Hodkovice","CZ/C2","M",1,3071,"","",null,null,{"$f":"IF(ISERROR(VLOOKUP(B397,'Zebrik W'!$B$7:$L$1002,11,0)),\"\",IF(VLOOKUP(B397,'Zebrik W'!$B$7:$L$1002,11,0)=0,\"--\",VLOOKUP(B397,'Zebrik W'!$B$7:$L$1002,11,0)))","v":""}]
[392,"Michal Vopalensky",1974,"Letňany","CZ/C1","M",1,3051,"","",null,null,{"$f":"IF(ISERROR(VLOOKUP(B398,'Zebrik W'!$B$7:$L$1002,11,0)),\"\",IF(VLOOKUP(B398,'Zebrik W'!$B$7:$L$1002,11,0)=0,\"--\",VLOOKUP(B398,'Zebrik W'!$B$7:$L$1002,11,0)))","v":""}]
[393,"Jaroslav Potmesil",1964,"Zbraslavice","CZ/C1","M",1,3038,"","",null,null,{"$f":"IF(ISERROR(VLOOKUP(B399,'Zebrik W'!$B$7:$L$1002,11,0)),\"\",IF(VLOOKUP(B399,'Zebrik W'!$B$7:$L$1002,11,0)=0,\"--\",VLOOKUP(B399,'Zebrik W'!$B$7:$L$1002,11,0)))","v":""}]
[394,"Radim Hahn",1972,"Zábřeh","CZ/M","M",1,3034,"","",null,null,{"$f":"IF(ISERROR(VLOOKUP(B400,'Zebrik W'!$B$7:$L$1002,11,0)),\"\",IF(VLOOKUP(B400,'Zebrik W'!$B$7:$L$1002,11,0)=0,\"--\",VLOOKUP(B400,'Zebrik W'!$B$7:$L$1002,11,0)))","v":""}]
[395,"Vladimir Fousek",1964,"Raná","CZ/C2","M",2,3030,"","",null,null,{"$f":"IF(ISERROR(VLOOKUP(B401,'Zebrik W'!$B$7:$L$1002,11,0)),\"\",IF(VLOOKUP(B401,'Zebrik W'!$B$7:$L$1002,11,0)=0,\"--\",VLOOKUP(B401,'Zebrik W'!$B$7:$L$1002,11,0)))","v":""}]
[396,"Petr Jedlicka",1987,"Medlánky","CZ/M","M",1,2945,"","",null,null,{"$f":"IF(ISERROR(VLOOKUP(B402,'Zebrik W'!$B$7:$L$1002,11,0)),\"\",IF(VLOOKUP(B402,'Zebrik W'!$B$7:$L$1002,11,0)=0,\"--\",VLOOKUP(B402,'Zebrik W'!$B$7:$L$1002,11,0)))","v":""}]
[397,"Pavel Foldyna",1976,"Frýdlant","CZ/M","M",2,2944,"","",null,null,{"$f":"IF(ISERROR(VLOOKUP(B403,'Zebrik W'!$B$7:$L$1002,11,0)),\"\",IF(VLOOKUP(B403,'Zebrik W'!$B$7:$L$1002,11,0)=0,\"--\",VLOOKUP(B403,'Zebrik W'!$B$7:$L$1002,11,0)))","v":""}]
[398,"Jaroslav Hot",1965,"Toužim","CZ/C1","M",1,2930,"","",null,null,{"$f":"IF(ISERROR(VLOOKUP(B404,'Zebrik W'!$B$7:$L$1002,11,0)),\"\",IF(VLOOKUP(B404,'Zebrik W'!$B$7:$L$1002,11,0)=0,\"--\",VLOOKUP(B404,'Zebrik W'!$B$7:$L$1002,11,0)))","v":""}]
[399,"Tomas Flegl",1987,"Hodkovice","CZ/C2","M",1,2914,"","",null,null,{"$f":"IF(ISERROR(VLOOKUP(B405,'Zebrik W'!$B$7:$L$1002,11,0)),\"\",IF(VLOOKUP(B405,'Zebrik W'!$B$7:$L$1002,11,0)=0,\"--\",VLOOKUP(B405,'Zebrik W'!$B$7:$L$1002,11,0)))","v":""}]
[400,"Jan Zanda",1983,"Letkov","CZ/C1","M",1,2802,"","",null,null,{"$f":"IF(ISERROR(VLOOKUP(B406,'Zebrik W'!$B$7:$L$1002,11,0)),\"\",IF(VLOOKUP(B406,'Zebrik W'!$B$7:$L$1002,11,0)=0,\"--\",VLOOKUP(B406,'Zebrik W'!$B$7:$L$1002,11,0)))","v":""}]
[401,"Tomas Ondrisek",1970,"Kunovice","CZ/M","M",1,2635,"","",null,null,{"$f":"IF(ISERROR(VLOOKUP(B407,'Zebrik W'!$B$7:$L$1002,11,0)),\"\",IF(VLOOKUP(B407,'Zebrik W'!$B$7:$L$1002,11,0)=0,\"--\",VLOOKUP(B407,'Zebrik W'!$B$7:$L$1002,11,0)))","v":""}]
[402,"Daniela Frankova",1997,"Hořice","CZ/C2","M",1,2490,"Junior v roce 2019","Junior v roce 2020",null,null,{"$f":"IF(ISERROR(VLOOKUP(B408,'Zebrik W'!$B$7:$L$1002,11,0)),\"\",IF(VLOOKUP(B408,'Zebrik W'!$B$7:$L$1002,11,0)=0,\"--\",VLOOKUP(B408,'Zebrik W'!$B$7:$L$1002,11,0)))","v":""}]
[403,"Vladimir Abraham",1962,"Raná","CZ/C2","M",1,2447,"","",null,null,{"$f":"IF(ISERROR(VLOOKUP(B409,'Zebrik W'!$B$7:$L$1002,11,0)),\"\",IF(VLOOKUP(B409,'Zebrik W'!$B$7:$L$1002,11,0)=0,\"--\",VLOOKUP(B409,'Zebrik W'!$B$7:$L$1002,11,0)))","v":""}]
[404,"Stanislav Doskocil",1978,"Medlánky","CZ/M","M",1,2420,"","",null,null,{"$f":"IF(ISERROR(VLOOKUP(B410,'Zebrik W'!$B$7:$L$1002,11,0)),\"\",IF(VLOOKUP(B410,'Zebrik W'!$B$7:$L$1002,11,0)=0,\"--\",VLOOKUP(B410,'Zebrik W'!$B$7:$L$1002,11,0)))","v":""}]
[405,"Zuzana Markesova",2001,"Medlánky","CZ/M","F",1,2409,"Junior v roce 2019","Junior v roce 2020",null,null,{"$f":"IF(ISERROR(VLOOKUP(B411,'Zebrik W'!$B$7:$L$1002,11,0)),\"\",IF(VLOOKUP(B411,'Zebrik W'!$B$7:$L$1002,11,0)=0,\"--\",VLOOKUP(B411,'Zebrik W'!$B$7:$L$1002,11,0)))","v":"--"}]
[406,"Jan Zdvorak",1980,"Roudnice","CZ/C2","M",1,2400,"","",null,null,{"$f":"IF(ISERROR(VLOOKUP(B412,'Zebrik W'!$B$7:$L$1002,11,0)),\"\",IF(VLOOKUP(B412,'Zebrik W'!$B$7:$L$1002,11,0)=0,\"--\",VLOOKUP(B412,'Zebrik W'!$B$7:$L$1002,11,0)))","v":""}]
[407,"Petr Hrebec",1972,"Točná","CZ/C1","M",1,2399,"",""]
[408,"Milos Hrabe",1979,"Letňany","CZ/C1","M",1,2338,"",""]
[409,"Milos Eichler",1964,"Dvůr Králové","CZ/C2","M",1,2331,"",""]
[410,"Radim Zielinski",1969,"Frýdlant","CZ/M","M",1,2294,"",""]
[411,"Miroslav Mancik",1976,"Kyjov","CZ/M","M",1,2287,"",""]
[412,"Teodor Skoda",1998,"Hronov","CZ/C2","M",1,2256,"Junior v roce 2019","Junior v roce 2020"]
[413,"Josef Mezera",1951,"Raná","CZ/C2","M",1,2247,"",""]
[414,"Jan Konecny",1972,"Rakovník","CZ/C1","M",1,2226,"",""]
[415,"Radek Laga",1997,"Kunovice","CZ/M","M",1,2177,"Junior v roce 2019","Junior v roce 2020"]
[416,"Tereza Jirsakova",1997,"Hronov","CZ/C2","F",1,2173,"Junior v roce 2019","Junior v roce 2020"]
[417,"Jiri Donat",1983,"Chrudim","CZ/C2","M",2,2170,"",""]
[418,"Miroslav Trybucek",1965,"Jičín","CZ/C2","M",1,2141,"",""]
[419,"Pavel Laznicka",1955,"Letňany","CZ/C1","M",1,2123,"",""]
[420,"David Rozporka",1994,"Hronov","CZ/C2","M",1,2120,"Junior v roce 2019",""]
[421,"Ladislav Krecbach",1985,"Jaroměř","CZ/C2","M",1,2111,"",""]
[422,"Martin Kozina",1970,"Křižanov","CZ/M","M",1,2105,"",""]
[423,"Petr Kapounek",1977,"Kroměříž","CZ/M","M",1,2069,"",""]
[424,"Jan Repka",1959,"Liberec","CZ/C2","M",2,2065,"",""]
[425,"Petr Kolomaznik",1981,"Šumperk","CZ/M","M",1,2064,"",""]
[426,"Antonin Bordovsky",1951,"Krnov","CZ/M","M",1,2016,"",""]
[427,"Zbynek Bican",1961,"Raná","CZ/C2","M",1,2004,"",""]
[428,"Petr Kubik 75",1975,"Moravská Třebová","CZ/M","M",1,1838,"",""]
[429,"Jaroslav Tyls",1941,"Hronov","CZ/C2","M",1,1823,"",""]
[430,"Frantisek Sindelar",1954,"Kralupy","CZ/C1","M",1,1815,"",""]
[431,"Milos Rejzl",1962,"Klatovy","CZ/C1","M",1,1800,"",""]
[432,"Karel Stach",1963,"Letňany","CZ/C1","M",1,1783,"",""]
[433,"David Londa",1973,"Mladá Boleslav","CZ/C1","M",2,1731,"",""]
[434,"Christof Madory",1958,"Šumperk","CZ/M","M",1,1703,"",""]
[435,"Frantisek Brozman",1960,"Tachov","CZ/C1","M",1,1675,"",""]
[436,"Pavel Svrcek",1972,"Frýdlant","CZ/M","M",2,1632,"",""]
[437,"Ales Holoubek",1966,"Jičín","CZ/C2","M",1,1607,"",""]
[438,"Michal Sebek",1998,"Letňany","CZ/C1","M",1,1603,"Junior v roce 2019","Junior v roce 2020"]
[439,"Michal Richter",1983,"Kolín","CZ/C1","M",1,1592,"",""]
[440,"Petr Sloupensky",1959,"Ústí nad Orlicí","CZ/C2","M",1,1547,"",""]
[441,"Jaroslav Nedorost",1986,"Letňany","CZ/C1","M",1,1444,"",""]
[442,"Bohus Marcinik",1947,"Příbram","CZ/C1","M",1,1377,"",""]
[443,"Petr Filip",1982,"Zbraslavice","CZ/C1","M",1,1336,"",""]
[444,"Lubor Sobek",1979,"Frýdlant","CZ/M","M",1,1333,"",""]
[444,"Radim Hauptmann",1963,"Jičín","CZ/C2","M",1,1333,"",""]
[446,"Lubos Florian",1966,"Jičín","CZ/C2","M",1,1289,"",""]
[447,"Martin Marek",1967,"Roudnice","CZ/C2","M",1,1200,"",""]
[447,"Martin Vana",1979,"Mladá Boleslav","CZ/C1","M",1,1200,"",""]
[449,"Petr Kejr",1959,"Kralupy","CZ/C1","M",1,1188,"",""]
[{"$f":"RANK(H456,H:H)","v":450},"Petr Cernicky",1974,"Toužim","CZ/C1","M",1,1151,{"$f":"IF(C456=\"(prázdné)\",\"\",IF(($I$4-C456)>25,\"\",\"Junior v roce \"&$I$4))","v":""},{"$f":"IF(C456=\"(prázdné)\",\"\",IF(($J$4-C456)>25,\"\",\"Junior v roce \"&$J$4))","v":""}]
[451,"Petra Retamozova",1990,"Kralupy","CZ/C1","F",1,1094,"",""]
[452,"Jaroslav Palicka",1992,"Frýdlant","CZ/M","M",1,1022,"",""]
[453,"Martin Novak",1976,"Slaný","CZ/C1","M",1,1009,"",""]
[454,"Petr Kyzivat",1970,"Jičín","CZ/C2","M",1,1000,"",""]
[455,"Jan Terrich",1978,"Liberec","CZ/C2","M",1,956,"",""]
[456,"Petr Baros",1974,"Hranice","CZ/M","M",1,892,"",""]
[457,"Vladimir Hampl",1970,"Dvůr Králové","CZ/C2","M",2,889,"",""]
[458,"Vaclav Halek",1966,"Toužim","CZ/C1","M",1,698,"",""]
[459,"Petr Gryc",1949,"Medlánky","CZ/M","M",2,658,"",""]
[460,"Jan Dersak 92",1992,"Kralupy","CZ/C1","M",1,592,"",""]
[461,"Michal Fortik",1976,"Točná","CZ/C1","M",1,404,"",""]
[462,"Petr Zajic",1962,"Liberec","CZ/C2","M",1,365,"",""]
[463,"Jan Turek",1987,"Toužim","CZ/C1","M",1,137,"",""]
[]
[]
[{"$f":"Soutez!A155","v":"Schváleno Plachtařskou komisí AeČR dne 4.11.2018 ve Vysokém Mýtě"}]

{"sheet":"Zebrik W","index":7,"n_rows":44,"n_cols":13,"rows_kept":44,"cut":false,"hidden":false,"merged":[]}
[null,{"$f":"\"Ženský Žebřík pilotek plachtařek PK AeČR \"&A6","v":"Ženský Žebřík pilotek plachtařek PK AeČR 2018"},null,null,null,null,{"$f":"'Zebrik G'!G1","v":"2018-10-28"},"Rev.",{"$f":"'Zebrik G'!I1","v":"01"},{"$f":"'Zebrik G'!J1","v":"Upravené koeficienty soutěží"}]
[]
[null,"W","x",null,null,null,null,null,"Juniorka v roce:","Juniorka v roce:",{"$f":"\"W Repre družstvo \"&I4","v":"W Repre družstvo 2019"},{"$f":"\"W Repre výběr \"&I4","v":"W Repre výběr 2019"},"Poznámka"]
[null,null,null,null,null,null,null,null,{"$f":"A6+1","v":2019},{"$f":"A6+2","v":2020},"(WRD)","(WRV)"]
["Pořadí",null,null,null,null,null,"Data",null,{"$f":"COUNTIF(I7:I499,\"Juniorka v roce \"&$I$4)","v":8},{"$f":"COUNTIF(J7:J499,\"Juniorka v roce \"&$J$4)","v":6},{"$f":"COUNTIF(K7:K499,\"WRD \"&$I$4)","v":0},{"$f":"COUNTIF(L7:L499,\"WRV \"&$I$4)","v":9},{"$f":"COUNTIF(M7:M499,\"<>\")","v":0}]
[{"$f":"'Zebrik G'!A6","v":2018},"Jméno","Rok narození","Aeroklub","Region","M/F","Počet W","Součet z Bi×Kn"]
[{"$f":"RANK(H7,H:H)","v":1},"Jana Veprekova",1961,"Dvůr Králové","CZ/C2","F",3,28282,{"$f":"IF(C7=\"(prázdné)\",\"\",IF(($I$4-C7)>25,\"\",\"Juniorka v roce \"&$I$4))","v":""},{"$f":"IF(C7=\"(prázdné)\",\"\",IF(($J$4-C7)>25,\"\",\"Juniorka v roce \"&$J$4))","v":""},"RD 2019","WRV 2019"]
[2,"Dana Novakova",1965,"Mladá Boleslav","CZ/C1","F",3,27005,{"$f":"IF(C8=\"(prázdné)\",\"\",IF(($I$4-C8)>25,\"\",\"Juniorka v roce \"&$I$4))","v":""},{"$f":"IF(C8=\"(prázdné)\",\"\",IF(($J$4-C8)>25,\"\",\"Juniorka v roce \"&$J$4))","v":""},"RD 2019","WRV 2019"]
[3,"Alena Netusilova",1970,"Zbraslavice","CZ/C1","F",3,26790,"","","RD 2019","WRV 2019"]
[4,"Hana Treslova",1991,"Raná","CZ/C2","F",3,26439,"","","RD 2019","WRV 2019"]
[5,"Klara Teichmannova",1993,"Hronov","CZ/C2","F",3,26283,"","","RD 2019","WRV 2019"]
[6,"Barbora Moravcova",1994,"Zbraslavice","CZ/C1","F",3,24573,"Juniorka v roce 2019","","RD 2019","WRV 2019"]
[7,"Jana Treslova",1963,"Raná","CZ/C2","F",3,24325,"","","RD 2019","WRV 2019"]
[8,"Petra Piskata",1989,"Hranice","CZ/M","F",3,23552,"","","RD 2019","WRV 2019"]
[9,"Lenka Kuthanova",1960,"LK Břeclav","CZ/M","F",3,23033,"","","RD 2019","WRV 2019"]
[10,"Anna Hajkova",1989,"Mladá Boleslav","CZ/C1","F",3,20248,"",""]
[11,"Pavlina Horackova",1965,"Šumperk","CZ/M","F",3,19846,"",""]
[12,"Eva Cerna",1964,"Příbram","CZ/C1","F",3,18981,"",""]
[13,"Katerina Vojtova",1983,"Slaný","CZ/C1","F",3,13083,"",""]
[14,"Barbora Kubickova",1993,"Medlánky","CZ/M","F",3,12394,"",""]
[15,"Sarka Lochova",1966,"Šumperk","CZ/M","F",3,10830,"",""]
[16,"Tereza Koubkova",1999,"Letňany","CZ/C1","F",2,10213,"Juniorka v roce 2019","Juniorka v roce 2020"]
[17,"Radmila Horacek Filakovska",1963,"Dvůr Králové","CZ/C2","F",3,8838,"",""]
[18,"Olga Mokosova",1970,"Jihlava","CZ/M","F",3,8503,"",""]
[19,"Yvona Vyhnankova",1963,"Olomouc","CZ/M","F",3,8396,"",""]
[20,"Linda Vasatova",1990,"Mladá Boleslav","CZ/C1","F",2,8093,"",""]
[21,"Veronika Ambrozova",1984,"Křižanov","CZ/M","F",2,7942,"",""]
[22,"Petra Diepoldova",1978,"Vysoké Mýto","CZ/C2","F",3,7869,"",""]
[23,"Zuzana Kutilkova",1993,"Křižanov","CZ/M","F",3,7554,"",""]
[24,"Jana Mezerova",1975,"Raná","CZ/C2","F",3,7516,"",""]
[25,"Jarmila Zatykova",1959,"Kralupy","CZ/C1","F",3,6221,"",""]
[26,"Tereza Novakova",1993,"Chrudim","CZ/C2","F",3,5958,"",""]
[27,"Milada Moudra",1991,"Hodkovice","CZ/C2","F",2,5356,"",""]
[28,"Sabina Vitova",1998,"Kroměříž","CZ/M","F",3,4921,"Juniorka v roce 2019","Juniorka v roce 2020"]
[29,"Monika Jiraskova",1994,"Hronov","CZ/C2","F",1,4679,"Juniorka v roce 2019",""]
[30,"Jana Krejcova",1972,"Křižanov","CZ/M","F",1,4331,"",""]
[31,"Kristina Santruckova",1996,"Podhořany","CZ/C2","F",2,4011,"Juniorka v roce 2019","Juniorka v roce 2020"]
[32,"Michaela Sirmerova",2000,"Jihlava","CZ/M","F",1,3808,"Juniorka v roce 2019","Juniorka v roce 2020"]
[33,"Zuzana Markesova",2001,"Medlánky","CZ/M","F",1,2409,"Juniorka v roce 2019","Juniorka v roce 2020"]
[34,"Tereza Jirsakova",1997,"Hronov","CZ/C2","F",1,2173,"Juniorka v roce 2019","Juniorka v roce 2020"]
[35,"Petra Retamozova",1990,"Kralupy","CZ/C1","F",1,1094,"",""]
[]
[]
[{"$f":"Soutez!A155","v":"Schváleno Plachtařskou komisí AeČR dne 4.11.2018 ve Vysokém Mýtě"}]

{"sheet":"KB PMRg 2016","index":8,"n_rows":57,"n_cols":14,"rows_kept":57,"cut":false,"hidden":false,"merged":[[0,0,0,12]]}
["PMRg 2016 - Zbraslavice - Korigované body"]
["Pořadí v KB","Jméno","Rok narození","Aeroklub","Region","Soutěž","Pořadí ve třídě","Body ve třídě","Max. B ve třídě","Bi","Typ","CN","M/F","Junior"]
[{"$f":"RANK(J3,J:J)","v":1},"Pavel Trybenekr",1990,"Hořice","CZ/C2","PMRg 2016 - Klub",1,5330,5330,10000,"LS 4","PF","M",""]
[1,"Petr Tichý",1973,"Zbraslavice","CZ/C1","PMRg 2016 - Kombi",1,5070,5070,10000,"ASG-29E 18m 600kg","AJ","M",""]
[3,"Jaroslav Tomaňa",1975,"Zbraslavice","CZ/C1","PMRg 2016 - Klub",2,5183,5330,9724,"Std. Cirrus","SN","M",""]
[4,"Petr Krejčiřík",1960,"Hranice","CZ/M","PMRg 2016 - Kombi",2,4876,5070,9617,"JS-1C EVO 18m","AX","M",""]
[5,"Jan Koťan",1982,"Letňany","CZ/C1","PMRg 2016 - Klub",3,5084,5330,9538,"ASW-19B","WT","M",""]
[6,"Jan Horák",1971,"Zbraslavice","CZ/C1","PMRg 2016 - Klub",4,4920,5330,9231,"ASW-15B","TX","M",""]
[7,"Ondřej Šindelář",1979,"Mladá Boleslav","CZ/C1","PMRg 2016 - Klub",5,4904,5330,9201,"ASW-19B","OI","M",""]
[8,"Jana Vepřeková",1961,"Dvůr Králové","CZ/C2","PMRg 2016 - Kombi",3,4549,5070,8972,"LS-8b 15m","W8","F",""]
[9,"Lukáš Plocek",1990,"Mladá Boleslav","CZ/C1","PMRg 2016 - Klub",6,4651,5330,8726,"ASW-15B","MB","M",""]
[10,"Dana Nováková",1965,"Mladá Boleslav","CZ/C1","PMRg 2016 - Kombi",4,4418,5070,8714,"LS-8b 15m","FX","F",""]
[11,"Jan Viskot",1995,"Břeclav","CZ/M","PMRg 2016 - Klub",7,4640,5330,8705,"Std. Cirrus","W","M","Junior v roce 2017"]
[12,"Marek Švancara",1976,"GAC Benešov","CZ/C1","PMRg 2016 - Klub",8,4606,5330,8642,"Std. Cirrus","GT","M",""]
[13,"Richard Vlček",1993,"Kunovice","CZ/M","PMRg 2016 - Klub",9,4598,5330,8627,"Std. Cirrus","OK","M","Junior v roce 2017"]
[14,"Jakub Hlaváček",1991,"Letkov","CZ/C1","PMRg 2016 - Klub",10,4462,5330,8371,"Std. Cirrus",75,"M",""]
[15,"Hana Trešlová",1991,"Raná","CZ/C2","PMRg 2016 - Kombi",5,4233,5070,8349,"Discus 2a 15m","GX","F",""]
[16,"Karel Novák",1993,"Mladá Boleslav","CZ/C1","PMRg 2016 - Kombi",6,4039,5070,7966,"LS-8b 15m","JB","M","Junior v roce 2017"]
[17,"František Filandr",1956,"Most","CZ/C2","PMRg 2016 - Klub",11,4123,5330,7735,"Std. Cirrus","FF","M",""]
[18,"Michal Krupička",1975,"Most","CZ/C2","PMRg 2016 - Klub",12,4049,5330,7597,"Std. Cirrus","K","M",""]
[19,"Karel Knotek",1961,"Soběslav","CZ/C1","PMRg 2016 - Klub",13,4028,5330,7557,"ASW-19B","SO","M",""]
[20,"Nina Shalneva",null,"Novosibirsk Aviaclub","RU","PMRg 2016 - Klub",14,3967,5330,7443,"Std. Cirrus","XC","F","Není v databázi"]
[21,"Jan Šmaha",1958,"Česká Lípa","CZ/C2","PMRg 2016 - Klub",15,3749,5330,7034,"ASW -15B","CW","M",""]
[22,"Lenka Kuthanová",1960,"Letecký klub Břeclav","CZ/M","PMRg 2016 - Kombi",7,3552,5070,7006,"ASG 29E 18m 600kg","QX","F",""]
[23,"Jan Červený",1984,"Jaroměř","CZ/C2","PMRg 2016 - Klub",16,3729,5330,6996,"LS 3a 15m","EI","M",""]
[24,"Martin Pekař",1973,"Šumperk","CZ/M","PMRg 2016 - Kombi",8,3459,5070,6822,"HpH 304e Shark 18m 573kg","ES","M",""]
[25,"Jiří Fousek",1990,"Raná","CZ/C2","PMRg 2016 - Klub",17,3634,5330,6818,"Std. Cirrus","LW","M",""]
[26,"Irina Gajnulova",null,"Kazan Avioclub","RU","PMRg 2016 - Klub",18,3622,5330,6795,"SZD-48 Jantar Std.2","SP","F","Není v databázi"]
[27,"Ladislav Józsa",1981,"Medlánky","CZ/M","PMRg 2016 - Klub",19,3615,5330,6782,"Std. Cirrus","LJ","M",""]
[28,"Pavlína Horáčková",1965,"Šumperk","CZ/M","PMRg 2016 - Klub",20,3608,5330,6769,"SZD-48 Jantar Std 2","SU","F",""]
[29,"Barbora Moravcová",1994,"Zbraslavice","CZ/C1","PMRg 2016 - Klub",21,3570,5330,6698,"ASW-15B","JJ","F","Junior v roce 2017"]
[30,"Linda Vašatová",1990,"Mladá Boleslav","CZ/C1","PMRg 2016 - Klub",22,3566,5330,6690,"ASW-19B","AH","F",""]
[31,"Daniel Ryba",1994,"Dvůr Králové","CZ/C2","PMRg 2016 - Klub",23,3553,5330,6666,"Cirrus VTC","VE","M","Junior v roce 2017"]
[32,"Eva Černá",1964,"Příbram","CZ/C1","PMRg 2016 - Kombi",9,3378,5070,6663,"Ventus 2cxt 18m 600kg","EK","F",""]
[{"$f":"RANK(J35,J:J)","v":33},"Jana Trešlová",1963,"Raná","CZ/C2","PMRg 2016 - Kombi",10,3263,5070,6436,"ASG-29E 18m 600kg","QZ","F",""]
[34,"Klára Teichmannová",1993,"Hronov","CZ/C2","PMRg 2016 - Klub",24,3271,5330,6137,"Std. Cirrus","LY","F","Junior v roce 2017"]
[35,"Lukáš Koukal",1991,"Kladno","CZ/C1","PMRg 2016 - Klub",25,3179,5330,5964,"ASW-15B","T1","M",""]
[36,"Lubor Zelený",1957,"Přibyslav","CZ/C2","PMRg 2016 - Klub",26,3169,5330,5946,"Std. Cirrus","AW","M",""]
[37,"Jan Florián",1992,"Zbraslavice","CZ/C1","PMRg 2016 - Klub",27,3135,5330,5882,"Std. Cirrus","C1","M","Junior v roce 2017"]
[38,"Tomáš Frinta",1970,"Hodkovice","CZ/C2","PMRg 2016 - Klub",28,3084,5330,5786,"ASW-19B","CF","M",""]
[39,"Alena Netušilová",1970,"Zbraslavice","CZ/C1","PMRg 2016 - Kombi",11,2869,5070,5659,"JS-1 CTJ 18m","JX","F",""]
[40,"Martin Kříž",1968,"Přibyslav","CZ/C2","PMRg 2016 - Klub",29,2738,5330,5137,"ASW-15B","BE","M",""]
[41,"Jindřich Hruška",1986,"Soběslav","CZ/C1","PMRg 2016 - Klub",30,2606,5330,4889,"303 Mosquito","UFO","M",""]
[42,"Lukáš Čapek",1992,"Letňany","CZ/C1","PMRg 2016 - Klub",31,2515,5330,4719,"303 Mosquito","LC","M","Junior v roce 2017"]
[43,"Veronika Ambrožová",1984,"Křižanov","CZ/M","PMRg 2016 - Klub",32,2391,5330,4486,"ASW-15B",17,"F",""]
[44,"Leoš Strnádek",1983,"Hodkovice","CZ/C2","PMRg 2016 - Klub",33,2311,5330,4336,"ASW-19B","AFK","M",""]
[45,"Radim Vadász",1989,"Soběslav","CZ/C1","PMRg 2016 - Klub",34,2305,5330,4325,"ASW-15A","ASW","M",""]
[46,"Olga Mokošová",1970,"Jihlava","CZ/M","PMRg 2016 - Kombi",12,2156,5070,4252,"LS-6c 18m+W","MM","F",""]
[47,"Petr Fryček",1960,"Most","CZ/C2","PMRg 2016 - Kombi",13,2148,5070,4237,"Nimbus 3/25.5m 700kg","F","M",""]
[48,"Jan Vožeh",1995,"Rakovník","CZ/C1","PMRg 2016 - Klub",35,1959,5330,3675,"Std. Cirrus","OG","M","Junior v roce 2017"]
[49,"Pavel Líska",1965,"Roudnice","CZ/C2","PMRg 2016 - Klub",36,1434,5330,2690,"ASW-19B","RCE","M",""]
[50,"Petr Filip",1982,"Zbraslavice","CZ/C1","PMRg 2016 - Klub",37,940,5330,1764,"G-102 Astir CS","MV","M",""]
[51,"Vilém Říha",1990,"Letňany","CZ/C1","PMRg 2016 - Klub",38,778,5330,1460,"VSO-10","G8","M",""]
[52,"Jaroslav Palička",1992,"Frýdlant","CZ/M","PMRg 2016 - Klub",39,288,5330,540,"G-102 Astir CS","W7","M","Junior v roce 2017"]
[]
[]
["Schváleno Plachtařskou komisí AeČR dne 26.2.2017 ve Vysokém Mýtě"]

{"sheet":"KB PMRg 2017","index":9,"n_rows":71,"n_cols":14,"rows_kept":71,"cut":false,"hidden":false,"merged":[[0,0,0,12]]}
["PMRg 2017 - Křižanov - Korigované body"]
["Pořadí v KB","Jméno","Rok narození","Aeroklub","Region","Soutěž","Pořadí ve třídě","Body ve třídě","Max. B ve třídě","Bi","Typ","CN","M/F","Junior"]
[{"$f":"RANK(J3,J:J)","v":1},"Ivan Novak",{"$f":"VLOOKUP(B3,Pilot,2,0)","v":1962},{"$f":"VLOOKUP(B3,Pilot,3,0)","v":"Mladá Boleslav"},{"$f":"VLOOKUP(B3,Pilot,4,0)","v":"CZ/C1"},"PMRg 2017 - Klub",1,5132,5132,{"$f":"ROUND(H3/I3*10000,0)","v":10000},"Std. Cirrus","DI",{"$f":"VLOOKUP(B3,Pilot,5,0)","v":"M"},{"$f":"IF(ISERROR(VLOOKUP(B3,Pilot,6,0)),\"Není v databázi\",VLOOKUP(B3,Pilot,6,0))","v":""}]
[1,"Karel Mares",1974,"Slaný","CZ/C1","PMRg 2017 - Kombi",1,5750,5750,10000,"Ventus c /17,6m (voda)","7F","M",""]
[3,"Hana Treslova",1991,"Raná","CZ/C2","PMRg 2017 - Klub",2,5049,5132,9838,"Std. Cirrus","CI","F",""]
[4,"Daniel Ryba",1994,"Dvůr Králové","CZ/C2","PMRg 2017 - Klub",3,5030,5132,9801,"ASW-19B","L7","M","Junior v roce 2019"]
[5,"Josef Novotny",1983,"Přibyslav","CZ/C2","PMRg 2017 - Klub",4,4967,5132,9678,"Std. Cirrus","AW","M",""]
[6,"Leos Strnadek",1983,"Hodkovice","CZ/C2","PMRg 2017 - Klub",5,4958,5132,9661,"ASW-19B","XZ","M",""]
[7,"Zdenek Boruvka 54",1954,"Jičín","CZ/C2","PMRg 2017 - Kombi",2,5538,5750,9631,"LS 8,a,b,s,st,18 /15m (voda)","ZB","M",""]
[8,"Marek Svancara",1976,"GAC Benešov","CZ/C1","PMRg 2017 - Klub",6,4925,5132,9597,"Std. Cirrus","GT","M",""]
[9,"Zdenek Balcarek",1967,"Kroměříž","CZ/M","PMRg 2017 - Klub",7,4908,5132,9564,"Std. Cirrus","ZL","M",""]
[10,"Lubomir Motl",1959,"Kyjov","CZ/M","PMRg 2017 - Klub",8,4863,5132,9476,"LS-1f","G2","M",""]
[11,"Zdenek Boruvka 86",1986,"Jičín","CZ/C2","PMRg 2017 - Klub",9,4830,5132,9412,"Std. Cirrus","BJ","M",""]
[12,"Jana Veprekova",1961,"Dvůr Králové","CZ/C2","PMRg 2017 - Kombi",3,5410,5750,9409,"LS 8,a,b,s,st,18 /15m (voda)","AU","F",""]
[13,"Frantisek Marek",1960,"Křižanov","CZ/M","PMRg 2017 - Kombi",4,5355,5750,9313,"T-59D Kestrel 19m (voda)","XJ","M",""]
[14,"Petr Hotovy",1958,"Česká Lípa","CZ/C2","PMRg 2017 - Kombi",5,5341,5750,9289,"HpH 304M SHARK (600kg) /18m (voda)","MH","M",""]
[15,"Dana Novakova",1965,"Mladá Boleslav","CZ/C1","PMRg 2017 - Kombi",6,5307,5750,9230,"LS 8,a,b,s,st,18 /15m (voda)","EU","F",""]
[16,"Michal Navratil",1985,"Křižanov","CZ/M","PMRg 2017 - Klub",10,4718,5132,9193,"Std. Cirrus","IJ","M",""]
[17,"Jana Treslova",1963,"Raná","CZ/C2","PMRg 2017 - Kombi",7,5212,5750,9064,"Ventus bt /16,6m (voda)","VT","F",""]
[18,"Matej Krestes",1986,"Slaný","CZ/C1","PMRg 2017 - Klub",11,4435,5132,8642,"Centrair C-201B Marianne","II","M",""]
[19,"Michal Krupicka",1975,"Most","CZ/C2","PMRg 2017 - Klub",12,4320,5132,8418,"Std. Cirrus","K","M",""]
[20,"David Sachl",1978,"Kralupy","CZ/C1","PMRg 2017 - Klub",13,4288,5132,8355,"DG-200 15m","RZ","M",""]
[21,"Antonin Novotny",1972,"Luhačovice","CZ/M","PMRg 2017 - Klub",14,4237,5132,8256,"Std. Cirrus","SP","M",""]
[22,"Petr Panek",1975,"Dvůr Králové","CZ/C2","PMRg 2017 - Klub",15,4216,5132,8215,"Std. Cirrus","YU","M",""]
[23,"Jan Smaha",1958,"Česká Lípa","CZ/C2","PMRg 2017 - Klub",16,4189,5132,8163,"ASW-15B","CW","M",""]
[24,"Karel Knotek",1961,"Soběslav","CZ/C1","PMRg 2017 - Klub",17,4171,5132,8127,"ASW-19B","SO","M",""]
[25,"Vaclav Marel",1974,"Jaroměř","CZ/C2","PMRg 2017 - Klub",18,4162,5132,8110,"Std. Cirrus","IF","M",""]
[26,"Jaroslav Buryan",1953,"Zábřeh","CZ/M","PMRg 2017 - Kombi",8,4600,5750,8000,"ASW-20 (A)+F /15m WL (voda)","NS","M",""]
[27,"Radek Zima 78",1978,"Hodkovice","CZ/C2","PMRg 2017 - Kombi",9,4578,5750,7962,"Ventus b /16,6m WL (voda)","7E","M",""]
[28,"Radim Vadasz",1989,"Soběslav","CZ/C1","PMRg 2017 - Klub",19,4066,5132,7923,"ASW-15","ASW","M",""]
[29,"Barbora Moravcova",1994,"Zbraslavice","CZ/C1","PMRg 2017 - Klub",20,4020,5132,7833,"ASW-19B","CF","F","Junior v roce 2019"]
[30,"Jan Vozeh",1995,"Rakovník","CZ/C1","PMRg 2017 - Klub",21,3978,5132,7751,"Std. Cirrus","OG","M","Junior v roce 2019"]
[31,"Dusan Gadas",1960,"Hranice","CZ/M","PMRg 2017 - Kombi",10,4309,5750,7494,"LAK 17B FES /21m (voda)","TF","M",""]
[32,"Zdenek Schenk",1972,"Hranice","CZ/M","PMRg 2017 - Kombi",11,4269,5750,7424,"Ventus ct /17,6m (voda)","ŠNeK","M",""]
[{"$f":"RANK(J35,J:J)","v":33},"Jan Zapletal",1997,"Kroměříž","CZ/M","PMRg 2017 - Kombi",12,4267,5750,{"$f":"ROUND(H35/I35*10000,0)","v":7421},"Discus 2b /15m (voda)","SH","M",{"$f":"IF(ISERROR(VLOOKUP(B35,Pilot,6,0)),\"Není v databázi\",VLOOKUP(B35,Pilot,6,0))","v":"Junior v roce 2019"}]
[34,"Jan Zahradka",1981,"Hodkovice","CZ/C2","PMRg 2017 - Klub",22,3792,5132,7389,"Std. Cirrus","UB","M",""]
[35,"Ivan Bajana",null,"Martin","SK","PMRg 2017 - Klub",23,3775,5132,7356,"Std. Cirrus WL","DZ","M","Není v databázi"]
[36,"Petr Rajda",{"$f":"VLOOKUP(B38,Pilot,2,0)","v":1970},{"$f":"VLOOKUP(B38,Pilot,3,0)","v":"Křižanov"},{"$f":"VLOOKUP(B38,Pilot,4,0)","v":"CZ/M"},"PMRg 2017 - Klub",24,3773,5132,7352,"DG-200 15m","CK",{"$f":"VLOOKUP(B38,Pilot,5,0)","v":"M"},""]
[37,"Miroslav Kudlacek",1986,"Polička","CZ/C2","PMRg 2017 - Klub",25,3650,5132,7112,"ASW-24(\"A\") WL (-bez modif TN8)","SM","M",""]
[38,"Pavel Koudelka",1973,"Křižanov","CZ/M","PMRg 2017 - Klub",26,3529,5132,6876,"LS-1f","R7","M",""]
[39,"Marek Pechanec",1970,"Luhačovice","CZ/M","PMRg 2017 - Klub",27,3510,5132,6839,"Std. Cirrus","SJ","M",""]
[40,"Ivan Tvrdik",1997,"Letňany","CZ/C1","PMRg 2017 - Klub",28,3476,5132,6773,"ASW-19B","IHD","M","Junior v roce 2019"]
[41,"Jiri Peterka",1951,"Křižanov","CZ/M","PMRg 2017 - Klub",29,3414,5132,6652,"Std. Cirrus","M","M",""]
[42,"Miroslav Cervenka",1980,"Křižanov","CZ/M","PMRg 2017 - Klub",30,3412,5132,6648,"LS-1f","AF","M",""]
[43,"Jindrich Hruska",1986,"Soběslav","CZ/C1","PMRg 2017 - Klub",31,3389,5132,6604,"303 Mosquito","UFO","M",""]
[44,"Slavomir Piskaty 58",1958,"Kunovice","CZ/M","PMRg 2017 - Kombi",13,3761,5750,6541,"Discus b WL (voda)","KAL","M",""]
[45,"Rene Gabris",null,"Partizánské","SK","PMRg 2017 - Klub",32,3340,5132,6508,"Std. Cirrus","2C","M","Není v databázi"]
[46,"Tomas Jilek",{"$f":"VLOOKUP(B48,Pilot,2,0)","v":1995},{"$f":"VLOOKUP(B48,Pilot,3,0)","v":"Raná"},{"$f":"VLOOKUP(B48,Pilot,4,0)","v":"CZ/C2"},"PMRg 2017 - Klub",33,3305,5132,6440,"Cirrus VTC","1W",{"$f":"VLOOKUP(B48,Pilot,5,0)","v":"M"},"Junior v roce 2019"]
[47,"Daniel Suchy",{"$f":"VLOOKUP(B49,Pilot,2,0)","v":1995},{"$f":"VLOOKUP(B49,Pilot,3,0)","v":"Hranice"},{"$f":"VLOOKUP(B49,Pilot,4,0)","v":"CZ/M"},"PMRg 2017 - Klub",34,3296,5132,6422,"G-102 Astir cs","W7",{"$f":"VLOOKUP(B49,Pilot,5,0)","v":"M"},"Junior v roce 2019"]
[48,"Petr Frycek",{"$f":"VLOOKUP(B50,Pilot,2,0)","v":1960},{"$f":"VLOOKUP(B50,Pilot,3,0)","v":"Most"},{"$f":"VLOOKUP(B50,Pilot,4,0)","v":"CZ/C2"},"PMRg 2017 - Kombi",14,3684,5750,6407,"Nimbus 3 /25,5m - 700kg (voda)","F",{"$f":"VLOOKUP(B50,Pilot,5,0)","v":"M"},""]
[49,"Jan Ratz",{"$f":"VLOOKUP(B51,Pilot,2,0)","v":1987},{"$f":"VLOOKUP(B51,Pilot,3,0)","v":"Plasy"},{"$f":"VLOOKUP(B51,Pilot,4,0)","v":"CZ/C1"},"PMRg 2017 - Kombi",15,3653,5750,6353,"Ventus b /16,6m WL (voda)","JET",{"$f":"VLOOKUP(B51,Pilot,5,0)","v":"M"},""]
[50,"Miroslav Beliansky",null,"Partizánské","SK","PMRg 2017 - Klub",35,3132,5132,6103,"Std. Cirrus","SZ","M","Není v databázi"]
[51,"Miroslav Koci",{"$f":"VLOOKUP(B53,Pilot,2,0)","v":1961},{"$f":"VLOOKUP(B53,Pilot,3,0)","v":"Žamberk"},{"$f":"VLOOKUP(B53,Pilot,4,0)","v":"CZ/C2"},"PMRg 2017 - Kombi",16,3478,5750,6049,"Ventus 2cxm /18m - 565 kg (voda)","E8",{"$f":"VLOOKUP(B53,Pilot,5,0)","v":"M"},""]
[52,"Jan Hruska",1988,"Tábor","CZ/C1","PMRg 2017 - Klub",36,3086,5132,6013,"ASW-15B","LittleFo","M",""]
[53,"Barbora Kubickova",1993,"Medlánky","CZ/M","PMRg 2017 - Klub",37,3042,5132,5928,"ASW-15B","Y","F",""]
[54,"Tomas Talanda",1988,"Křižanov","CZ/M","PMRg 2017 - Klub",38,3007,5132,5859,"ASW-19B","A1","M",""]
[55,"Veronika Ambrozova",1984,"Křižanov","CZ/M","PMRg 2017 - Klub",39,2924,5132,5698,"ASW-15B",17,"F",""]
[56,"Jana Krejcova",1972,"Křižanov","CZ/M","PMRg 2017 - Klub",40,2922,5132,5694,"Std. Cirrus","ICQ","F",""]
[57,"Martin Kriz",1968,"Přibyslav","CZ/C2","PMRg 2017 - Klub",41,2898,5132,5647,"ASW-15B","BE","M",""]
[58,"Jan Kotan",1982,"Letňany","CZ/C1","PMRg 2017 - Klub",42,2766,5132,5390,"ASW-19","WT","M",""]
[59,"Lukas Plocek",1990,"Mladá Boleslav","CZ/C1","PMRg 2017 - Klub",43,2632,5132,5129,"ASW-19B","AH","M",""]
[60,"Vladimir Spilka",1940,"Hranice","CZ/M","PMRg 2017 - Kombi",17,2343,5750,4075,"Nimbus 2, 2b, 2M (voda)","AY","M",""]
[61,"Antonin Kutalek",1943,"Zábřeh","CZ/M","PMRg 2017 - Kombi",18,2200,5750,3826,"Mini-Nimbus c (voda)","GL","M",""]
[62,"Tomas Laso",null,"Martin","SK","PMRg 2017 - Klub",44,1927,5132,3755,"H-201b Std. Libelle WL",48,"M","Není v databázi"]
[63,"Petr Lonsky",{"$f":"VLOOKUP(B65,Pilot,2,0)","v":1965},{"$f":"VLOOKUP(B65,Pilot,3,0)","v":"Toužim"},{"$f":"VLOOKUP(B65,Pilot,4,0)","v":"CZ/C1"},"PMRg 2017 - Klub",45,1765,5132,3439,"Std. Cirrus WL","FD",{"$f":"VLOOKUP(B65,Pilot,5,0)","v":"M"},""]
[64,"Olga Mokosova",{"$f":"VLOOKUP(B66,Pilot,2,0)","v":1970},{"$f":"VLOOKUP(B66,Pilot,3,0)","v":"Jihlava"},{"$f":"VLOOKUP(B66,Pilot,4,0)","v":"CZ/M"},"PMRg 2017 - Kombi",19,1971,5750,3428,"LS 6c /18m WL (voda)","MM",{"$f":"VLOOKUP(B66,Pilot,5,0)","v":"F"},""]
[65,"Petr Havrlant",{"$f":"VLOOKUP(B67,Pilot,2,0)","v":1965},{"$f":"VLOOKUP(B67,Pilot,3,0)","v":"Šumperk"},{"$f":"VLOOKUP(B67,Pilot,4,0)","v":"CZ/M"},"PMRg 2017 - Klub",46,1729,5132,{"$f":"ROUND(H67/I67*10000,0)","v":3369},"ASW-15B","Q1",{"$f":"VLOOKUP(B67,Pilot,5,0)","v":"M"},""]
[66,"Martin Kozina",{"$f":"VLOOKUP(B68,Pilot,2,0)","v":1970},{"$f":"VLOOKUP(B68,Pilot,3,0)","v":"Křižanov"},{"$f":"VLOOKUP(B68,Pilot,4,0)","v":"CZ/M"},"PMRg 2017 - Klub",47,1583,5132,{"$f":"ROUND(H68/I68*10000,0)","v":3085},"LS-1f","PK",{"$f":"VLOOKUP(B68,Pilot,5,0)","v":"M"},""]
[]
[]
["Schváleno Plachtařskou komisí AeČR dne 29.10.2017 ve Vysokém Mýtě"]

{"sheet":"KB PMRg 2018","index":10,"n_rows":58,"n_cols":14,"rows_kept":58,"cut":false,"hidden":false,"merged":[[0,0,0,12]]}
["PMRg 2018 - Hodkovice - Korigované body"]
["Pořadí v KB","Jméno","Rok narození","Aeroklub","Region","Soutěž","Pořadí ve třídě","Body ve třídě","Max. B ve třídě","Bi","Typ","CN","M/F","Junior"]
[{"$f":"RANK(J3,J:J)","v":1},"Marek Pechanec",{"$f":"VLOOKUP(B3,Pilot,2,0)","v":1970},{"$f":"VLOOKUP(B3,Pilot,3,0)","v":"Luhačovice"},{"$f":"VLOOKUP(B3,Pilot,4,0)","v":"CZ/M"},"PMRg 2018 - Klub","CZ",1,6509,10000,"std. cirrus","SJ",{"$f":"VLOOKUP(B3,Pilot,5,0)","v":"M"},{"$f":"IF(ISERROR(VLOOKUP(B3,Pilot,6,0)),\"Není v databázi\",VLOOKUP(B3,Pilot,6,0))","v":""}]
[1,"Jan Louda",1986,"Mladá Boleslav","CZ/C1","PMRg 2018 - Kombi","CZ",1,7195,10000,"Ventus a 15m WL 500kg (voda)","FW","M",""]
[3,"Zdenek Boruvka 86",1986,"Jičín","CZ/C2","PMRg 2018 - Klub","CZ",2,6377,9772,"Std. Cirrus","BJ","M",""]
[4,"Karel Novak",1993,"Mladá Boleslav","CZ/C1","PMRg 2018 - Klub","CZ",3,6342,9649,"std. cirrus","DI","M",""]
[5,"Karel Mares",1974,"Slaný","CZ/C1","PMRg 2018 - Kombi","CZ",2,6865,9491,"LS-8b, LS-8-18, LS-8t /18m","YF","M",""]
[6,"Daniel Ryba",1994,"Dvůr Králové","CZ/C2","PMRg 2018 - Klub","CZ",4,6268,9484,"ASW-19B","L7","M","Junior v roce 2019"]
[7,"Petr Panek",1975,"Dvůr Králové","CZ/C2","PMRg 2018 - Klub","CZ",5,6208,9333,"std. cirrus","YU","M",""]
[8,"Jana Veprekova",1961,"Dvůr Králové","CZ/C2","PMRg 2018 - Kombi","CZ",3,6818,9258,"LS 8,a,b,s,st,18 15m (voda)","W8","F",""]
[9,"Hana Treslova",1991,"Raná","CZ/C2","PMRg 2018 - Kombi","CZ",4,6765,9019,"LS 8,a,b,s,st,18 15m (voda)","FX","F",""]
[10,"Vaclav Marel",1974,"Jaroměř","CZ/C2","PMRg 2018 - Klub","CZ",6,5949,8969,"Std. Cirrus","IF","M",""]
[11,"Dana Novakova",1965,"Mladá Boleslav","CZ/C1","PMRg 2018 - Kombi","CZ",5,6742,8809,"LS 8,a,b,s,st,18 15m (voda)","AU","F",""]
[12,"Jan Ratz",1987,"Plasy","CZ/C1","PMRg 2018 - Klub","CZ",7,5857,8785,"Std. Cirrus","REX","M",""]
[13,"Jana Treslova",1963,"Raná","CZ/C2","PMRg 2018 - Kombi","CZ",6,6716,8596,"LS 8,a,b,s,st,18 15m (voda)","EU","F",""]
[14,"Lukas Koukal",1991,"Letkov","CZ/C1","PMRg 2018 - Klub","CZ",8,5526,8343,"ASW-15B","T1","M",""]
[15,"Jiri Kusbach",1959,"Luhačovice","CZ/M","PMRg 2018 - Kombi","CZ",7,6510,8209,"KKB-18E FES (voda)","B","M",""]
[16,"Jan Vavrin",1987,"Vysoké Mýto","CZ/C2","PMRg 2018 - Klub","CZ",9,5438,8162,"ASW-15B","IG","M",""]
[17,"Vojtech Novotny",1992,"Kralupy","CZ/C1","PMRg 2018 - Klub","CZ",10,5418,8055,"LS-1f","EF","M",""]
[18,"Radek Zima 78",1978,"Hodkovice","CZ/C2","PMRg 2018 - Kombi","CZ",8,6481,7993,"Ventus b /15m WL -500 kg","7F","M",""]
[19,"Lukas Plocek",1990,"Mladá Boleslav","CZ/C1","PMRg 2018 - Klub","CZ",11,5400,7950,"ASW-19B","AH","M",""]
[20,"Michal Krupicka",1975,"Most","CZ/C2","PMRg 2018 - Klub","CZ",12,5390,7854,"Std. Cirrus","K","M",""]
[21,"Marek Svancara",1976,"GAC Benešov","CZ/C1","PMRg 2018 - Klub","CZ",13,5343,7717,"Std. Cirrus","GT","M",""]
[22,"Jan Zahradka",1981,"Hodkovice","CZ/C2","PMRg 2018 - Klub","CZ",14,5324,7611,"Std. Cirrus","AR","M",""]
[23,"Jan Smaha",1958,"Česká Lípa","CZ/C2","PMRg 2018 - Klub","CZ",15,5255,7451,"ASW-15B","CW","M",""]
[24,"Petr Hotovy",1958,"Česká Lípa","CZ/C2","PMRg 2018 - Kombi","CZ",9,6061,7397,"JS-1A,B,C,BTJ,CTJ 18m (voda)","IGC","M",""]
[25,"Jan Hruska",1988,"Tábor","CZ/C1","PMRg 2018 - Klub","CZ",16,5175,7280,"ASW-15B","LF","M",""]
[26,"Vojtech Hajek",1987,"Mladá Boleslav","CZ/C1","PMRg 2018 - Klub","CZ",17,5122,7137,"Std. Cirrus","BW","M",""]
[27,"Ladislav Prokes",1954,"Vrchlabí","CZ/C2","PMRg 2018 - Kombi","CZ",10,5935,7087,"Discus b","VR","M",""]
[28,"Antonin Novotny",1972,"Luhačovice","CZ/M","PMRg 2018 - Klub","CZ",18,5057,6981,"Std. Cirrus","SP","M",""]
[29,"Jaroslav Buryan",1953,"Zábřeh","CZ/M","PMRg 2018 - Kombi","CZ",11,5901,6866,"ASW-20(A)+F 15m+W (voda)","NS","M",""]
[30,"Ondrej Sindelar",1979,"Mladá Boleslav","CZ/C1","PMRg 2018 - Klub","CZ",19,4881,6706,"ASW-19B","OI","M",""]
[31,"Jakub Kohn",1992,"Prostějov","CZ/M","PMRg 2018 - Klub","CZ",20,4714,6441,"ASW-15B","FK","M",""]
[32,"Ladislav Jozsa",1981,"Medlánky","CZ/M","PMRg 2018 - Klub","CZ",21,4708,6349,"Std. Cirrus","LJ","M",""]
[{"$f":"RANK(J35,J:J)","v":33},"Jindrich Hruska",1986,"Soběslav","CZ/C1","PMRg 2018 - Klub","CZ",22,4616,6164,"ASW-15","ASW",{"$f":"VLOOKUP(B35,Pilot,5,0)","v":"M"},{"$f":"IF(ISERROR(VLOOKUP(B35,Pilot,6,0)),\"Není v databázi\",VLOOKUP(B35,Pilot,6,0))","v":""}]
[34,"Pavlina Horackova",1965,"Šumperk","CZ/M","PMRg 2018 - Klub","CZ",23,4590,6051,"SZD-48 Jantar Std. 2(3)","SU","F",""]
[35,"Jan Vozeh",1995,"Rakovník","CZ/C1","PMRg 2018 - Klub","CZ",24,4499,5867,"std. cirrus","OG","M","Junior v roce 2019"]
[36,"Miroslav Koci",1961,"Žamberk","CZ/C2","PMRg 2018 - Kombi","CZ",12,4877,5682,"Ventusy: 2cx, 2cxm, 2cxt /18m -600 kg","E8","M",""]
[37,"David Sachl",1978,"Kralupy","CZ/C1","PMRg 2018 - Klub","CZ",25,4374,5647,"DG-300","BK","M",""]
[38,"Vilem Riha",1990,"Letňany","CZ/C1","PMRg 2018 - Klub","CZ",26,4300,5482,"Std. Cirrus","UB","M",""]
[39,"Karel Knotek",1961,"Soběslav","CZ/C1","PMRg 2018 - Klub","CZ",27,4163,5248,"ASW-19","SO","M",""]
[40,"Martin Kriz",1968,"Přibyslav","CZ/C2","PMRg 2018 - Klub","CZ",28,4085,5079,"ASW-15B","BE","M",""]
[41,"Slavomir Piskaty 58",1958,"Kunovice","CZ/M","PMRg 2018 - Kombi","CZ",13,4380,5011,"Discus b +W(voda)","KAL","M",""]
[42,"Martin Cicvarek",1966,"Liberec","CZ/C2","PMRg 2018 - Kombi","CZ",14,4248,4695,"DG-400 17m","AC","M",""]
[43,"Pavel Liska",1965,"Roudnice","CZ/C2","PMRg 2018 - Klub","CZ",29,3725,4606,"ASW-19B","RCE","M",""]
[44,"Tereza Koubkova",1999,"Letňany","CZ/C1","PMRg 2018 - Klub","CZ",30,3668,4459,"Std. Cirrus","WY","F","Junior v roce 2019"]
[45,"Karel Policky",1950,"Kolín","CZ/C1","PMRg 2018 - Klub","CZ",31,3427,4114,"VSO-10",47,"M",""]
[46,"Petr Frycek",1960,"Most","CZ/C2","PMRg 2018 - Kombi","CZ",15,3737,4011,"Nimbus 3 (25,5m,700kg)(voda)","F","M",""]
[47,"Ondrej Dvorak 98",1998,"Mladá Boleslav","CZ/C1","PMRg 2018 - Klub","CZ",32,3377,3975,"ASW-15B","MB","M","Junior v roce 2019"]
[48,"Pavel Sulc",1976,"Hodkovice","CZ/C2","PMRg 2018 - Klub","CZ",33,3096,3587,"Std. Cirrus","AC","M",""]
[49,"Milada Moudra",1991,"Hodkovice","CZ/C2","PMRg 2018 - Klub","CZ",34,2540,2903,"ASW-19B","XP","F",""]
[50,"Antonin Kutalek",1943,"Zábřeh","CZ/M","PMRg 2018 - Kombi","CZ",16,2610,2727,"Mini-Nimbus c (voda)","GL","M",""]
[51,"Leos Strnadek",1983,"Hodkovice","CZ/C2","PMRg 2018 - Klub","CZ",35,2113,2358,"ASW-19B","XZ","M",""]
[52,"Olga Mokosova",1970,"Jihlava","CZ/M","PMRg 2018 - Kombi","CZ",17,2309,2246,"LS 6c 18m+W (voda)","MM","F",""]
[53,"Petr Lonsky",1965,"Toužim","CZ/C1","PMRg 2018 - Klub","CZ",36,638,686,"Cirrus VTC","JP","M",""]
[]
[]
["Schváleno Plachtařskou komisí AeČR dne 4.11.2018 ve Vysokém Mýtě"]

{"sheet":"N PMČR 2019","index":11,"n_rows":131,"n_cols":17,"rows_kept":131,"cut":false,"hidden":false,"merged":[[39,1,39,7],[7,1,7,7],[70,1,70,7],[71,1,71,7],[125,1,125,7],[127,1,127,7],[72,1,72,7],[120,1,120,7],[123,1,123,7],[124,1,124,7],[121,1,121,7]]}
[null,"Nominace na PMČR 2019",null,null,null,null,null,"Kontrola:","Počet","Počet","Nominace","Počet","Nominace","M:","F:","M+F:"]
["No","Jméno","Aeroklub","Rok narození","M/F","Junior","No",null,"PMČR","PMRg","PMRg","PMČRj","PMČRj",{"$f":"COUNTIF(E:E,\"M\")","v":77},{"$f":"COUNTIF(E:E,\"F\")","v":13},{"$f":"N2+O2","v":90},"S náhradníky"]
["6.6.5.","Nominace na PMČR - všeobecně (dle SŘ ZM8)",null,null,null,null,null,null,null,null,null,null,"Celkem řádně nominováno:",{"$f":"N2-COUNTIF(E60:E64,\"M\")-COUNTIF(E111:E119,\"M\")","v":69},{"$f":"O2-COUNTIF(E60:E64,\"F\")-COUNTIF(E111:E119,\"F\")","v":12},{"$f":"N3+O3","v":81},"Bez náhradníků"]
[null,"Na PMČR nominuje PK minimálně 80 pilotů/pilotek a příslušný počet náhradníků pro stanovená nominační kritéria."]
[null,"PMČR se mohou zúčastnit pouze soutěžící nominovaní dle jednotlivých bodů odstavců 6.6.6., 6.6.7. a 6.6.8."]
[null,"Pořadatel soutěže nemůže doplnit soutěžící na základě jiných kritérií."]
["6.6.6.","Řádná nominace - Na PMČR jsou nominováni"]
["6.6.6.1.","všichni členové reprezentačního výběru (RV) ČR stanoveného pro daný soutěžní ročník (bez náhradníků)"]
[1,"Miloslav Cink",{"$f":"VLOOKUP(B9,Pilot!A:C,3,0)","v":"Letkov"},{"$f":"VLOOKUP(B9,Pilot!A:B,2,0)","v":1987},{"$f":"VLOOKUP(B9,Pilot!A:E,5,0)","v":"M"},{"$f":"VLOOKUP(B9,Pilot!A:F,6,0)","v":""},{"$f":"A9","v":1},null,{"$f":"COUNTIF(B:B,B9)","v":1},{"$f":"IF(COUNTIF('N PMRg 2019'!B:B,B9)=0,\"-\",COUNTIF('N PMRg 2019'!B:B,B9))","v":"-"},{"$f":"IF(ISERROR(VLOOKUP(B9,'N PMRg 2019'!B:G,6,0)),\"-\",VLOOKUP(B9,'N PMRg 2019'!B:G,6,0))","v":"-"},{"$f":"IF(COUNTIF('N PMČRj 2019'!B:B,B9)=0,\"-\",COUNTIF('N PMČRj 2019'!B:B,B9))","v":"-"},{"$f":"IF(ISERROR(VLOOKUP(B9,'N PMČRj 2019'!B:G,6,0)),\"-\",VLOOKUP(B9,'N PMČRj 2019'!B:G,6,0))","v":"-"}]
[{"$f":"A9+1","v":2},"Jaroslav Tomana",{"$f":"VLOOKUP(B10,Pilot!A:C,3,0)","v":"Zbraslavice"},{"$f":"VLOOKUP(B10,Pilot!A:B,2,0)","v":1975},{"$f":"VLOOKUP(B10,Pilot!A:E,5,0)","v":"M"},{"$f":"VLOOKUP(B10,Pilot!A:F,6,0)","v":""},{"$f":"A10","v":2},null,1,{"$f":"IF(COUNTIF('N PMRg 2019'!B:B,B10)=0,\"-\",COUNTIF('N PMRg 2019'!B:B,B10))","v":"-"},{"$f":"IF(ISERROR(VLOOKUP(B10,'N PMRg 2019'!B:G,6,0)),\"-\",VLOOKUP(B10,'N PMRg 2019'!B:G,6,0))","v":"-"},{"$f":"IF(COUNTIF('N PMČRj 2019'!B:B,B10)=0,\"-\",COUNTIF('N PMČRj 2019'!B:B,B10))","v":"-"},{"$f":"IF(ISERROR(VLOOKUP(B10,'N PMČRj 2019'!B:G,6,0)),\"-\",VLOOKUP(B10,'N PMČRj 2019'!B:G,6,0))","v":"-"}]
[{"$f":"A10+1","v":3},"Pavel Louzecky",{"$f":"VLOOKUP(B11,Pilot!A:C,3,0)","v":"Přibyslav"},{"$f":"VLOOKUP(B11,Pilot!A:B,2,0)","v":1957},{"$f":"VLOOKUP(B11,Pilot!A:E,5,0)","v":"M"},{"$f":"VLOOKUP(B11,Pilot!A:F,6,0)","v":""},3,null,1,{"$f":"IF(COUNTIF('N PMRg 2019'!B:B,B11)=0,\"-\",COUNTIF('N PMRg 2019'!B:B,B11))","v":"-"},{"$f":"IF(ISERROR(VLOOKUP(B11,'N PMRg 2019'!B:G,6,0)),\"-\",VLOOKUP(B11,'N PMRg 2019'!B:G,6,0))","v":"-"},{"$f":"IF(COUNTIF('N PMČRj 2019'!B:B,B11)=0,\"-\",COUNTIF('N PMČRj 2019'!B:B,B11))","v":"-"},{"$f":"IF(ISERROR(VLOOKUP(B11,'N PMČRj 2019'!B:G,6,0)),\"-\",VLOOKUP(B11,'N PMČRj 2019'!B:G,6,0))","v":"-"}]
[4,"Roman Mracek",{"$f":"VLOOKUP(B12,Pilot!A:C,3,0)","v":"Letkov"},{"$f":"VLOOKUP(B12,Pilot!A:B,2,0)","v":1980},{"$f":"VLOOKUP(B12,Pilot!A:E,5,0)","v":"M"},{"$f":"VLOOKUP(B12,Pilot!A:F,6,0)","v":""},4,null,1,{"$f":"IF(COUNTIF('N PMRg 2019'!B:B,B12)=0,\"-\",COUNTIF('N PMRg 2019'!B:B,B12))","v":"-"},{"$f":"IF(ISERROR(VLOOKUP(B12,'N PMRg 2019'!B:G,6,0)),\"-\",VLOOKUP(B12,'N PMRg 2019'!B:G,6,0))","v":"-"},{"$f":"IF(COUNTIF('N PMČRj 2019'!B:B,B12)=0,\"-\",COUNTIF('N PMČRj 2019'!B:B,B12))","v":"-"},{"$f":"IF(ISERROR(VLOOKUP(B12,'N PMČRj 2019'!B:G,6,0)),\"-\",VLOOKUP(B12,'N PMČRj 2019'!B:G,6,0))","v":"-"}]
[5,"Tomas Suchanek",{"$f":"VLOOKUP(B13,Pilot!A:C,3,0)","v":"GAC Benešov"},{"$f":"VLOOKUP(B13,Pilot!A:B,2,0)","v":1964},{"$f":"VLOOKUP(B13,Pilot!A:E,5,0)","v":"M"},{"$f":"VLOOKUP(B13,Pilot!A:F,6,0)","v":""},5,null,1,{"$f":"IF(COUNTIF('N PMRg 2019'!B:B,B13)=0,\"-\",COUNTIF('N PMRg 2019'!B:B,B13))","v":"-"},{"$f":"IF(ISERROR(VLOOKUP(B13,'N PMRg 2019'!B:G,6,0)),\"-\",VLOOKUP(B13,'N PMRg 2019'!B:G,6,0))","v":"-"},{"$f":"IF(COUNTIF('N PMČRj 2019'!B:B,B13)=0,\"-\",COUNTIF('N PMČRj 2019'!B:B,B13))","v":"-"},{"$f":"IF(ISERROR(VLOOKUP(B13,'N PMČRj 2019'!B:G,6,0)),\"-\",VLOOKUP(B13,'N PMČRj 2019'!B:G,6,0))","v":"-"}]
[6,"Ivan Novak",{"$f":"VLOOKUP(B14,Pilot!A:C,3,0)","v":"Mladá Boleslav"},{"$f":"VLOOKUP(B14,Pilot!A:B,2,0)","v":1962},{"$f":"VLOOKUP(B14,Pilot!A:E,5,0)","v":"M"},{"$f":"VLOOKUP(B14,Pilot!A:F,6,0)","v":""},6,null,1,{"$f":"IF(COUNTIF('N PMRg 2019'!B:B,B14)=0,\"-\",COUNTIF('N PMRg 2019'!B:B,B14))","v":"-"},{"$f":"IF(ISERROR(VLOOKUP(B14,'N PMRg 2019'!B:G,6,0)),\"-\",VLOOKUP(B14,'N PMRg 2019'!B:G,6,0))","v":"-"},{"$f":"IF(COUNTIF('N PMČRj 2019'!B:B,B14)=0,\"-\",COUNTIF('N PMČRj 2019'!B:B,B14))","v":"-"},{"$f":"IF(ISERROR(VLOOKUP(B14,'N PMČRj 2019'!B:G,6,0)),\"-\",VLOOKUP(B14,'N PMČRj 2019'!B:G,6,0))","v":"-"}]
[7,"Petr Tichy",{"$f":"VLOOKUP(B15,Pilot!A:C,3,0)","v":"Zbraslavice"},{"$f":"VLOOKUP(B15,Pilot!A:B,2,0)","v":1973},{"$f":"VLOOKUP(B15,Pilot!A:E,5,0)","v":"M"},{"$f":"VLOOKUP(B15,Pilot!A:F,6,0)","v":""},7,null,1,{"$f":"IF(COUNTIF('N PMRg 2019'!B:B,B15)=0,\"-\",COUNTIF('N PMRg 2019'!B:B,B15))","v":"-"},{"$f":"IF(ISERROR(VLOOKUP(B15,'N PMRg 2019'!B:G,6,0)),\"-\",VLOOKUP(B15,'N PMRg 2019'!B:G,6,0))","v":"-"},{"$f":"IF(COUNTIF('N PMČRj 2019'!B:B,B15)=0,\"-\",COUNTIF('N PMČRj 2019'!B:B,B15))","v":"-"},{"$f":"IF(ISERROR(VLOOKUP(B15,'N PMČRj 2019'!B:G,6,0)),\"-\",VLOOKUP(B15,'N PMČRj 2019'!B:G,6,0))","v":"-"}]
[8,"Marek Pechanec",{"$f":"VLOOKUP(B16,Pilot!A:C,3,0)","v":"Luhačovice"},{"$f":"VLOOKUP(B16,Pilot!A:B,2,0)","v":1970},{"$f":"VLOOKUP(B16,Pilot!A:E,5,0)","v":"M"},{"$f":"VLOOKUP(B16,Pilot!A:F,6,0)","v":""},8,null,1,{"$f":"IF(COUNTIF('N PMRg 2019'!B:B,B16)=0,\"-\",COUNTIF('N PMRg 2019'!B:B,B16))","v":"-"},{"$f":"IF(ISERROR(VLOOKUP(B16,'N PMRg 2019'!B:G,6,0)),\"-\",VLOOKUP(B16,'N PMRg 2019'!B:G,6,0))","v":"-"},{"$f":"IF(COUNTIF('N PMČRj 2019'!B:B,B16)=0,\"-\",COUNTIF('N PMČRj 2019'!B:B,B16))","v":"-"},{"$f":"IF(ISERROR(VLOOKUP(B16,'N PMČRj 2019'!B:G,6,0)),\"-\",VLOOKUP(B16,'N PMČRj 2019'!B:G,6,0))","v":"-"}]
[9,"David Mach",{"$f":"VLOOKUP(B17,Pilot!A:C,3,0)","v":"Hronov"},{"$f":"VLOOKUP(B17,Pilot!A:B,2,0)","v":1994},{"$f":"VLOOKUP(B17,Pilot!A:E,5,0)","v":"M"},{"$f":"VLOOKUP(B17,Pilot!A:F,6,0)","v":"Junior v roce 2019"},9,null,1,{"$f":"IF(COUNTIF('N PMRg 2019'!B:B,B17)=0,\"-\",COUNTIF('N PMRg 2019'!B:B,B17))","v":"-"},{"$f":"IF(ISERROR(VLOOKUP(B17,'N PMRg 2019'!B:G,6,0)),\"-\",VLOOKUP(B17,'N PMRg 2019'!B:G,6,0))","v":"-"},{"$f":"IF(COUNTIF('N PMČRj 2019'!B:B,B17)=0,\"-\",COUNTIF('N PMČRj 2019'!B:B,B17))","v":"-"},{"$f":"IF(ISERROR(VLOOKUP(B17,'N PMČRj 2019'!B:G,6,0)),\"-\",VLOOKUP(B17,'N PMČRj 2019'!B:G,6,0))","v":"-"}]
[10,"Jan Louda",{"$f":"VLOOKUP(B18,Pilot!A:C,3,0)","v":"Mladá Boleslav"},{"$f":"VLOOKUP(B18,Pilot!A:B,2,0)","v":1986},{"$f":"VLOOKUP(B18,Pilot!A:E,5,0)","v":"M"},{"$f":"VLOOKUP(B18,Pilot!A:F,6,0)","v":""},{"$f":"A18","v":10},null,1,{"$f":"IF(COUNTIF('N PMRg 2019'!B:B,B18)=0,\"-\",COUNTIF('N PMRg 2019'!B:B,B18))","v":"-"},{"$f":"IF(ISERROR(VLOOKUP(B18,'N PMRg 2019'!B:G,6,0)),\"-\",VLOOKUP(B18,'N PMRg 2019'!B:G,6,0))","v":"-"},{"$f":"IF(COUNTIF('N PMČRj 2019'!B:B,B18)=0,\"-\",COUNTIF('N PMČRj 2019'!B:B,B18))","v":"-"},{"$f":"IF(ISERROR(VLOOKUP(B18,'N PMČRj 2019'!B:G,6,0)),\"-\",VLOOKUP(B18,'N PMČRj 2019'!B:G,6,0))","v":"-"}]
[11,"Michal Lesinger",{"$f":"VLOOKUP(B19,Pilot!A:C,3,0)","v":"Moravská Třebová"},{"$f":"VLOOKUP(B19,Pilot!A:B,2,0)","v":1966},{"$f":"VLOOKUP(B19,Pilot!A:E,5,0)","v":"M"},{"$f":"VLOOKUP(B19,Pilot!A:F,6,0)","v":""},11,null,1,{"$f":"IF(COUNTIF('N PMRg 2019'!B:B,B19)=0,\"-\",COUNTIF('N PMRg 2019'!B:B,B19))","v":"-"},{"$f":"IF(ISERROR(VLOOKUP(B19,'N PMRg 2019'!B:G,6,0)),\"-\",VLOOKUP(B19,'N PMRg 2019'!B:G,6,0))","v":"-"},{"$f":"IF(COUNTIF('N PMČRj 2019'!B:B,B19)=0,\"-\",COUNTIF('N PMČRj 2019'!B:B,B19))","v":"-"},{"$f":"IF(ISERROR(VLOOKUP(B19,'N PMČRj 2019'!B:G,6,0)),\"-\",VLOOKUP(B19,'N PMČRj 2019'!B:G,6,0))","v":"-"}]
[12,"Radek Krejcirik",{"$f":"VLOOKUP(B20,Pilot!A:C,3,0)","v":"Hranice"},{"$f":"VLOOKUP(B20,Pilot!A:B,2,0)","v":1991},{"$f":"VLOOKUP(B20,Pilot!A:E,5,0)","v":"M"},{"$f":"VLOOKUP(B20,Pilot!A:F,6,0)","v":""},12,null,1,{"$f":"IF(COUNTIF('N PMRg 2019'!B:B,B20)=0,\"-\",COUNTIF('N PMRg 2019'!B:B,B20))","v":"-"},{"$f":"IF(ISERROR(VLOOKUP(B20,'N PMRg 2019'!B:G,6,0)),\"-\",VLOOKUP(B20,'N PMRg 2019'!B:G,6,0))","v":"-"},{"$f":"IF(COUNTIF('N PMČRj 2019'!B:B,B20)=0,\"-\",COUNTIF('N PMČRj 2019'!B:B,B20))","v":"-"},{"$f":"IF(ISERROR(VLOOKUP(B20,'N PMČRj 2019'!B:G,6,0)),\"-\",VLOOKUP(B20,'N PMČRj 2019'!B:G,6,0))","v":"-"}]
[13,"Petr Krejcirik",{"$f":"VLOOKUP(B21,Pilot!A:C,3,0)","v":"Hranice"},{"$f":"VLOOKUP(B21,Pilot!A:B,2,0)","v":1960},{"$f":"VLOOKUP(B21,Pilot!A:E,5,0)","v":"M"},{"$f":"VLOOKUP(B21,Pilot!A:F,6,0)","v":""},{"$f":"A21","v":13},null,1,{"$f":"IF(COUNTIF('N PMRg 2019'!B:B,B21)=0,\"-\",COUNTIF('N PMRg 2019'!B:B,B21))","v":"-"},{"$f":"IF(ISERROR(VLOOKUP(B21,'N PMRg 2019'!B:G,6,0)),\"-\",VLOOKUP(B21,'N PMRg 2019'!B:G,6,0))","v":"-"},{"$f":"IF(COUNTIF('N PMČRj 2019'!B:B,B21)=0,\"-\",COUNTIF('N PMČRj 2019'!B:B,B21))","v":"-"},{"$f":"IF(ISERROR(VLOOKUP(B21,'N PMČRj 2019'!B:G,6,0)),\"-\",VLOOKUP(B21,'N PMČRj 2019'!B:G,6,0))","v":"-"}]
[14,"Karel Novak",{"$f":"VLOOKUP(B22,Pilot!A:C,3,0)","v":"Mladá Boleslav"},{"$f":"VLOOKUP(B22,Pilot!A:B,2,0)","v":1993},{"$f":"VLOOKUP(B22,Pilot!A:E,5,0)","v":"M"},{"$f":"VLOOKUP(B22,Pilot!A:F,6,0)","v":""},14,null,1,{"$f":"IF(COUNTIF('N PMRg 2019'!B:B,B22)=0,\"-\",COUNTIF('N PMRg 2019'!B:B,B22))","v":"-"},{"$f":"IF(ISERROR(VLOOKUP(B22,'N PMRg 2019'!B:G,6,0)),\"-\",VLOOKUP(B22,'N PMRg 2019'!B:G,6,0))","v":"-"},{"$f":"IF(COUNTIF('N PMČRj 2019'!B:B,B22)=0,\"-\",COUNTIF('N PMČRj 2019'!B:B,B22))","v":"-"},{"$f":"IF(ISERROR(VLOOKUP(B22,'N PMČRj 2019'!B:G,6,0)),\"-\",VLOOKUP(B22,'N PMČRj 2019'!B:G,6,0))","v":"-"}]
[15,"Ondrej Bordovsky",{"$f":"VLOOKUP(B23,Pilot!A:C,3,0)","v":"Krnov"},{"$f":"VLOOKUP(B23,Pilot!A:B,2,0)","v":1983},{"$f":"VLOOKUP(B23,Pilot!A:E,5,0)","v":"M"},{"$f":"VLOOKUP(B23,Pilot!A:F,6,0)","v":""},15,null,1,{"$f":"IF(COUNTIF('N PMRg 2019'!B:B,B23)=0,\"-\",COUNTIF('N PMRg 2019'!B:B,B23))","v":"-"},{"$f":"IF(ISERROR(VLOOKUP(B23,'N PMRg 2019'!B:G,6,0)),\"-\",VLOOKUP(B23,'N PMRg 2019'!B:G,6,0))","v":"-"},{"$f":"IF(COUNTIF('N PMČRj 2019'!B:B,B23)=0,\"-\",COUNTIF('N PMČRj 2019'!B:B,B23))","v":"-"},{"$f":"IF(ISERROR(VLOOKUP(B23,'N PMČRj 2019'!B:G,6,0)),\"-\",VLOOKUP(B23,'N PMČRj 2019'!B:G,6,0))","v":"-"}]
[16,"Zdenek Boruvka 86",{"$f":"VLOOKUP(B24,Pilot!A:C,3,0)","v":"Jičín"},{"$f":"VLOOKUP(B24,Pilot!A:B,2,0)","v":1986},{"$f":"VLOOKUP(B24,Pilot!A:E,5,0)","v":"M"},{"$f":"VLOOKUP(B24,Pilot!A:F,6,0)","v":""},16,null,1,{"$f":"IF(COUNTIF('N PMRg 2019'!B:B,B24)=0,\"-\",COUNTIF('N PMRg 2019'!B:B,B24))","v":"-"},{"$f":"IF(ISERROR(VLOOKUP(B24,'N PMRg 2019'!B:G,6,0)),\"-\",VLOOKUP(B24,'N PMRg 2019'!B:G,6,0))","v":"-"},{"$f":"IF(COUNTIF('N PMČRj 2019'!B:B,B24)=0,\"-\",COUNTIF('N PMČRj 2019'!B:B,B24))","v":"-"},{"$f":"IF(ISERROR(VLOOKUP(B24,'N PMČRj 2019'!B:G,6,0)),\"-\",VLOOKUP(B24,'N PMČRj 2019'!B:G,6,0))","v":"-"}]
[17,"Lubomir Motl",{"$f":"VLOOKUP(B25,Pilot!A:C,3,0)","v":"Kyjov"},{"$f":"VLOOKUP(B25,Pilot!A:B,2,0)","v":1959},{"$f":"VLOOKUP(B25,Pilot!A:E,5,0)","v":"M"},{"$f":"VLOOKUP(B25,Pilot!A:F,6,0)","v":""},17,null,1,{"$f":"IF(COUNTIF('N PMRg 2019'!B:B,B25)=0,\"-\",COUNTIF('N PMRg 2019'!B:B,B25))","v":"-"},{"$f":"IF(ISERROR(VLOOKUP(B25,'N PMRg 2019'!B:G,6,0)),\"-\",VLOOKUP(B25,'N PMRg 2019'!B:G,6,0))","v":"-"},{"$f":"IF(COUNTIF('N PMČRj 2019'!B:B,B25)=0,\"-\",COUNTIF('N PMČRj 2019'!B:B,B25))","v":"-"},{"$f":"IF(ISERROR(VLOOKUP(B25,'N PMČRj 2019'!B:G,6,0)),\"-\",VLOOKUP(B25,'N PMČRj 2019'!B:G,6,0))","v":"-"}]
[18,"Jana Veprekova",{"$f":"VLOOKUP(B26,Pilot!A:C,3,0)","v":"Dvůr Králové"},{"$f":"VLOOKUP(B26,Pilot!A:B,2,0)","v":1961},{"$f":"VLOOKUP(B26,Pilot!A:E,5,0)","v":"F"},{"$f":"VLOOKUP(B26,Pilot!A:F,6,0)","v":""},18,null,1,{"$f":"IF(COUNTIF('N PMRg 2019'!B:B,B26)=0,\"-\",COUNTIF('N PMRg 2019'!B:B,B26))","v":"-"},{"$f":"IF(ISERROR(VLOOKUP(B26,'N PMRg 2019'!B:G,6,0)),\"-\",VLOOKUP(B26,'N PMRg 2019'!B:G,6,0))","v":"-"},{"$f":"IF(COUNTIF('N PMČRj 2019'!B:B,B26)=0,\"-\",COUNTIF('N PMČRj 2019'!B:B,B26))","v":"-"},{"$f":"IF(ISERROR(VLOOKUP(B26,'N PMČRj 2019'!B:G,6,0)),\"-\",VLOOKUP(B26,'N PMČRj 2019'!B:G,6,0))","v":"-"}]
[19,"Daniel Ryba",{"$f":"VLOOKUP(B27,Pilot!A:C,3,0)","v":"Dvůr Králové"},{"$f":"VLOOKUP(B27,Pilot!A:B,2,0)","v":1994},{"$f":"VLOOKUP(B27,Pilot!A:E,5,0)","v":"M"},{"$f":"VLOOKUP(B27,Pilot!A:F,6,0)","v":"Junior v roce 2019"},19,null,1,{"$f":"IF(COUNTIF('N PMRg 2019'!B:B,B27)=0,\"-\",COUNTIF('N PMRg 2019'!B:B,B27))","v":"-"},{"$f":"IF(ISERROR(VLOOKUP(B27,'N PMRg 2019'!B:G,6,0)),\"-\",VLOOKUP(B27,'N PMRg 2019'!B:G,6,0))","v":"-"},{"$f":"IF(COUNTIF('N PMČRj 2019'!B:B,B27)=0,\"-\",COUNTIF('N PMČRj 2019'!B:B,B27))","v":"-"},{"$f":"IF(ISERROR(VLOOKUP(B27,'N PMČRj 2019'!B:G,6,0)),\"-\",VLOOKUP(B27,'N PMČRj 2019'!B:G,6,0))","v":"-"}]
[20,"Petr Koutny",{"$f":"VLOOKUP(B28,Pilot!A:C,3,0)","v":"Křižanov"},{"$f":"VLOOKUP(B28,Pilot!A:B,2,0)","v":1971},{"$f":"VLOOKUP(B28,Pilot!A:E,5,0)","v":"M"},{"$f":"VLOOKUP(B28,Pilot!A:F,6,0)","v":""},20,null,1,{"$f":"IF(COUNTIF('N PMRg 2019'!B:B,B28)=0,\"-\",COUNTIF('N PMRg 2019'!B:B,B28))","v":"-"},{"$f":"IF(ISERROR(VLOOKUP(B28,'N PMRg 2019'!B:G,6,0)),\"-\",VLOOKUP(B28,'N PMRg 2019'!B:G,6,0))","v":"-"},{"$f":"IF(COUNTIF('N PMČRj 2019'!B:B,B28)=0,\"-\",COUNTIF('N PMČRj 2019'!B:B,B28))","v":"-"},{"$f":"IF(ISERROR(VLOOKUP(B28,'N PMČRj 2019'!B:G,6,0)),\"-\",VLOOKUP(B28,'N PMČRj 2019'!B:G,6,0))","v":"-"}]
[21,"Dana Novakova",{"$f":"VLOOKUP(B29,Pilot!A:C,3,0)","v":"Mladá Boleslav"},{"$f":"VLOOKUP(B29,Pilot!A:B,2,0)","v":1965},{"$f":"VLOOKUP(B29,Pilot!A:E,5,0)","v":"F"},{"$f":"VLOOKUP(B29,Pilot!A:F,6,0)","v":""},21,null,1,{"$f":"IF(COUNTIF('N PMRg 2019'!B:B,B29)=0,\"-\",COUNTIF('N PMRg 2019'!B:B,B29))","v":"-"},{"$f":"IF(ISERROR(VLOOKUP(B29,'N PMRg 2019'!B:G,6,0)),\"-\",VLOOKUP(B29,'N PMRg 2019'!B:G,6,0))","v":"-"},{"$f":"IF(COUNTIF('N PMČRj 2019'!B:B,B29)=0,\"-\",COUNTIF('N PMČRj 2019'!B:B,B29))","v":"-"},{"$f":"IF(ISERROR(VLOOKUP(B29,'N PMČRj 2019'!B:G,6,0)),\"-\",VLOOKUP(B29,'N PMČRj 2019'!B:G,6,0))","v":"-"}]
[22,"Hana Treslova",{"$f":"VLOOKUP(B30,Pilot!A:C,3,0)","v":"Raná"},{"$f":"VLOOKUP(B30,Pilot!A:B,2,0)","v":1991},{"$f":"VLOOKUP(B30,Pilot!A:E,5,0)","v":"F"},{"$f":"VLOOKUP(B30,Pilot!A:F,6,0)","v":""},22,null,1,{"$f":"IF(COUNTIF('N PMRg 2019'!B:B,B30)=0,\"-\",COUNTIF('N PMRg 2019'!B:B,B30))","v":"-"},{"$f":"IF(ISERROR(VLOOKUP(B30,'N PMRg 2019'!B:G,6,0)),\"-\",VLOOKUP(B30,'N PMRg 2019'!B:G,6,0))","v":"-"},{"$f":"IF(COUNTIF('N PMČRj 2019'!B:B,B30)=0,\"-\",COUNTIF('N PMČRj 2019'!B:B,B30))","v":"-"},{"$f":"IF(ISERROR(VLOOKUP(B30,'N PMČRj 2019'!B:G,6,0)),\"-\",VLOOKUP(B30,'N PMČRj 2019'!B:G,6,0))","v":"-"}]
[23,"Jan Viskot",{"$f":"VLOOKUP(B31,Pilot!A:C,3,0)","v":"Břeclav"},{"$f":"VLOOKUP(B31,Pilot!A:B,2,0)","v":1995},{"$f":"VLOOKUP(B31,Pilot!A:E,5,0)","v":"M"},{"$f":"VLOOKUP(B31,Pilot!A:F,6,0)","v":"Junior v roce 2019"},23,null,1,{"$f":"IF(COUNTIF('N PMRg 2019'!B:B,B31)=0,\"-\",COUNTIF('N PMRg 2019'!B:B,B31))","v":"-"},{"$f":"IF(ISERROR(VLOOKUP(B31,'N PMRg 2019'!B:G,6,0)),\"-\",VLOOKUP(B31,'N PMRg 2019'!B:G,6,0))","v":"-"},{"$f":"IF(COUNTIF('N PMČRj 2019'!B:B,B31)=0,\"-\",COUNTIF('N PMČRj 2019'!B:B,B31))","v":"-"},{"$f":"IF(ISERROR(VLOOKUP(B31,'N PMČRj 2019'!B:G,6,0)),\"-\",VLOOKUP(B31,'N PMČRj 2019'!B:G,6,0))","v":"-"}]
[24,"Klara Teichmannova",{"$f":"VLOOKUP(B32,Pilot!A:C,3,0)","v":"Hronov"},{"$f":"VLOOKUP(B32,Pilot!A:B,2,0)","v":1993},{"$f":"VLOOKUP(B32,Pilot!A:E,5,0)","v":"F"},{"$f":"VLOOKUP(B32,Pilot!A:F,6,0)","v":""},24,null,1,{"$f":"IF(COUNTIF('N PMRg 2019'!B:B,B32)=0,\"-\",COUNTIF('N PMRg 2019'!B:B,B32))","v":"-"},{"$f":"IF(ISERROR(VLOOKUP(B32,'N PMRg 2019'!B:G,6,0)),\"-\",VLOOKUP(B32,'N PMRg 2019'!B:G,6,0))","v":"-"},{"$f":"IF(COUNTIF('N PMČRj 2019'!B:B,B32)=0,\"-\",COUNTIF('N PMČRj 2019'!B:B,B32))","v":"-"},{"$f":"IF(ISERROR(VLOOKUP(B32,'N PMČRj 2019'!B:G,6,0)),\"-\",VLOOKUP(B32,'N PMČRj 2019'!B:G,6,0))","v":"-"}]
[25,"Alena Netusilova",{"$f":"VLOOKUP(B33,Pilot!A:C,3,0)","v":"Zbraslavice"},{"$f":"VLOOKUP(B33,Pilot!A:B,2,0)","v":1970},{"$f":"VLOOKUP(B33,Pilot!A:E,5,0)","v":"F"},{"$f":"VLOOKUP(B33,Pilot!A:F,6,0)","v":""},25,null,1,{"$f":"IF(COUNTIF('N PMRg 2019'!B:B,B33)=0,\"-\",COUNTIF('N PMRg 2019'!B:B,B33))","v":"-"},{"$f":"IF(ISERROR(VLOOKUP(B33,'N PMRg 2019'!B:G,6,0)),\"-\",VLOOKUP(B33,'N PMRg 2019'!B:G,6,0))","v":"-"},{"$f":"IF(COUNTIF('N PMČRj 2019'!B:B,B33)=0,\"-\",COUNTIF('N PMČRj 2019'!B:B,B33))","v":"-"},{"$f":"IF(ISERROR(VLOOKUP(B33,'N PMČRj 2019'!B:G,6,0)),\"-\",VLOOKUP(B33,'N PMČRj 2019'!B:G,6,0))","v":"-"}]
[26,"Jaromir Macoun",{"$f":"VLOOKUP(B34,Pilot!A:C,3,0)","v":"Jičín"},{"$f":"VLOOKUP(B34,Pilot!A:B,2,0)","v":1999},{"$f":"VLOOKUP(B34,Pilot!A:E,5,0)","v":"M"},{"$f":"VLOOKUP(B34,Pilot!A:F,6,0)","v":"Junior v roce 2019"},{"$f":"A34","v":26},null,1,{"$f":"IF(COUNTIF('N PMRg 2019'!B:B,B34)=0,\"-\",COUNTIF('N PMRg 2019'!B:B,B34))","v":"-"},{"$f":"IF(ISERROR(VLOOKUP(B34,'N PMRg 2019'!B:G,6,0)),\"-\",VLOOKUP(B34,'N PMRg 2019'!B:G,6,0))","v":"-"},{"$f":"IF(COUNTIF('N PMČRj 2019'!B:B,B34)=0,\"-\",COUNTIF('N PMČRj 2019'!B:B,B34))","v":"-"},{"$f":"IF(ISERROR(VLOOKUP(B34,'N PMČRj 2019'!B:G,6,0)),\"-\",VLOOKUP(B34,'N PMČRj 2019'!B:G,6,0))","v":"-"}]
[27,"Jan Zapletal",{"$f":"VLOOKUP(B35,Pilot!A:C,3,0)","v":"Kroměříž"},{"$f":"VLOOKUP(B35,Pilot!A:B,2,0)","v":1997},{"$f":"VLOOKUP(B35,Pilot!A:E,5,0)","v":"M"},{"$f":"VLOOKUP(B35,Pilot!A:F,6,0)","v":"Junior v roce 2019"},27,null,1,{"$f":"IF(COUNTIF('N PMRg 2019'!B:B,B35)=0,\"-\",COUNTIF('N PMRg 2019'!B:B,B35))","v":"-"},{"$f":"IF(ISERROR(VLOOKUP(B35,'N PMRg 2019'!B:G,6,0)),\"-\",VLOOKUP(B35,'N PMRg 2019'!B:G,6,0))","v":"-"},{"$f":"IF(COUNTIF('N PMČRj 2019'!B:B,B35)=0,\"-\",COUNTIF('N PMČRj 2019'!B:B,B35))","v":"-"},{"$f":"IF(ISERROR(VLOOKUP(B35,'N PMČRj 2019'!B:G,6,0)),\"-\",VLOOKUP(B35,'N PMČRj 2019'!B:G,6,0))","v":"-"}]
[28,"Barbora Moravcova",{"$f":"VLOOKUP(B36,Pilot!A:C,3,0)","v":"Zbraslavice"},{"$f":"VLOOKUP(B36,Pilot!A:B,2,0)","v":1994},{"$f":"VLOOKUP(B36,Pilot!A:E,5,0)","v":"F"},{"$f":"VLOOKUP(B36,Pilot!A:F,6,0)","v":"Junior v roce 2019"},28,null,1,{"$f":"IF(COUNTIF('N PMRg 2019'!B:B,B36)=0,\"-\",COUNTIF('N PMRg 2019'!B:B,B36))","v":"-"},{"$f":"IF(ISERROR(VLOOKUP(B36,'N PMRg 2019'!B:G,6,0)),\"-\",VLOOKUP(B36,'N PMRg 2019'!B:G,6,0))","v":"-"},{"$f":"IF(COUNTIF('N PMČRj 2019'!B:B,B36)=0,\"-\",COUNTIF('N PMČRj 2019'!B:B,B36))","v":"-"},{"$f":"IF(ISERROR(VLOOKUP(B36,'N PMČRj 2019'!B:G,6,0)),\"-\",VLOOKUP(B36,'N PMČRj 2019'!B:G,6,0))","v":"-"}]
[29,"Jana Treslova",{"$f":"VLOOKUP(B37,Pilot!A:C,3,0)","v":"Raná"},{"$f":"VLOOKUP(B37,Pilot!A:B,2,0)","v":1963},{"$f":"VLOOKUP(B37,Pilot!A:E,5,0)","v":"F"},{"$f":"VLOOKUP(B37,Pilot!A:F,6,0)","v":""},29,null,1,{"$f":"IF(COUNTIF('N PMRg 2019'!B:B,B37)=0,\"-\",COUNTIF('N PMRg 2019'!B:B,B37))","v":"-"},{"$f":"IF(ISERROR(VLOOKUP(B37,'N PMRg 2019'!B:G,6,0)),\"-\",VLOOKUP(B37,'N PMRg 2019'!B:G,6,0))","v":"-"},{"$f":"IF(COUNTIF('N PMČRj 2019'!B:B,B37)=0,\"-\",COUNTIF('N PMČRj 2019'!B:B,B37))","v":"-"},{"$f":"IF(ISERROR(VLOOKUP(B37,'N PMČRj 2019'!B:G,6,0)),\"-\",VLOOKUP(B37,'N PMČRj 2019'!B:G,6,0))","v":"-"}]
[30,"Lenka Kuthanova",{"$f":"VLOOKUP(B38,Pilot!A:C,3,0)","v":"LK Břeclav"},{"$f":"VLOOKUP(B38,Pilot!A:B,2,0)","v":1960},{"$f":"VLOOKUP(B38,Pilot!A:E,5,0)","v":"F"},{"$f":"VLOOKUP(B38,Pilot!A:F,6,0)","v":""},30,null,1,{"$f":"IF(COUNTIF('N PMRg 2019'!B:B,B38)=0,\"-\",COUNTIF('N PMRg 2019'!B:B,B38))","v":"-"},{"$f":"IF(ISERROR(VLOOKUP(B38,'N PMRg 2019'!B:G,6,0)),\"-\",VLOOKUP(B38,'N PMRg 2019'!B:G,6,0))","v":"-"},{"$f":"IF(COUNTIF('N PMČRj 2019'!B:B,B38)=0,\"-\",COUNTIF('N PMČRj 2019'!B:B,B38))","v":"-"},{"$f":"IF(ISERROR(VLOOKUP(B38,'N PMČRj 2019'!B:G,6,0)),\"-\",VLOOKUP(B38,'N PMČRj 2019'!B:G,6,0))","v":"-"}]
[31,"Petra Piskata",{"$f":"VLOOKUP(B39,Pilot!A:C,3,0)","v":"Hranice"},{"$f":"VLOOKUP(B39,Pilot!A:B,2,0)","v":1989},{"$f":"VLOOKUP(B39,Pilot!A:E,5,0)","v":"F"},{"$f":"VLOOKUP(B39,Pilot!A:F,6,0)","v":""},31,null,1,{"$f":"IF(COUNTIF('N PMRg 2019'!B:B,B39)=0,\"-\",COUNTIF('N PMRg 2019'!B:B,B39))","v":"-"},{"$f":"IF(ISERROR(VLOOKUP(B39,'N PMRg 2019'!B:G,6,0)),\"-\",VLOOKUP(B39,'N PMRg 2019'!B:G,6,0))","v":"-"},{"$f":"IF(COUNTIF('N PMČRj 2019'!B:B,B39)=0,\"-\",COUNTIF('N PMČRj 2019'!B:B,B39))","v":"-"},{"$f":"IF(ISERROR(VLOOKUP(B39,'N PMČRj 2019'!B:G,6,0)),\"-\",VLOOKUP(B39,'N PMČRj 2019'!B:G,6,0))","v":"-"}]
["6.6.6.2.","další soutěžící, kteří se umístili v konečném pořadí na posledním platném PMČR ve své třídě nejhůře v první polovině celkového pořadí (bez náhradníků)\n"]
[null,"PMČR 2018 - Tábor - Klub"]
[{"$f":"MAX(A9:A39)+1","v":32},"Pavel Rericha",{"$f":"VLOOKUP(B42,Pilot!A:C,3,0)","v":"Moravská Třebová"},{"$f":"VLOOKUP(B42,Pilot!A:B,2,0)","v":1967},{"$f":"VLOOKUP(B42,Pilot!A:E,5,0)","v":"M"},{"$f":"VLOOKUP(B42,Pilot!A:F,6,0)","v":""},{"$f":"A42","v":32},null,{"$f":"COUNTIF(B:B,B42)","v":1},{"$f":"IF(COUNTIF('N PMRg 2019'!B:B,B42)=0,\"-\",COUNTIF('N PMRg 2019'!B:B,B42))","v":"-"},{"$f":"IF(ISERROR(VLOOKUP(B42,'N PMRg 2019'!B:G,6,0)),\"-\",VLOOKUP(B42,'N PMRg 2019'!B:G,6,0))","v":"-"},{"$f":"IF(COUNTIF('N PMČRj 2019'!B:B,B42)=0,\"-\",COUNTIF('N PMČRj 2019'!B:B,B42))","v":"-"},{"$f":"IF(ISERROR(VLOOKUP(B42,'N PMČRj 2019'!B:G,6,0)),\"-\",VLOOKUP(B42,'N PMČRj 2019'!B:G,6,0))","v":"-"}]
[{"$f":"A42+1","v":33},"Pavel Trybenekr",{"$f":"VLOOKUP(B43,Pilot!A:C,3,0)","v":"Hořice"},{"$f":"VLOOKUP(B43,Pilot!A:B,2,0)","v":1990},{"$f":"VLOOKUP(B43,Pilot!A:E,5,0)","v":"M"},{"$f":"VLOOKUP(B43,Pilot!A:F,6,0)","v":""},{"$f":"A43","v":33},null,{"$f":"COUNTIF(B:B,B43)","v":1},{"$f":"IF(COUNTIF('N PMRg 2019'!B:B,B43)=0,\"-\",COUNTIF('N PMRg 2019'!B:B,B43))","v":"-"},{"$f":"IF(ISERROR(VLOOKUP(B43,'N PMRg 2019'!B:G,6,0)),\"-\",VLOOKUP(B43,'N PMRg 2019'!B:G,6,0))","v":"-"},{"$f":"IF(COUNTIF('N PMČRj 2019'!B:B,B43)=0,\"-\",COUNTIF('N PMČRj 2019'!B:B,B43))","v":"-"},{"$f":"IF(ISERROR(VLOOKUP(B43,'N PMČRj 2019'!B:G,6,0)),\"-\",VLOOKUP(B43,'N PMČRj 2019'!B:G,6,0))","v":"-"}]
[{"$f":"A43+1","v":34},"Slavomir Piskaty 84",{"$f":"VLOOKUP(B44,Pilot!A:C,3,0)","v":"Kunovice"},{"$f":"VLOOKUP(B44,Pilot!A:B,2,0)","v":1984},{"$f":"VLOOKUP(B44,Pilot!A:E,5,0)","v":"M"},{"$f":"VLOOKUP(B44,Pilot!A:F,6,0)","v":""},{"$f":"A44","v":34},null,{"$f":"COUNTIF(B:B,B44)","v":1},{"$f":"IF(COUNTIF('N PMRg 2019'!B:B,B44)=0,\"-\",COUNTIF('N PMRg 2019'!B:B,B44))","v":"-"},{"$f":"IF(ISERROR(VLOOKUP(B44,'N PMRg 2019'!B:G,6,0)),\"-\",VLOOKUP(B44,'N PMRg 2019'!B:G,6,0))","v":"-"},{"$f":"IF(COUNTIF('N PMČRj 2019'!B:B,B44)=0,\"-\",COUNTIF('N PMČRj 2019'!B:B,B44))","v":"-"},{"$f":"IF(ISERROR(VLOOKUP(B44,'N PMČRj 2019'!B:G,6,0)),\"-\",VLOOKUP(B44,'N PMČRj 2019'!B:G,6,0))","v":"-"}]
[{"$f":"A44+1","v":35},"Petr Panek",{"$f":"VLOOKUP(B45,Pilot!A:C,3,0)","v":"Dvůr Králové"},{"$f":"VLOOKUP(B45,Pilot!A:B,2,0)","v":1975},{"$f":"VLOOKUP(B45,Pilot!A:E,5,0)","v":"M"},{"$f":"VLOOKUP(B45,Pilot!A:F,6,0)","v":""},{"$f":"A45","v":35},null,{"$f":"COUNTIF(B:B,B45)","v":1},{"$f":"IF(COUNTIF('N PMRg 2019'!B:B,B45)=0,\"-\",COUNTIF('N PMRg 2019'!B:B,B45))","v":"-"},{"$f":"IF(ISERROR(VLOOKUP(B45,'N PMRg 2019'!B:G,6,0)),\"-\",VLOOKUP(B45,'N PMRg 2019'!B:G,6,0))","v":"-"},{"$f":"IF(COUNTIF('N PMČRj 2019'!B:B,B45)=0,\"-\",COUNTIF('N PMČRj 2019'!B:B,B45))","v":"-"},{"$f":"IF(ISERROR(VLOOKUP(B45,'N PMČRj 2019'!B:G,6,0)),\"-\",VLOOKUP(B45,'N PMČRj 2019'!B:G,6,0))","v":"-"}]
[{"$f":"A45+1","v":36},"Ivan Harasta 65",{"$f":"VLOOKUP(B46,Pilot!A:C,3,0)","v":"Toužim"},{"$f":"VLOOKUP(B46,Pilot!A:B,2,0)","v":1965},{"$f":"VLOOKUP(B46,Pilot!A:E,5,0)","v":"M"},{"$f":"VLOOKUP(B46,Pilot!A:F,6,0)","v":""},{"$f":"A46","v":36},null,{"$f":"COUNTIF(B:B,B46)","v":1},{"$f":"IF(COUNTIF('N PMRg 2019'!B:B,B46)=0,\"-\",COUNTIF('N PMRg 2019'!B:B,B46))","v":"-"},{"$f":"IF(ISERROR(VLOOKUP(B46,'N PMRg 2019'!B:G,6,0)),\"-\",VLOOKUP(B46,'N PMRg 2019'!B:G,6,0))","v":"-"},{"$f":"IF(COUNTIF('N PMČRj 2019'!B:B,B46)=0,\"-\",COUNTIF('N PMČRj 2019'!B:B,B46))","v":"-"},{"$f":"IF(ISERROR(VLOOKUP(B46,'N PMČRj 2019'!B:G,6,0)),\"-\",VLOOKUP(B46,'N PMČRj 2019'!B:G,6,0))","v":"-"}]
[null,"PMČR 2018 - Tábor - Kombi 15m"]
[{"$f":"MAX(A42:A47)+1","v":37},"Jan Pavlik",{"$f":"VLOOKUP(B48,Pilot!A:C,3,0)","v":"Křižanov"},{"$f":"VLOOKUP(B48,Pilot!A:B,2,0)","v":1987},{"$f":"VLOOKUP(B48,Pilot!A:E,5,0)","v":"M"},{"$f":"VLOOKUP(B48,Pilot!A:F,6,0)","v":""},{"$f":"A48","v":37},null,{"$f":"COUNTIF(B:B,B48)","v":1},{"$f":"IF(COUNTIF('N PMRg 2019'!B:B,B48)=0,\"-\",COUNTIF('N PMRg 2019'!B:B,B48))","v":"-"},{"$f":"IF(ISERROR(VLOOKUP(B48,'N PMRg 2019'!B:G,6,0)),\"-\",VLOOKUP(B48,'N PMRg 2019'!B:G,6,0))","v":"-"},{"$f":"IF(COUNTIF('N PMČRj 2019'!B:B,B48)=0,\"-\",COUNTIF('N PMČRj 2019'!B:B,B48))","v":"-"},{"$f":"IF(ISERROR(VLOOKUP(B48,'N PMČRj 2019'!B:G,6,0)),\"-\",VLOOKUP(B48,'N PMČRj 2019'!B:G,6,0))","v":"-"}]
[{"$f":"A48+1","v":38},"Jiri Kusbach",{"$f":"VLOOKUP(B49,Pilot!A:C,3,0)","v":"Luhačovice"},{"$f":"VLOOKUP(B49,Pilot!A:B,2,0)","v":1959},{"$f":"VLOOKUP(B49,Pilot!A:E,5,0)","v":"M"},{"$f":"VLOOKUP(B49,Pilot!A:F,6,0)","v":""},{"$f":"A49","v":38},null,{"$f":"COUNTIF(B:B,B49)","v":1},{"$f":"IF(COUNTIF('N PMRg 2019'!B:B,B49)=0,\"-\",COUNTIF('N PMRg 2019'!B:B,B49))","v":"-"},{"$f":"IF(ISERROR(VLOOKUP(B49,'N PMRg 2019'!B:G,6,0)),\"-\",VLOOKUP(B49,'N PMRg 2019'!B:G,6,0))","v":"-"},{"$f":"IF(COUNTIF('N PMČRj 2019'!B:B,B49)=0,\"-\",COUNTIF('N PMČRj 2019'!B:B,B49))","v":"-"},{"$f":"IF(ISERROR(VLOOKUP(B49,'N PMČRj 2019'!B:G,6,0)),\"-\",VLOOKUP(B49,'N PMČRj 2019'!B:G,6,0))","v":"-"}]
[null,"PMČR 2018 - Tábor - Kombi Open"]
[{"$f":"MAX(A48:A50)+1","v":39},"Danes Grula",{"$f":"VLOOKUP(B51,Pilot!A:C,3,0)","v":"Medlánky"},{"$f":"VLOOKUP(B51,Pilot!A:B,2,0)","v":1961},{"$f":"VLOOKUP(B51,Pilot!A:E,5,0)","v":"M"},{"$f":"VLOOKUP(B51,Pilot!A:F,6,0)","v":""},{"$f":"A51","v":39},null,{"$f":"COUNTIF(B:B,B51)","v":1},{"$f":"IF(COUNTIF('N PMRg 2019'!B:B,B51)=0,\"-\",COUNTIF('N PMRg 2019'!B:B,B51))","v":"-"},{"$f":"IF(ISERROR(VLOOKUP(B51,'N PMRg 2019'!B:G,6,0)),\"-\",VLOOKUP(B51,'N PMRg 2019'!B:G,6,0))","v":"-"},{"$f":"IF(COUNTIF('N PMČRj 2019'!B:B,B51)=0,\"-\",COUNTIF('N PMČRj 2019'!B:B,B51))","v":"-"},{"$f":"IF(ISERROR(VLOOKUP(B51,'N PMČRj 2019'!B:G,6,0)),\"-\",VLOOKUP(B51,'N PMČRj 2019'!B:G,6,0))","v":"-"}]
[{"$f":"MAX(A49:A51)+1","v":40},"Petr Hotovy",{"$f":"VLOOKUP(B52,Pilot!A:C,3,0)","v":"Česká Lípa"},{"$f":"VLOOKUP(B52,Pilot!A:B,2,0)","v":1958},{"$f":"VLOOKUP(B52,Pilot!A:E,5,0)","v":"M"},{"$f":"VLOOKUP(B52,Pilot!A:F,6,0)","v":""},{"$f":"A52","v":40},null,{"$f":"COUNTIF(B:B,B52)","v":1},{"$f":"IF(COUNTIF('N PMRg 2019'!B:B,B52)=0,\"-\",COUNTIF('N PMRg 2019'!B:B,B52))","v":"-"},{"$f":"IF(ISERROR(VLOOKUP(B52,'N PMRg 2019'!B:G,6,0)),\"-\",VLOOKUP(B52,'N PMRg 2019'!B:G,6,0))","v":"-"},{"$f":"IF(COUNTIF('N PMČRj 2019'!B:B,B52)=0,\"-\",COUNTIF('N PMČRj 2019'!B:B,B52))","v":"-"},{"$f":"IF(ISERROR(VLOOKUP(B52,'N PMČRj 2019'!B:G,6,0)),\"-\",VLOOKUP(B52,'N PMČRj 2019'!B:G,6,0))","v":"-"}]
["6.6.6.3.","prvních 5 soutěžících z posledního platného PMČRj mimo RV (+ 5 náhradníků)"]
[null,"PMČRj 2018 - Raná - Klub"]
[{"$f":"MAX(A42:A52)+1","v":41},"Petr Valenta",{"$f":"VLOOKUP(B55,Pilot!A:C,3,0)","v":"Kunovice"},{"$f":"VLOOKUP(B55,Pilot!A:B,2,0)","v":1994},{"$f":"VLOOKUP(B55,Pilot!A:E,5,0)","v":"M"},{"$f":"VLOOKUP(B55,Pilot!A:F,6,0)","v":"Junior v roce 2019"},{"$f":"A55","v":41},null,{"$f":"COUNTIF(B:B,B55)","v":1},{"$f":"IF(COUNTIF('N PMRg 2019'!B:B,B55)=0,\"-\",COUNTIF('N PMRg 2019'!B:B,B55))","v":"-"},{"$f":"IF(ISERROR(VLOOKUP(B55,'N PMRg 2019'!B:G,6,0)),\"-\",VLOOKUP(B55,'N PMRg 2019'!B:G,6,0))","v":"-"},{"$f":"IF(COUNTIF('N PMČRj 2019'!B:B,B55)=0,\"-\",COUNTIF('N PMČRj 2019'!B:B,B55))","v":"-"},{"$f":"IF(ISERROR(VLOOKUP(B55,'N PMČRj 2019'!B:G,6,0)),\"-\",VLOOKUP(B55,'N PMČRj 2019'!B:G,6,0))","v":"-"}]
[{"$f":"A55+1","v":42},"Jan Vozeh",{"$f":"VLOOKUP(B56,Pilot!A:C,3,0)","v":"Rakovník"},{"$f":"VLOOKUP(B56,Pilot!A:B,2,0)","v":1995},{"$f":"VLOOKUP(B56,Pilot!A:E,5,0)","v":"M"},{"$f":"VLOOKUP(B56,Pilot!A:F,6,0)","v":"Junior v roce 2019"},42,null,1,{"$f":"IF(COUNTIF('N PMRg 2019'!B:B,B56)=0,\"-\",COUNTIF('N PMRg 2019'!B:B,B56))","v":"-"},{"$f":"IF(ISERROR(VLOOKUP(B56,'N PMRg 2019'!B:G,6,0)),\"-\",VLOOKUP(B56,'N PMRg 2019'!B:G,6,0))","v":"-"},{"$f":"IF(COUNTIF('N PMČRj 2019'!B:B,B56)=0,\"-\",COUNTIF('N PMČRj 2019'!B:B,B56))","v":"-"},{"$f":"IF(ISERROR(VLOOKUP(B56,'N PMČRj 2019'!B:G,6,0)),\"-\",VLOOKUP(B56,'N PMČRj 2019'!B:G,6,0))","v":"-"}]
[{"$f":"A56+1","v":43},"Ivan Tvrdik",{"$f":"VLOOKUP(B57,Pilot!A:C,3,0)","v":"Letňany"},{"$f":"VLOOKUP(B57,Pilot!A:B,2,0)","v":1997},{"$f":"VLOOKUP(B57,Pilot!A:E,5,0)","v":"M"},{"$f":"VLOOKUP(B57,Pilot!A:F,6,0)","v":"Junior v roce 2019"},43,null,1,{"$f":"IF(COUNTIF('N PMRg 2019'!B:B,B57)=0,\"-\",COUNTIF('N PMRg 2019'!B:B,B57))","v":"-"},{"$f":"IF(ISERROR(VLOOKUP(B57,'N PMRg 2019'!B:G,6,0)),\"-\",VLOOKUP(B57,'N PMRg 2019'!B:G,6,0))","v":"-"},{"$f":"IF(COUNTIF('N PMČRj 2019'!B:B,B57)=0,\"-\",COUNTIF('N PMČRj 2019'!B:B,B57))","v":"-"},{"$f":"IF(ISERROR(VLOOKUP(B57,'N PMČRj 2019'!B:G,6,0)),\"-\",VLOOKUP(B57,'N PMČRj 2019'!B:G,6,0))","v":"-"}]
[{"$f":"A57+1","v":44},"Tomas Jilek",{"$f":"VLOOKUP(B58,Pilot!A:C,3,0)","v":"Raná"},{"$f":"VLOOKUP(B58,Pilot!A:B,2,0)","v":1995},{"$f":"VLOOKUP(B58,Pilot!A:E,5,0)","v":"M"},{"$f":"VLOOKUP(B58,Pilot!A:F,6,0)","v":"Junior v roce 2019"},44,null,1,{"$f":"IF(COUNTIF('N PMRg 2019'!B:B,B58)=0,\"-\",COUNTIF('N PMRg 2019'!B:B,B58))","v":"-"},{"$f":"IF(ISERROR(VLOOKUP(B58,'N PMRg 2019'!B:G,6,0)),\"-\",VLOOKUP(B58,'N PMRg 2019'!B:G,6,0))","v":"-"},{"$f":"IF(COUNTIF('N PMČRj 2019'!B:B,B58)=0,\"-\",COUNTIF('N PMČRj 2019'!B:B,B58))","v":"-"},{"$f":"IF(ISERROR(VLOOKUP(B58,'N PMČRj 2019'!B:G,6,0)),\"-\",VLOOKUP(B58,'N PMČRj 2019'!B:G,6,0))","v":"-"}]
[{"$f":"A58+1","v":45},"Daniel Suchy",{"$f":"VLOOKUP(B59,Pilot!A:C,3,0)","v":"Hranice"},{"$f":"VLOOKUP(B59,Pilot!A:B,2,0)","v":1995},{"$f":"VLOOKUP(B59,Pilot!A:E,5,0)","v":"M"},{"$f":"VLOOKUP(B59,Pilot!A:F,6,0)","v":"Junior v roce 2019"},45,null,1,{"$f":"IF(COUNTIF('N PMRg 2019'!B:B,B59)=0,\"-\",COUNTIF('N PMRg 2019'!B:B,B59))","v":"-"},{"$f":"IF(ISERROR(VLOOKUP(B59,'N PMRg 2019'!B:G,6,0)),\"-\",VLOOKUP(B59,'N PMRg 2019'!B:G,6,0))","v":"-"},{"$f":"IF(COUNTIF('N PMČRj 2019'!B:B,B59)=0,\"-\",COUNTIF('N PMČRj 2019'!B:B,B59))","v":"-"},{"$f":"IF(ISERROR(VLOOKUP(B59,'N PMČRj 2019'!B:G,6,0)),\"-\",VLOOKUP(B59,'N PMČRj 2019'!B:G,6,0))","v":"-"}]
["N1","Vit Morkovsky",{"$f":"VLOOKUP(B60,Pilot!A:C,3,0)","v":"Polička"},{"$f":"VLOOKUP(B60,Pilot!A:B,2,0)","v":2000},{"$f":"VLOOKUP(B60,Pilot!A:E,5,0)","v":"M"},{"$f":"VLOOKUP(B60,Pilot!A:F,6,0)","v":"Junior v roce 2019"},"N1",null,1,{"$f":"IF(COUNTIF('N PMRg 2019'!B:B,B60)=0,\"-\",COUNTIF('N PMRg 2019'!B:B,B60))","v":"-"},{"$f":"IF(ISERROR(VLOOKUP(B60,'N PMRg 2019'!B:G,6,0)),\"-\",VLOOKUP(B60,'N PMRg 2019'!B:G,6,0))","v":"-"},{"$f":"IF(COUNTIF('N PMČRj 2019'!B:B,B60)=0,\"-\",COUNTIF('N PMČRj 2019'!B:B,B60))","v":"-"},{"$f":"IF(ISERROR(VLOOKUP(B60,'N PMČRj 2019'!B:G,6,0)),\"-\",VLOOKUP(B60,'N PMČRj 2019'!B:G,6,0))","v":"-"}]
["N2","Josef Hlusek",{"$f":"VLOOKUP(B61,Pilot!A:C,3,0)","v":"Kunovice"},{"$f":"VLOOKUP(B61,Pilot!A:B,2,0)","v":1993},{"$f":"VLOOKUP(B61,Pilot!A:E,5,0)","v":"M"},{"$f":"VLOOKUP(B61,Pilot!A:F,6,0)","v":""},"N2",null,1,{"$f":"IF(COUNTIF('N PMRg 2019'!B:B,B61)=0,\"-\",COUNTIF('N PMRg 2019'!B:B,B61))","v":"-"},{"$f":"IF(ISERROR(VLOOKUP(B61,'N PMRg 2019'!B:G,6,0)),\"-\",VLOOKUP(B61,'N PMRg 2019'!B:G,6,0))","v":"-"},{"$f":"IF(COUNTIF('N PMČRj 2019'!B:B,B61)=0,\"-\",COUNTIF('N PMČRj 2019'!B:B,B61))","v":"-"},{"$f":"IF(ISERROR(VLOOKUP(B61,'N PMČRj 2019'!B:G,6,0)),\"-\",VLOOKUP(B61,'N PMČRj 2019'!B:G,6,0))","v":"-"}]
["N3","Jan Beran",{"$f":"VLOOKUP(B62,Pilot!A:C,3,0)","v":"Kladno"},{"$f":"VLOOKUP(B62,Pilot!A:B,2,0)","v":1999},{"$f":"VLOOKUP(B62,Pilot!A:E,5,0)","v":"M"},{"$f":"VLOOKUP(B62,Pilot!A:F,6,0)","v":"Junior v roce 2019"},"N3",null,1,{"$f":"IF(COUNTIF('N PMRg 2019'!B:B,B62)=0,\"-\",COUNTIF('N PMRg 2019'!B:B,B62))","v":"-"},{"$f":"IF(ISERROR(VLOOKUP(B62,'N PMRg 2019'!B:G,6,0)),\"-\",VLOOKUP(B62,'N PMRg 2019'!B:G,6,0))","v":"-"},{"$f":"IF(COUNTIF('N PMČRj 2019'!B:B,B62)=0,\"-\",COUNTIF('N PMČRj 2019'!B:B,B62))","v":"-"},{"$f":"IF(ISERROR(VLOOKUP(B62,'N PMČRj 2019'!B:G,6,0)),\"-\",VLOOKUP(B62,'N PMČRj 2019'!B:G,6,0))","v":"-"}]
["N4","Tomas Moravec",{"$f":"VLOOKUP(B63,Pilot!A:C,3,0)","v":"Žamberk"},{"$f":"VLOOKUP(B63,Pilot!A:B,2,0)","v":2000},{"$f":"VLOOKUP(B63,Pilot!A:E,5,0)","v":"M"},{"$f":"VLOOKUP(B63,Pilot!A:F,6,0)","v":"Junior v roce 2019"},"N4",null,1,{"$f":"IF(COUNTIF('N PMRg 2019'!B:B,B63)=0,\"-\",COUNTIF('N PMRg 2019'!B:B,B63))","v":"-"},{"$f":"IF(ISERROR(VLOOKUP(B63,'N PMRg 2019'!B:G,6,0)),\"-\",VLOOKUP(B63,'N PMRg 2019'!B:G,6,0))","v":"-"},{"$f":"IF(COUNTIF('N PMČRj 2019'!B:B,B63)=0,\"-\",COUNTIF('N PMČRj 2019'!B:B,B63))","v":"-"},{"$f":"IF(ISERROR(VLOOKUP(B63,'N PMČRj 2019'!B:G,6,0)),\"-\",VLOOKUP(B63,'N PMČRj 2019'!B:G,6,0))","v":"-"}]
["N5","Vladimir Hammer",{"$f":"VLOOKUP(B64,Pilot!A:C,3,0)","v":"Klatovy"},{"$f":"VLOOKUP(B64,Pilot!A:B,2,0)","v":2000},{"$f":"VLOOKUP(B64,Pilot!A:E,5,0)","v":"M"},{"$f":"VLOOKUP(B64,Pilot!A:F,6,0)","v":"Junior v roce 2019"},"N5",null,1,{"$f":"IF(COUNTIF('N PMRg 2019'!B:B,B64)=0,\"-\",COUNTIF('N PMRg 2019'!B:B,B64))","v":"-"},{"$f":"IF(ISERROR(VLOOKUP(B64,'N PMRg 2019'!B:G,6,0)),\"-\",VLOOKUP(B64,'N PMRg 2019'!B:G,6,0))","v":"-"},{"$f":"IF(COUNTIF('N PMČRj 2019'!B:B,B64)=0,\"-\",COUNTIF('N PMČRj 2019'!B:B,B64))","v":"-"},{"$f":"IF(ISERROR(VLOOKUP(B64,'N PMČRj 2019'!B:G,6,0)),\"-\",VLOOKUP(B64,'N PMČRj 2019'!B:G,6,0))","v":"-"}]
["6.6.6.4.","5 soutěžících může navrhnout PK podle jiných kritérií dle odstavce 9. (bez náhradníků)"]
["-","-",{"$f":"VLOOKUP(B66,Pilot!A:C,3,0)","v":" "},{"$f":"VLOOKUP(B66,Pilot!A:B,2,0)","v":" "},{"$f":"VLOOKUP(B66,Pilot!A:E,5,0)","v":" "},{"$f":"VLOOKUP(B66,Pilot!A:F,6,0)","v":" "},{"$f":"A66","v":"-"},null,{"$f":"COUNTIF(B:B,B66)","v":10},{"$f":"IF(COUNTIF('N PMRg 2019'!B:B,B66)=0,\"-\",COUNTIF('N PMRg 2019'!B:B,B66))","v":14},{"$f":"IF(ISERROR(VLOOKUP(B66,'N PMRg 2019'!B:G,6,0)),\"-\",VLOOKUP(B66,'N PMRg 2019'!B:G,6,0))","v":"-"},{"$f":"IF(COUNTIF('N PMČRj 2019'!B:B,B66)=0,\"-\",COUNTIF('N PMČRj 2019'!B:B,B66))","v":10},{"$f":"IF(ISERROR(VLOOKUP(B66,'N PMČRj 2019'!B:G,6,0)),\"-\",VLOOKUP(B66,'N PMČRj 2019'!B:G,6,0))","v":"-"}]
["-","-",{"$f":"VLOOKUP(B67,Pilot!A:C,3,0)","v":" "},{"$f":"VLOOKUP(B67,Pilot!A:B,2,0)","v":" "},{"$f":"VLOOKUP(B67,Pilot!A:E,5,0)","v":" "},{"$f":"VLOOKUP(B67,Pilot!A:F,6,0)","v":" "},{"$f":"A67","v":"-"},null,{"$f":"COUNTIF(B:B,B67)","v":10},{"$f":"IF(COUNTIF('N PMRg 2019'!B:B,B67)=0,\"-\",COUNTIF('N PMRg 2019'!B:B,B67))","v":14},{"$f":"IF(ISERROR(VLOOKUP(B67,'N PMRg 2019'!B:G,6,0)),\"-\",VLOOKUP(B67,'N PMRg 2019'!B:G,6,0))","v":"-"},{"$f":"IF(COUNTIF('N PMČRj 2019'!B:B,B67)=0,\"-\",COUNTIF('N PMČRj 2019'!B:B,B67))","v":10},{"$f":"IF(ISERROR(VLOOKUP(B67,'N PMČRj 2019'!B:G,6,0)),\"-\",VLOOKUP(B67,'N PMČRj 2019'!B:G,6,0))","v":"-"}]
["-","-",{"$f":"VLOOKUP(B68,Pilot!A:C,3,0)","v":" "},{"$f":"VLOOKUP(B68,Pilot!A:B,2,0)","v":" "},{"$f":"VLOOKUP(B68,Pilot!A:E,5,0)","v":" "},{"$f":"VLOOKUP(B68,Pilot!A:F,6,0)","v":" "},{"$f":"A68","v":"-"},null,{"$f":"COUNTIF(B:B,B68)","v":10},{"$f":"IF(COUNTIF('N PMRg 2019'!B:B,B68)=0,\"-\",COUNTIF('N PMRg 2019'!B:B,B68))","v":14},{"$f":"IF(ISERROR(VLOOKUP(B68,'N PMRg 2019'!B:G,6,0)),\"-\",VLOOKUP(B68,'N PMRg 2019'!B:G,6,0))","v":"-"},{"$f":"IF(COUNTIF('N PMČRj 2019'!B:B,B68)=0,\"-\",COUNTIF('N PMČRj 2019'!B:B,B68))","v":10},{"$f":"IF(ISERROR(VLOOKUP(B68,'N PMČRj 2019'!B:G,6,0)),\"-\",VLOOKUP(B68,'N PMČRj 2019'!B:G,6,0))","v":"-"}]
["-","-",{"$f":"VLOOKUP(B69,Pilot!A:C,3,0)","v":" "},{"$f":"VLOOKUP(B69,Pilot!A:B,2,0)","v":" "},{"$f":"VLOOKUP(B69,Pilot!A:E,5,0)","v":" "},{"$f":"VLOOKUP(B69,Pilot!A:F,6,0)","v":" "},{"$f":"A69","v":"-"},null,{"$f":"COUNTIF(B:B,B69)","v":10},{"$f":"IF(COUNTIF('N PMRg 2019'!B:B,B69)=0,\"-\",COUNTIF('N PMRg 2019'!B:B,B69))","v":14},{"$f":"IF(ISERROR(VLOOKUP(B69,'N PMRg 2019'!B:G,6,0)),\"-\",VLOOKUP(B69,'N PMRg 2019'!B:G,6,0))","v":"-"},{"$f":"IF(COUNTIF('N PMČRj 2019'!B:B,B69)=0,\"-\",COUNTIF('N PMČRj 2019'!B:B,B69))","v":10},{"$f":"IF(ISERROR(VLOOKUP(B69,'N PMČRj 2019'!B:G,6,0)),\"-\",VLOOKUP(B69,'N PMČRj 2019'!B:G,6,0))","v":"-"}]
["-","-",{"$f":"VLOOKUP(B70,Pilot!A:C,3,0)","v":" "},{"$f":"VLOOKUP(B70,Pilot!A:B,2,0)","v":" "},{"$f":"VLOOKUP(B70,Pilot!A:E,5,0)","v":" "},{"$f":"VLOOKUP(B70,Pilot!A:F,6,0)","v":" "},{"$f":"A70","v":"-"},null,{"$f":"COUNTIF(B:B,B70)","v":10},{"$f":"IF(COUNTIF('N PMRg 2019'!B:B,B70)=0,\"-\",COUNTIF('N PMRg 2019'!B:B,B70))","v":14},{"$f":"IF(ISERROR(VLOOKUP(B70,'N PMRg 2019'!B:G,6,0)),\"-\",VLOOKUP(B70,'N PMRg 2019'!B:G,6,0))","v":"-"},{"$f":"IF(COUNTIF('N PMČRj 2019'!B:B,B70)=0,\"-\",COUNTIF('N PMČRj 2019'!B:B,B70))","v":10},{"$f":"IF(ISERROR(VLOOKUP(B70,'N PMČRj 2019'!B:G,6,0)),\"-\",VLOOKUP(B70,'N PMČRj 2019'!B:G,6,0))","v":"-"}]
["6.6.6.5.","ostatní soutěžící z posledního platného PMRg v pořadí podle umístění, do naplnění celkového počtu nominovaných 80 dle 6.6.5. (+ 10 náhradníků)"]
["6.6.6.6.","Je-li PMRg pořádáno ve více třídách, a/nebo ve více regionech, pak jsou na PMČR nominováni soutěžící podle korigovaných bodů z jednotlivých tříd/regionů do naplnění celkového počtu nominovaných dle 6.6.5."]
["6.6.6.7.","V případě neplatnosti některé ze soutěžních tříd posledního PMRg budou pro výpočet korigovaných bodů použity výsledky z posledního platného PMRg v dané třídě."]
[null,"PMRg 2018 - Hodkovice - Korigované body"]
[{"$f":"MAX(A55:A59)+1","v":46},"Karel Mares",{"$f":"VLOOKUP(B75,Pilot!A:C,3,0)","v":"Slaný"},{"$f":"VLOOKUP(B75,Pilot!A:B,2,0)","v":1974},{"$f":"VLOOKUP(B75,Pilot!A:E,5,0)","v":"M"},{"$f":"VLOOKUP(B75,Pilot!A:F,6,0)","v":""},{"$f":"A75","v":46},null,{"$f":"COUNTIF(B:B,B75)","v":1},{"$f":"IF(COUNTIF('N PMRg 2019'!B:B,B75)=0,\"-\",COUNTIF('N PMRg 2019'!B:B,B75))","v":"-"},{"$f":"IF(ISERROR(VLOOKUP(B75,'N PMRg 2019'!B:G,6,0)),\"-\",VLOOKUP(B75,'N PMRg 2019'!B:G,6,0))","v":"-"},{"$f":"IF(COUNTIF('N PMČRj 2019'!B:B,B75)=0,\"-\",COUNTIF('N PMČRj 2019'!B:B,B75))","v":"-"},{"$f":"IF(ISERROR(VLOOKUP(B75,'N PMČRj 2019'!B:G,6,0)),\"-\",VLOOKUP(B75,'N PMČRj 2019'!B:G,6,0))","v":"-"}]
[{"$f":"A75+1","v":47},"Vaclav Marel",{"$f":"VLOOKUP(B76,Pilot!A:C,3,0)","v":"Jaroměř"},{"$f":"VLOOKUP(B76,Pilot!A:B,2,0)","v":1974},{"$f":"VLOOKUP(B76,Pilot!A:E,5,0)","v":"M"},{"$f":"VLOOKUP(B76,Pilot!A:F,6,0)","v":""},47,null,1,{"$f":"IF(COUNTIF('N PMRg 2019'!B:B,B76)=0,\"-\",COUNTIF('N PMRg 2019'!B:B,B76))","v":"-"},{"$f":"IF(ISERROR(VLOOKUP(B76,'N PMRg 2019'!B:G,6,0)),\"-\",VLOOKUP(B76,'N PMRg 2019'!B:G,6,0))","v":"-"},{"$f":"IF(COUNTIF('N PMČRj 2019'!B:B,B76)=0,\"-\",COUNTIF('N PMČRj 2019'!B:B,B76))","v":"-"},{"$f":"IF(ISERROR(VLOOKUP(B76,'N PMČRj 2019'!B:G,6,0)),\"-\",VLOOKUP(B76,'N PMČRj 2019'!B:G,6,0))","v":"-"}]
[{"$f":"A76+1","v":48},"Jan Ratz",{"$f":"VLOOKUP(B77,Pilot!A:C,3,0)","v":"Plasy"},{"$f":"VLOOKUP(B77,Pilot!A:B,2,0)","v":1987},{"$f":"VLOOKUP(B77,Pilot!A:E,5,0)","v":"M"},{"$f":"VLOOKUP(B77,Pilot!A:F,6,0)","v":""},48,null,1,{"$f":"IF(COUNTIF('N PMRg 2019'!B:B,B77)=0,\"-\",COUNTIF('N PMRg 2019'!B:B,B77))","v":"-"},{"$f":"IF(ISERROR(VLOOKUP(B77,'N PMRg 2019'!B:G,6,0)),\"-\",VLOOKUP(B77,'N PMRg 2019'!B:G,6,0))","v":"-"},{"$f":"IF(COUNTIF('N PMČRj 2019'!B:B,B77)=0,\"-\",COUNTIF('N PMČRj 2019'!B:B,B77))","v":"-"},{"$f":"IF(ISERROR(VLOOKUP(B77,'N PMČRj 2019'!B:G,6,0)),\"-\",VLOOKUP(B77,'N PMČRj 2019'!B:G,6,0))","v":"-"}]
[{"$f":"A77+1","v":49},"Lukas Koukal",{"$f":"VLOOKUP(B78,Pilot!A:C,3,0)","v":"Letkov"},{"$f":"VLOOKUP(B78,Pilot!A:B,2,0)","v":1991},{"$f":"VLOOKUP(B78,Pilot!A:E,5,0)","v":"M"},{"$f":"VLOOKUP(B78,Pilot!A:F,6,0)","v":""},49,null,1,{"$f":"IF(COUNTIF('N PMRg 2019'!B:B,B78)=0,\"-\",COUNTIF('N PMRg 2019'!B:B,B78))","v":"-"},{"$f":"IF(ISERROR(VLOOKUP(B78,'N PMRg 2019'!B:G,6,0)),\"-\",VLOOKUP(B78,'N PMRg 2019'!B:G,6,0))","v":"-"},{"$f":"IF(COUNTIF('N PMČRj 2019'!B:B,B78)=0,\"-\",COUNTIF('N PMČRj 2019'!B:B,B78))","v":"-"},{"$f":"IF(ISERROR(VLOOKUP(B78,'N PMČRj 2019'!B:G,6,0)),\"-\",VLOOKUP(B78,'N PMČRj 2019'!B:G,6,0))","v":"-"}]
[{"$f":"A78+1","v":50},"Jan Vavrin",{"$f":"VLOOKUP(B79,Pilot!A:C,3,0)","v":"Vysoké Mýto"},{"$f":"VLOOKUP(B79,Pilot!A:B,2,0)","v":1987},{"$f":"VLOOKUP(B79,Pilot!A:E,5,0)","v":"M"},{"$f":"VLOOKUP(B79,Pilot!A:F,6,0)","v":""},50,null,1,{"$f":"IF(COUNTIF('N PMRg 2019'!B:B,B79)=0,\"-\",COUNTIF('N PMRg 2019'!B:B,B79))","v":"-"},{"$f":"IF(ISERROR(VLOOKUP(B79,'N PMRg 2019'!B:G,6,0)),\"-\",VLOOKUP(B79,'N PMRg 2019'!B:G,6,0))","v":"-"},{"$f":"IF(COUNTIF('N PMČRj 2019'!B:B,B79)=0,\"-\",COUNTIF('N PMČRj 2019'!B:B,B79))","v":"-"},{"$f":"IF(ISERROR(VLOOKUP(B79,'N PMČRj 2019'!B:G,6,0)),\"-\",VLOOKUP(B79,'N PMČRj 2019'!B:G,6,0))","v":"-"}]
[51,"Vojtech Novotny",{"$f":"VLOOKUP(B80,Pilot!A:C,3,0)","v":"Kralupy"},{"$f":"VLOOKUP(B80,Pilot!A:B,2,0)","v":1992},{"$f":"VLOOKUP(B80,Pilot!A:E,5,0)","v":"M"},{"$f":"VLOOKUP(B80,Pilot!A:F,6,0)","v":""},51,null,1,{"$f":"IF(COUNTIF('N PMRg 2019'!B:B,B80)=0,\"-\",COUNTIF('N PMRg 2019'!B:B,B80))","v":"-"},{"$f":"IF(ISERROR(VLOOKUP(B80,'N PMRg 2019'!B:G,6,0)),\"-\",VLOOKUP(B80,'N PMRg 2019'!B:G,6,0))","v":"-"},{"$f":"IF(COUNTIF('N PMČRj 2019'!B:B,B80)=0,\"-\",COUNTIF('N PMČRj 2019'!B:B,B80))","v":"-"},{"$f":"IF(ISERROR(VLOOKUP(B80,'N PMČRj 2019'!B:G,6,0)),\"-\",VLOOKUP(B80,'N PMČRj 2019'!B:G,6,0))","v":"-"}]
[52,"Radek Zima 78",{"$f":"VLOOKUP(B81,Pilot!A:C,3,0)","v":"Hodkovice"},{"$f":"VLOOKUP(B81,Pilot!A:B,2,0)","v":1978},{"$f":"VLOOKUP(B81,Pilot!A:E,5,0)","v":"M"},{"$f":"VLOOKUP(B81,Pilot!A:F,6,0)","v":""},52,null,1,{"$f":"IF(COUNTIF('N PMRg 2019'!B:B,B81)=0,\"-\",COUNTIF('N PMRg 2019'!B:B,B81))","v":"-"},{"$f":"IF(ISERROR(VLOOKUP(B81,'N PMRg 2019'!B:G,6,0)),\"-\",VLOOKUP(B81,'N PMRg 2019'!B:G,6,0))","v":"-"},{"$f":"IF(COUNTIF('N PMČRj 2019'!B:B,B81)=0,\"-\",COUNTIF('N PMČRj 2019'!B:B,B81))","v":"-"},{"$f":"IF(ISERROR(VLOOKUP(B81,'N PMČRj 2019'!B:G,6,0)),\"-\",VLOOKUP(B81,'N PMČRj 2019'!B:G,6,0))","v":"-"}]
[53,"Lukas Plocek",{"$f":"VLOOKUP(B82,Pilot!A:C,3,0)","v":"Mladá Boleslav"},{"$f":"VLOOKUP(B82,Pilot!A:B,2,0)","v":1990},{"$f":"VLOOKUP(B82,Pilot!A:E,5,0)","v":"M"},{"$f":"VLOOKUP(B82,Pilot!A:F,6,0)","v":""},53,null,1,{"$f":"IF(COUNTIF('N PMRg 2019'!B:B,B82)=0,\"-\",COUNTIF('N PMRg 2019'!B:B,B82))","v":"-"},{"$f":"IF(ISERROR(VLOOKUP(B82,'N PMRg 2019'!B:G,6,0)),\"-\",VLOOKUP(B82,'N PMRg 2019'!B:G,6,0))","v":"-"},{"$f":"IF(COUNTIF('N PMČRj 2019'!B:B,B82)=0,\"-\",COUNTIF('N PMČRj 2019'!B:B,B82))","v":"-"},{"$f":"IF(ISERROR(VLOOKUP(B82,'N PMČRj 2019'!B:G,6,0)),\"-\",VLOOKUP(B82,'N PMČRj 2019'!B:G,6,0))","v":"-"}]
[54,"Michal Krupicka",{"$f":"VLOOKUP(B83,Pilot!A:C,3,0)","v":"Most"},{"$f":"VLOOKUP(B83,Pilot!A:B,2,0)","v":1975},{"$f":"VLOOKUP(B83,Pilot!A:E,5,0)","v":"M"},{"$f":"VLOOKUP(B83,Pilot!A:F,6,0)","v":""},54,null,1,{"$f":"IF(COUNTIF('N PMRg 2019'!B:B,B83)=0,\"-\",COUNTIF('N PMRg 2019'!B:B,B83))","v":"-"},{"$f":"IF(ISERROR(VLOOKUP(B83,'N PMRg 2019'!B:G,6,0)),\"-\",VLOOKUP(B83,'N PMRg 2019'!B:G,6,0))","v":"-"},{"$f":"IF(COUNTIF('N PMČRj 2019'!B:B,B83)=0,\"-\",COUNTIF('N PMČRj 2019'!B:B,B83))","v":"-"},{"$f":"IF(ISERROR(VLOOKUP(B83,'N PMČRj 2019'!B:G,6,0)),\"-\",VLOOKUP(B83,'N PMČRj 2019'!B:G,6,0))","v":"-"}]
[55,"Marek Svancara",{"$f":"VLOOKUP(B84,Pilot!A:C,3,0)","v":"GAC Benešov"},{"$f":"VLOOKUP(B84,Pilot!A:B,2,0)","v":1976},{"$f":"VLOOKUP(B84,Pilot!A:E,5,0)","v":"M"},{"$f":"VLOOKUP(B84,Pilot!A:F,6,0)","v":""},55,null,1,{"$f":"IF(COUNTIF('N PMRg 2019'!B:B,B84)=0,\"-\",COUNTIF('N PMRg 2019'!B:B,B84))","v":"-"},{"$f":"IF(ISERROR(VLOOKUP(B84,'N PMRg 2019'!B:G,6,0)),\"-\",VLOOKUP(B84,'N PMRg 2019'!B:G,6,0))","v":"-"},{"$f":"IF(COUNTIF('N PMČRj 2019'!B:B,B84)=0,\"-\",COUNTIF('N PMČRj 2019'!B:B,B84))","v":"-"},{"$f":"IF(ISERROR(VLOOKUP(B84,'N PMČRj 2019'!B:G,6,0)),\"-\",VLOOKUP(B84,'N PMČRj 2019'!B:G,6,0))","v":"-"}]
[56,"Jan Zahradka",{"$f":"VLOOKUP(B85,Pilot!A:C,3,0)","v":"Hodkovice"},{"$f":"VLOOKUP(B85,Pilot!A:B,2,0)","v":1981},{"$f":"VLOOKUP(B85,Pilot!A:E,5,0)","v":"M"},{"$f":"VLOOKUP(B85,Pilot!A:F,6,0)","v":""},56,null,1,{"$f":"IF(COUNTIF('N PMRg 2019'!B:B,B85)=0,\"-\",COUNTIF('N PMRg 2019'!B:B,B85))","v":"-"},{"$f":"IF(ISERROR(VLOOKUP(B85,'N PMRg 2019'!B:G,6,0)),\"-\",VLOOKUP(B85,'N PMRg 2019'!B:G,6,0))","v":"-"},{"$f":"IF(COUNTIF('N PMČRj 2019'!B:B,B85)=0,\"-\",COUNTIF('N PMČRj 2019'!B:B,B85))","v":"-"},{"$f":"IF(ISERROR(VLOOKUP(B85,'N PMČRj 2019'!B:G,6,0)),\"-\",VLOOKUP(B85,'N PMČRj 2019'!B:G,6,0))","v":"-"}]
[57,"Jan Smaha",{"$f":"VLOOKUP(B86,Pilot!A:C,3,0)","v":"Česká Lípa"},{"$f":"VLOOKUP(B86,Pilot!A:B,2,0)","v":1958},{"$f":"VLOOKUP(B86,Pilot!A:E,5,0)","v":"M"},{"$f":"VLOOKUP(B86,Pilot!A:F,6,0)","v":""},57,null,1,{"$f":"IF(COUNTIF('N PMRg 2019'!B:B,B86)=0,\"-\",COUNTIF('N PMRg 2019'!B:B,B86))","v":"-"},{"$f":"IF(ISERROR(VLOOKUP(B86,'N PMRg 2019'!B:G,6,0)),\"-\",VLOOKUP(B86,'N PMRg 2019'!B:G,6,0))","v":"-"},{"$f":"IF(COUNTIF('N PMČRj 2019'!B:B,B86)=0,\"-\",COUNTIF('N PMČRj 2019'!B:B,B86))","v":"-"},{"$f":"IF(ISERROR(VLOOKUP(B86,'N PMČRj 2019'!B:G,6,0)),\"-\",VLOOKUP(B86,'N PMČRj 2019'!B:G,6,0))","v":"-"}]
[58,"Jan Hruska",{"$f":"VLOOKUP(B87,Pilot!A:C,3,0)","v":"Tábor"},{"$f":"VLOOKUP(B87,Pilot!A:B,2,0)","v":1988},{"$f":"VLOOKUP(B87,Pilot!A:E,5,0)","v":"M"},{"$f":"VLOOKUP(B87,Pilot!A:F,6,0)","v":""},58,null,1,{"$f":"IF(COUNTIF('N PMRg 2019'!B:B,B87)=0,\"-\",COUNTIF('N PMRg 2019'!B:B,B87))","v":"-"},{"$f":"IF(ISERROR(VLOOKUP(B87,'N PMRg 2019'!B:G,6,0)),\"-\",VLOOKUP(B87,'N PMRg 2019'!B:G,6,0))","v":"-"},{"$f":"IF(COUNTIF('N PMČRj 2019'!B:B,B87)=0,\"-\",COUNTIF('N PMČRj 2019'!B:B,B87))","v":"-"},{"$f":"IF(ISERROR(VLOOKUP(B87,'N PMČRj 2019'!B:G,6,0)),\"-\",VLOOKUP(B87,'N PMČRj 2019'!B:G,6,0))","v":"-"}]
[59,"Vojtech Hajek",{"$f":"VLOOKUP(B88,Pilot!A:C,3,0)","v":"Mladá Boleslav"},{"$f":"VLOOKUP(B88,Pilot!A:B,2,0)","v":1987},{"$f":"VLOOKUP(B88,Pilot!A:E,5,0)","v":"M"},{"$f":"VLOOKUP(B88,Pilot!A:F,6,0)","v":""},59,null,1,{"$f":"IF(COUNTIF('N PMRg 2019'!B:B,B88)=0,\"-\",COUNTIF('N PMRg 2019'!B:B,B88))","v":"-"},{"$f":"IF(ISERROR(VLOOKUP(B88,'N PMRg 2019'!B:G,6,0)),\"-\",VLOOKUP(B88,'N PMRg 2019'!B:G,6,0))","v":"-"},{"$f":"IF(COUNTIF('N PMČRj 2019'!B:B,B88)=0,\"-\",COUNTIF('N PMČRj 2019'!B:B,B88))","v":"-"},{"$f":"IF(ISERROR(VLOOKUP(B88,'N PMČRj 2019'!B:G,6,0)),\"-\",VLOOKUP(B88,'N PMČRj 2019'!B:G,6,0))","v":"-"}]
[60,"Ladislav Prokes",{"$f":"VLOOKUP(B89,Pilot!A:C,3,0)","v":"Vrchlabí"},{"$f":"VLOOKUP(B89,Pilot!A:B,2,0)","v":1954},{"$f":"VLOOKUP(B89,Pilot!A:E,5,0)","v":"M"},{"$f":"VLOOKUP(B89,Pilot!A:F,6,0)","v":""},60,null,1,{"$f":"IF(COUNTIF('N PMRg 2019'!B:B,B89)=0,\"-\",COUNTIF('N PMRg 2019'!B:B,B89))","v":"-"},{"$f":"IF(ISERROR(VLOOKUP(B89,'N PMRg 2019'!B:G,6,0)),\"-\",VLOOKUP(B89,'N PMRg 2019'!B:G,6,0))","v":"-"},{"$f":"IF(COUNTIF('N PMČRj 2019'!B:B,B89)=0,\"-\",COUNTIF('N PMČRj 2019'!B:B,B89))","v":"-"},{"$f":"IF(ISERROR(VLOOKUP(B89,'N PMČRj 2019'!B:G,6,0)),\"-\",VLOOKUP(B89,'N PMČRj 2019'!B:G,6,0))","v":"-"}]
[61,"Antonin Novotny",{"$f":"VLOOKUP(B90,Pilot!A:C,3,0)","v":"Luhačovice"},{"$f":"VLOOKUP(B90,Pilot!A:B,2,0)","v":1972},{"$f":"VLOOKUP(B90,Pilot!A:E,5,0)","v":"M"},{"$f":"VLOOKUP(B90,Pilot!A:F,6,0)","v":""},61,null,1,{"$f":"IF(COUNTIF('N PMRg 2019'!B:B,B90)=0,\"-\",COUNTIF('N PMRg 2019'!B:B,B90))","v":"-"},{"$f":"IF(ISERROR(VLOOKUP(B90,'N PMRg 2019'!B:G,6,0)),\"-\",VLOOKUP(B90,'N PMRg 2019'!B:G,6,0))","v":"-"},{"$f":"IF(COUNTIF('N PMČRj 2019'!B:B,B90)=0,\"-\",COUNTIF('N PMČRj 2019'!B:B,B90))","v":"-"},{"$f":"IF(ISERROR(VLOOKUP(B90,'N PMČRj 2019'!B:G,6,0)),\"-\",VLOOKUP(B90,'N PMČRj 2019'!B:G,6,0))","v":"-"}]
[62,"Jaroslav Buryan",{"$f":"VLOOKUP(B91,Pilot!A:C,3,0)","v":"Zábřeh"},{"$f":"VLOOKUP(B91,Pilot!A:B,2,0)","v":1953},{"$f":"VLOOKUP(B91,Pilot!A:E,5,0)","v":"M"},{"$f":"VLOOKUP(B91,Pilot!A:F,6,0)","v":""},62,null,1,{"$f":"IF(COUNTIF('N PMRg 2019'!B:B,B91)=0,\"-\",COUNTIF('N PMRg 2019'!B:B,B91))","v":"-"},{"$f":"IF(ISERROR(VLOOKUP(B91,'N PMRg 2019'!B:G,6,0)),\"-\",VLOOKUP(B91,'N PMRg 2019'!B:G,6,0))","v":"-"},{"$f":"IF(COUNTIF('N PMČRj 2019'!B:B,B91)=0,\"-\",COUNTIF('N PMČRj 2019'!B:B,B91))","v":"-"},{"$f":"IF(ISERROR(VLOOKUP(B91,'N PMČRj 2019'!B:G,6,0)),\"-\",VLOOKUP(B91,'N PMČRj 2019'!B:G,6,0))","v":"-"}]
[63,"Ondrej Sindelar",{"$f":"VLOOKUP(B92,Pilot!A:C,3,0)","v":"Mladá Boleslav"},{"$f":"VLOOKUP(B92,Pilot!A:B,2,0)","v":1979},{"$f":"VLOOKUP(B92,Pilot!A:E,5,0)","v":"M"},{"$f":"VLOOKUP(B92,Pilot!A:F,6,0)","v":""},63,null,1,{"$f":"IF(COUNTIF('N PMRg 2019'!B:B,B92)=0,\"-\",COUNTIF('N PMRg 2019'!B:B,B92))","v":"-"},{"$f":"IF(ISERROR(VLOOKUP(B92,'N PMRg 2019'!B:G,6,0)),\"-\",VLOOKUP(B92,'N PMRg 2019'!B:G,6,0))","v":"-"},{"$f":"IF(COUNTIF('N PMČRj 2019'!B:B,B92)=0,\"-\",COUNTIF('N PMČRj 2019'!B:B,B92))","v":"-"},{"$f":"IF(ISERROR(VLOOKUP(B92,'N PMČRj 2019'!B:G,6,0)),\"-\",VLOOKUP(B92,'N PMČRj 2019'!B:G,6,0))","v":"-"}]
[64,"Jakub Kohn",{"$f":"VLOOKUP(B93,Pilot!A:C,3,0)","v":"Prostějov"},{"$f":"VLOOKUP(B93,Pilot!A:B,2,0)","v":1992},{"$f":"VLOOKUP(B93,Pilot!A:E,5,0)","v":"M"},{"$f":"VLOOKUP(B93,Pilot!A:F,6,0)","v":""},64,null,1,{"$f":"IF(COUNTIF('N PMRg 2019'!B:B,B93)=0,\"-\",COUNTIF('N PMRg 2019'!B:B,B93))","v":"-"},{"$f":"IF(ISERROR(VLOOKUP(B93,'N PMRg 2019'!B:G,6,0)),\"-\",VLOOKUP(B93,'N PMRg 2019'!B:G,6,0))","v":"-"},{"$f":"IF(COUNTIF('N PMČRj 2019'!B:B,B93)=0,\"-\",COUNTIF('N PMČRj 2019'!B:B,B93))","v":"-"},{"$f":"IF(ISERROR(VLOOKUP(B93,'N PMČRj 2019'!B:G,6,0)),\"-\",VLOOKUP(B93,'N PMČRj 2019'!B:G,6,0))","v":"-"}]
[65,"Ladislav Jozsa",{"$f":"VLOOKUP(B94,Pilot!A:C,3,0)","v":"Medlánky"},{"$f":"VLOOKUP(B94,Pilot!A:B,2,0)","v":1981},{"$f":"VLOOKUP(B94,Pilot!A:E,5,0)","v":"M"},{"$f":"VLOOKUP(B94,Pilot!A:F,6,0)","v":""},{"$f":"A94","v":65},null,1,{"$f":"IF(COUNTIF('N PMRg 2019'!B:B,B94)=0,\"-\",COUNTIF('N PMRg 2019'!B:B,B94))","v":"-"},{"$f":"IF(ISERROR(VLOOKUP(B94,'N PMRg 2019'!B:G,6,0)),\"-\",VLOOKUP(B94,'N PMRg 2019'!B:G,6,0))","v":"-"},{"$f":"IF(COUNTIF('N PMČRj 2019'!B:B,B94)=0,\"-\",COUNTIF('N PMČRj 2019'!B:B,B94))","v":"-"},{"$f":"IF(ISERROR(VLOOKUP(B94,'N PMČRj 2019'!B:G,6,0)),\"-\",VLOOKUP(B94,'N PMČRj 2019'!B:G,6,0))","v":"-"}]
[66,"Jindrich Hruska",{"$f":"VLOOKUP(B95,Pilot!A:C,3,0)","v":"Soběslav"},{"$f":"VLOOKUP(B95,Pilot!A:B,2,0)","v":1986},{"$f":"VLOOKUP(B95,Pilot!A:E,5,0)","v":"M"},{"$f":"VLOOKUP(B95,Pilot!A:F,6,0)","v":""},66,null,1,{"$f":"IF(COUNTIF('N PMRg 2019'!B:B,B95)=0,\"-\",COUNTIF('N PMRg 2019'!B:B,B95))","v":"-"},{"$f":"IF(ISERROR(VLOOKUP(B95,'N PMRg 2019'!B:G,6,0)),\"-\",VLOOKUP(B95,'N PMRg 2019'!B:G,6,0))","v":"-"},{"$f":"IF(COUNTIF('N PMČRj 2019'!B:B,B95)=0,\"-\",COUNTIF('N PMČRj 2019'!B:B,B95))","v":"-"},{"$f":"IF(ISERROR(VLOOKUP(B95,'N PMČRj 2019'!B:G,6,0)),\"-\",VLOOKUP(B95,'N PMČRj 2019'!B:G,6,0))","v":"-"}]
[67,"Pavlina Horackova",{"$f":"VLOOKUP(B96,Pilot!A:C,3,0)","v":"Šumperk"},{"$f":"VLOOKUP(B96,Pilot!A:B,2,0)","v":1965},{"$f":"VLOOKUP(B96,Pilot!A:E,5,0)","v":"F"},{"$f":"VLOOKUP(B96,Pilot!A:F,6,0)","v":""},{"$f":"A96","v":67},null,1,{"$f":"IF(COUNTIF('N PMRg 2019'!B:B,B96)=0,\"-\",COUNTIF('N PMRg 2019'!B:B,B96))","v":"-"},{"$f":"IF(ISERROR(VLOOKUP(B96,'N PMRg 2019'!B:G,6,0)),\"-\",VLOOKUP(B96,'N PMRg 2019'!B:G,6,0))","v":"-"},{"$f":"IF(COUNTIF('N PMČRj 2019'!B:B,B96)=0,\"-\",COUNTIF('N PMČRj 2019'!B:B,B96))","v":"-"},{"$f":"IF(ISERROR(VLOOKUP(B96,'N PMČRj 2019'!B:G,6,0)),\"-\",VLOOKUP(B96,'N PMČRj 2019'!B:G,6,0))","v":"-"}]
[68,"Miroslav Koci",{"$f":"VLOOKUP(B97,Pilot!A:C,3,0)","v":"Žamberk"},{"$f":"VLOOKUP(B97,Pilot!A:B,2,0)","v":1961},{"$f":"VLOOKUP(B97,Pilot!A:E,5,0)","v":"M"},{"$f":"VLOOKUP(B97,Pilot!A:F,6,0)","v":""},68,null,1,{"$f":"IF(COUNTIF('N PMRg 2019'!B:B,B97)=0,\"-\",COUNTIF('N PMRg 2019'!B:B,B97))","v":"-"},{"$f":"IF(ISERROR(VLOOKUP(B97,'N PMRg 2019'!B:G,6,0)),\"-\",VLOOKUP(B97,'N PMRg 2019'!B:G,6,0))","v":"-"},{"$f":"IF(COUNTIF('N PMČRj 2019'!B:B,B97)=0,\"-\",COUNTIF('N PMČRj 2019'!B:B,B97))","v":"-"},{"$f":"IF(ISERROR(VLOOKUP(B97,'N PMČRj 2019'!B:G,6,0)),\"-\",VLOOKUP(B97,'N PMČRj 2019'!B:G,6,0))","v":"-"}]
[69,"David Sachl",{"$f":"VLOOKUP(B98,Pilot!A:C,3,0)","v":"Kralupy"},{"$f":"VLOOKUP(B98,Pilot!A:B,2,0)","v":1978},{"$f":"VLOOKUP(B98,Pilot!A:E,5,0)","v":"M"},{"$f":"VLOOKUP(B98,Pilot!A:F,6,0)","v":""},69,null,1,{"$f":"IF(COUNTIF('N PMRg 2019'!B:B,B98)=0,\"-\",COUNTIF('N PMRg 2019'!B:B,B98))","v":"-"},{"$f":"IF(ISERROR(VLOOKUP(B98,'N PMRg 2019'!B:G,6,0)),\"-\",VLOOKUP(B98,'N PMRg 2019'!B:G,6,0))","v":"-"},{"$f":"IF(COUNTIF('N PMČRj 2019'!B:B,B98)=0,\"-\",COUNTIF('N PMČRj 2019'!B:B,B98))","v":"-"},{"$f":"IF(ISERROR(VLOOKUP(B98,'N PMČRj 2019'!B:G,6,0)),\"-\",VLOOKUP(B98,'N PMČRj 2019'!B:G,6,0))","v":"-"}]
[70,"Vilem Riha",{"$f":"VLOOKUP(B99,Pilot!A:C,3,0)","v":"Letňany"},{"$f":"VLOOKUP(B99,Pilot!A:B,2,0)","v":1990},{"$f":"VLOOKUP(B99,Pilot!A:E,5,0)","v":"M"},{"$f":"VLOOKUP(B99,Pilot!A:F,6,0)","v":""},70,null,1,{"$f":"IF(COUNTIF('N PMRg 2019'!B:B,B99)=0,\"-\",COUNTIF('N PMRg 2019'!B:B,B99))","v":"-"},{"$f":"IF(ISERROR(VLOOKUP(B99,'N PMRg 2019'!B:G,6,0)),\"-\",VLOOKUP(B99,'N PMRg 2019'!B:G,6,0))","v":"-"},{"$f":"IF(COUNTIF('N PMČRj 2019'!B:B,B99)=0,\"-\",COUNTIF('N PMČRj 2019'!B:B,B99))","v":"-"},{"$f":"IF(ISERROR(VLOOKUP(B99,'N PMČRj 2019'!B:G,6,0)),\"-\",VLOOKUP(B99,'N PMČRj 2019'!B:G,6,0))","v":"-"}]
[71,"Karel Knotek",{"$f":"VLOOKUP(B100,Pilot!A:C,3,0)","v":"Soběslav"},{"$f":"VLOOKUP(B100,Pilot!A:B,2,0)","v":1961},{"$f":"VLOOKUP(B100,Pilot!A:E,5,0)","v":"M"},{"$f":"VLOOKUP(B100,Pilot!A:F,6,0)","v":""},71,null,1,{"$f":"IF(COUNTIF('N PMRg 2019'!B:B,B100)=0,\"-\",COUNTIF('N PMRg 2019'!B:B,B100))","v":"-"},{"$f":"IF(ISERROR(VLOOKUP(B100,'N PMRg 2019'!B:G,6,0)),\"-\",VLOOKUP(B100,'N PMRg 2019'!B:G,6,0))","v":"-"},{"$f":"IF(COUNTIF('N PMČRj 2019'!B:B,B100)=0,\"-\",COUNTIF('N PMČRj 2019'!B:B,B100))","v":"-"},{"$f":"IF(ISERROR(VLOOKUP(B100,'N PMČRj 2019'!B:G,6,0)),\"-\",VLOOKUP(B100,'N PMČRj 2019'!B:G,6,0))","v":"-"}]
[72,"Martin Kriz",{"$f":"VLOOKUP(B101,Pilot!A:C,3,0)","v":"Přibyslav"},{"$f":"VLOOKUP(B101,Pilot!A:B,2,0)","v":1968},{"$f":"VLOOKUP(B101,Pilot!A:E,5,0)","v":"M"},{"$f":"VLOOKUP(B101,Pilot!A:F,6,0)","v":""},72,null,1,{"$f":"IF(COUNTIF('N PMRg 2019'!B:B,B101)=0,\"-\",COUNTIF('N PMRg 2019'!B:B,B101))","v":"-"},{"$f":"IF(ISERROR(VLOOKUP(B101,'N PMRg 2019'!B:G,6,0)),\"-\",VLOOKUP(B101,'N PMRg 2019'!B:G,6,0))","v":"-"},{"$f":"IF(COUNTIF('N PMČRj 2019'!B:B,B101)=0,\"-\",COUNTIF('N PMČRj 2019'!B:B,B101))","v":"-"},{"$f":"IF(ISERROR(VLOOKUP(B101,'N PMČRj 2019'!B:G,6,0)),\"-\",VLOOKUP(B101,'N PMČRj 2019'!B:G,6,0))","v":"-"}]
[73,"Slavomir Piskaty 58",{"$f":"VLOOKUP(B102,Pilot!A:C,3,0)","v":"Kunovice"},{"$f":"VLOOKUP(B102,Pilot!A:B,2,0)","v":1958},{"$f":"VLOOKUP(B102,Pilot!A:E,5,0)","v":"M"},{"$f":"VLOOKUP(B102,Pilot!A:F,6,0)","v":""},73,null,1,{"$f":"IF(COUNTIF('N PMRg 2019'!B:B,B102)=0,\"-\",COUNTIF('N PMRg 2019'!B:B,B102))","v":"-"},{"$f":"IF(ISERROR(VLOOKUP(B102,'N PMRg 2019'!B:G,6,0)),\"-\",VLOOKUP(B102,'N PMRg 2019'!B:G,6,0))","v":"-"},{"$f":"IF(COUNTIF('N PMČRj 2019'!B:B,B102)=0,\"-\",COUNTIF('N PMČRj 2019'!B:B,B102))","v":"-"},{"$f":"IF(ISERROR(VLOOKUP(B102,'N PMČRj 2019'!B:G,6,0)),\"-\",VLOOKUP(B102,'N PMČRj 2019'!B:G,6,0))","v":"-"}]
[74,"Martin Cicvarek",{"$f":"VLOOKUP(B103,Pilot!A:C,3,0)","v":"Liberec"},{"$f":"VLOOKUP(B103,Pilot!A:B,2,0)","v":1966},{"$f":"VLOOKUP(B103,Pilot!A:E,5,0)","v":"M"},{"$f":"VLOOKUP(B103,Pilot!A:F,6,0)","v":""},74,null,1,{"$f":"IF(COUNTIF('N PMRg 2019'!B:B,B103)=0,\"-\",COUNTIF('N PMRg 2019'!B:B,B103))","v":"-"},{"$f":"IF(ISERROR(VLOOKUP(B103,'N PMRg 2019'!B:G,6,0)),\"-\",VLOOKUP(B103,'N PMRg 2019'!B:G,6,0))","v":"-"},{"$f":"IF(COUNTIF('N PMČRj 2019'!B:B,B103)=0,\"-\",COUNTIF('N PMČRj 2019'!B:B,B103))","v":"-"},{"$f":"IF(ISERROR(VLOOKUP(B103,'N PMČRj 2019'!B:G,6,0)),\"-\",VLOOKUP(B103,'N PMČRj 2019'!B:G,6,0))","v":"-"}]
[75,"Pavel Liska",{"$f":"VLOOKUP(B104,Pilot!A:C,3,0)","v":"Roudnice"},{"$f":"VLOOKUP(B104,Pilot!A:B,2,0)","v":1965},{"$f":"VLOOKUP(B104,Pilot!A:E,5,0)","v":"M"},{"$f":"VLOOKUP(B104,Pilot!A:F,6,0)","v":""},{"$f":"A104","v":75},null,1,{"$f":"IF(COUNTIF('N PMRg 2019'!B:B,B104)=0,\"-\",COUNTIF('N PMRg 2019'!B:B,B104))","v":"-"},{"$f":"IF(ISERROR(VLOOKUP(B104,'N PMRg 2019'!B:G,6,0)),\"-\",VLOOKUP(B104,'N PMRg 2019'!B:G,6,0))","v":"-"},{"$f":"IF(COUNTIF('N PMČRj 2019'!B:B,B104)=0,\"-\",COUNTIF('N PMČRj 2019'!B:B,B104))","v":"-"},{"$f":"IF(ISERROR(VLOOKUP(B104,'N PMČRj 2019'!B:G,6,0)),\"-\",VLOOKUP(B104,'N PMČRj 2019'!B:G,6,0))","v":"-"}]
[76,"Tereza Koubkova",{"$f":"VLOOKUP(B105,Pilot!A:C,3,0)","v":"Letňany"},{"$f":"VLOOKUP(B105,Pilot!A:B,2,0)","v":1999},{"$f":"VLOOKUP(B105,Pilot!A:E,5,0)","v":"F"},{"$f":"VLOOKUP(B105,Pilot!A:F,6,0)","v":"Junior v roce 2019"},76,null,1,{"$f":"IF(COUNTIF('N PMRg 2019'!B:B,B105)=0,\"-\",COUNTIF('N PMRg 2019'!B:B,B105))","v":"-"},{"$f":"IF(ISERROR(VLOOKUP(B105,'N PMRg 2019'!B:G,6,0)),\"-\",VLOOKUP(B105,'N PMRg 2019'!B:G,6,0))","v":"-"},{"$f":"IF(COUNTIF('N PMČRj 2019'!B:B,B105)=0,\"-\",COUNTIF('N PMČRj 2019'!B:B,B105))","v":"-"},{"$f":"IF(ISERROR(VLOOKUP(B105,'N PMČRj 2019'!B:G,6,0)),\"-\",VLOOKUP(B105,'N PMČRj 2019'!B:G,6,0))","v":"-"}]
[77,"Karel Policky",{"$f":"VLOOKUP(B106,Pilot!A:C,3,0)","v":"Kolín"},{"$f":"VLOOKUP(B106,Pilot!A:B,2,0)","v":1950},{"$f":"VLOOKUP(B106,Pilot!A:E,5,0)","v":"M"},{"$f":"VLOOKUP(B106,Pilot!A:F,6,0)","v":""},77,null,1,{"$f":"IF(COUNTIF('N PMRg 2019'!B:B,B106)=0,\"-\",COUNTIF('N PMRg 2019'!B:B,B106))","v":"-"},{"$f":"IF(ISERROR(VLOOKUP(B106,'N PMRg 2019'!B:G,6,0)),\"-\",VLOOKUP(B106,'N PMRg 2019'!B:G,6,0))","v":"-"},{"$f":"IF(COUNTIF('N PMČRj 2019'!B:B,B106)=0,\"-\",COUNTIF('N PMČRj 2019'!B:B,B106))","v":"-"},{"$f":"IF(ISERROR(VLOOKUP(B106,'N PMČRj 2019'!B:G,6,0)),\"-\",VLOOKUP(B106,'N PMČRj 2019'!B:G,6,0))","v":"-"}]
[78,"Petr Frycek",{"$f":"VLOOKUP(B107,Pilot!A:C,3,0)","v":"Most"},{"$f":"VLOOKUP(B107,Pilot!A:B,2,0)","v":1960},{"$f":"VLOOKUP(B107,Pilot!A:E,5,0)","v":"M"},{"$f":"VLOOKUP(B107,Pilot!A:F,6,0)","v":""},78,null,1,{"$f":"IF(COUNTIF('N PMRg 2019'!B:B,B107)=0,\"-\",COUNTIF('N PMRg 2019'!B:B,B107))","v":"-"},{"$f":"IF(ISERROR(VLOOKUP(B107,'N PMRg 2019'!B:G,6,0)),\"-\",VLOOKUP(B107,'N PMRg 2019'!B:G,6,0))","v":"-"},{"$f":"IF(COUNTIF('N PMČRj 2019'!B:B,B107)=0,\"-\",COUNTIF('N PMČRj 2019'!B:B,B107))","v":"-"},{"$f":"IF(ISERROR(VLOOKUP(B107,'N PMČRj 2019'!B:G,6,0)),\"-\",VLOOKUP(B107,'N PMČRj 2019'!B:G,6,0))","v":"-"}]
[79,"Ondrej Dvorak 98",{"$f":"VLOOKUP(B108,Pilot!A:C,3,0)","v":"Mladá Boleslav"},{"$f":"VLOOKUP(B108,Pilot!A:B,2,0)","v":1998},{"$f":"VLOOKUP(B108,Pilot!A:E,5,0)","v":"M"},{"$f":"VLOOKUP(B108,Pilot!A:F,6,0)","v":"Junior v roce 2019"},79,null,1,{"$f":"IF(COUNTIF('N PMRg 2019'!B:B,B108)=0,\"-\",COUNTIF('N PMRg 2019'!B:B,B108))","v":"-"},{"$f":"IF(ISERROR(VLOOKUP(B108,'N PMRg 2019'!B:G,6,0)),\"-\",VLOOKUP(B108,'N PMRg 2019'!B:G,6,0))","v":"-"},{"$f":"IF(COUNTIF('N PMČRj 2019'!B:B,B108)=0,\"-\",COUNTIF('N PMČRj 2019'!B:B,B108))","v":"-"},{"$f":"IF(ISERROR(VLOOKUP(B108,'N PMČRj 2019'!B:G,6,0)),\"-\",VLOOKUP(B108,'N PMČRj 2019'!B:G,6,0))","v":"-"}]
[80,"Pavel Sulc",{"$f":"VLOOKUP(B109,Pilot!A:C,3,0)","v":"Hodkovice"},{"$f":"VLOOKUP(B109,Pilot!A:B,2,0)","v":1976},{"$f":"VLOOKUP(B109,Pilot!A:E,5,0)","v":"M"},{"$f":"VLOOKUP(B109,Pilot!A:F,6,0)","v":""},80,null,1,{"$f":"IF(COUNTIF('N PMRg 2019'!B:B,B109)=0,\"-\",COUNTIF('N PMRg 2019'!B:B,B109))","v":"-"},{"$f":"IF(ISERROR(VLOOKUP(B109,'N PMRg 2019'!B:G,6,0)),\"-\",VLOOKUP(B109,'N PMRg 2019'!B:G,6,0))","v":"-"},{"$f":"IF(COUNTIF('N PMČRj 2019'!B:B,B109)=0,\"-\",COUNTIF('N PMČRj 2019'!B:B,B109))","v":"-"},{"$f":"IF(ISERROR(VLOOKUP(B109,'N PMČRj 2019'!B:G,6,0)),\"-\",VLOOKUP(B109,'N PMČRj 2019'!B:G,6,0))","v":"-"}]
["N1","Milada Moudra",{"$f":"VLOOKUP(B110,Pilot!A:C,3,0)","v":"Hodkovice"},{"$f":"VLOOKUP(B110,Pilot!A:B,2,0)","v":1991},{"$f":"VLOOKUP(B110,Pilot!A:E,5,0)","v":"F"},{"$f":"VLOOKUP(B110,Pilot!A:F,6,0)","v":""},{"$f":"A110","v":"N1"},null,1,{"$f":"IF(COUNTIF('N PMRg 2019'!B:B,B110)=0,\"-\",COUNTIF('N PMRg 2019'!B:B,B110))","v":1},{"$f":"IF(ISERROR(VLOOKUP(B110,'N PMRg 2019'!B:G,6,0)),\"-\",VLOOKUP(B110,'N PMRg 2019'!B:G,6,0))","v":18},{"$f":"IF(COUNTIF('N PMČRj 2019'!B:B,B110)=0,\"-\",COUNTIF('N PMČRj 2019'!B:B,B110))","v":"-"},{"$f":"IF(ISERROR(VLOOKUP(B110,'N PMČRj 2019'!B:G,6,0)),\"-\",VLOOKUP(B110,'N PMČRj 2019'!B:G,6,0))","v":"-"}]
["N2","Antonin Kutalek",{"$f":"VLOOKUP(B111,Pilot!A:C,3,0)","v":"Zábřeh"},{"$f":"VLOOKUP(B111,Pilot!A:B,2,0)","v":1943},{"$f":"VLOOKUP(B111,Pilot!A:E,5,0)","v":"M"},{"$f":"VLOOKUP(B111,Pilot!A:F,6,0)","v":""},"N2",null,1,{"$f":"IF(COUNTIF('N PMRg 2019'!B:B,B111)=0,\"-\",COUNTIF('N PMRg 2019'!B:B,B111))","v":1},{"$f":"IF(ISERROR(VLOOKUP(B111,'N PMRg 2019'!B:G,6,0)),\"-\",VLOOKUP(B111,'N PMRg 2019'!B:G,6,0))","v":19},{"$f":"IF(COUNTIF('N PMČRj 2019'!B:B,B111)=0,\"-\",COUNTIF('N PMČRj 2019'!B:B,B111))","v":"-"},{"$f":"IF(ISERROR(VLOOKUP(B111,'N PMČRj 2019'!B:G,6,0)),\"-\",VLOOKUP(B111,'N PMČRj 2019'!B:G,6,0))","v":"-"}]
["N3","Leos Strnadek",{"$f":"VLOOKUP(B112,Pilot!A:C,3,0)","v":"Hodkovice"},{"$f":"VLOOKUP(B112,Pilot!A:B,2,0)","v":1983},{"$f":"VLOOKUP(B112,Pilot!A:E,5,0)","v":"M"},{"$f":"VLOOKUP(B112,Pilot!A:F,6,0)","v":""},"N3",null,1,{"$f":"IF(COUNTIF('N PMRg 2019'!B:B,B112)=0,\"-\",COUNTIF('N PMRg 2019'!B:B,B112))","v":1},{"$f":"IF(ISERROR(VLOOKUP(B112,'N PMRg 2019'!B:G,6,0)),\"-\",VLOOKUP(B112,'N PMRg 2019'!B:G,6,0))","v":8},{"$f":"IF(COUNTIF('N PMČRj 2019'!B:B,B112)=0,\"-\",COUNTIF('N PMČRj 2019'!B:B,B112))","v":"-"},{"$f":"IF(ISERROR(VLOOKUP(B112,'N PMČRj 2019'!B:G,6,0)),\"-\",VLOOKUP(B112,'N PMČRj 2019'!B:G,6,0))","v":"-"}]
["N4","Olga Mokosova",{"$f":"VLOOKUP(B113,Pilot!A:C,3,0)","v":"Jihlava"},{"$f":"VLOOKUP(B113,Pilot!A:B,2,0)","v":1970},{"$f":"VLOOKUP(B113,Pilot!A:E,5,0)","v":"F"},{"$f":"VLOOKUP(B113,Pilot!A:F,6,0)","v":""},"N4",null,1,{"$f":"IF(COUNTIF('N PMRg 2019'!B:B,B113)=0,\"-\",COUNTIF('N PMRg 2019'!B:B,B113))","v":1},{"$f":"IF(ISERROR(VLOOKUP(B113,'N PMRg 2019'!B:G,6,0)),\"-\",VLOOKUP(B113,'N PMRg 2019'!B:G,6,0))","v":20},{"$f":"IF(COUNTIF('N PMČRj 2019'!B:B,B113)=0,\"-\",COUNTIF('N PMČRj 2019'!B:B,B113))","v":"-"},{"$f":"IF(ISERROR(VLOOKUP(B113,'N PMČRj 2019'!B:G,6,0)),\"-\",VLOOKUP(B113,'N PMČRj 2019'!B:G,6,0))","v":"-"}]
["N5","Petr Lonsky",{"$f":"VLOOKUP(B114,Pilot!A:C,3,0)","v":"Toužim"},{"$f":"VLOOKUP(B114,Pilot!A:B,2,0)","v":1965},{"$f":"VLOOKUP(B114,Pilot!A:E,5,0)","v":"M"},{"$f":"VLOOKUP(B114,Pilot!A:F,6,0)","v":""},"N5",null,1,{"$f":"IF(COUNTIF('N PMRg 2019'!B:B,B114)=0,\"-\",COUNTIF('N PMRg 2019'!B:B,B114))","v":1},{"$f":"IF(ISERROR(VLOOKUP(B114,'N PMRg 2019'!B:G,6,0)),\"-\",VLOOKUP(B114,'N PMRg 2019'!B:G,6,0))","v":21},{"$f":"IF(COUNTIF('N PMČRj 2019'!B:B,B114)=0,\"-\",COUNTIF('N PMČRj 2019'!B:B,B114))","v":"-"},{"$f":"IF(ISERROR(VLOOKUP(B114,'N PMČRj 2019'!B:G,6,0)),\"-\",VLOOKUP(B114,'N PMČRj 2019'!B:G,6,0))","v":"-"}]
["N6","-",{"$f":"VLOOKUP(B115,Pilot!A:C,3,0)","v":" "},{"$f":"VLOOKUP(B115,Pilot!A:B,2,0)","v":" "},{"$f":"VLOOKUP(B115,Pilot!A:E,5,0)","v":" "},{"$f":"VLOOKUP(B115,Pilot!A:F,6,0)","v":" "},"N6",null,10,{"$f":"IF(COUNTIF('N PMRg 2019'!B:B,B115)=0,\"-\",COUNTIF('N PMRg 2019'!B:B,B115))","v":14},{"$f":"IF(ISERROR(VLOOKUP(B115,'N PMRg 2019'!B:G,6,0)),\"-\",VLOOKUP(B115,'N PMRg 2019'!B:G,6,0))","v":"-"},{"$f":"IF(COUNTIF('N PMČRj 2019'!B:B,B115)=0,\"-\",COUNTIF('N PMČRj 2019'!B:B,B115))","v":10},{"$f":"IF(ISERROR(VLOOKUP(B115,'N PMČRj 2019'!B:G,6,0)),\"-\",VLOOKUP(B115,'N PMČRj 2019'!B:G,6,0))","v":"-"}]
["N7","-",{"$f":"VLOOKUP(B116,Pilot!A:C,3,0)","v":" "},{"$f":"VLOOKUP(B116,Pilot!A:B,2,0)","v":" "},{"$f":"VLOOKUP(B116,Pilot!A:E,5,0)","v":" "},{"$f":"VLOOKUP(B116,Pilot!A:F,6,0)","v":" "},"N7",null,10,{"$f":"IF(COUNTIF('N PMRg 2019'!B:B,B116)=0,\"-\",COUNTIF('N PMRg 2019'!B:B,B116))","v":14},{"$f":"IF(ISERROR(VLOOKUP(B116,'N PMRg 2019'!B:G,6,0)),\"-\",VLOOKUP(B116,'N PMRg 2019'!B:G,6,0))","v":"-"},{"$f":"IF(COUNTIF('N PMČRj 2019'!B:B,B116)=0,\"-\",COUNTIF('N PMČRj 2019'!B:B,B116))","v":10},{"$f":"IF(ISERROR(VLOOKUP(B116,'N PMČRj 2019'!B:G,6,0)),\"-\",VLOOKUP(B116,'N PMČRj 2019'!B:G,6,0))","v":"-"}]
["N8","-",{"$f":"VLOOKUP(B117,Pilot!A:C,3,0)","v":" "},{"$f":"VLOOKUP(B117,Pilot!A:B,2,0)","v":" "},{"$f":"VLOOKUP(B117,Pilot!A:E,5,0)","v":" "},{"$f":"VLOOKUP(B117,Pilot!A:F,6,0)","v":" "},"N8",null,10,{"$f":"IF(COUNTIF('N PMRg 2019'!B:B,B117)=0,\"-\",COUNTIF('N PMRg 2019'!B:B,B117))","v":14},{"$f":"IF(ISERROR(VLOOKUP(B117,'N PMRg 2019'!B:G,6,0)),\"-\",VLOOKUP(B117,'N PMRg 2019'!B:G,6,0))","v":"-"},{"$f":"IF(COUNTIF('N PMČRj 2019'!B:B,B117)=0,\"-\",COUNTIF('N PMČRj 2019'!B:B,B117))","v":10},{"$f":"IF(ISERROR(VLOOKUP(B117,'N PMČRj 2019'!B:G,6,0)),\"-\",VLOOKUP(B117,'N PMČRj 2019'!B:G,6,0))","v":"-"}]
["N9","-",{"$f":"VLOOKUP(B118,Pilot!A:C,3,0)","v":" "},{"$f":"VLOOKUP(B118,Pilot!A:B,2,0)","v":" "},{"$f":"VLOOKUP(B118,Pilot!A:E,5,0)","v":" "},{"$f":"VLOOKUP(B118,Pilot!A:F,6,0)","v":" "},"N9",null,10,{"$f":"IF(COUNTIF('N PMRg 2019'!B:B,B118)=0,\"-\",COUNTIF('N PMRg 2019'!B:B,B118))","v":14},{"$f":"IF(ISERROR(VLOOKUP(B118,'N PMRg 2019'!B:G,6,0)),\"-\",VLOOKUP(B118,'N PMRg 2019'!B:G,6,0))","v":"-"},{"$f":"IF(COUNTIF('N PMČRj 2019'!B:B,B118)=0,\"-\",COUNTIF('N PMČRj 2019'!B:B,B118))","v":10},{"$f":"IF(ISERROR(VLOOKUP(B118,'N PMČRj 2019'!B:G,6,0)),\"-\",VLOOKUP(B118,'N PMČRj 2019'!B:G,6,0))","v":"-"}]
["N10","-",{"$f":"VLOOKUP(B119,Pilot!A:C,3,0)","v":" "},{"$f":"VLOOKUP(B119,Pilot!A:B,2,0)","v":" "},{"$f":"VLOOKUP(B119,Pilot!A:E,5,0)","v":" "},{"$f":"VLOOKUP(B119,Pilot!A:F,6,0)","v":" "},"N10",null,10,{"$f":"IF(COUNTIF('N PMRg 2019'!B:B,B119)=0,\"-\",COUNTIF('N PMRg 2019'!B:B,B119))","v":14},{"$f":"IF(ISERROR(VLOOKUP(B119,'N PMRg 2019'!B:G,6,0)),\"-\",VLOOKUP(B119,'N PMRg 2019'!B:G,6,0))","v":"-"},{"$f":"IF(COUNTIF('N PMČRj 2019'!B:B,B119)=0,\"-\",COUNTIF('N PMČRj 2019'!B:B,B119))","v":10},{"$f":"IF(ISERROR(VLOOKUP(B119,'N PMČRj 2019'!B:G,6,0)),\"-\",VLOOKUP(B119,'N PMČRj 2019'!B:G,6,0))","v":"-"}]
["6.6.7.","Nominace zahraničních účastníků"]
[null,"PMČR se mohou zúčastnit zahraniční účastníci pouze v případě, že nebude omezen počet řádně nominovaných soutěžících z ČR a soutěžící splňuje podmínky odstavce 6.1. a 6.6.1. SŘ."]
[null,"V případě pořádání společného PMČR s plachtařským mistrovstvím některého ze suverénních států může PK stanovit zvláštní pravidla pro nominaci."]
["6.6.8.","Volná nominace"]
[null,"Volnou nominaci je možné využít pouze v tom případě, že pilot na PMČR nepostupuje podle žádného z bodů odstavce 6.6.6."]
[null,"Umožňuje-li to kapacita pořádajícího letiště, mohou se z členů AeČR mimo řádně nominovaných do soutěže přihlásit také piloti/pilotky, kteří se:"]
["6.6.8.1.","v posledních 3 letech před rokem konání soutěže zúčastnili MS, ME, WAG nebo Světové Grand Prix jako velitel kluzáku,"]
["6.6.8.2.","umístili v aktuálním Všeobecném Žebříku do 100. místa,"]
["6.6.8.3.","Při větším počtu přihlášek, než je kapacita letiště Pořadatele, rozhoduje o přijetí do soutěže pořadí soutěžícího v aktuálním Všeobecném Žebříku s podmínkou zaplacení vkladu v termínu stanoveném Pořadatelem."]
[]
[]
["Schváleno Plachtařskou komisí AeČR dne 4.11.2018 ve Vysokém Mýtě"]

{"sheet":"N PMRg 2019","index":12,"n_rows":101,"n_cols":17,"rows_kept":101,"cut":false,"hidden":false,"merged":[[5,1,5,7],[26,1,26,7],[27,1,27,7],[42,1,42,7]]}
[null,"Nominace na PMRg 2019",null,null,null,null,null,"Kontrola:","Počet","Počet","Nominace","Počet","Nominace","M:","F:","M+F:"]
["No","Jméno","Aeroklub","Rok narození","M/F","Junior","No",null,"PMRg","PMČR","PMČR","PMČRj","PMČRj",{"$f":"COUNTIF(E:E,\"M\")","v":17},{"$f":"COUNTIF(E:E,\"F\")","v":4},{"$f":"N2+O2","v":21},"S náhradníky"]
["6.8.5.","Nominace na PMRg (dle SŘ ZM8)",null,null,null,null,null,null,null,null,null,null,"Celkem řádně nominováno:",{"$f":"N2-COUNTIF(E76:E91,\"M\")","v":17},{"$f":"O2-COUNTIF(E88:E91,\"F\")","v":4},{"$f":"N3+O3","v":21},"Bez náhradníků"]
[null,"Na PMRg nominuje PK minimálně 60 pilotů/pilotek a příslušný počet náhradníků pro stanovená nominační kritéria."]
[null,"Na PMRg jsou nominováni:"]
["6.8.5.1.","všichni soutěžící z posledního platného PMČR, kteří nepostoupili na PMČR v roce konání PMRg (bez náhradníků)"]
[null,"PMČR 2018 - Tábor - Klub"]
[1,"Zdenek Balcarek",{"$f":"VLOOKUP(B8,Pilot!A:C,3,0)","v":"Kroměříž"},{"$f":"VLOOKUP(B8,Pilot!A:C,2,0)","v":1967},{"$f":"VLOOKUP(B8,Pilot!A:E,5,0)","v":"M"},{"$f":"VLOOKUP(B8,Pilot!A:F,6,0)","v":""},{"$f":"A8","v":1},null,{"$f":"COUNTIF(B:B,B8)","v":1},{"$f":"IF(COUNTIF('N PMČR 2019'!B:B,B8)=0,\"-\",COUNTIF('N PMČR 2019'!B:B,B8))","v":"-"},{"$f":"IF(ISERROR(VLOOKUP(B8,'N PMČR 2019'!B:G,6,0)),\"-\",VLOOKUP(B8,'N PMČR 2019'!B:G,6,0))","v":"-"},{"$f":"IF(COUNTIF('N PMČRj 2019'!B:B,B8)=0,\"-\",COUNTIF('N PMČRj 2019'!B:B,B8))","v":"-"},{"$f":"IF(ISERROR(VLOOKUP(B8,'N PMČRj 2019'!B:G,6,0)),\"-\",VLOOKUP(B8,'N PMČRj 2019'!B:G,6,0))","v":"-"}]
[{"$f":"A8+1","v":2},"Jan Kotan",{"$f":"VLOOKUP(B9,Pilot!A:C,3,0)","v":"Letňany"},{"$f":"VLOOKUP(B9,Pilot!A:C,2,0)","v":1982},{"$f":"VLOOKUP(B9,Pilot!A:E,5,0)","v":"M"},{"$f":"VLOOKUP(B9,Pilot!A:F,6,0)","v":""},2,null,1,{"$f":"IF(COUNTIF('N PMČR 2019'!B:B,B9)=0,\"-\",COUNTIF('N PMČR 2019'!B:B,B9))","v":"-"},{"$f":"IF(ISERROR(VLOOKUP(B9,'N PMČR 2019'!B:G,6,0)),\"-\",VLOOKUP(B9,'N PMČR 2019'!B:G,6,0))","v":"-"},{"$f":"IF(COUNTIF('N PMČRj 2019'!B:B,B9)=0,\"-\",COUNTIF('N PMČRj 2019'!B:B,B9))","v":"-"},{"$f":"IF(ISERROR(VLOOKUP(B9,'N PMČRj 2019'!B:G,6,0)),\"-\",VLOOKUP(B9,'N PMČRj 2019'!B:G,6,0))","v":"-"}]
[3,"Anna Hajkova",{"$f":"VLOOKUP(B10,Pilot!A:C,3,0)","v":"Mladá Boleslav"},{"$f":"VLOOKUP(B10,Pilot!A:C,2,0)","v":1989},{"$f":"VLOOKUP(B10,Pilot!A:E,5,0)","v":"F"},{"$f":"VLOOKUP(B10,Pilot!A:F,6,0)","v":""},3,null,1,{"$f":"IF(COUNTIF('N PMČR 2019'!B:B,B10)=0,\"-\",COUNTIF('N PMČR 2019'!B:B,B10))","v":"-"},{"$f":"IF(ISERROR(VLOOKUP(B10,'N PMČR 2019'!B:G,6,0)),\"-\",VLOOKUP(B10,'N PMČR 2019'!B:G,6,0))","v":"-"},{"$f":"IF(COUNTIF('N PMČRj 2019'!B:B,B10)=0,\"-\",COUNTIF('N PMČRj 2019'!B:B,B10))","v":"-"},{"$f":"IF(ISERROR(VLOOKUP(B10,'N PMČRj 2019'!B:G,6,0)),\"-\",VLOOKUP(B10,'N PMČRj 2019'!B:G,6,0))","v":"-"}]
[4,"Jiri Fousek",{"$f":"VLOOKUP(B11,Pilot!A:C,3,0)","v":"Raná"},{"$f":"VLOOKUP(B11,Pilot!A:C,2,0)","v":1990},{"$f":"VLOOKUP(B11,Pilot!A:E,5,0)","v":"M"},{"$f":"VLOOKUP(B11,Pilot!A:F,6,0)","v":""},4,null,1,{"$f":"IF(COUNTIF('N PMČR 2019'!B:B,B11)=0,\"-\",COUNTIF('N PMČR 2019'!B:B,B11))","v":"-"},{"$f":"IF(ISERROR(VLOOKUP(B11,'N PMČR 2019'!B:G,6,0)),\"-\",VLOOKUP(B11,'N PMČR 2019'!B:G,6,0))","v":"-"},{"$f":"IF(COUNTIF('N PMČRj 2019'!B:B,B11)=0,\"-\",COUNTIF('N PMČRj 2019'!B:B,B11))","v":"-"},{"$f":"IF(ISERROR(VLOOKUP(B11,'N PMČRj 2019'!B:G,6,0)),\"-\",VLOOKUP(B11,'N PMČRj 2019'!B:G,6,0))","v":"-"}]
[5,"Petr Stepanek",{"$f":"VLOOKUP(B12,Pilot!A:C,3,0)","v":"Moravská Třebová"},{"$f":"VLOOKUP(B12,Pilot!A:C,2,0)","v":1989},{"$f":"VLOOKUP(B12,Pilot!A:E,5,0)","v":"M"},{"$f":"VLOOKUP(B12,Pilot!A:F,6,0)","v":""},5,null,1,{"$f":"IF(COUNTIF('N PMČR 2019'!B:B,B12)=0,\"-\",COUNTIF('N PMČR 2019'!B:B,B12))","v":"-"},{"$f":"IF(ISERROR(VLOOKUP(B12,'N PMČR 2019'!B:G,6,0)),\"-\",VLOOKUP(B12,'N PMČR 2019'!B:G,6,0))","v":"-"},{"$f":"IF(COUNTIF('N PMČRj 2019'!B:B,B12)=0,\"-\",COUNTIF('N PMČRj 2019'!B:B,B12))","v":"-"},{"$f":"IF(ISERROR(VLOOKUP(B12,'N PMČRj 2019'!B:G,6,0)),\"-\",VLOOKUP(B12,'N PMČRj 2019'!B:G,6,0))","v":"-"}]
[6,"Frantisek Filandr",{"$f":"VLOOKUP(B13,Pilot!A:C,3,0)","v":"Most"},{"$f":"VLOOKUP(B13,Pilot!A:C,2,0)","v":1956},{"$f":"VLOOKUP(B13,Pilot!A:E,5,0)","v":"M"},{"$f":"VLOOKUP(B13,Pilot!A:F,6,0)","v":""},6,null,1,{"$f":"IF(COUNTIF('N PMČR 2019'!B:B,B13)=0,\"-\",COUNTIF('N PMČR 2019'!B:B,B13))","v":"-"},{"$f":"IF(ISERROR(VLOOKUP(B13,'N PMČR 2019'!B:G,6,0)),\"-\",VLOOKUP(B13,'N PMČR 2019'!B:G,6,0))","v":"-"},{"$f":"IF(COUNTIF('N PMČRj 2019'!B:B,B13)=0,\"-\",COUNTIF('N PMČRj 2019'!B:B,B13))","v":"-"},{"$f":"IF(ISERROR(VLOOKUP(B13,'N PMČRj 2019'!B:G,6,0)),\"-\",VLOOKUP(B13,'N PMČRj 2019'!B:G,6,0))","v":"-"}]
[7,"Lumir Motyka",{"$f":"VLOOKUP(B14,Pilot!A:C,3,0)","v":"Frýdlant"},{"$f":"VLOOKUP(B14,Pilot!A:C,2,0)","v":1955},{"$f":"VLOOKUP(B14,Pilot!A:E,5,0)","v":"M"},{"$f":"VLOOKUP(B14,Pilot!A:F,6,0)","v":""},{"$f":"A14","v":7},null,1,{"$f":"IF(COUNTIF('N PMČR 2019'!B:B,B14)=0,\"-\",COUNTIF('N PMČR 2019'!B:B,B14))","v":"-"},{"$f":"IF(ISERROR(VLOOKUP(B14,'N PMČR 2019'!B:G,6,0)),\"-\",VLOOKUP(B14,'N PMČR 2019'!B:G,6,0))","v":"-"},{"$f":"IF(COUNTIF('N PMČRj 2019'!B:B,B14)=0,\"-\",COUNTIF('N PMČRj 2019'!B:B,B14))","v":"-"},{"$f":"IF(ISERROR(VLOOKUP(B14,'N PMČRj 2019'!B:G,6,0)),\"-\",VLOOKUP(B14,'N PMČRj 2019'!B:G,6,0))","v":"-"}]
[8,"Leos Strnadek",{"$f":"VLOOKUP(B15,Pilot!A:C,3,0)","v":"Hodkovice"},{"$f":"VLOOKUP(B15,Pilot!A:C,2,0)","v":1983},{"$f":"VLOOKUP(B15,Pilot!A:E,5,0)","v":"M"},{"$f":"VLOOKUP(B15,Pilot!A:F,6,0)","v":""},{"$f":"A15","v":8},null,1,{"$f":"IF(COUNTIF('N PMČR 2019'!B:B,B15)=0,\"-\",COUNTIF('N PMČR 2019'!B:B,B15))","v":1},{"$f":"IF(ISERROR(VLOOKUP(B15,'N PMČR 2019'!B:G,6,0)),\"-\",VLOOKUP(B15,'N PMČR 2019'!B:G,6,0))","v":"N3"},{"$f":"IF(COUNTIF('N PMČRj 2019'!B:B,B15)=0,\"-\",COUNTIF('N PMČRj 2019'!B:B,B15))","v":"-"},{"$f":"IF(ISERROR(VLOOKUP(B15,'N PMČRj 2019'!B:G,6,0)),\"-\",VLOOKUP(B15,'N PMČRj 2019'!B:G,6,0))","v":"-"}]
[9,"Pavel Brodsky",{"$f":"VLOOKUP(B16,Pilot!A:C,3,0)","v":"Hořice"},{"$f":"VLOOKUP(B16,Pilot!A:C,2,0)","v":1992},{"$f":"VLOOKUP(B16,Pilot!A:E,5,0)","v":"M"},{"$f":"VLOOKUP(B16,Pilot!A:F,6,0)","v":""},9,null,1,{"$f":"IF(COUNTIF('N PMČR 2019'!B:B,B16)=0,\"-\",COUNTIF('N PMČR 2019'!B:B,B16))","v":"-"},{"$f":"IF(ISERROR(VLOOKUP(B16,'N PMČR 2019'!B:G,6,0)),\"-\",VLOOKUP(B16,'N PMČR 2019'!B:G,6,0))","v":"-"},{"$f":"IF(COUNTIF('N PMČRj 2019'!B:B,B16)=0,\"-\",COUNTIF('N PMČRj 2019'!B:B,B16))","v":"-"},{"$f":"IF(ISERROR(VLOOKUP(B16,'N PMČRj 2019'!B:G,6,0)),\"-\",VLOOKUP(B16,'N PMČRj 2019'!B:G,6,0))","v":"-"}]
[null,"PMČR 2018 - Tábor - Kombi 15m"]
[{"$f":"MAX(A8:A17)+1","v":10},"Jan Boruvka",{"$f":"VLOOKUP(B18,Pilot!A:C,3,0)","v":"Jičín"},{"$f":"VLOOKUP(B18,Pilot!A:C,2,0)","v":1984},{"$f":"VLOOKUP(B18,Pilot!A:E,5,0)","v":"M"},{"$f":"VLOOKUP(B18,Pilot!A:F,6,0)","v":""},{"$f":"A18","v":10},null,{"$f":"COUNTIF(B:B,B18)","v":1},{"$f":"IF(COUNTIF('N PMČR 2019'!B:B,B18)=0,\"-\",COUNTIF('N PMČR 2019'!B:B,B18))","v":"-"},{"$f":"IF(ISERROR(VLOOKUP(B18,'N PMČR 2019'!B:G,6,0)),\"-\",VLOOKUP(B18,'N PMČR 2019'!B:G,6,0))","v":"-"},{"$f":"IF(COUNTIF('N PMČRj 2019'!B:B,B18)=0,\"-\",COUNTIF('N PMČRj 2019'!B:B,B18))","v":"-"},{"$f":"IF(ISERROR(VLOOKUP(B18,'N PMČRj 2019'!B:G,6,0)),\"-\",VLOOKUP(B18,'N PMČRj 2019'!B:G,6,0))","v":"-"}]
[{"$f":"A18+1","v":11},"Jiri Stepanek",{"$f":"VLOOKUP(B19,Pilot!A:C,3,0)","v":"Moravská Třebová"},{"$f":"VLOOKUP(B19,Pilot!A:C,2,0)","v":1956},{"$f":"VLOOKUP(B19,Pilot!A:E,5,0)","v":"M"},{"$f":"VLOOKUP(B19,Pilot!A:F,6,0)","v":""},{"$f":"A19","v":11},null,{"$f":"COUNTIF(B:B,B19)","v":1},{"$f":"IF(COUNTIF('N PMČR 2019'!B:B,B19)=0,\"-\",COUNTIF('N PMČR 2019'!B:B,B19))","v":"-"},{"$f":"IF(ISERROR(VLOOKUP(B19,'N PMČR 2019'!B:G,6,0)),\"-\",VLOOKUP(B19,'N PMČR 2019'!B:G,6,0))","v":"-"},{"$f":"IF(COUNTIF('N PMČRj 2019'!B:B,B19)=0,\"-\",COUNTIF('N PMČRj 2019'!B:B,B19))","v":"-"},{"$f":"IF(ISERROR(VLOOKUP(B19,'N PMČRj 2019'!B:G,6,0)),\"-\",VLOOKUP(B19,'N PMČRj 2019'!B:G,6,0))","v":"-"}]
[{"$f":"A19+1","v":12},"Lukas Capek",{"$f":"VLOOKUP(B20,Pilot!A:C,3,0)","v":"Letňany"},{"$f":"VLOOKUP(B20,Pilot!A:C,2,0)","v":1992},{"$f":"VLOOKUP(B20,Pilot!A:E,5,0)","v":"M"},{"$f":"VLOOKUP(B20,Pilot!A:F,6,0)","v":""},{"$f":"A20","v":12},null,{"$f":"COUNTIF(B:B,B20)","v":1},{"$f":"IF(COUNTIF('N PMČR 2019'!B:B,B20)=0,\"-\",COUNTIF('N PMČR 2019'!B:B,B20))","v":"-"},{"$f":"IF(ISERROR(VLOOKUP(B20,'N PMČR 2019'!B:G,6,0)),\"-\",VLOOKUP(B20,'N PMČR 2019'!B:G,6,0))","v":"-"},{"$f":"IF(COUNTIF('N PMČRj 2019'!B:B,B20)=0,\"-\",COUNTIF('N PMČRj 2019'!B:B,B20))","v":"-"},{"$f":"IF(ISERROR(VLOOKUP(B20,'N PMČRj 2019'!B:G,6,0)),\"-\",VLOOKUP(B20,'N PMČRj 2019'!B:G,6,0))","v":"-"}]
[null,"PMČR 2018 - Tíbor - Kombi Open"]
[{"$f":"MAX(A18:A21)+1","v":13},"Martin Pekar",{"$f":"VLOOKUP(B22,Pilot!A:C,3,0)","v":"Šumperk"},{"$f":"VLOOKUP(B22,Pilot!A:C,2,0)","v":1973},{"$f":"VLOOKUP(B22,Pilot!A:E,5,0)","v":"M"},{"$f":"VLOOKUP(B22,Pilot!A:F,6,0)","v":""},{"$f":"A22","v":13},null,{"$f":"COUNTIF(B:B,B22)","v":1},{"$f":"IF(COUNTIF('N PMČR 2019'!B:B,B22)=0,\"-\",COUNTIF('N PMČR 2019'!B:B,B22))","v":"-"},{"$f":"IF(ISERROR(VLOOKUP(B22,'N PMČR 2019'!B:G,6,0)),\"-\",VLOOKUP(B22,'N PMČR 2019'!B:G,6,0))","v":"-"},{"$f":"IF(COUNTIF('N PMČRj 2019'!B:B,B22)=0,\"-\",COUNTIF('N PMČRj 2019'!B:B,B22))","v":"-"},{"$f":"IF(ISERROR(VLOOKUP(B22,'N PMČRj 2019'!B:G,6,0)),\"-\",VLOOKUP(B22,'N PMČRj 2019'!B:G,6,0))","v":"-"}]
[{"$f":"A22+1","v":14},"Jiri Steiger",{"$f":"VLOOKUP(B23,Pilot!A:C,3,0)","v":"Olomouc"},{"$f":"VLOOKUP(B23,Pilot!A:C,2,0)","v":1969},{"$f":"VLOOKUP(B23,Pilot!A:E,5,0)","v":"M"},{"$f":"VLOOKUP(B23,Pilot!A:F,6,0)","v":""},{"$f":"A23","v":14},null,{"$f":"COUNTIF(B:B,B23)","v":1},{"$f":"IF(COUNTIF('N PMČR 2019'!B:B,B23)=0,\"-\",COUNTIF('N PMČR 2019'!B:B,B23))","v":"-"},{"$f":"IF(ISERROR(VLOOKUP(B23,'N PMČR 2019'!B:G,6,0)),\"-\",VLOOKUP(B23,'N PMČR 2019'!B:G,6,0))","v":"-"},{"$f":"IF(COUNTIF('N PMČRj 2019'!B:B,B23)=0,\"-\",COUNTIF('N PMČRj 2019'!B:B,B23))","v":"-"},{"$f":"IF(ISERROR(VLOOKUP(B23,'N PMČRj 2019'!B:G,6,0)),\"-\",VLOOKUP(B23,'N PMČRj 2019'!B:G,6,0))","v":"-"}]
[{"$f":"A23+1","v":15},"Eva Cerna",{"$f":"VLOOKUP(B24,Pilot!A:C,3,0)","v":"Příbram"},{"$f":"VLOOKUP(B24,Pilot!A:C,2,0)","v":1964},{"$f":"VLOOKUP(B24,Pilot!A:E,5,0)","v":"F"},{"$f":"VLOOKUP(B24,Pilot!A:F,6,0)","v":""},{"$f":"A24","v":15},null,{"$f":"COUNTIF(B:B,B24)","v":1},{"$f":"IF(COUNTIF('N PMČR 2019'!B:B,B24)=0,\"-\",COUNTIF('N PMČR 2019'!B:B,B24))","v":"-"},{"$f":"IF(ISERROR(VLOOKUP(B24,'N PMČR 2019'!B:G,6,0)),\"-\",VLOOKUP(B24,'N PMČR 2019'!B:G,6,0))","v":"-"},{"$f":"IF(COUNTIF('N PMČRj 2019'!B:B,B24)=0,\"-\",COUNTIF('N PMČRj 2019'!B:B,B24))","v":"-"},{"$f":"IF(ISERROR(VLOOKUP(B24,'N PMČRj 2019'!B:G,6,0)),\"-\",VLOOKUP(B24,'N PMČRj 2019'!B:G,6,0))","v":"-"}]
[{"$f":"A24+1","v":16},"Ondrej Dupal",{"$f":"VLOOKUP(B25,Pilot!A:C,3,0)","v":"GAC Benešov"},{"$f":"VLOOKUP(B25,Pilot!A:C,2,0)","v":1966},{"$f":"VLOOKUP(B25,Pilot!A:E,5,0)","v":"M"},{"$f":"VLOOKUP(B25,Pilot!A:F,6,0)","v":""},{"$f":"A25","v":16},null,{"$f":"COUNTIF(B:B,B25)","v":1},{"$f":"IF(COUNTIF('N PMČR 2019'!B:B,B25)=0,\"-\",COUNTIF('N PMČR 2019'!B:B,B25))","v":"-"},{"$f":"IF(ISERROR(VLOOKUP(B25,'N PMČR 2019'!B:G,6,0)),\"-\",VLOOKUP(B25,'N PMČR 2019'!B:G,6,0))","v":"-"},{"$f":"IF(COUNTIF('N PMČRj 2019'!B:B,B25)=0,\"-\",COUNTIF('N PMČRj 2019'!B:B,B25))","v":"-"},{"$f":"IF(ISERROR(VLOOKUP(B25,'N PMČRj 2019'!B:G,6,0)),\"-\",VLOOKUP(B25,'N PMČRj 2019'!B:G,6,0))","v":"-"}]
[{"$f":"A25+1","v":17},"Vladimir Spilka",{"$f":"VLOOKUP(B26,Pilot!A:C,3,0)","v":"Hranice"},{"$f":"VLOOKUP(B26,Pilot!A:C,2,0)","v":1940},{"$f":"VLOOKUP(B26,Pilot!A:E,5,0)","v":"M"},{"$f":"VLOOKUP(B26,Pilot!A:F,6,0)","v":""},{"$f":"A26","v":17},null,{"$f":"COUNTIF(B:B,B26)","v":1},{"$f":"IF(COUNTIF('N PMČR 2019'!B:B,B26)=0,\"-\",COUNTIF('N PMČR 2019'!B:B,B26))","v":"-"},{"$f":"IF(ISERROR(VLOOKUP(B26,'N PMČR 2019'!B:G,6,0)),\"-\",VLOOKUP(B26,'N PMČR 2019'!B:G,6,0))","v":"-"},{"$f":"IF(COUNTIF('N PMČRj 2019'!B:B,B26)=0,\"-\",COUNTIF('N PMČRj 2019'!B:B,B26))","v":"-"},{"$f":"IF(ISERROR(VLOOKUP(B26,'N PMČRj 2019'!B:G,6,0)),\"-\",VLOOKUP(B26,'N PMČRj 2019'!B:G,6,0))","v":"-"}]
["6.8.5.2.","prvních 10 soutěžících z posledního platného PMRg, kteří nepostoupili na PMČR v roce konání PMRg, v pořadí podle korigovaných bodů ze všech tříd (bez náhradníků)"]
[null,"V případě neplatnosti některé ze soutěžních tříd posledního PMRg budou pro výpočet korigovaných bodů použity výsledky z posledního platného PMRg v dané třídě."]
[null,"PMRg 2018 - Hodkovice - Korigované body"]
[{"$f":"MAX(A22:A26)+1","v":18},"Milada Moudra",null,{"$f":"VLOOKUP(B30,Pilot!A:C,2,0)","v":1991},{"$f":"VLOOKUP(B30,Pilot!A:E,5,0)","v":"F"},{"$f":"VLOOKUP(B30,Pilot!A:F,6,0)","v":""},{"$f":"A30","v":18},null,{"$f":"COUNTIF(B:B,B30)","v":1},{"$f":"IF(COUNTIF('N PMČR 2019'!B:B,B30)=0,\"-\",COUNTIF('N PMČR 2019'!B:B,B30))","v":1},{"$f":"IF(ISERROR(VLOOKUP(B30,'N PMČR 2019'!B:G,6,0)),\"-\",VLOOKUP(B30,'N PMČR 2019'!B:G,6,0))","v":"N1"},{"$f":"IF(COUNTIF('N PMČRj 2019'!B:B,B30)=0,\"-\",COUNTIF('N PMČRj 2019'!B:B,B30))","v":"-"},{"$f":"IF(ISERROR(VLOOKUP(B30,'N PMČRj 2019'!B:G,6,0)),\"-\",VLOOKUP(B30,'N PMČRj 2019'!B:G,6,0))","v":"-"}]
[{"$f":"A30+1","v":19},"Antonin Kutalek",null,{"$f":"VLOOKUP(B31,Pilot!A:C,2,0)","v":1943},{"$f":"VLOOKUP(B31,Pilot!A:E,5,0)","v":"M"},{"$f":"VLOOKUP(B31,Pilot!A:F,6,0)","v":""},{"$f":"A31","v":19},null,1,{"$f":"IF(COUNTIF('N PMČR 2019'!B:B,B31)=0,\"-\",COUNTIF('N PMČR 2019'!B:B,B31))","v":1},{"$f":"IF(ISERROR(VLOOKUP(B31,'N PMČR 2019'!B:G,6,0)),\"-\",VLOOKUP(B31,'N PMČR 2019'!B:G,6,0))","v":"N2"},{"$f":"IF(COUNTIF('N PMČRj 2019'!B:B,B31)=0,\"-\",COUNTIF('N PMČRj 2019'!B:B,B31))","v":"-"},{"$f":"IF(ISERROR(VLOOKUP(B31,'N PMČRj 2019'!B:G,6,0)),\"-\",VLOOKUP(B31,'N PMČRj 2019'!B:G,6,0))","v":"-"}]
[{"$f":"A31+1","v":20},"Olga Mokosova",null,{"$f":"VLOOKUP(B32,Pilot!A:C,2,0)","v":1970},{"$f":"VLOOKUP(B32,Pilot!A:E,5,0)","v":"F"},{"$f":"VLOOKUP(B32,Pilot!A:F,6,0)","v":""},20,null,1,{"$f":"IF(COUNTIF('N PMČR 2019'!B:B,B32)=0,\"-\",COUNTIF('N PMČR 2019'!B:B,B32))","v":1},{"$f":"IF(ISERROR(VLOOKUP(B32,'N PMČR 2019'!B:G,6,0)),\"-\",VLOOKUP(B32,'N PMČR 2019'!B:G,6,0))","v":"N4"},{"$f":"IF(COUNTIF('N PMČRj 2019'!B:B,B32)=0,\"-\",COUNTIF('N PMČRj 2019'!B:B,B32))","v":"-"},{"$f":"IF(ISERROR(VLOOKUP(B32,'N PMČRj 2019'!B:G,6,0)),\"-\",VLOOKUP(B32,'N PMČRj 2019'!B:G,6,0))","v":"-"}]
[21,"Petr Lonsky",null,{"$f":"VLOOKUP(B33,Pilot!A:C,2,0)","v":1965},{"$f":"VLOOKUP(B33,Pilot!A:E,5,0)","v":"M"},{"$f":"VLOOKUP(B33,Pilot!A:F,6,0)","v":""},21,null,1,{"$f":"IF(COUNTIF('N PMČR 2019'!B:B,B33)=0,\"-\",COUNTIF('N PMČR 2019'!B:B,B33))","v":1},{"$f":"IF(ISERROR(VLOOKUP(B33,'N PMČR 2019'!B:G,6,0)),\"-\",VLOOKUP(B33,'N PMČR 2019'!B:G,6,0))","v":"N5"},{"$f":"IF(COUNTIF('N PMČRj 2019'!B:B,B33)=0,\"-\",COUNTIF('N PMČRj 2019'!B:B,B33))","v":"-"},{"$f":"IF(ISERROR(VLOOKUP(B33,'N PMČRj 2019'!B:G,6,0)),\"-\",VLOOKUP(B33,'N PMČRj 2019'!B:G,6,0))","v":"-"}]
["-","-",null,{"$f":"VLOOKUP(B34,Pilot!A:C,2,0)","v":" "},{"$f":"VLOOKUP(B34,Pilot!A:E,5,0)","v":" "},{"$f":"VLOOKUP(B34,Pilot!A:F,6,0)","v":" "},"-",null,14,{"$f":"IF(COUNTIF('N PMČR 2019'!B:B,B34)=0,\"-\",COUNTIF('N PMČR 2019'!B:B,B34))","v":10},{"$f":"IF(ISERROR(VLOOKUP(B34,'N PMČR 2019'!B:G,6,0)),\"-\",VLOOKUP(B34,'N PMČR 2019'!B:G,6,0))","v":"-"},{"$f":"IF(COUNTIF('N PMČRj 2019'!B:B,B34)=0,\"-\",COUNTIF('N PMČRj 2019'!B:B,B34))","v":10},{"$f":"IF(ISERROR(VLOOKUP(B34,'N PMČRj 2019'!B:G,6,0)),\"-\",VLOOKUP(B34,'N PMČRj 2019'!B:G,6,0))","v":"-"}]
["-","-",null,{"$f":"VLOOKUP(B35,Pilot!A:C,2,0)","v":" "},{"$f":"VLOOKUP(B35,Pilot!A:E,5,0)","v":" "},{"$f":"VLOOKUP(B35,Pilot!A:F,6,0)","v":" "},"-",null,14,{"$f":"IF(COUNTIF('N PMČR 2019'!B:B,B35)=0,\"-\",COUNTIF('N PMČR 2019'!B:B,B35))","v":10},{"$f":"IF(ISERROR(VLOOKUP(B35,'N PMČR 2019'!B:G,6,0)),\"-\",VLOOKUP(B35,'N PMČR 2019'!B:G,6,0))","v":"-"},{"$f":"IF(COUNTIF('N PMČRj 2019'!B:B,B35)=0,\"-\",COUNTIF('N PMČRj 2019'!B:B,B35))","v":10},{"$f":"IF(ISERROR(VLOOKUP(B35,'N PMČRj 2019'!B:G,6,0)),\"-\",VLOOKUP(B35,'N PMČRj 2019'!B:G,6,0))","v":"-"}]
["-","-",null,{"$f":"VLOOKUP(B36,Pilot!A:C,2,0)","v":" "},{"$f":"VLOOKUP(B36,Pilot!A:E,5,0)","v":" "},{"$f":"VLOOKUP(B36,Pilot!A:F,6,0)","v":" "},"-",null,14,{"$f":"IF(COUNTIF('N PMČR 2019'!B:B,B36)=0,\"-\",COUNTIF('N PMČR 2019'!B:B,B36))","v":10},{"$f":"IF(ISERROR(VLOOKUP(B36,'N PMČR 2019'!B:G,6,0)),\"-\",VLOOKUP(B36,'N PMČR 2019'!B:G,6,0))","v":"-"},{"$f":"IF(COUNTIF('N PMČRj 2019'!B:B,B36)=0,\"-\",COUNTIF('N PMČRj 2019'!B:B,B36))","v":10},{"$f":"IF(ISERROR(VLOOKUP(B36,'N PMČRj 2019'!B:G,6,0)),\"-\",VLOOKUP(B36,'N PMČRj 2019'!B:G,6,0))","v":"-"}]
["-","-",null,{"$f":"VLOOKUP(B37,Pilot!A:C,2,0)","v":" "},{"$f":"VLOOKUP(B37,Pilot!A:E,5,0)","v":" "},{"$f":"VLOOKUP(B37,Pilot!A:F,6,0)","v":" "},"-",null,14,{"$f":"IF(COUNTIF('N PMČR 2019'!B:B,B37)=0,\"-\",COUNTIF('N PMČR 2019'!B:B,B37))","v":10},{"$f":"IF(ISERROR(VLOOKUP(B37,'N PMČR 2019'!B:G,6,0)),\"-\",VLOOKUP(B37,'N PMČR 2019'!B:G,6,0))","v":"-"},{"$f":"IF(COUNTIF('N PMČRj 2019'!B:B,B37)=0,\"-\",COUNTIF('N PMČRj 2019'!B:B,B37))","v":10},{"$f":"IF(ISERROR(VLOOKUP(B37,'N PMČRj 2019'!B:G,6,0)),\"-\",VLOOKUP(B37,'N PMČRj 2019'!B:G,6,0))","v":"-"}]
["-","-",null,{"$f":"VLOOKUP(B38,Pilot!A:C,2,0)","v":" "},{"$f":"VLOOKUP(B38,Pilot!A:E,5,0)","v":" "},{"$f":"VLOOKUP(B38,Pilot!A:F,6,0)","v":" "},"-",null,14,{"$f":"IF(COUNTIF('N PMČR 2019'!B:B,B38)=0,\"-\",COUNTIF('N PMČR 2019'!B:B,B38))","v":10},{"$f":"IF(ISERROR(VLOOKUP(B38,'N PMČR 2019'!B:G,6,0)),\"-\",VLOOKUP(B38,'N PMČR 2019'!B:G,6,0))","v":"-"},{"$f":"IF(COUNTIF('N PMČRj 2019'!B:B,B38)=0,\"-\",COUNTIF('N PMČRj 2019'!B:B,B38))","v":10},{"$f":"IF(ISERROR(VLOOKUP(B38,'N PMČRj 2019'!B:G,6,0)),\"-\",VLOOKUP(B38,'N PMČRj 2019'!B:G,6,0))","v":"-"}]
["-","-",null,{"$f":"VLOOKUP(B39,Pilot!A:C,2,0)","v":" "},{"$f":"VLOOKUP(B39,Pilot!A:E,5,0)","v":" "},{"$f":"VLOOKUP(B39,Pilot!A:F,6,0)","v":" "},{"$f":"A39","v":"-"},null,14,{"$f":"IF(COUNTIF('N PMČR 2019'!B:B,B39)=0,\"-\",COUNTIF('N PMČR 2019'!B:B,B39))","v":10},{"$f":"IF(ISERROR(VLOOKUP(B39,'N PMČR 2019'!B:G,6,0)),\"-\",VLOOKUP(B39,'N PMČR 2019'!B:G,6,0))","v":"-"},{"$f":"IF(COUNTIF('N PMČRj 2019'!B:B,B39)=0,\"-\",COUNTIF('N PMČRj 2019'!B:B,B39))","v":10},{"$f":"IF(ISERROR(VLOOKUP(B39,'N PMČRj 2019'!B:G,6,0)),\"-\",VLOOKUP(B39,'N PMČRj 2019'!B:G,6,0))","v":"-"}]
["-","-",null,{"$f":"VLOOKUP(B40,Pilot!A:C,2,0)","v":" "},{"$f":"VLOOKUP(B40,Pilot!A:E,5,0)","v":" "},{"$f":"VLOOKUP(B40,Pilot!A:F,6,0)","v":" "},{"$f":"A40","v":"-"},null,14,{"$f":"IF(COUNTIF('N PMČR 2019'!B:B,B40)=0,\"-\",COUNTIF('N PMČR 2019'!B:B,B40))","v":10},{"$f":"IF(ISERROR(VLOOKUP(B40,'N PMČR 2019'!B:G,6,0)),\"-\",VLOOKUP(B40,'N PMČR 2019'!B:G,6,0))","v":"-"},{"$f":"IF(COUNTIF('N PMČRj 2019'!B:B,B40)=0,\"-\",COUNTIF('N PMČRj 2019'!B:B,B40))","v":10},{"$f":"IF(ISERROR(VLOOKUP(B40,'N PMČRj 2019'!B:G,6,0)),\"-\",VLOOKUP(B40,'N PMČRj 2019'!B:G,6,0))","v":"-"}]
["-","-",null,{"$f":"VLOOKUP(B41,Pilot!A:C,2,0)","v":" "},{"$f":"VLOOKUP(B41,Pilot!A:E,5,0)","v":" "},{"$f":"VLOOKUP(B41,Pilot!A:F,6,0)","v":" "},{"$f":"A41","v":"-"},null,14,{"$f":"IF(COUNTIF('N PMČR 2019'!B:B,B41)=0,\"-\",COUNTIF('N PMČR 2019'!B:B,B41))","v":10},{"$f":"IF(ISERROR(VLOOKUP(B41,'N PMČR 2019'!B:G,6,0)),\"-\",VLOOKUP(B41,'N PMČR 2019'!B:G,6,0))","v":"-"},{"$f":"IF(COUNTIF('N PMČRj 2019'!B:B,B41)=0,\"-\",COUNTIF('N PMČRj 2019'!B:B,B41))","v":10},{"$f":"IF(ISERROR(VLOOKUP(B41,'N PMČRj 2019'!B:G,6,0)),\"-\",VLOOKUP(B41,'N PMČRj 2019'!B:G,6,0))","v":"-"}]
["-","-",null,{"$f":"VLOOKUP(B42,Pilot!A:C,2,0)","v":" "},{"$f":"VLOOKUP(B42,Pilot!A:E,5,0)","v":" "},{"$f":"VLOOKUP(B42,Pilot!A:F,6,0)","v":" "},{"$f":"A42","v":"-"},null,14,{"$f":"IF(COUNTIF('N PMČR 2019'!B:B,B42)=0,\"-\",COUNTIF('N PMČR 2019'!B:B,B42))","v":10},{"$f":"IF(ISERROR(VLOOKUP(B42,'N PMČR 2019'!B:G,6,0)),\"-\",VLOOKUP(B42,'N PMČR 2019'!B:G,6,0))","v":"-"},{"$f":"IF(COUNTIF('N PMČRj 2019'!B:B,B42)=0,\"-\",COUNTIF('N PMČRj 2019'!B:B,B42))","v":10},{"$f":"IF(ISERROR(VLOOKUP(B42,'N PMČRj 2019'!B:G,6,0)),\"-\",VLOOKUP(B42,'N PMČRj 2019'!B:G,6,0))","v":"-"}]
["6.8.5.3.","soutěžící z regionů Čechy 1, Čechy 2 a Morava v pořadí podle celkového umístění v CPS-INT předcházejícího roku konání PMRg do naplnění celkového počtu minimálně 60 nominovaných (+ 10 náhradníků)"]
[{"$f":"MAX(A30:A42)+1","v":22},null,{"$f":"VLOOKUP(B44,Pilot!A:C,3,0)","v":{"$error":"#N/A"}},{"$f":"VLOOKUP(B44,Pilot!A:C,2,0)","v":{"$error":"#N/A"}},{"$f":"VLOOKUP(B44,Pilot!A:E,5,0)","v":{"$error":"#N/A"}},{"$f":"VLOOKUP(B44,Pilot!A:F,6,0)","v":{"$error":"#N/A"}},{"$f":"A44","v":22},null,{"$f":"COUNTIF(B:B,B44)","v":0},{"$f":"IF(COUNTIF('N PMČR 2019'!B:B,B44)=0,\"-\",COUNTIF('N PMČR 2019'!B:B,B44))","v":"-"},{"$f":"IF(ISERROR(VLOOKUP(B44,'N PMČR 2019'!B:G,6,0)),\"-\",VLOOKUP(B44,'N PMČR 2019'!B:G,6,0))","v":"-"},{"$f":"IF(COUNTIF('N PMČRj 2019'!B:B,B44)=0,\"-\",COUNTIF('N PMČRj 2019'!B:B,B44))","v":"-"},{"$f":"IF(ISERROR(VLOOKUP(B44,'N PMČRj 2019'!B:G,6,0)),\"-\",VLOOKUP(B44,'N PMČRj 2019'!B:G,6,0))","v":"-"}]
[{"$f":"A44+1","v":23},null,{"$f":"VLOOKUP(B45,Pilot!A:C,3,0)","v":{"$error":"#N/A"}},{"$f":"VLOOKUP(B45,Pilot!A:C,2,0)","v":{"$error":"#N/A"}},{"$f":"VLOOKUP(B45,Pilot!A:E,5,0)","v":{"$error":"#N/A"}},{"$f":"VLOOKUP(B45,Pilot!A:F,6,0)","v":{"$error":"#N/A"}},23,null,0,{"$f":"IF(COUNTIF('N PMČR 2019'!B:B,B45)=0,\"-\",COUNTIF('N PMČR 2019'!B:B,B45))","v":"-"},{"$f":"IF(ISERROR(VLOOKUP(B45,'N PMČR 2019'!B:G,6,0)),\"-\",VLOOKUP(B45,'N PMČR 2019'!B:G,6,0))","v":"-"},{"$f":"IF(COUNTIF('N PMČRj 2019'!B:B,B45)=0,\"-\",COUNTIF('N PMČRj 2019'!B:B,B45))","v":"-"},{"$f":"IF(ISERROR(VLOOKUP(B45,'N PMČRj 2019'!B:G,6,0)),\"-\",VLOOKUP(B45,'N PMČRj 2019'!B:G,6,0))","v":"-"}]
[{"$f":"A45+1","v":24},null,{"$f":"VLOOKUP(B46,Pilot!A:C,3,0)","v":{"$error":"#N/A"}},{"$f":"VLOOKUP(B46,Pilot!A:C,2,0)","v":{"$error":"#N/A"}},{"$f":"VLOOKUP(B46,Pilot!A:E,5,0)","v":{"$error":"#N/A"}},{"$f":"VLOOKUP(B46,Pilot!A:F,6,0)","v":{"$error":"#N/A"}},24,null,0,{"$f":"IF(COUNTIF('N PMČR 2019'!B:B,B46)=0,\"-\",COUNTIF('N PMČR 2019'!B:B,B46))","v":"-"},{"$f":"IF(ISERROR(VLOOKUP(B46,'N PMČR 2019'!B:G,6,0)),\"-\",VLOOKUP(B46,'N PMČR 2019'!B:G,6,0))","v":"-"},{"$f":"IF(COUNTIF('N PMČRj 2019'!B:B,B46)=0,\"-\",COUNTIF('N PMČRj 2019'!B:B,B46))","v":"-"},{"$f":"IF(ISERROR(VLOOKUP(B46,'N PMČRj 2019'!B:G,6,0)),\"-\",VLOOKUP(B46,'N PMČRj 2019'!B:G,6,0))","v":"-"}]
[25,null,{"$f":"VLOOKUP(B47,Pilot!A:C,3,0)","v":{"$error":"#N/A"}},{"$f":"VLOOKUP(B47,Pilot!A:C,2,0)","v":{"$error":"#N/A"}},{"$f":"VLOOKUP(B47,Pilot!A:E,5,0)","v":{"$error":"#N/A"}},{"$f":"VLOOKUP(B47,Pilot!A:F,6,0)","v":{"$error":"#N/A"}},25,null,0,{"$f":"IF(COUNTIF('N PMČR 2019'!B:B,B47)=0,\"-\",COUNTIF('N PMČR 2019'!B:B,B47))","v":"-"},{"$f":"IF(ISERROR(VLOOKUP(B47,'N PMČR 2019'!B:G,6,0)),\"-\",VLOOKUP(B47,'N PMČR 2019'!B:G,6,0))","v":"-"},{"$f":"IF(COUNTIF('N PMČRj 2019'!B:B,B47)=0,\"-\",COUNTIF('N PMČRj 2019'!B:B,B47))","v":"-"},{"$f":"IF(ISERROR(VLOOKUP(B47,'N PMČRj 2019'!B:G,6,0)),\"-\",VLOOKUP(B47,'N PMČRj 2019'!B:G,6,0))","v":"-"}]
[26,null,{"$f":"VLOOKUP(B48,Pilot!A:C,3,0)","v":{"$error":"#N/A"}},{"$f":"VLOOKUP(B48,Pilot!A:C,2,0)","v":{"$error":"#N/A"}},{"$f":"VLOOKUP(B48,Pilot!A:E,5,0)","v":{"$error":"#N/A"}},{"$f":"VLOOKUP(B48,Pilot!A:F,6,0)","v":{"$error":"#N/A"}},26,null,0,{"$f":"IF(COUNTIF('N PMČR 2019'!B:B,B48)=0,\"-\",COUNTIF('N PMČR 2019'!B:B,B48))","v":"-"},{"$f":"IF(ISERROR(VLOOKUP(B48,'N PMČR 2019'!B:G,6,0)),\"-\",VLOOKUP(B48,'N PMČR 2019'!B:G,6,0))","v":"-"},{"$f":"IF(COUNTIF('N PMČRj 2019'!B:B,B48)=0,\"-\",COUNTIF('N PMČRj 2019'!B:B,B48))","v":"-"},{"$f":"IF(ISERROR(VLOOKUP(B48,'N PMČRj 2019'!B:G,6,0)),\"-\",VLOOKUP(B48,'N PMČRj 2019'!B:G,6,0))","v":"-"}]
[27,null,{"$f":"VLOOKUP(B49,Pilot!A:C,3,0)","v":{"$error":"#N/A"}},{"$f":"VLOOKUP(B49,Pilot!A:C,2,0)","v":{"$error":"#N/A"}},{"$f":"VLOOKUP(B49,Pilot!A:E,5,0)","v":{"$error":"#N/A"}},{"$f":"VLOOKUP(B49,Pilot!A:F,6,0)","v":{"$error":"#N/A"}},27,null,0,{"$f":"IF(COUNTIF('N PMČR 2019'!B:B,B49)=0,\"-\",COUNTIF('N PMČR 2019'!B:B,B49))","v":"-"},{"$f":"IF(ISERROR(VLOOKUP(B49,'N PMČR 2019'!B:G,6,0)),\"-\",VLOOKUP(B49,'N PMČR 2019'!B:G,6,0))","v":"-"},{"$f":"IF(COUNTIF('N PMČRj 2019'!B:B,B49)=0,\"-\",COUNTIF('N PMČRj 2019'!B:B,B49))","v":"-"},{"$f":"IF(ISERROR(VLOOKUP(B49,'N PMČRj 2019'!B:G,6,0)),\"-\",VLOOKUP(B49,'N PMČRj 2019'!B:G,6,0))","v":"-"}]
[28,null,{"$f":"VLOOKUP(B50,Pilot!A:C,3,0)","v":{"$error":"#N/A"}},{"$f":"VLOOKUP(B50,Pilot!A:C,2,0)","v":{"$error":"#N/A"}},{"$f":"VLOOKUP(B50,Pilot!A:E,5,0)","v":{"$error":"#N/A"}},{"$f":"VLOOKUP(B50,Pilot!A:F,6,0)","v":{"$error":"#N/A"}},28,null,0,{"$f":"IF(COUNTIF('N PMČR 2019'!B:B,B50)=0,\"-\",COUNTIF('N PMČR 2019'!B:B,B50))","v":"-"},{"$f":"IF(ISERROR(VLOOKUP(B50,'N PMČR 2019'!B:G,6,0)),\"-\",VLOOKUP(B50,'N PMČR 2019'!B:G,6,0))","v":"-"},{"$f":"IF(COUNTIF('N PMČRj 2019'!B:B,B50)=0,\"-\",COUNTIF('N PMČRj 2019'!B:B,B50))","v":"-"},{"$f":"IF(ISERROR(VLOOKUP(B50,'N PMČRj 2019'!B:G,6,0)),\"-\",VLOOKUP(B50,'N PMČRj 2019'!B:G,6,0))","v":"-"}]
[29,null,{"$f":"VLOOKUP(B51,Pilot!A:C,3,0)","v":{"$error":"#N/A"}},{"$f":"VLOOKUP(B51,Pilot!A:C,2,0)","v":{"$error":"#N/A"}},{"$f":"VLOOKUP(B51,Pilot!A:E,5,0)","v":{"$error":"#N/A"}},{"$f":"VLOOKUP(B51,Pilot!A:F,6,0)","v":{"$error":"#N/A"}},29,null,0,{"$f":"IF(COUNTIF('N PMČR 2019'!B:B,B51)=0,\"-\",COUNTIF('N PMČR 2019'!B:B,B51))","v":"-"},{"$f":"IF(ISERROR(VLOOKUP(B51,'N PMČR 2019'!B:G,6,0)),\"-\",VLOOKUP(B51,'N PMČR 2019'!B:G,6,0))","v":"-"},{"$f":"IF(COUNTIF('N PMČRj 2019'!B:B,B51)=0,\"-\",COUNTIF('N PMČRj 2019'!B:B,B51))","v":"-"},{"$f":"IF(ISERROR(VLOOKUP(B51,'N PMČRj 2019'!B:G,6,0)),\"-\",VLOOKUP(B51,'N PMČRj 2019'!B:G,6,0))","v":"-"}]
[30,null,{"$f":"VLOOKUP(B52,Pilot!A:C,3,0)","v":{"$error":"#N/A"}},{"$f":"VLOOKUP(B52,Pilot!A:C,2,0)","v":{"$error":"#N/A"}},{"$f":"VLOOKUP(B52,Pilot!A:E,5,0)","v":{"$error":"#N/A"}},{"$f":"VLOOKUP(B52,Pilot!A:F,6,0)","v":{"$error":"#N/A"}},30,null,0,{"$f":"IF(COUNTIF('N PMČR 2019'!B:B,B52)=0,\"-\",COUNTIF('N PMČR 2019'!B:B,B52))","v":"-"},{"$f":"IF(ISERROR(VLOOKUP(B52,'N PMČR 2019'!B:G,6,0)),\"-\",VLOOKUP(B52,'N PMČR 2019'!B:G,6,0))","v":"-"},{"$f":"IF(COUNTIF('N PMČRj 2019'!B:B,B52)=0,\"-\",COUNTIF('N PMČRj 2019'!B:B,B52))","v":"-"},{"$f":"IF(ISERROR(VLOOKUP(B52,'N PMČRj 2019'!B:G,6,0)),\"-\",VLOOKUP(B52,'N PMČRj 2019'!B:G,6,0))","v":"-"}]
[31,null,{"$f":"VLOOKUP(B53,Pilot!A:C,3,0)","v":{"$error":"#N/A"}},{"$f":"VLOOKUP(B53,Pilot!A:C,2,0)","v":{"$error":"#N/A"}},{"$f":"VLOOKUP(B53,Pilot!A:E,5,0)","v":{"$error":"#N/A"}},{"$f":"VLOOKUP(B53,Pilot!A:F,6,0)","v":{"$error":"#N/A"}},31,null,0,{"$f":"IF(COUNTIF('N PMČR 2019'!B:B,B53)=0,\"-\",COUNTIF('N PMČR 2019'!B:B,B53))","v":"-"},{"$f":"IF(ISERROR(VLOOKUP(B53,'N PMČR 2019'!B:G,6,0)),\"-\",VLOOKUP(B53,'N PMČR 2019'!B:G,6,0))","v":"-"},{"$f":"IF(COUNTIF('N PMČRj 2019'!B:B,B53)=0,\"-\",COUNTIF('N PMČRj 2019'!B:B,B53))","v":"-"},{"$f":"IF(ISERROR(VLOOKUP(B53,'N PMČRj 2019'!B:G,6,0)),\"-\",VLOOKUP(B53,'N PMČRj 2019'!B:G,6,0))","v":"-"}]
[32,null,{"$f":"VLOOKUP(B54,Pilot!A:C,3,0)","v":{"$error":"#N/A"}},{"$f":"VLOOKUP(B54,Pilot!A:C,2,0)","v":{"$error":"#N/A"}},{"$f":"VLOOKUP(B54,Pilot!A:E,5,0)","v":{"$error":"#N/A"}},{"$f":"VLOOKUP(B54,Pilot!A:F,6,0)","v":{"$error":"#N/A"}},32,null,0,{"$f":"IF(COUNTIF('N PMČR 2019'!B:B,B54)=0,\"-\",COUNTIF('N PMČR 2019'!B:B,B54))","v":"-"},{"$f":"IF(ISERROR(VLOOKUP(B54,'N PMČR 2019'!B:G,6,0)),\"-\",VLOOKUP(B54,'N PMČR 2019'!B:G,6,0))","v":"-"},{"$f":"IF(COUNTIF('N PMČRj 2019'!B:B,B54)=0,\"-\",COUNTIF('N PMČRj 2019'!B:B,B54))","v":"-"},{"$f":"IF(ISERROR(VLOOKUP(B54,'N PMČRj 2019'!B:G,6,0)),\"-\",VLOOKUP(B54,'N PMČRj 2019'!B:G,6,0))","v":"-"}]
[33,null,{"$f":"VLOOKUP(B55,Pilot!A:C,3,0)","v":{"$error":"#N/A"}},{"$f":"VLOOKUP(B55,Pilot!A:C,2,0)","v":{"$error":"#N/A"}},{"$f":"VLOOKUP(B55,Pilot!A:E,5,0)","v":{"$error":"#N/A"}},{"$f":"VLOOKUP(B55,Pilot!A:F,6,0)","v":{"$error":"#N/A"}},33,null,0,{"$f":"IF(COUNTIF('N PMČR 2019'!B:B,B55)=0,\"-\",COUNTIF('N PMČR 2019'!B:B,B55))","v":"-"},{"$f":"IF(ISERROR(VLOOKUP(B55,'N PMČR 2019'!B:G,6,0)),\"-\",VLOOKUP(B55,'N PMČR 2019'!B:G,6,0))","v":"-"},{"$f":"IF(COUNTIF('N PMČRj 2019'!B:B,B55)=0,\"-\",COUNTIF('N PMČRj 2019'!B:B,B55))","v":"-"},{"$f":"IF(ISERROR(VLOOKUP(B55,'N PMČRj 2019'!B:G,6,0)),\"-\",VLOOKUP(B55,'N PMČRj 2019'!B:G,6,0))","v":"-"}]
[34,null,{"$f":"VLOOKUP(B56,Pilot!A:C,3,0)","v":{"$error":"#N/A"}},{"$f":"VLOOKUP(B56,Pilot!A:C,2,0)","v":{"$error":"#N/A"}},{"$f":"VLOOKUP(B56,Pilot!A:E,5,0)","v":{"$error":"#N/A"}},{"$f":"VLOOKUP(B56,Pilot!A:F,6,0)","v":{"$error":"#N/A"}},34,null,0,{"$f":"IF(COUNTIF('N PMČR 2019'!B:B,B56)=0,\"-\",COUNTIF('N PMČR 2019'!B:B,B56))","v":"-"},{"$f":"IF(ISERROR(VLOOKUP(B56,'N PMČR 2019'!B:G,6,0)),\"-\",VLOOKUP(B56,'N PMČR 2019'!B:G,6,0))","v":"-"},{"$f":"IF(COUNTIF('N PMČRj 2019'!B:B,B56)=0,\"-\",COUNTIF('N PMČRj 2019'!B:B,B56))","v":"-"},{"$f":"IF(ISERROR(VLOOKUP(B56,'N PMČRj 2019'!B:G,6,0)),\"-\",VLOOKUP(B56,'N PMČRj 2019'!B:G,6,0))","v":"-"}]
[35,null,{"$f":"VLOOKUP(B57,Pilot!A:C,3,0)","v":{"$error":"#N/A"}},{"$f":"VLOOKUP(B57,Pilot!A:C,2,0)","v":{"$error":"#N/A"}},{"$f":"VLOOKUP(B57,Pilot!A:E,5,0)","v":{"$error":"#N/A"}},{"$f":"VLOOKUP(B57,Pilot!A:F,6,0)","v":{"$error":"#N/A"}},35,null,0,{"$f":"IF(COUNTIF('N PMČR 2019'!B:B,B57)=0,\"-\",COUNTIF('N PMČR 2019'!B:B,B57))","v":"-"},{"$f":"IF(ISERROR(VLOOKUP(B57,'N PMČR 2019'!B:G,6,0)),\"-\",VLOOKUP(B57,'N PMČR 2019'!B:G,6,0))","v":"-"},{"$f":"IF(COUNTIF('N PMČRj 2019'!B:B,B57)=0,\"-\",COUNTIF('N PMČRj 2019'!B:B,B57))","v":"-"},{"$f":"IF(ISERROR(VLOOKUP(B57,'N PMČRj 2019'!B:G,6,0)),\"-\",VLOOKUP(B57,'N PMČRj 2019'!B:G,6,0))","v":"-"}]
[36,null,{"$f":"VLOOKUP(B58,Pilot!A:C,3,0)","v":{"$error":"#N/A"}},{"$f":"VLOOKUP(B58,Pilot!A:C,2,0)","v":{"$error":"#N/A"}},{"$f":"VLOOKUP(B58,Pilot!A:E,5,0)","v":{"$error":"#N/A"}},{"$f":"VLOOKUP(B58,Pilot!A:F,6,0)","v":{"$error":"#N/A"}},36,null,0,{"$f":"IF(COUNTIF('N PMČR 2019'!B:B,B58)=0,\"-\",COUNTIF('N PMČR 2019'!B:B,B58))","v":"-"},{"$f":"IF(ISERROR(VLOOKUP(B58,'N PMČR 2019'!B:G,6,0)),\"-\",VLOOKUP(B58,'N PMČR 2019'!B:G,6,0))","v":"-"},{"$f":"IF(COUNTIF('N PMČRj 2019'!B:B,B58)=0,\"-\",COUNTIF('N PMČRj 2019'!B:B,B58))","v":"-"},{"$f":"IF(ISERROR(VLOOKUP(B58,'N PMČRj 2019'!B:G,6,0)),\"-\",VLOOKUP(B58,'N PMČRj 2019'!B:G,6,0))","v":"-"}]
[37,null,{"$f":"VLOOKUP(B59,Pilot!A:C,3,0)","v":{"$error":"#N/A"}},{"$f":"VLOOKUP(B59,Pilot!A:C,2,0)","v":{"$error":"#N/A"}},{"$f":"VLOOKUP(B59,Pilot!A:E,5,0)","v":{"$error":"#N/A"}},{"$f":"VLOOKUP(B59,Pilot!A:F,6,0)","v":{"$error":"#N/A"}},37,null,0,{"$f":"IF(COUNTIF('N PMČR 2019'!B:B,B59)=0,\"-\",COUNTIF('N PMČR 2019'!B:B,B59))","v":"-"},{"$f":"IF(ISERROR(VLOOKUP(B59,'N PMČR 2019'!B:G,6,0)),\"-\",VLOOKUP(B59,'N PMČR 2019'!B:G,6,0))","v":"-"},{"$f":"IF(COUNTIF('N PMČRj 2019'!B:B,B59)=0,\"-\",COUNTIF('N PMČRj 2019'!B:B,B59))","v":"-"},{"$f":"IF(ISERROR(VLOOKUP(B59,'N PMČRj 2019'!B:G,6,0)),\"-\",VLOOKUP(B59,'N PMČRj 2019'!B:G,6,0))","v":"-"}]
[38,null,{"$f":"VLOOKUP(B60,Pilot!A:C,3,0)","v":{"$error":"#N/A"}},{"$f":"VLOOKUP(B60,Pilot!A:C,2,0)","v":{"$error":"#N/A"}},{"$f":"VLOOKUP(B60,Pilot!A:E,5,0)","v":{"$error":"#N/A"}},{"$f":"VLOOKUP(B60,Pilot!A:F,6,0)","v":{"$error":"#N/A"}},38,null,0,{"$f":"IF(COUNTIF('N PMČR 2019'!B:B,B60)=0,\"-\",COUNTIF('N PMČR 2019'!B:B,B60))","v":"-"},{"$f":"IF(ISERROR(VLOOKUP(B60,'N PMČR 2019'!B:G,6,0)),\"-\",VLOOKUP(B60,'N PMČR 2019'!B:G,6,0))","v":"-"},{"$f":"IF(COUNTIF('N PMČRj 2019'!B:B,B60)=0,\"-\",COUNTIF('N PMČRj 2019'!B:B,B60))","v":"-"},{"$f":"IF(ISERROR(VLOOKUP(B60,'N PMČRj 2019'!B:G,6,0)),\"-\",VLOOKUP(B60,'N PMČRj 2019'!B:G,6,0))","v":"-"}]
[39,null,{"$f":"VLOOKUP(B61,Pilot!A:C,3,0)","v":{"$error":"#N/A"}},{"$f":"VLOOKUP(B61,Pilot!A:C,2,0)","v":{"$error":"#N/A"}},{"$f":"VLOOKUP(B61,Pilot!A:E,5,0)","v":{"$error":"#N/A"}},{"$f":"VLOOKUP(B61,Pilot!A:F,6,0)","v":{"$error":"#N/A"}},39,null,0,{"$f":"IF(COUNTIF('N PMČR 2019'!B:B,B61)=0,\"-\",COUNTIF('N PMČR 2019'!B:B,B61))","v":"-"},{"$f":"IF(ISERROR(VLOOKUP(B61,'N PMČR 2019'!B:G,6,0)),\"-\",VLOOKUP(B61,'N PMČR 2019'!B:G,6,0))","v":"-"},{"$f":"IF(COUNTIF('N PMČRj 2019'!B:B,B61)=0,\"-\",COUNTIF('N PMČRj 2019'!B:B,B61))","v":"-"},{"$f":"IF(ISERROR(VLOOKUP(B61,'N PMČRj 2019'!B:G,6,0)),\"-\",VLOOKUP(B61,'N PMČRj 2019'!B:G,6,0))","v":"-"}]
[40,null,{"$f":"VLOOKUP(B62,Pilot!A:C,3,0)","v":{"$error":"#N/A"}},{"$f":"VLOOKUP(B62,Pilot!A:C,2,0)","v":{"$error":"#N/A"}},{"$f":"VLOOKUP(B62,Pilot!A:E,5,0)","v":{"$error":"#N/A"}},{"$f":"VLOOKUP(B62,Pilot!A:F,6,0)","v":{"$error":"#N/A"}},40,null,0,{"$f":"IF(COUNTIF('N PMČR 2019'!B:B,B62)=0,\"-\",COUNTIF('N PMČR 2019'!B:B,B62))","v":"-"},{"$f":"IF(ISERROR(VLOOKUP(B62,'N PMČR 2019'!B:G,6,0)),\"-\",VLOOKUP(B62,'N PMČR 2019'!B:G,6,0))","v":"-"},{"$f":"IF(COUNTIF('N PMČRj 2019'!B:B,B62)=0,\"-\",COUNTIF('N PMČRj 2019'!B:B,B62))","v":"-"},{"$f":"IF(ISERROR(VLOOKUP(B62,'N PMČRj 2019'!B:G,6,0)),\"-\",VLOOKUP(B62,'N PMČRj 2019'!B:G,6,0))","v":"-"}]
[41,null,{"$f":"VLOOKUP(B63,Pilot!A:C,3,0)","v":{"$error":"#N/A"}},{"$f":"VLOOKUP(B63,Pilot!A:C,2,0)","v":{"$error":"#N/A"}},{"$f":"VLOOKUP(B63,Pilot!A:E,5,0)","v":{"$error":"#N/A"}},{"$f":"VLOOKUP(B63,Pilot!A:F,6,0)","v":{"$error":"#N/A"}},{"$f":"A63","v":41},null,0,{"$f":"IF(COUNTIF('N PMČR 2019'!B:B,B63)=0,\"-\",COUNTIF('N PMČR 2019'!B:B,B63))","v":"-"},{"$f":"IF(ISERROR(VLOOKUP(B63,'N PMČR 2019'!B:G,6,0)),\"-\",VLOOKUP(B63,'N PMČR 2019'!B:G,6,0))","v":"-"},{"$f":"IF(COUNTIF('N PMČRj 2019'!B:B,B63)=0,\"-\",COUNTIF('N PMČRj 2019'!B:B,B63))","v":"-"},{"$f":"IF(ISERROR(VLOOKUP(B63,'N PMČRj 2019'!B:G,6,0)),\"-\",VLOOKUP(B63,'N PMČRj 2019'!B:G,6,0))","v":"-"}]
[42,null,{"$f":"VLOOKUP(B64,Pilot!A:C,3,0)","v":{"$error":"#N/A"}},{"$f":"VLOOKUP(B64,Pilot!A:C,2,0)","v":{"$error":"#N/A"}},{"$f":"VLOOKUP(B64,Pilot!A:E,5,0)","v":{"$error":"#N/A"}},{"$f":"VLOOKUP(B64,Pilot!A:F,6,0)","v":{"$error":"#N/A"}},42,null,0,{"$f":"IF(COUNTIF('N PMČR 2019'!B:B,B64)=0,\"-\",COUNTIF('N PMČR 2019'!B:B,B64))","v":"-"},{"$f":"IF(ISERROR(VLOOKUP(B64,'N PMČR 2019'!B:G,6,0)),\"-\",VLOOKUP(B64,'N PMČR 2019'!B:G,6,0))","v":"-"},{"$f":"IF(COUNTIF('N PMČRj 2019'!B:B,B64)=0,\"-\",COUNTIF('N PMČRj 2019'!B:B,B64))","v":"-"},{"$f":"IF(ISERROR(VLOOKUP(B64,'N PMČRj 2019'!B:G,6,0)),\"-\",VLOOKUP(B64,'N PMČRj 2019'!B:G,6,0))","v":"-"}]
[43,null,{"$f":"VLOOKUP(B65,Pilot!A:C,3,0)","v":{"$error":"#N/A"}},{"$f":"VLOOKUP(B65,Pilot!A:C,2,0)","v":{"$error":"#N/A"}},{"$f":"VLOOKUP(B65,Pilot!A:E,5,0)","v":{"$error":"#N/A"}},{"$f":"VLOOKUP(B65,Pilot!A:F,6,0)","v":{"$error":"#N/A"}},43,null,0,{"$f":"IF(COUNTIF('N PMČR 2019'!B:B,B65)=0,\"-\",COUNTIF('N PMČR 2019'!B:B,B65))","v":"-"},{"$f":"IF(ISERROR(VLOOKUP(B65,'N PMČR 2019'!B:G,6,0)),\"-\",VLOOKUP(B65,'N PMČR 2019'!B:G,6,0))","v":"-"},{"$f":"IF(COUNTIF('N PMČRj 2019'!B:B,B65)=0,\"-\",COUNTIF('N PMČRj 2019'!B:B,B65))","v":"-"},{"$f":"IF(ISERROR(VLOOKUP(B65,'N PMČRj 2019'!B:G,6,0)),\"-\",VLOOKUP(B65,'N PMČRj 2019'!B:G,6,0))","v":"-"}]
[44,null,{"$f":"VLOOKUP(B66,Pilot!A:C,3,0)","v":{"$error":"#N/A"}},{"$f":"VLOOKUP(B66,Pilot!A:C,2,0)","v":{"$error":"#N/A"}},{"$f":"VLOOKUP(B66,Pilot!A:E,5,0)","v":{"$error":"#N/A"}},{"$f":"VLOOKUP(B66,Pilot!A:F,6,0)","v":{"$error":"#N/A"}},44,null,0,{"$f":"IF(COUNTIF('N PMČR 2019'!B:B,B66)=0,\"-\",COUNTIF('N PMČR 2019'!B:B,B66))","v":"-"},{"$f":"IF(ISERROR(VLOOKUP(B66,'N PMČR 2019'!B:G,6,0)),\"-\",VLOOKUP(B66,'N PMČR 2019'!B:G,6,0))","v":"-"},{"$f":"IF(COUNTIF('N PMČRj 2019'!B:B,B66)=0,\"-\",COUNTIF('N PMČRj 2019'!B:B,B66))","v":"-"},{"$f":"IF(ISERROR(VLOOKUP(B66,'N PMČRj 2019'!B:G,6,0)),\"-\",VLOOKUP(B66,'N PMČRj 2019'!B:G,6,0))","v":"-"}]
[45,null,{"$f":"VLOOKUP(B67,Pilot!A:C,3,0)","v":{"$error":"#N/A"}},{"$f":"VLOOKUP(B67,Pilot!A:C,2,0)","v":{"$error":"#N/A"}},{"$f":"VLOOKUP(B67,Pilot!A:E,5,0)","v":{"$error":"#N/A"}},{"$f":"VLOOKUP(B67,Pilot!A:F,6,0)","v":{"$error":"#N/A"}},45,null,0,{"$f":"IF(COUNTIF('N PMČR 2019'!B:B,B67)=0,\"-\",COUNTIF('N PMČR 2019'!B:B,B67))","v":"-"},{"$f":"IF(ISERROR(VLOOKUP(B67,'N PMČR 2019'!B:G,6,0)),\"-\",VLOOKUP(B67,'N PMČR 2019'!B:G,6,0))","v":"-"},{"$f":"IF(COUNTIF('N PMČRj 2019'!B:B,B67)=0,\"-\",COUNTIF('N PMČRj 2019'!B:B,B67))","v":"-"},{"$f":"IF(ISERROR(VLOOKUP(B67,'N PMČRj 2019'!B:G,6,0)),\"-\",VLOOKUP(B67,'N PMČRj 2019'!B:G,6,0))","v":"-"}]
[46,null,{"$f":"VLOOKUP(B68,Pilot!A:C,3,0)","v":{"$error":"#N/A"}},{"$f":"VLOOKUP(B68,Pilot!A:C,2,0)","v":{"$error":"#N/A"}},{"$f":"VLOOKUP(B68,Pilot!A:E,5,0)","v":{"$error":"#N/A"}},{"$f":"VLOOKUP(B68,Pilot!A:F,6,0)","v":{"$error":"#N/A"}},46,null,0,{"$f":"IF(COUNTIF('N PMČR 2019'!B:B,B68)=0,\"-\",COUNTIF('N PMČR 2019'!B:B,B68))","v":"-"},{"$f":"IF(ISERROR(VLOOKUP(B68,'N PMČR 2019'!B:G,6,0)),\"-\",VLOOKUP(B68,'N PMČR 2019'!B:G,6,0))","v":"-"},{"$f":"IF(COUNTIF('N PMČRj 2019'!B:B,B68)=0,\"-\",COUNTIF('N PMČRj 2019'!B:B,B68))","v":"-"},{"$f":"IF(ISERROR(VLOOKUP(B68,'N PMČRj 2019'!B:G,6,0)),\"-\",VLOOKUP(B68,'N PMČRj 2019'!B:G,6,0))","v":"-"}]
[47,null,{"$f":"VLOOKUP(B69,Pilot!A:C,3,0)","v":{"$error":"#N/A"}},{"$f":"VLOOKUP(B69,Pilot!A:C,2,0)","v":{"$error":"#N/A"}},{"$f":"VLOOKUP(B69,Pilot!A:E,5,0)","v":{"$error":"#N/A"}},{"$f":"VLOOKUP(B69,Pilot!A:F,6,0)","v":{"$error":"#N/A"}},{"$f":"A69","v":47},null,0,{"$f":"IF(COUNTIF('N PMČR 2019'!B:B,B69)=0,\"-\",COUNTIF('N PMČR 2019'!B:B,B69))","v":"-"},{"$f":"IF(ISERROR(VLOOKUP(B69,'N PMČR 2019'!B:G,6,0)),\"-\",VLOOKUP(B69,'N PMČR 2019'!B:G,6,0))","v":"-"},{"$f":"IF(COUNTIF('N PMČRj 2019'!B:B,B69)=0,\"-\",COUNTIF('N PMČRj 2019'!B:B,B69))","v":"-"},{"$f":"IF(ISERROR(VLOOKUP(B69,'N PMČRj 2019'!B:G,6,0)),\"-\",VLOOKUP(B69,'N PMČRj 2019'!B:G,6,0))","v":"-"}]
[48,null,{"$f":"VLOOKUP(B70,Pilot!A:C,3,0)","v":{"$error":"#N/A"}},{"$f":"VLOOKUP(B70,Pilot!A:C,2,0)","v":{"$error":"#N/A"}},{"$f":"VLOOKUP(B70,Pilot!A:E,5,0)","v":{"$error":"#N/A"}},{"$f":"VLOOKUP(B70,Pilot!A:F,6,0)","v":{"$error":"#N/A"}},48,null,0,{"$f":"IF(COUNTIF('N PMČR 2019'!B:B,B70)=0,\"-\",COUNTIF('N PMČR 2019'!B:B,B70))","v":"-"},{"$f":"IF(ISERROR(VLOOKUP(B70,'N PMČR 2019'!B:G,6,0)),\"-\",VLOOKUP(B70,'N PMČR 2019'!B:G,6,0))","v":"-"},{"$f":"IF(COUNTIF('N PMČRj 2019'!B:B,B70)=0,\"-\",COUNTIF('N PMČRj 2019'!B:B,B70))","v":"-"},{"$f":"IF(ISERROR(VLOOKUP(B70,'N PMČRj 2019'!B:G,6,0)),\"-\",VLOOKUP(B70,'N PMČRj 2019'!B:G,6,0))","v":"-"}]
[49,null,{"$f":"VLOOKUP(B71,Pilot!A:C,3,0)","v":{"$error":"#N/A"}},{"$f":"VLOOKUP(B71,Pilot!A:C,2,0)","v":{"$error":"#N/A"}},{"$f":"VLOOKUP(B71,Pilot!A:E,5,0)","v":{"$error":"#N/A"}},{"$f":"VLOOKUP(B71,Pilot!A:F,6,0)","v":{"$error":"#N/A"}},49,null,0,{"$f":"IF(COUNTIF('N PMČR 2019'!B:B,B71)=0,\"-\",COUNTIF('N PMČR 2019'!B:B,B71))","v":"-"},{"$f":"IF(ISERROR(VLOOKUP(B71,'N PMČR 2019'!B:G,6,0)),\"-\",VLOOKUP(B71,'N PMČR 2019'!B:G,6,0))","v":"-"},{"$f":"IF(COUNTIF('N PMČRj 2019'!B:B,B71)=0,\"-\",COUNTIF('N PMČRj 2019'!B:B,B71))","v":"-"},{"$f":"IF(ISERROR(VLOOKUP(B71,'N PMČRj 2019'!B:G,6,0)),\"-\",VLOOKUP(B71,'N PMČRj 2019'!B:G,6,0))","v":"-"}]
[50,null,{"$f":"VLOOKUP(B72,Pilot!A:C,3,0)","v":{"$error":"#N/A"}},{"$f":"VLOOKUP(B72,Pilot!A:C,2,0)","v":{"$error":"#N/A"}},{"$f":"VLOOKUP(B72,Pilot!A:E,5,0)","v":{"$error":"#N/A"}},{"$f":"VLOOKUP(B72,Pilot!A:F,6,0)","v":{"$error":"#N/A"}},50,null,0,{"$f":"IF(COUNTIF('N PMČR 2019'!B:B,B72)=0,\"-\",COUNTIF('N PMČR 2019'!B:B,B72))","v":"-"},{"$f":"IF(ISERROR(VLOOKUP(B72,'N PMČR 2019'!B:G,6,0)),\"-\",VLOOKUP(B72,'N PMČR 2019'!B:G,6,0))","v":"-"},{"$f":"IF(COUNTIF('N PMČRj 2019'!B:B,B72)=0,\"-\",COUNTIF('N PMČRj 2019'!B:B,B72))","v":"-"},{"$f":"IF(ISERROR(VLOOKUP(B72,'N PMČRj 2019'!B:G,6,0)),\"-\",VLOOKUP(B72,'N PMČRj 2019'!B:G,6,0))","v":"-"}]
[51,null,{"$f":"VLOOKUP(B73,Pilot!A:C,3,0)","v":{"$error":"#N/A"}},{"$f":"VLOOKUP(B73,Pilot!A:C,2,0)","v":{"$error":"#N/A"}},{"$f":"VLOOKUP(B73,Pilot!A:E,5,0)","v":{"$error":"#N/A"}},{"$f":"VLOOKUP(B73,Pilot!A:F,6,0)","v":{"$error":"#N/A"}},51,null,0,{"$f":"IF(COUNTIF('N PMČR 2019'!B:B,B73)=0,\"-\",COUNTIF('N PMČR 2019'!B:B,B73))","v":"-"},{"$f":"IF(ISERROR(VLOOKUP(B73,'N PMČR 2019'!B:G,6,0)),\"-\",VLOOKUP(B73,'N PMČR 2019'!B:G,6,0))","v":"-"},{"$f":"IF(COUNTIF('N PMČRj 2019'!B:B,B73)=0,\"-\",COUNTIF('N PMČRj 2019'!B:B,B73))","v":"-"},{"$f":"IF(ISERROR(VLOOKUP(B73,'N PMČRj 2019'!B:G,6,0)),\"-\",VLOOKUP(B73,'N PMČRj 2019'!B:G,6,0))","v":"-"}]
[52,null,{"$f":"VLOOKUP(B74,Pilot!A:C,3,0)","v":{"$error":"#N/A"}},{"$f":"VLOOKUP(B74,Pilot!A:C,2,0)","v":{"$error":"#N/A"}},{"$f":"VLOOKUP(B74,Pilot!A:E,5,0)","v":{"$error":"#N/A"}},{"$f":"VLOOKUP(B74,Pilot!A:F,6,0)","v":{"$error":"#N/A"}},52,null,0,{"$f":"IF(COUNTIF('N PMČR 2019'!B:B,B74)=0,\"-\",COUNTIF('N PMČR 2019'!B:B,B74))","v":"-"},{"$f":"IF(ISERROR(VLOOKUP(B74,'N PMČR 2019'!B:G,6,0)),\"-\",VLOOKUP(B74,'N PMČR 2019'!B:G,6,0))","v":"-"},{"$f":"IF(COUNTIF('N PMČRj 2019'!B:B,B74)=0,\"-\",COUNTIF('N PMČRj 2019'!B:B,B74))","v":"-"},{"$f":"IF(ISERROR(VLOOKUP(B74,'N PMČRj 2019'!B:G,6,0)),\"-\",VLOOKUP(B74,'N PMČRj 2019'!B:G,6,0))","v":"-"}]
[53,null,{"$f":"VLOOKUP(B75,Pilot!A:C,3,0)","v":{"$error":"#N/A"}},{"$f":"VLOOKUP(B75,Pilot!A:C,2,0)","v":{"$error":"#N/A"}},{"$f":"VLOOKUP(B75,Pilot!A:E,5,0)","v":{"$error":"#N/A"}},{"$f":"VLOOKUP(B75,Pilot!A:F,6,0)","v":{"$error":"#N/A"}},53,null,0,{"$f":"IF(COUNTIF('N PMČR 2019'!B:B,B75)=0,\"-\",COUNTIF('N PMČR 2019'!B:B,B75))","v":"-"},{"$f":"IF(ISERROR(VLOOKUP(B75,'N PMČR 2019'!B:G,6,0)),\"-\",VLOOKUP(B75,'N PMČR 2019'!B:G,6,0))","v":"-"},{"$f":"IF(COUNTIF('N PMČRj 2019'!B:B,B75)=0,\"-\",COUNTIF('N PMČRj 2019'!B:B,B75))","v":"-"},{"$f":"IF(ISERROR(VLOOKUP(B75,'N PMČRj 2019'!B:G,6,0)),\"-\",VLOOKUP(B75,'N PMČRj 2019'!B:G,6,0))","v":"-"}]
[54,null,{"$f":"VLOOKUP(B76,Pilot!A:C,3,0)","v":{"$error":"#N/A"}},{"$f":"VLOOKUP(B76,Pilot!A:C,2,0)","v":{"$error":"#N/A"}},{"$f":"VLOOKUP(B76,Pilot!A:E,5,0)","v":{"$error":"#N/A"}},{"$f":"VLOOKUP(B76,Pilot!A:F,6,0)","v":{"$error":"#N/A"}},54,null,0,{"$f":"IF(COUNTIF('N PMČR 2019'!B:B,B76)=0,\"-\",COUNTIF('N PMČR 2019'!B:B,B76))","v":"-"},{"$f":"IF(ISERROR(VLOOKUP(B76,'N PMČR 2019'!B:G,6,0)),\"-\",VLOOKUP(B76,'N PMČR 2019'!B:G,6,0))","v":"-"},{"$f":"IF(COUNTIF('N PMČRj 2019'!B:B,B76)=0,\"-\",COUNTIF('N PMČRj 2019'!B:B,B76))","v":"-"},{"$f":"IF(ISERROR(VLOOKUP(B76,'N PMČRj 2019'!B:G,6,0)),\"-\",VLOOKUP(B76,'N PMČRj 2019'!B:G,6,0))","v":"-"}]
[55,null,{"$f":"VLOOKUP(B77,Pilot!A:C,3,0)","v":{"$error":"#N/A"}},{"$f":"VLOOKUP(B77,Pilot!A:C,2,0)","v":{"$error":"#N/A"}},{"$f":"VLOOKUP(B77,Pilot!A:E,5,0)","v":{"$error":"#N/A"}},{"$f":"VLOOKUP(B77,Pilot!A:F,6,0)","v":{"$error":"#N/A"}},{"$f":"A77","v":55},null,{"$f":"COUNTIF(B:B,B77)","v":0},{"$f":"IF(COUNTIF('N PMČR 2019'!B:B,B77)=0,\"-\",COUNTIF('N PMČR 2019'!B:B,B77))","v":"-"},{"$f":"IF(ISERROR(VLOOKUP(B77,'N PMČR 2019'!B:G,6,0)),\"-\",VLOOKUP(B77,'N PMČR 2019'!B:G,6,0))","v":"-"},{"$f":"IF(COUNTIF('N PMČRj 2019'!B:B,B77)=0,\"-\",COUNTIF('N PMČRj 2019'!B:B,B77))","v":"-"},{"$f":"IF(ISERROR(VLOOKUP(B77,'N PMČRj 2019'!B:G,6,0)),\"-\",VLOOKUP(B77,'N PMČRj 2019'!B:G,6,0))","v":"-"}]
[56,null,{"$f":"VLOOKUP(B78,Pilot!A:C,3,0)","v":{"$error":"#N/A"}},{"$f":"VLOOKUP(B78,Pilot!A:C,2,0)","v":{"$error":"#N/A"}},{"$f":"VLOOKUP(B78,Pilot!A:E,5,0)","v":{"$error":"#N/A"}},{"$f":"VLOOKUP(B78,Pilot!A:F,6,0)","v":{"$error":"#N/A"}},56,null,0,{"$f":"IF(COUNTIF('N PMČR 2019'!B:B,B78)=0,\"-\",COUNTIF('N PMČR 2019'!B:B,B78))","v":"-"},{"$f":"IF(ISERROR(VLOOKUP(B78,'N PMČR 2019'!B:G,6,0)),\"-\",VLOOKUP(B78,'N PMČR 2019'!B:G,6,0))","v":"-"},{"$f":"IF(COUNTIF('N PMČRj 2019'!B:B,B78)=0,\"-\",COUNTIF('N PMČRj 2019'!B:B,B78))","v":"-"},{"$f":"IF(ISERROR(VLOOKUP(B78,'N PMČRj 2019'!B:G,6,0)),\"-\",VLOOKUP(B78,'N PMČRj 2019'!B:G,6,0))","v":"-"}]
[57,null,{"$f":"VLOOKUP(B79,Pilot!A:C,3,0)","v":{"$error":"#N/A"}},{"$f":"VLOOKUP(B79,Pilot!A:C,2,0)","v":{"$error":"#N/A"}},{"$f":"VLOOKUP(B79,Pilot!A:E,5,0)","v":{"$error":"#N/A"}},{"$f":"VLOOKUP(B79,Pilot!A:F,6,0)","v":{"$error":"#N/A"}},57,null,0,{"$f":"IF(COUNTIF('N PMČR 2019'!B:B,B79)=0,\"-\",COUNTIF('N PMČR 2019'!B:B,B79))","v":"-"},{"$f":"IF(ISERROR(VLOOKUP(B79,'N PMČR 2019'!B:G,6,0)),\"-\",VLOOKUP(B79,'N PMČR 2019'!B:G,6,0))","v":"-"},{"$f":"IF(COUNTIF('N PMČRj 2019'!B:B,B79)=0,\"-\",COUNTIF('N PMČRj 2019'!B:B,B79))","v":"-"},{"$f":"IF(ISERROR(VLOOKUP(B79,'N PMČRj 2019'!B:G,6,0)),\"-\",VLOOKUP(B79,'N PMČRj 2019'!B:G,6,0))","v":"-"}]
[58,null,{"$f":"VLOOKUP(B80,Pilot!A:C,3,0)","v":{"$error":"#N/A"}},{"$f":"VLOOKUP(B80,Pilot!A:C,2,0)","v":{"$error":"#N/A"}},{"$f":"VLOOKUP(B80,Pilot!A:E,5,0)","v":{"$error":"#N/A"}},{"$f":"VLOOKUP(B80,Pilot!A:F,6,0)","v":{"$error":"#N/A"}},58,null,0,{"$f":"IF(COUNTIF('N PMČR 2019'!B:B,B80)=0,\"-\",COUNTIF('N PMČR 2019'!B:B,B80))","v":"-"},{"$f":"IF(ISERROR(VLOOKUP(B80,'N PMČR 2019'!B:G,6,0)),\"-\",VLOOKUP(B80,'N PMČR 2019'!B:G,6,0))","v":"-"},{"$f":"IF(COUNTIF('N PMČRj 2019'!B:B,B80)=0,\"-\",COUNTIF('N PMČRj 2019'!B:B,B80))","v":"-"},{"$f":"IF(ISERROR(VLOOKUP(B80,'N PMČRj 2019'!B:G,6,0)),\"-\",VLOOKUP(B80,'N PMČRj 2019'!B:G,6,0))","v":"-"}]
[59,null,{"$f":"VLOOKUP(B81,Pilot!A:C,3,0)","v":{"$error":"#N/A"}},{"$f":"VLOOKUP(B81,Pilot!A:C,2,0)","v":{"$error":"#N/A"}},{"$f":"VLOOKUP(B81,Pilot!A:E,5,0)","v":{"$error":"#N/A"}},{"$f":"VLOOKUP(B81,Pilot!A:F,6,0)","v":{"$error":"#N/A"}},59,null,0,{"$f":"IF(COUNTIF('N PMČR 2019'!B:B,B81)=0,\"-\",COUNTIF('N PMČR 2019'!B:B,B81))","v":"-"},{"$f":"IF(ISERROR(VLOOKUP(B81,'N PMČR 2019'!B:G,6,0)),\"-\",VLOOKUP(B81,'N PMČR 2019'!B:G,6,0))","v":"-"},{"$f":"IF(COUNTIF('N PMČRj 2019'!B:B,B81)=0,\"-\",COUNTIF('N PMČRj 2019'!B:B,B81))","v":"-"},{"$f":"IF(ISERROR(VLOOKUP(B81,'N PMČRj 2019'!B:G,6,0)),\"-\",VLOOKUP(B81,'N PMČRj 2019'!B:G,6,0))","v":"-"}]
[60,null,{"$f":"VLOOKUP(B82,Pilot!A:C,3,0)","v":{"$error":"#N/A"}},{"$f":"VLOOKUP(B82,Pilot!A:C,2,0)","v":{"$error":"#N/A"}},{"$f":"VLOOKUP(B82,Pilot!A:E,5,0)","v":{"$error":"#N/A"}},{"$f":"VLOOKUP(B82,Pilot!A:F,6,0)","v":{"$error":"#N/A"}},60,null,0,{"$f":"IF(COUNTIF('N PMČR 2019'!B:B,B82)=0,\"-\",COUNTIF('N PMČR 2019'!B:B,B82))","v":"-"},{"$f":"IF(ISERROR(VLOOKUP(B82,'N PMČR 2019'!B:G,6,0)),\"-\",VLOOKUP(B82,'N PMČR 2019'!B:G,6,0))","v":"-"},{"$f":"IF(COUNTIF('N PMČRj 2019'!B:B,B82)=0,\"-\",COUNTIF('N PMČRj 2019'!B:B,B82))","v":"-"},{"$f":"IF(ISERROR(VLOOKUP(B82,'N PMČRj 2019'!B:G,6,0)),\"-\",VLOOKUP(B82,'N PMČRj 2019'!B:G,6,0))","v":"-"}]
["N1",null,{"$f":"VLOOKUP(B83,Pilot!A:C,3,0)","v":{"$error":"#N/A"}},{"$f":"VLOOKUP(B83,Pilot!A:C,2,0)","v":{"$error":"#N/A"}},{"$f":"VLOOKUP(B83,Pilot!A:E,5,0)","v":{"$error":"#N/A"}},{"$f":"VLOOKUP(B83,Pilot!A:F,6,0)","v":{"$error":"#N/A"}},"N1",null,{"$f":"COUNTIF(B:B,B83)","v":0},{"$f":"IF(COUNTIF('N PMČR 2019'!B:B,B83)=0,\"-\",COUNTIF('N PMČR 2019'!B:B,B83))","v":"-"},{"$f":"IF(ISERROR(VLOOKUP(B83,'N PMČR 2019'!B:G,6,0)),\"-\",VLOOKUP(B83,'N PMČR 2019'!B:G,6,0))","v":"-"},{"$f":"IF(COUNTIF('N PMČRj 2019'!B:B,B83)=0,\"-\",COUNTIF('N PMČRj 2019'!B:B,B83))","v":"-"},{"$f":"IF(ISERROR(VLOOKUP(B83,'N PMČRj 2019'!B:G,6,0)),\"-\",VLOOKUP(B83,'N PMČRj 2019'!B:G,6,0))","v":"-"}]
["N2",null,{"$f":"VLOOKUP(B84,Pilot!A:C,3,0)","v":{"$error":"#N/A"}},{"$f":"VLOOKUP(B84,Pilot!A:C,2,0)","v":{"$error":"#N/A"}},{"$f":"VLOOKUP(B84,Pilot!A:E,5,0)","v":{"$error":"#N/A"}},{"$f":"VLOOKUP(B84,Pilot!A:F,6,0)","v":{"$error":"#N/A"}},"N2",null,0,{"$f":"IF(COUNTIF('N PMČR 2019'!B:B,B84)=0,\"-\",COUNTIF('N PMČR 2019'!B:B,B84))","v":"-"},{"$f":"IF(ISERROR(VLOOKUP(B84,'N PMČR 2019'!B:G,6,0)),\"-\",VLOOKUP(B84,'N PMČR 2019'!B:G,6,0))","v":"-"},{"$f":"IF(COUNTIF('N PMČRj 2019'!B:B,B84)=0,\"-\",COUNTIF('N PMČRj 2019'!B:B,B84))","v":"-"},{"$f":"IF(ISERROR(VLOOKUP(B84,'N PMČRj 2019'!B:G,6,0)),\"-\",VLOOKUP(B84,'N PMČRj 2019'!B:G,6,0))","v":"-"}]
["N3",null,{"$f":"VLOOKUP(B85,Pilot!A:C,3,0)","v":{"$error":"#N/A"}},{"$f":"VLOOKUP(B85,Pilot!A:C,2,0)","v":{"$error":"#N/A"}},{"$f":"VLOOKUP(B85,Pilot!A:E,5,0)","v":{"$error":"#N/A"}},{"$f":"VLOOKUP(B85,Pilot!A:F,6,0)","v":{"$error":"#N/A"}},"N3",null,0,{"$f":"IF(COUNTIF('N PMČR 2019'!B:B,B85)=0,\"-\",COUNTIF('N PMČR 2019'!B:B,B85))","v":"-"},{"$f":"IF(ISERROR(VLOOKUP(B85,'N PMČR 2019'!B:G,6,0)),\"-\",VLOOKUP(B85,'N PMČR 2019'!B:G,6,0))","v":"-"},{"$f":"IF(COUNTIF('N PMČRj 2019'!B:B,B85)=0,\"-\",COUNTIF('N PMČRj 2019'!B:B,B85))","v":"-"},{"$f":"IF(ISERROR(VLOOKUP(B85,'N PMČRj 2019'!B:G,6,0)),\"-\",VLOOKUP(B85,'N PMČRj 2019'!B:G,6,0))","v":"-"}]
["N4",null,{"$f":"VLOOKUP(B86,Pilot!A:C,3,0)","v":{"$error":"#N/A"}},{"$f":"VLOOKUP(B86,Pilot!A:C,2,0)","v":{"$error":"#N/A"}},{"$f":"VLOOKUP(B86,Pilot!A:E,5,0)","v":{"$error":"#N/A"}},{"$f":"VLOOKUP(B86,Pilot!A:F,6,0)","v":{"$error":"#N/A"}},"N4",null,0,{"$f":"IF(COUNTIF('N PMČR 2019'!B:B,B86)=0,\"-\",COUNTIF('N PMČR 2019'!B:B,B86))","v":"-"},{"$f":"IF(ISERROR(VLOOKUP(B86,'N PMČR 2019'!B:G,6,0)),\"-\",VLOOKUP(B86,'N PMČR 2019'!B:G,6,0))","v":"-"},{"$f":"IF(COUNTIF('N PMČRj 2019'!B:B,B86)=0,\"-\",COUNTIF('N PMČRj 2019'!B:B,B86))","v":"-"},{"$f":"IF(ISERROR(VLOOKUP(B86,'N PMČRj 2019'!B:G,6,0)),\"-\",VLOOKUP(B86,'N PMČRj 2019'!B:G,6,0))","v":"-"}]
["N5",null,{"$f":"VLOOKUP(B87,Pilot!A:C,3,0)","v":{"$error":"#N/A"}},{"$f":"VLOOKUP(B87,Pilot!A:C,2,0)","v":{"$error":"#N/A"}},{"$f":"VLOOKUP(B87,Pilot!A:E,5,0)","v":{"$error":"#N/A"}},{"$f":"VLOOKUP(B87,Pilot!A:F,6,0)","v":{"$error":"#N/A"}},"N5",null,0,{"$f":"IF(COUNTIF('N PMČR 2019'!B:B,B87)=0,\"-\",COUNTIF('N PMČR 2019'!B:B,B87))","v":"-"},{"$f":"IF(ISERROR(VLOOKUP(B87,'N PMČR 2019'!B:G,6,0)),\"-\",VLOOKUP(B87,'N PMČR 2019'!B:G,6,0))","v":"-"},{"$f":"IF(COUNTIF('N PMČRj 2019'!B:B,B87)=0,\"-\",COUNTIF('N PMČRj 2019'!B:B,B87))","v":"-"},{"$f":"IF(ISERROR(VLOOKUP(B87,'N PMČRj 2019'!B:G,6,0)),\"-\",VLOOKUP(B87,'N PMČRj 2019'!B:G,6,0))","v":"-"}]
["N6",null,{"$f":"VLOOKUP(B88,Pilot!A:C,3,0)","v":{"$error":"#N/A"}},{"$f":"VLOOKUP(B88,Pilot!A:C,2,0)","v":{"$error":"#N/A"}},{"$f":"VLOOKUP(B88,Pilot!A:E,5,0)","v":{"$error":"#N/A"}},{"$f":"VLOOKUP(B88,Pilot!A:F,6,0)","v":{"$error":"#N/A"}},"N6",null,0,{"$f":"IF(COUNTIF('N PMČR 2019'!B:B,B88)=0,\"-\",COUNTIF('N PMČR 2019'!B:B,B88))","v":"-"},{"$f":"IF(ISERROR(VLOOKUP(B88,'N PMČR 2019'!B:G,6,0)),\"-\",VLOOKUP(B88,'N PMČR 2019'!B:G,6,0))","v":"-"},{"$f":"IF(COUNTIF('N PMČRj 2019'!B:B,B88)=0,\"-\",COUNTIF('N PMČRj 2019'!B:B,B88))","v":"-"},{"$f":"IF(ISERROR(VLOOKUP(B88,'N PMČRj 2019'!B:G,6,0)),\"-\",VLOOKUP(B88,'N PMČRj 2019'!B:G,6,0))","v":"-"}]
["N7",null,{"$f":"VLOOKUP(B89,Pilot!A:C,3,0)","v":{"$error":"#N/A"}},{"$f":"VLOOKUP(B89,Pilot!A:C,2,0)","v":{"$error":"#N/A"}},{"$f":"VLOOKUP(B89,Pilot!A:E,5,0)","v":{"$error":"#N/A"}},{"$f":"VLOOKUP(B89,Pilot!A:F,6,0)","v":{"$error":"#N/A"}},"N7",null,0,{"$f":"IF(COUNTIF('N PMČR 2019'!B:B,B89)=0,\"-\",COUNTIF('N PMČR 2019'!B:B,B89))","v":"-"},{"$f":"IF(ISERROR(VLOOKUP(B89,'N PMČR 2019'!B:G,6,0)),\"-\",VLOOKUP(B89,'N PMČR 2019'!B:G,6,0))","v":"-"},{"$f":"IF(COUNTIF('N PMČRj 2019'!B:B,B89)=0,\"-\",COUNTIF('N PMČRj 2019'!B:B,B89))","v":"-"},{"$f":"IF(ISERROR(VLOOKUP(B89,'N PMČRj 2019'!B:G,6,0)),\"-\",VLOOKUP(B89,'N PMČRj 2019'!B:G,6,0))","v":"-"}]
["N8",null,{"$f":"VLOOKUP(B90,Pilot!A:C,3,0)","v":{"$error":"#N/A"}},{"$f":"VLOOKUP(B90,Pilot!A:C,2,0)","v":{"$error":"#N/A"}},{"$f":"VLOOKUP(B90,Pilot!A:E,5,0)","v":{"$error":"#N/A"}},{"$f":"VLOOKUP(B90,Pilot!A:F,6,0)","v":{"$error":"#N/A"}},"N8",null,0,{"$f":"IF(COUNTIF('N PMČR 2019'!B:B,B90)=0,\"-\",COUNTIF('N PMČR 2019'!B:B,B90))","v":"-"},{"$f":"IF(ISERROR(VLOOKUP(B90,'N PMČR 2019'!B:G,6,0)),\"-\",VLOOKUP(B90,'N PMČR 2019'!B:G,6,0))","v":"-"},{"$f":"IF(COUNTIF('N PMČRj 2019'!B:B,B90)=0,\"-\",COUNTIF('N PMČRj 2019'!B:B,B90))","v":"-"},{"$f":"IF(ISERROR(VLOOKUP(B90,'N PMČRj 2019'!B:G,6,0)),\"-\",VLOOKUP(B90,'N PMČRj 2019'!B:G,6,0))","v":"-"}]
["N9",null,{"$f":"VLOOKUP(B91,Pilot!A:C,3,0)","v":{"$error":"#N/A"}},{"$f":"VLOOKUP(B91,Pilot!A:C,2,0)","v":{"$error":"#N/A"}},{"$f":"VLOOKUP(B91,Pilot!A:E,5,0)","v":{"$error":"#N/A"}},{"$f":"VLOOKUP(B91,Pilot!A:F,6,0)","v":{"$error":"#N/A"}},"N9",null,0,{"$f":"IF(COUNTIF('N PMČR 2019'!B:B,B91)=0,\"-\",COUNTIF('N PMČR 2019'!B:B,B91))","v":"-"},{"$f":"IF(ISERROR(VLOOKUP(B91,'N PMČR 2019'!B:G,6,0)),\"-\",VLOOKUP(B91,'N PMČR 2019'!B:G,6,0))","v":"-"},{"$f":"IF(COUNTIF('N PMČRj 2019'!B:B,B91)=0,\"-\",COUNTIF('N PMČRj 2019'!B:B,B91))","v":"-"},{"$f":"IF(ISERROR(VLOOKUP(B91,'N PMČRj 2019'!B:G,6,0)),\"-\",VLOOKUP(B91,'N PMČRj 2019'!B:G,6,0))","v":"-"}]
["N10",null,{"$f":"VLOOKUP(B92,Pilot!A:C,3,0)","v":{"$error":"#N/A"}},{"$f":"VLOOKUP(B92,Pilot!A:C,2,0)","v":{"$error":"#N/A"}},{"$f":"VLOOKUP(B92,Pilot!A:E,5,0)","v":{"$error":"#N/A"}},{"$f":"VLOOKUP(B92,Pilot!A:F,6,0)","v":{"$error":"#N/A"}},{"$f":"A92","v":"N10"},null,0,{"$f":"IF(COUNTIF('N PMČR 2019'!B:B,B92)=0,\"-\",COUNTIF('N PMČR 2019'!B:B,B92))","v":"-"},{"$f":"IF(ISERROR(VLOOKUP(B92,'N PMČR 2019'!B:G,6,0)),\"-\",VLOOKUP(B92,'N PMČR 2019'!B:G,6,0))","v":"-"},{"$f":"IF(COUNTIF('N PMČRj 2019'!B:B,B92)=0,\"-\",COUNTIF('N PMČRj 2019'!B:B,B92))","v":"-"},{"$f":"IF(ISERROR(VLOOKUP(B92,'N PMČRj 2019'!B:G,6,0)),\"-\",VLOOKUP(B92,'N PMČRj 2019'!B:G,6,0))","v":"-"}]
["6.8.5.4.","další soutěžící může navrhnout PK podle jiných kritérií dle odstavce 9. SŘ"]
["-","-",{"$f":"VLOOKUP(B94,Pilot!A:C,3,0)","v":" "},{"$f":"VLOOKUP(B94,Pilot!A:C,2,0)","v":" "},{"$f":"VLOOKUP(B94,Pilot!A:E,5,0)","v":" "},{"$f":"VLOOKUP(B94,Pilot!A:F,6,0)","v":" "},{"$f":"A94","v":"-"},null,{"$f":"COUNTIF(B:B,B94)","v":14},{"$f":"IF(COUNTIF('N PMČR 2019'!B:B,B94)=0,\"-\",COUNTIF('N PMČR 2019'!B:B,B94))","v":10},{"$f":"IF(ISERROR(VLOOKUP(B94,'N PMČR 2019'!B:G,6,0)),\"-\",VLOOKUP(B94,'N PMČR 2019'!B:G,6,0))","v":"-"},{"$f":"IF(COUNTIF('N PMČRj 2019'!B:B,B94)=0,\"-\",COUNTIF('N PMČRj 2019'!B:B,B94))","v":10},{"$f":"IF(ISERROR(VLOOKUP(B94,'N PMČRj 2019'!B:G,6,0)),\"-\",VLOOKUP(B94,'N PMČRj 2019'!B:G,6,0))","v":"-"}]
["-","-",{"$f":"VLOOKUP(B95,Pilot!A:C,3,0)","v":" "},{"$f":"VLOOKUP(B95,Pilot!A:C,2,0)","v":" "},{"$f":"VLOOKUP(B95,Pilot!A:E,5,0)","v":" "},{"$f":"VLOOKUP(B95,Pilot!A:F,6,0)","v":" "},{"$f":"A95","v":"-"},null,{"$f":"COUNTIF(B:B,B95)","v":14},{"$f":"IF(COUNTIF('N PMČR 2019'!B:B,B95)=0,\"-\",COUNTIF('N PMČR 2019'!B:B,B95))","v":10},{"$f":"IF(ISERROR(VLOOKUP(B95,'N PMČR 2019'!B:G,6,0)),\"-\",VLOOKUP(B95,'N PMČR 2019'!B:G,6,0))","v":"-"},{"$f":"IF(COUNTIF('N PMČRj 2019'!B:B,B95)=0,\"-\",COUNTIF('N PMČRj 2019'!B:B,B95))","v":10},{"$f":"IF(ISERROR(VLOOKUP(B95,'N PMČRj 2019'!B:G,6,0)),\"-\",VLOOKUP(B95,'N PMČRj 2019'!B:G,6,0))","v":"-"}]
["-","-",{"$f":"VLOOKUP(B96,Pilot!A:C,3,0)","v":" "},{"$f":"VLOOKUP(B96,Pilot!A:C,2,0)","v":" "},{"$f":"VLOOKUP(B96,Pilot!A:E,5,0)","v":" "},{"$f":"VLOOKUP(B96,Pilot!A:F,6,0)","v":" "},{"$f":"A96","v":"-"},null,{"$f":"COUNTIF(B:B,B96)","v":14},{"$f":"IF(COUNTIF('N PMČR 2019'!B:B,B96)=0,\"-\",COUNTIF('N PMČR 2019'!B:B,B96))","v":10},{"$f":"IF(ISERROR(VLOOKUP(B96,'N PMČR 2019'!B:G,6,0)),\"-\",VLOOKUP(B96,'N PMČR 2019'!B:G,6,0))","v":"-"},{"$f":"IF(COUNTIF('N PMČRj 2019'!B:B,B96)=0,\"-\",COUNTIF('N PMČRj 2019'!B:B,B96))","v":10},{"$f":"IF(ISERROR(VLOOKUP(B96,'N PMČRj 2019'!B:G,6,0)),\"-\",VLOOKUP(B96,'N PMČRj 2019'!B:G,6,0))","v":"-"}]
["-","-",{"$f":"VLOOKUP(B97,Pilot!A:C,3,0)","v":" "},{"$f":"VLOOKUP(B97,Pilot!A:C,2,0)","v":" "},{"$f":"VLOOKUP(B97,Pilot!A:E,5,0)","v":" "},{"$f":"VLOOKUP(B97,Pilot!A:F,6,0)","v":" "},{"$f":"A97","v":"-"},null,{"$f":"COUNTIF(B:B,B97)","v":14},{"$f":"IF(COUNTIF('N PMČR 2019'!B:B,B97)=0,\"-\",COUNTIF('N PMČR 2019'!B:B,B97))","v":10},{"$f":"IF(ISERROR(VLOOKUP(B97,'N PMČR 2019'!B:G,6,0)),\"-\",VLOOKUP(B97,'N PMČR 2019'!B:G,6,0))","v":"-"},{"$f":"IF(COUNTIF('N PMČRj 2019'!B:B,B97)=0,\"-\",COUNTIF('N PMČRj 2019'!B:B,B97))","v":10},{"$f":"IF(ISERROR(VLOOKUP(B97,'N PMČRj 2019'!B:G,6,0)),\"-\",VLOOKUP(B97,'N PMČRj 2019'!B:G,6,0))","v":"-"}]
["-","-",{"$f":"VLOOKUP(B98,Pilot!A:C,3,0)","v":" "},{"$f":"VLOOKUP(B98,Pilot!A:C,2,0)","v":" "},{"$f":"VLOOKUP(B98,Pilot!A:E,5,0)","v":" "},{"$f":"VLOOKUP(B98,Pilot!A:F,6,0)","v":" "},{"$f":"A98","v":"-"},null,{"$f":"COUNTIF(B:B,B98)","v":14},{"$f":"IF(COUNTIF('N PMČR 2019'!B:B,B98)=0,\"-\",COUNTIF('N PMČR 2019'!B:B,B98))","v":10},{"$f":"IF(ISERROR(VLOOKUP(B98,'N PMČR 2019'!B:G,6,0)),\"-\",VLOOKUP(B98,'N PMČR 2019'!B:G,6,0))","v":"-"},{"$f":"IF(COUNTIF('N PMČRj 2019'!B:B,B98)=0,\"-\",COUNTIF('N PMČRj 2019'!B:B,B98))","v":10},{"$f":"IF(ISERROR(VLOOKUP(B98,'N PMČRj 2019'!B:G,6,0)),\"-\",VLOOKUP(B98,'N PMČRj 2019'!B:G,6,0))","v":"-"}]
[]
[]
["Schváleno Plachtařskou komisí AeČR dne XX.X.2019 ve XXXXXX"]

{"sheet":"N PMČRj 2019","index":13,"n_rows":79,"n_cols":17,"rows_kept":79,"cut":false,"hidden":false,"merged":[[18,1,18,7],[27,1,27,7],[73,1,73,7]]}
[null,"Nominace na PMČRj 2019",null,null,null,null,null,"Kontrola:","Počet","Počet","Nominace","Počet","Nominace","M:","F:","M+F:"]
["No","Jméno","Aeroklub","Rok narození","M/F","Junior","No",null,"PMČRj","PMČR","PMČR","PMRg","PMRg",{"$f":"COUNTIF(E:E,\"M\")","v":0},{"$f":"COUNTIF(E:E,\"F\")","v":0},{"$f":"N2+O2","v":0},"S náhradníky"]
["6.7.5.","Nominace na PMČRj (dle SŘ ZM8)",null,null,null,null,null,null,null,null,null,null,"Celkem řádně nominováno:",{"$f":"N2-COUNTIF(E53:E57,\"M\")","v":0},{"$f":"O2-COUNTIF(E53:E57,\"F\")","v":0},{"$f":"N3+O3","v":0},"Bez náhradníků"]
[null,"Na PMČRj nominuje PK celkem 40 pilotů/pilotek a stanovený počet náhradníků pro každé nominační kritérium."]
[null,"Na PMČRj jsou nominováni soutěžící splňující statut juniora:"]
[null,"Na PMČRj jsou nominováni soutěžící (splňující statut juniora):"]
["6.7.5.1.","všichni členové reprezentačního výběru ČR (bez náhradníků)"]
[1,null,{"$f":"VLOOKUP(B8,Pilot!A:C,3,0)","v":{"$error":"#N/A"}},{"$f":"VLOOKUP(B8,Pilot!A:C,2,0)","v":{"$error":"#N/A"}},{"$f":"VLOOKUP(B8,Pilot!A:E,5,0)","v":{"$error":"#N/A"}},{"$f":"VLOOKUP(B8,Pilot!A:F,6,0)","v":{"$error":"#N/A"}},{"$f":"A8","v":1},null,{"$f":"COUNTIF(B:B,B8)","v":0},{"$f":"IF(COUNTIF('N PMČR 2019'!B:B,B8)=0,\"-\",COUNTIF('N PMČR 2019'!B:B,B8))","v":"-"},{"$f":"IF(ISERROR(VLOOKUP(B8,'N PMČR 2019'!B:G,6,0)),\"-\",VLOOKUP(B8,'N PMČR 2019'!B:G,6,0))","v":"-"},{"$f":"IF(COUNTIF('N PMRg 2019'!B:B,B8)=0,\"-\",COUNTIF('N PMRg 2019'!B:B,B8))","v":"-"},{"$f":"IF(ISERROR(VLOOKUP(B8,'N PMRg 2019'!B:G,6,0)),\"-\",VLOOKUP(B8,'N PMRg 2019'!B:G,6,0))","v":"-"}]
[2,null,{"$f":"VLOOKUP(B9,Pilot!A:C,3,0)","v":{"$error":"#N/A"}},{"$f":"VLOOKUP(B9,Pilot!A:C,2,0)","v":{"$error":"#N/A"}},{"$f":"VLOOKUP(B9,Pilot!A:E,5,0)","v":{"$error":"#N/A"}},{"$f":"VLOOKUP(B9,Pilot!A:F,6,0)","v":{"$error":"#N/A"}},2,null,0,{"$f":"IF(COUNTIF('N PMČR 2019'!B:B,B9)=0,\"-\",COUNTIF('N PMČR 2019'!B:B,B9))","v":"-"},{"$f":"IF(ISERROR(VLOOKUP(B9,'N PMČR 2019'!B:G,6,0)),\"-\",VLOOKUP(B9,'N PMČR 2019'!B:G,6,0))","v":"-"},{"$f":"IF(COUNTIF('N PMRg 2019'!B:B,B9)=0,\"-\",COUNTIF('N PMRg 2019'!B:B,B9))","v":"-"},{"$f":"IF(ISERROR(VLOOKUP(B9,'N PMRg 2019'!B:G,6,0)),\"-\",VLOOKUP(B9,'N PMRg 2019'!B:G,6,0))","v":"-"}]
[3,null,{"$f":"VLOOKUP(B10,Pilot!A:C,3,0)","v":{"$error":"#N/A"}},{"$f":"VLOOKUP(B10,Pilot!A:C,2,0)","v":{"$error":"#N/A"}},{"$f":"VLOOKUP(B10,Pilot!A:E,5,0)","v":{"$error":"#N/A"}},{"$f":"VLOOKUP(B10,Pilot!A:F,6,0)","v":{"$error":"#N/A"}},3,null,0,{"$f":"IF(COUNTIF('N PMČR 2019'!B:B,B10)=0,\"-\",COUNTIF('N PMČR 2019'!B:B,B10))","v":"-"},{"$f":"IF(ISERROR(VLOOKUP(B10,'N PMČR 2019'!B:G,6,0)),\"-\",VLOOKUP(B10,'N PMČR 2019'!B:G,6,0))","v":"-"},{"$f":"IF(COUNTIF('N PMRg 2019'!B:B,B10)=0,\"-\",COUNTIF('N PMRg 2019'!B:B,B10))","v":"-"},{"$f":"IF(ISERROR(VLOOKUP(B10,'N PMRg 2019'!B:G,6,0)),\"-\",VLOOKUP(B10,'N PMRg 2019'!B:G,6,0))","v":"-"}]
[4,null,{"$f":"VLOOKUP(B11,Pilot!A:C,3,0)","v":{"$error":"#N/A"}},{"$f":"VLOOKUP(B11,Pilot!A:C,2,0)","v":{"$error":"#N/A"}},{"$f":"VLOOKUP(B11,Pilot!A:E,5,0)","v":{"$error":"#N/A"}},{"$f":"VLOOKUP(B11,Pilot!A:F,6,0)","v":{"$error":"#N/A"}},4,null,0,{"$f":"IF(COUNTIF('N PMČR 2019'!B:B,B11)=0,\"-\",COUNTIF('N PMČR 2019'!B:B,B11))","v":"-"},{"$f":"IF(ISERROR(VLOOKUP(B11,'N PMČR 2019'!B:G,6,0)),\"-\",VLOOKUP(B11,'N PMČR 2019'!B:G,6,0))","v":"-"},{"$f":"IF(COUNTIF('N PMRg 2019'!B:B,B11)=0,\"-\",COUNTIF('N PMRg 2019'!B:B,B11))","v":"-"},{"$f":"IF(ISERROR(VLOOKUP(B11,'N PMRg 2019'!B:G,6,0)),\"-\",VLOOKUP(B11,'N PMRg 2019'!B:G,6,0))","v":"-"}]
[5,null,{"$f":"VLOOKUP(B12,Pilot!A:C,3,0)","v":{"$error":"#N/A"}},{"$f":"VLOOKUP(B12,Pilot!A:C,2,0)","v":{"$error":"#N/A"}},{"$f":"VLOOKUP(B12,Pilot!A:E,5,0)","v":{"$error":"#N/A"}},{"$f":"VLOOKUP(B12,Pilot!A:F,6,0)","v":{"$error":"#N/A"}},5,null,0,{"$f":"IF(COUNTIF('N PMČR 2019'!B:B,B12)=0,\"-\",COUNTIF('N PMČR 2019'!B:B,B12))","v":"-"},{"$f":"IF(ISERROR(VLOOKUP(B12,'N PMČR 2019'!B:G,6,0)),\"-\",VLOOKUP(B12,'N PMČR 2019'!B:G,6,0))","v":"-"},{"$f":"IF(COUNTIF('N PMRg 2019'!B:B,B12)=0,\"-\",COUNTIF('N PMRg 2019'!B:B,B12))","v":"-"},{"$f":"IF(ISERROR(VLOOKUP(B12,'N PMRg 2019'!B:G,6,0)),\"-\",VLOOKUP(B12,'N PMRg 2019'!B:G,6,0))","v":"-"}]
[6,null,{"$f":"VLOOKUP(B13,Pilot!A:C,3,0)","v":{"$error":"#N/A"}},{"$f":"VLOOKUP(B13,Pilot!A:C,2,0)","v":{"$error":"#N/A"}},{"$f":"VLOOKUP(B13,Pilot!A:E,5,0)","v":{"$error":"#N/A"}},{"$f":"VLOOKUP(B13,Pilot!A:F,6,0)","v":{"$error":"#N/A"}},6,null,0,{"$f":"IF(COUNTIF('N PMČR 2019'!B:B,B13)=0,\"-\",COUNTIF('N PMČR 2019'!B:B,B13))","v":"-"},{"$f":"IF(ISERROR(VLOOKUP(B13,'N PMČR 2019'!B:G,6,0)),\"-\",VLOOKUP(B13,'N PMČR 2019'!B:G,6,0))","v":"-"},{"$f":"IF(COUNTIF('N PMRg 2019'!B:B,B13)=0,\"-\",COUNTIF('N PMRg 2019'!B:B,B13))","v":"-"},{"$f":"IF(ISERROR(VLOOKUP(B13,'N PMRg 2019'!B:G,6,0)),\"-\",VLOOKUP(B13,'N PMRg 2019'!B:G,6,0))","v":"-"}]
[7,null,{"$f":"VLOOKUP(B14,Pilot!A:C,3,0)","v":{"$error":"#N/A"}},{"$f":"VLOOKUP(B14,Pilot!A:C,2,0)","v":{"$error":"#N/A"}},{"$f":"VLOOKUP(B14,Pilot!A:E,5,0)","v":{"$error":"#N/A"}},{"$f":"VLOOKUP(B14,Pilot!A:F,6,0)","v":{"$error":"#N/A"}},{"$f":"A14","v":7},null,0,{"$f":"IF(COUNTIF('N PMČR 2019'!B:B,B14)=0,\"-\",COUNTIF('N PMČR 2019'!B:B,B14))","v":"-"},{"$f":"IF(ISERROR(VLOOKUP(B14,'N PMČR 2019'!B:G,6,0)),\"-\",VLOOKUP(B14,'N PMČR 2019'!B:G,6,0))","v":"-"},{"$f":"IF(COUNTIF('N PMRg 2019'!B:B,B14)=0,\"-\",COUNTIF('N PMRg 2019'!B:B,B14))","v":"-"},{"$f":"IF(ISERROR(VLOOKUP(B14,'N PMRg 2019'!B:G,6,0)),\"-\",VLOOKUP(B14,'N PMRg 2019'!B:G,6,0))","v":"-"}]
["6.7.5.2.","všichni soutěžící - účastníci posledního platného PMČR (bez náhradníků)"]
[null,"PMČR 2018 - Tábor - Klub, Kombi 15m, Kombi Open"]
[{"$f":"MAX(A8:A14)+1","v":8},null,{"$f":"VLOOKUP(B17,Pilot!A:C,3,0)","v":{"$error":"#N/A"}},{"$f":"VLOOKUP(B17,Pilot!A:C,2,0)","v":{"$error":"#N/A"}},{"$f":"VLOOKUP(B17,Pilot!A:E,5,0)","v":{"$error":"#N/A"}},{"$f":"VLOOKUP(B17,Pilot!A:F,6,0)","v":{"$error":"#N/A"}},{"$f":"A17","v":8},null,{"$f":"COUNTIF(B:B,B17)","v":0},{"$f":"IF(COUNTIF('N PMČR 2019'!B:B,B17)=0,\"-\",COUNTIF('N PMČR 2019'!B:B,B17))","v":"-"},{"$f":"IF(ISERROR(VLOOKUP(B17,'N PMČR 2019'!B:G,6,0)),\"-\",VLOOKUP(B17,'N PMČR 2019'!B:G,6,0))","v":"-"},{"$f":"IF(COUNTIF('N PMRg 2019'!B:B,B17)=0,\"-\",COUNTIF('N PMRg 2019'!B:B,B17))","v":"-"},{"$f":"IF(ISERROR(VLOOKUP(B17,'N PMRg 2019'!B:G,6,0)),\"-\",VLOOKUP(B17,'N PMRg 2019'!B:G,6,0))","v":"-"}]
[{"$f":"A17+1","v":9},null,{"$f":"VLOOKUP(B18,Pilot!A:C,3,0)","v":{"$error":"#N/A"}},{"$f":"VLOOKUP(B18,Pilot!A:C,2,0)","v":{"$error":"#N/A"}},{"$f":"VLOOKUP(B18,Pilot!A:E,5,0)","v":{"$error":"#N/A"}},{"$f":"VLOOKUP(B18,Pilot!A:F,6,0)","v":{"$error":"#N/A"}},{"$f":"A18","v":9},null,{"$f":"COUNTIF(B:B,B18)","v":0},{"$f":"IF(COUNTIF('N PMČR 2019'!B:B,B18)=0,\"-\",COUNTIF('N PMČR 2019'!B:B,B18))","v":"-"},{"$f":"IF(ISERROR(VLOOKUP(B18,'N PMČR 2019'!B:G,6,0)),\"-\",VLOOKUP(B18,'N PMČR 2019'!B:G,6,0))","v":"-"},{"$f":"IF(COUNTIF('N PMRg 2019'!B:B,B18)=0,\"-\",COUNTIF('N PMRg 2019'!B:B,B18))","v":"-"},{"$f":"IF(ISERROR(VLOOKUP(B18,'N PMRg 2019'!B:G,6,0)),\"-\",VLOOKUP(B18,'N PMRg 2019'!B:G,6,0))","v":"-"}]
["6.7.5.3.","další soutěžící, kteří se umístili v konečném pořadí na posledním platném PMČRj ve své třídě nejhůře v první polovině celkového pořadí pilotů ČR (bez náhradníků)"]
[null,"PMČRj 2018 - Raná - Klub"]
[{"$f":"MAX(A17:A18)+1","v":10},null,{"$f":"VLOOKUP(B21,Pilot!A:C,3,0)","v":{"$error":"#N/A"}},{"$f":"VLOOKUP(B21,Pilot!A:C,2,0)","v":{"$error":"#N/A"}},{"$f":"VLOOKUP(B21,Pilot!A:E,5,0)","v":{"$error":"#N/A"}},{"$f":"VLOOKUP(B21,Pilot!A:F,6,0)","v":{"$error":"#N/A"}},{"$f":"A21","v":10},null,{"$f":"COUNTIF(B:B,B21)","v":0},{"$f":"IF(COUNTIF('N PMČR 2019'!B:B,B21)=0,\"-\",COUNTIF('N PMČR 2019'!B:B,B21))","v":"-"},{"$f":"IF(ISERROR(VLOOKUP(B21,'N PMČR 2019'!B:G,6,0)),\"-\",VLOOKUP(B21,'N PMČR 2019'!B:G,6,0))","v":"-"},{"$f":"IF(COUNTIF('N PMRg 2019'!B:B,B21)=0,\"-\",COUNTIF('N PMRg 2019'!B:B,B21))","v":"-"},{"$f":"IF(ISERROR(VLOOKUP(B21,'N PMRg 2019'!B:G,6,0)),\"-\",VLOOKUP(B21,'N PMRg 2019'!B:G,6,0))","v":"-"}]
[{"$f":"A21+1","v":11},null,{"$f":"VLOOKUP(B22,Pilot!A:C,3,0)","v":{"$error":"#N/A"}},{"$f":"VLOOKUP(B22,Pilot!A:C,2,0)","v":{"$error":"#N/A"}},{"$f":"VLOOKUP(B22,Pilot!A:E,5,0)","v":{"$error":"#N/A"}},{"$f":"VLOOKUP(B22,Pilot!A:F,6,0)","v":{"$error":"#N/A"}},11,null,0,{"$f":"IF(COUNTIF('N PMČR 2019'!B:B,B22)=0,\"-\",COUNTIF('N PMČR 2019'!B:B,B22))","v":"-"},{"$f":"IF(ISERROR(VLOOKUP(B22,'N PMČR 2019'!B:G,6,0)),\"-\",VLOOKUP(B22,'N PMČR 2019'!B:G,6,0))","v":"-"},{"$f":"IF(COUNTIF('N PMRg 2019'!B:B,B22)=0,\"-\",COUNTIF('N PMRg 2019'!B:B,B22))","v":"-"},{"$f":"IF(ISERROR(VLOOKUP(B22,'N PMRg 2019'!B:G,6,0)),\"-\",VLOOKUP(B22,'N PMRg 2019'!B:G,6,0))","v":"-"}]
[12,null,{"$f":"VLOOKUP(B23,Pilot!A:C,3,0)","v":{"$error":"#N/A"}},{"$f":"VLOOKUP(B23,Pilot!A:C,2,0)","v":{"$error":"#N/A"}},{"$f":"VLOOKUP(B23,Pilot!A:E,5,0)","v":{"$error":"#N/A"}},{"$f":"VLOOKUP(B23,Pilot!A:F,6,0)","v":{"$error":"#N/A"}},12,null,0,{"$f":"IF(COUNTIF('N PMČR 2019'!B:B,B23)=0,\"-\",COUNTIF('N PMČR 2019'!B:B,B23))","v":"-"},{"$f":"IF(ISERROR(VLOOKUP(B23,'N PMČR 2019'!B:G,6,0)),\"-\",VLOOKUP(B23,'N PMČR 2019'!B:G,6,0))","v":"-"},{"$f":"IF(COUNTIF('N PMRg 2019'!B:B,B23)=0,\"-\",COUNTIF('N PMRg 2019'!B:B,B23))","v":"-"},{"$f":"IF(ISERROR(VLOOKUP(B23,'N PMRg 2019'!B:G,6,0)),\"-\",VLOOKUP(B23,'N PMRg 2019'!B:G,6,0))","v":"-"}]
[13,null,{"$f":"VLOOKUP(B24,Pilot!A:C,3,0)","v":{"$error":"#N/A"}},{"$f":"VLOOKUP(B24,Pilot!A:C,2,0)","v":{"$error":"#N/A"}},{"$f":"VLOOKUP(B24,Pilot!A:E,5,0)","v":{"$error":"#N/A"}},{"$f":"VLOOKUP(B24,Pilot!A:F,6,0)","v":{"$error":"#N/A"}},13,null,0,{"$f":"IF(COUNTIF('N PMČR 2019'!B:B,B24)=0,\"-\",COUNTIF('N PMČR 2019'!B:B,B24))","v":"-"},{"$f":"IF(ISERROR(VLOOKUP(B24,'N PMČR 2019'!B:G,6,0)),\"-\",VLOOKUP(B24,'N PMČR 2019'!B:G,6,0))","v":"-"},{"$f":"IF(COUNTIF('N PMRg 2019'!B:B,B24)=0,\"-\",COUNTIF('N PMRg 2019'!B:B,B24))","v":"-"},{"$f":"IF(ISERROR(VLOOKUP(B24,'N PMRg 2019'!B:G,6,0)),\"-\",VLOOKUP(B24,'N PMRg 2019'!B:G,6,0))","v":"-"}]
[14,null,{"$f":"VLOOKUP(B25,Pilot!A:C,3,0)","v":{"$error":"#N/A"}},{"$f":"VLOOKUP(B25,Pilot!A:C,2,0)","v":{"$error":"#N/A"}},{"$f":"VLOOKUP(B25,Pilot!A:E,5,0)","v":{"$error":"#N/A"}},{"$f":"VLOOKUP(B25,Pilot!A:F,6,0)","v":{"$error":"#N/A"}},14,null,0,{"$f":"IF(COUNTIF('N PMČR 2019'!B:B,B25)=0,\"-\",COUNTIF('N PMČR 2019'!B:B,B25))","v":"-"},{"$f":"IF(ISERROR(VLOOKUP(B25,'N PMČR 2019'!B:G,6,0)),\"-\",VLOOKUP(B25,'N PMČR 2019'!B:G,6,0))","v":"-"},{"$f":"IF(COUNTIF('N PMRg 2019'!B:B,B25)=0,\"-\",COUNTIF('N PMRg 2019'!B:B,B25))","v":"-"},{"$f":"IF(ISERROR(VLOOKUP(B25,'N PMRg 2019'!B:G,6,0)),\"-\",VLOOKUP(B25,'N PMRg 2019'!B:G,6,0))","v":"-"}]
[15,null,{"$f":"VLOOKUP(B26,Pilot!A:C,3,0)","v":{"$error":"#N/A"}},{"$f":"VLOOKUP(B26,Pilot!A:C,2,0)","v":{"$error":"#N/A"}},{"$f":"VLOOKUP(B26,Pilot!A:E,5,0)","v":{"$error":"#N/A"}},{"$f":"VLOOKUP(B26,Pilot!A:F,6,0)","v":{"$error":"#N/A"}},15,null,0,{"$f":"IF(COUNTIF('N PMČR 2019'!B:B,B26)=0,\"-\",COUNTIF('N PMČR 2019'!B:B,B26))","v":"-"},{"$f":"IF(ISERROR(VLOOKUP(B26,'N PMČR 2019'!B:G,6,0)),\"-\",VLOOKUP(B26,'N PMČR 2019'!B:G,6,0))","v":"-"},{"$f":"IF(COUNTIF('N PMRg 2019'!B:B,B26)=0,\"-\",COUNTIF('N PMRg 2019'!B:B,B26))","v":"-"},{"$f":"IF(ISERROR(VLOOKUP(B26,'N PMRg 2019'!B:G,6,0)),\"-\",VLOOKUP(B26,'N PMRg 2019'!B:G,6,0))","v":"-"}]
[16,null,{"$f":"VLOOKUP(B27,Pilot!A:C,3,0)","v":{"$error":"#N/A"}},{"$f":"VLOOKUP(B27,Pilot!A:C,2,0)","v":{"$error":"#N/A"}},{"$f":"VLOOKUP(B27,Pilot!A:E,5,0)","v":{"$error":"#N/A"}},{"$f":"VLOOKUP(B27,Pilot!A:F,6,0)","v":{"$error":"#N/A"}},16,null,0,{"$f":"IF(COUNTIF('N PMČR 2019'!B:B,B27)=0,\"-\",COUNTIF('N PMČR 2019'!B:B,B27))","v":"-"},{"$f":"IF(ISERROR(VLOOKUP(B27,'N PMČR 2019'!B:G,6,0)),\"-\",VLOOKUP(B27,'N PMČR 2019'!B:G,6,0))","v":"-"},{"$f":"IF(COUNTIF('N PMRg 2019'!B:B,B27)=0,\"-\",COUNTIF('N PMRg 2019'!B:B,B27))","v":"-"},{"$f":"IF(ISERROR(VLOOKUP(B27,'N PMRg 2019'!B:G,6,0)),\"-\",VLOOKUP(B27,'N PMRg 2019'!B:G,6,0))","v":"-"}]
["6.7.5.4.","ostatní soutěžící nominuje PK v pořadí podle umístění v CPS-INT předchozího roku do naplnění celkového počtu 40 nominovaných (+ 5 náhradníků)"]
[{"$f":"MAX(A21:A27)+1","v":17},null,{"$f":"VLOOKUP(B29,Pilot!A:C,3,0)","v":{"$error":"#N/A"}},{"$f":"VLOOKUP(B29,Pilot!A:C,2,0)","v":{"$error":"#N/A"}},{"$f":"VLOOKUP(B29,Pilot!A:E,5,0)","v":{"$error":"#N/A"}},{"$f":"VLOOKUP(B29,Pilot!A:F,6,0)","v":{"$error":"#N/A"}},{"$f":"A29","v":17},null,{"$f":"COUNTIF(B:B,B29)","v":0},{"$f":"IF(COUNTIF('N PMČR 2019'!B:B,B29)=0,\"-\",COUNTIF('N PMČR 2019'!B:B,B29))","v":"-"},{"$f":"IF(ISERROR(VLOOKUP(B29,'N PMČR 2019'!B:G,6,0)),\"-\",VLOOKUP(B29,'N PMČR 2019'!B:G,6,0))","v":"-"},{"$f":"IF(COUNTIF('N PMRg 2019'!B:B,B29)=0,\"-\",COUNTIF('N PMRg 2019'!B:B,B29))","v":"-"},{"$f":"IF(ISERROR(VLOOKUP(B29,'N PMRg 2019'!B:G,6,0)),\"-\",VLOOKUP(B29,'N PMRg 2019'!B:G,6,0))","v":"-"}]
[{"$f":"A29+1","v":18},null,{"$f":"VLOOKUP(B30,Pilot!A:C,3,0)","v":{"$error":"#N/A"}},{"$f":"VLOOKUP(B30,Pilot!A:C,2,0)","v":{"$error":"#N/A"}},{"$f":"VLOOKUP(B30,Pilot!A:E,5,0)","v":{"$error":"#N/A"}},{"$f":"VLOOKUP(B30,Pilot!A:F,6,0)","v":{"$error":"#N/A"}},18,null,0,{"$f":"IF(COUNTIF('N PMČR 2019'!B:B,B30)=0,\"-\",COUNTIF('N PMČR 2019'!B:B,B30))","v":"-"},{"$f":"IF(ISERROR(VLOOKUP(B30,'N PMČR 2019'!B:G,6,0)),\"-\",VLOOKUP(B30,'N PMČR 2019'!B:G,6,0))","v":"-"},{"$f":"IF(COUNTIF('N PMRg 2019'!B:B,B30)=0,\"-\",COUNTIF('N PMRg 2019'!B:B,B30))","v":"-"},{"$f":"IF(ISERROR(VLOOKUP(B30,'N PMRg 2019'!B:G,6,0)),\"-\",VLOOKUP(B30,'N PMRg 2019'!B:G,6,0))","v":"-"}]
[{"$f":"A30+1","v":19},null,{"$f":"VLOOKUP(B31,Pilot!A:C,3,0)","v":{"$error":"#N/A"}},{"$f":"VLOOKUP(B31,Pilot!A:C,2,0)","v":{"$error":"#N/A"}},{"$f":"VLOOKUP(B31,Pilot!A:E,5,0)","v":{"$error":"#N/A"}},{"$f":"VLOOKUP(B31,Pilot!A:F,6,0)","v":{"$error":"#N/A"}},19,null,0,{"$f":"IF(COUNTIF('N PMČR 2019'!B:B,B31)=0,\"-\",COUNTIF('N PMČR 2019'!B:B,B31))","v":"-"},{"$f":"IF(ISERROR(VLOOKUP(B31,'N PMČR 2019'!B:G,6,0)),\"-\",VLOOKUP(B31,'N PMČR 2019'!B:G,6,0))","v":"-"},{"$f":"IF(COUNTIF('N PMRg 2019'!B:B,B31)=0,\"-\",COUNTIF('N PMRg 2019'!B:B,B31))","v":"-"},{"$f":"IF(ISERROR(VLOOKUP(B31,'N PMRg 2019'!B:G,6,0)),\"-\",VLOOKUP(B31,'N PMRg 2019'!B:G,6,0))","v":"-"}]
[20,null,{"$f":"VLOOKUP(B32,Pilot!A:C,3,0)","v":{"$error":"#N/A"}},{"$f":"VLOOKUP(B32,Pilot!A:C,2,0)","v":{"$error":"#N/A"}},{"$f":"VLOOKUP(B32,Pilot!A:E,5,0)","v":{"$error":"#N/A"}},{"$f":"VLOOKUP(B32,Pilot!A:F,6,0)","v":{"$error":"#N/A"}},20,null,0,{"$f":"IF(COUNTIF('N PMČR 2019'!B:B,B32)=0,\"-\",COUNTIF('N PMČR 2019'!B:B,B32))","v":"-"},{"$f":"IF(ISERROR(VLOOKUP(B32,'N PMČR 2019'!B:G,6,0)),\"-\",VLOOKUP(B32,'N PMČR 2019'!B:G,6,0))","v":"-"},{"$f":"IF(COUNTIF('N PMRg 2019'!B:B,B32)=0,\"-\",COUNTIF('N PMRg 2019'!B:B,B32))","v":"-"},{"$f":"IF(ISERROR(VLOOKUP(B32,'N PMRg 2019'!B:G,6,0)),\"-\",VLOOKUP(B32,'N PMRg 2019'!B:G,6,0))","v":"-"}]
[21,null,{"$f":"VLOOKUP(B33,Pilot!A:C,3,0)","v":{"$error":"#N/A"}},{"$f":"VLOOKUP(B33,Pilot!A:C,2,0)","v":{"$error":"#N/A"}},{"$f":"VLOOKUP(B33,Pilot!A:E,5,0)","v":{"$error":"#N/A"}},{"$f":"VLOOKUP(B33,Pilot!A:F,6,0)","v":{"$error":"#N/A"}},21,null,0,{"$f":"IF(COUNTIF('N PMČR 2019'!B:B,B33)=0,\"-\",COUNTIF('N PMČR 2019'!B:B,B33))","v":"-"},{"$f":"IF(ISERROR(VLOOKUP(B33,'N PMČR 2019'!B:G,6,0)),\"-\",VLOOKUP(B33,'N PMČR 2019'!B:G,6,0))","v":"-"},{"$f":"IF(COUNTIF('N PMRg 2019'!B:B,B33)=0,\"-\",COUNTIF('N PMRg 2019'!B:B,B33))","v":"-"},{"$f":"IF(ISERROR(VLOOKUP(B33,'N PMRg 2019'!B:G,6,0)),\"-\",VLOOKUP(B33,'N PMRg 2019'!B:G,6,0))","v":"-"}]
[22,null,{"$f":"VLOOKUP(B34,Pilot!A:C,3,0)","v":{"$error":"#N/A"}},{"$f":"VLOOKUP(B34,Pilot!A:C,2,0)","v":{"$error":"#N/A"}},{"$f":"VLOOKUP(B34,Pilot!A:E,5,0)","v":{"$error":"#N/A"}},{"$f":"VLOOKUP(B34,Pilot!A:F,6,0)","v":{"$error":"#N/A"}},22,null,0,{"$f":"IF(COUNTIF('N PMČR 2019'!B:B,B34)=0,\"-\",COUNTIF('N PMČR 2019'!B:B,B34))","v":"-"},{"$f":"IF(ISERROR(VLOOKUP(B34,'N PMČR 2019'!B:G,6,0)),\"-\",VLOOKUP(B34,'N PMČR 2019'!B:G,6,0))","v":"-"},{"$f":"IF(COUNTIF('N PMRg 2019'!B:B,B34)=0,\"-\",COUNTIF('N PMRg 2019'!B:B,B34))","v":"-"},{"$f":"IF(ISERROR(VLOOKUP(B34,'N PMRg 2019'!B:G,6,0)),\"-\",VLOOKUP(B34,'N PMRg 2019'!B:G,6,0))","v":"-"}]
[23,null,{"$f":"VLOOKUP(B35,Pilot!A:C,3,0)","v":{"$error":"#N/A"}},{"$f":"VLOOKUP(B35,Pilot!A:C,2,0)","v":{"$error":"#N/A"}},{"$f":"VLOOKUP(B35,Pilot!A:E,5,0)","v":{"$error":"#N/A"}},{"$f":"VLOOKUP(B35,Pilot!A:F,6,0)","v":{"$error":"#N/A"}},23,null,0,{"$f":"IF(COUNTIF('N PMČR 2019'!B:B,B35)=0,\"-\",COUNTIF('N PMČR 2019'!B:B,B35))","v":"-"},{"$f":"IF(ISERROR(VLOOKUP(B35,'N PMČR 2019'!B:G,6,0)),\"-\",VLOOKUP(B35,'N PMČR 2019'!B:G,6,0))","v":"-"},{"$f":"IF(COUNTIF('N PMRg 2019'!B:B,B35)=0,\"-\",COUNTIF('N PMRg 2019'!B:B,B35))","v":"-"},{"$f":"IF(ISERROR(VLOOKUP(B35,'N PMRg 2019'!B:G,6,0)),\"-\",VLOOKUP(B35,'N PMRg 2019'!B:G,6,0))","v":"-"}]
[24,null,{"$f":"VLOOKUP(B36,Pilot!A:C,3,0)","v":{"$error":"#N/A"}},{"$f":"VLOOKUP(B36,Pilot!A:C,2,0)","v":{"$error":"#N/A"}},{"$f":"VLOOKUP(B36,Pilot!A:E,5,0)","v":{"$error":"#N/A"}},{"$f":"VLOOKUP(B36,Pilot!A:F,6,0)","v":{"$error":"#N/A"}},24,null,0,{"$f":"IF(COUNTIF('N PMČR 2019'!B:B,B36)=0,\"-\",COUNTIF('N PMČR 2019'!B:B,B36))","v":"-"},{"$f":"IF(ISERROR(VLOOKUP(B36,'N PMČR 2019'!B:G,6,0)),\"-\",VLOOKUP(B36,'N PMČR 2019'!B:G,6,0))","v":"-"},{"$f":"IF(COUNTIF('N PMRg 2019'!B:B,B36)=0,\"-\",COUNTIF('N PMRg 2019'!B:B,B36))","v":"-"},{"$f":"IF(ISERROR(VLOOKUP(B36,'N PMRg 2019'!B:G,6,0)),\"-\",VLOOKUP(B36,'N PMRg 2019'!B:G,6,0))","v":"-"}]
[25,null,{"$f":"VLOOKUP(B37,Pilot!A:C,3,0)","v":{"$error":"#N/A"}},{"$f":"VLOOKUP(B37,Pilot!A:C,2,0)","v":{"$error":"#N/A"}},{"$f":"VLOOKUP(B37,Pilot!A:E,5,0)","v":{"$error":"#N/A"}},{"$f":"VLOOKUP(B37,Pilot!A:F,6,0)","v":{"$error":"#N/A"}},25,null,0,{"$f":"IF(COUNTIF('N PMČR 2019'!B:B,B37)=0,\"-\",COUNTIF('N PMČR 2019'!B:B,B37))","v":"-"},{"$f":"IF(ISERROR(VLOOKUP(B37,'N PMČR 2019'!B:G,6,0)),\"-\",VLOOKUP(B37,'N PMČR 2019'!B:G,6,0))","v":"-"},{"$f":"IF(COUNTIF('N PMRg 2019'!B:B,B37)=0,\"-\",COUNTIF('N PMRg 2019'!B:B,B37))","v":"-"},{"$f":"IF(ISERROR(VLOOKUP(B37,'N PMRg 2019'!B:G,6,0)),\"-\",VLOOKUP(B37,'N PMRg 2019'!B:G,6,0))","v":"-"}]
[26,null,{"$f":"VLOOKUP(B38,Pilot!A:C,3,0)","v":{"$error":"#N/A"}},{"$f":"VLOOKUP(B38,Pilot!A:C,2,0)","v":{"$error":"#N/A"}},{"$f":"VLOOKUP(B38,Pilot!A:E,5,0)","v":{"$error":"#N/A"}},{"$f":"VLOOKUP(B38,Pilot!A:F,6,0)","v":{"$error":"#N/A"}},26,null,0,{"$f":"IF(COUNTIF('N PMČR 2019'!B:B,B38)=0,\"-\",COUNTIF('N PMČR 2019'!B:B,B38))","v":"-"},{"$f":"IF(ISERROR(VLOOKUP(B38,'N PMČR 2019'!B:G,6,0)),\"-\",VLOOKUP(B38,'N PMČR 2019'!B:G,6,0))","v":"-"},{"$f":"IF(COUNTIF('N PMRg 2019'!B:B,B38)=0,\"-\",COUNTIF('N PMRg 2019'!B:B,B38))","v":"-"},{"$f":"IF(ISERROR(VLOOKUP(B38,'N PMRg 2019'!B:G,6,0)),\"-\",VLOOKUP(B38,'N PMRg 2019'!B:G,6,0))","v":"-"}]
[27,null,{"$f":"VLOOKUP(B39,Pilot!A:C,3,0)","v":{"$error":"#N/A"}},{"$f":"VLOOKUP(B39,Pilot!A:C,2,0)","v":{"$error":"#N/A"}},{"$f":"VLOOKUP(B39,Pilot!A:E,5,0)","v":{"$error":"#N/A"}},{"$f":"VLOOKUP(B39,Pilot!A:F,6,0)","v":{"$error":"#N/A"}},{"$f":"A39","v":27},null,0,{"$f":"IF(COUNTIF('N PMČR 2019'!B:B,B39)=0,\"-\",COUNTIF('N PMČR 2019'!B:B,B39))","v":"-"},{"$f":"IF(ISERROR(VLOOKUP(B39,'N PMČR 2019'!B:G,6,0)),\"-\",VLOOKUP(B39,'N PMČR 2019'!B:G,6,0))","v":"-"},{"$f":"IF(COUNTIF('N PMRg 2019'!B:B,B39)=0,\"-\",COUNTIF('N PMRg 2019'!B:B,B39))","v":"-"},{"$f":"IF(ISERROR(VLOOKUP(B39,'N PMRg 2019'!B:G,6,0)),\"-\",VLOOKUP(B39,'N PMRg 2019'!B:G,6,0))","v":"-"}]
[28,null,{"$f":"VLOOKUP(B40,Pilot!A:C,3,0)","v":{"$error":"#N/A"}},{"$f":"VLOOKUP(B40,Pilot!A:C,2,0)","v":{"$error":"#N/A"}},{"$f":"VLOOKUP(B40,Pilot!A:E,5,0)","v":{"$error":"#N/A"}},{"$f":"VLOOKUP(B40,Pilot!A:F,6,0)","v":{"$error":"#N/A"}},28,null,0,{"$f":"IF(COUNTIF('N PMČR 2019'!B:B,B40)=0,\"-\",COUNTIF('N PMČR 2019'!B:B,B40))","v":"-"},{"$f":"IF(ISERROR(VLOOKUP(B40,'N PMČR 2019'!B:G,6,0)),\"-\",VLOOKUP(B40,'N PMČR 2019'!B:G,6,0))","v":"-"},{"$f":"IF(COUNTIF('N PMRg 2019'!B:B,B40)=0,\"-\",COUNTIF('N PMRg 2019'!B:B,B40))","v":"-"},{"$f":"IF(ISERROR(VLOOKUP(B40,'N PMRg 2019'!B:G,6,0)),\"-\",VLOOKUP(B40,'N PMRg 2019'!B:G,6,0))","v":"-"}]
[29,null,{"$f":"VLOOKUP(B41,Pilot!A:C,3,0)","v":{"$error":"#N/A"}},{"$f":"VLOOKUP(B41,Pilot!A:C,2,0)","v":{"$error":"#N/A"}},{"$f":"VLOOKUP(B41,Pilot!A:E,5,0)","v":{"$error":"#N/A"}},{"$f":"VLOOKUP(B41,Pilot!A:F,6,0)","v":{"$error":"#N/A"}},29,null,0,{"$f":"IF(COUNTIF('N PMČR 2019'!B:B,B41)=0,\"-\",COUNTIF('N PMČR 2019'!B:B,B41))","v":"-"},{"$f":"IF(ISERROR(VLOOKUP(B41,'N PMČR 2019'!B:G,6,0)),\"-\",VLOOKUP(B41,'N PMČR 2019'!B:G,6,0))","v":"-"},{"$f":"IF(COUNTIF('N PMRg 2019'!B:B,B41)=0,\"-\",COUNTIF('N PMRg 2019'!B:B,B41))","v":"-"},{"$f":"IF(ISERROR(VLOOKUP(B41,'N PMRg 2019'!B:G,6,0)),\"-\",VLOOKUP(B41,'N PMRg 2019'!B:G,6,0))","v":"-"}]
[30,null,{"$f":"VLOOKUP(B42,Pilot!A:C,3,0)","v":{"$error":"#N/A"}},{"$f":"VLOOKUP(B42,Pilot!A:C,2,0)","v":{"$error":"#N/A"}},{"$f":"VLOOKUP(B42,Pilot!A:E,5,0)","v":{"$error":"#N/A"}},{"$f":"VLOOKUP(B42,Pilot!A:F,6,0)","v":{"$error":"#N/A"}},30,null,0,{"$f":"IF(COUNTIF('N PMČR 2019'!B:B,B42)=0,\"-\",COUNTIF('N PMČR 2019'!B:B,B42))","v":"-"},{"$f":"IF(ISERROR(VLOOKUP(B42,'N PMČR 2019'!B:G,6,0)),\"-\",VLOOKUP(B42,'N PMČR 2019'!B:G,6,0))","v":"-"},{"$f":"IF(COUNTIF('N PMRg 2019'!B:B,B42)=0,\"-\",COUNTIF('N PMRg 2019'!B:B,B42))","v":"-"},{"$f":"IF(ISERROR(VLOOKUP(B42,'N PMRg 2019'!B:G,6,0)),\"-\",VLOOKUP(B42,'N PMRg 2019'!B:G,6,0))","v":"-"}]
[31,null,{"$f":"VLOOKUP(B43,Pilot!A:C,3,0)","v":{"$error":"#N/A"}},{"$f":"VLOOKUP(B43,Pilot!A:C,2,0)","v":{"$error":"#N/A"}},{"$f":"VLOOKUP(B43,Pilot!A:E,5,0)","v":{"$error":"#N/A"}},{"$f":"VLOOKUP(B43,Pilot!A:F,6,0)","v":{"$error":"#N/A"}},31,null,0,{"$f":"IF(COUNTIF('N PMČR 2019'!B:B,B43)=0,\"-\",COUNTIF('N PMČR 2019'!B:B,B43))","v":"-"},{"$f":"IF(ISERROR(VLOOKUP(B43,'N PMČR 2019'!B:G,6,0)),\"-\",VLOOKUP(B43,'N PMČR 2019'!B:G,6,0))","v":"-"},{"$f":"IF(COUNTIF('N PMRg 2019'!B:B,B43)=0,\"-\",COUNTIF('N PMRg 2019'!B:B,B43))","v":"-"},{"$f":"IF(ISERROR(VLOOKUP(B43,'N PMRg 2019'!B:G,6,0)),\"-\",VLOOKUP(B43,'N PMRg 2019'!B:G,6,0))","v":"-"}]
[32,null,{"$f":"VLOOKUP(B44,Pilot!A:C,3,0)","v":{"$error":"#N/A"}},{"$f":"VLOOKUP(B44,Pilot!A:C,2,0)","v":{"$error":"#N/A"}},{"$f":"VLOOKUP(B44,Pilot!A:E,5,0)","v":{"$error":"#N/A"}},{"$f":"VLOOKUP(B44,Pilot!A:F,6,0)","v":{"$error":"#N/A"}},32,null,0,{"$f":"IF(COUNTIF('N PMČR 2019'!B:B,B44)=0,\"-\",COUNTIF('N PMČR 2019'!B:B,B44))","v":"-"},{"$f":"IF(ISERROR(VLOOKUP(B44,'N PMČR 2019'!B:G,6,0)),\"-\",VLOOKUP(B44,'N PMČR 2019'!B:G,6,0))","v":"-"},{"$f":"IF(COUNTIF('N PMRg 2019'!B:B,B44)=0,\"-\",COUNTIF('N PMRg 2019'!B:B,B44))","v":"-"},{"$f":"IF(ISERROR(VLOOKUP(B44,'N PMRg 2019'!B:G,6,0)),\"-\",VLOOKUP(B44,'N PMRg 2019'!B:G,6,0))","v":"-"}]
[33,null,{"$f":"VLOOKUP(B45,Pilot!A:C,3,0)","v":{"$error":"#N/A"}},{"$f":"VLOOKUP(B45,Pilot!A:C,2,0)","v":{"$error":"#N/A"}},{"$f":"VLOOKUP(B45,Pilot!A:E,5,0)","v":{"$error":"#N/A"}},{"$f":"VLOOKUP(B45,Pilot!A:F,6,0)","v":{"$error":"#N/A"}},33,null,0,{"$f":"IF(COUNTIF('N PMČR 2019'!B:B,B45)=0,\"-\",COUNTIF('N PMČR 2019'!B:B,B45))","v":"-"},{"$f":"IF(ISERROR(VLOOKUP(B45,'N PMČR 2019'!B:G,6,0)),\"-\",VLOOKUP(B45,'N PMČR 2019'!B:G,6,0))","v":"-"},{"$f":"IF(COUNTIF('N PMRg 2019'!B:B,B45)=0,\"-\",COUNTIF('N PMRg 2019'!B:B,B45))","v":"-"},{"$f":"IF(ISERROR(VLOOKUP(B45,'N PMRg 2019'!B:G,6,0)),\"-\",VLOOKUP(B45,'N PMRg 2019'!B:G,6,0))","v":"-"}]
[34,null,{"$f":"VLOOKUP(B46,Pilot!A:C,3,0)","v":{"$error":"#N/A"}},{"$f":"VLOOKUP(B46,Pilot!A:C,2,0)","v":{"$error":"#N/A"}},{"$f":"VLOOKUP(B46,Pilot!A:E,5,0)","v":{"$error":"#N/A"}},{"$f":"VLOOKUP(B46,Pilot!A:F,6,0)","v":{"$error":"#N/A"}},{"$f":"A46","v":34},null,0,{"$f":"IF(COUNTIF('N PMČR 2019'!B:B,B46)=0,\"-\",COUNTIF('N PMČR 2019'!B:B,B46))","v":"-"},{"$f":"IF(ISERROR(VLOOKUP(B46,'N PMČR 2019'!B:G,6,0)),\"-\",VLOOKUP(B46,'N PMČR 2019'!B:G,6,0))","v":"-"},{"$f":"IF(COUNTIF('N PMRg 2019'!B:B,B46)=0,\"-\",COUNTIF('N PMRg 2019'!B:B,B46))","v":"-"},{"$f":"IF(ISERROR(VLOOKUP(B46,'N PMRg 2019'!B:G,6,0)),\"-\",VLOOKUP(B46,'N PMRg 2019'!B:G,6,0))","v":"-"}]
[35,null,{"$f":"VLOOKUP(B47,Pilot!A:C,3,0)","v":{"$error":"#N/A"}},{"$f":"VLOOKUP(B47,Pilot!A:C,2,0)","v":{"$error":"#N/A"}},{"$f":"VLOOKUP(B47,Pilot!A:E,5,0)","v":{"$error":"#N/A"}},{"$f":"VLOOKUP(B47,Pilot!A:F,6,0)","v":{"$error":"#N/A"}},35,null,0,{"$f":"IF(COUNTIF('N PMČR 2019'!B:B,B47)=0,\"-\",COUNTIF('N PMČR 2019'!B:B,B47))","v":"-"},{"$f":"IF(ISERROR(VLOOKUP(B47,'N PMČR 2019'!B:G,6,0)),\"-\",VLOOKUP(B47,'N PMČR 2019'!B:G,6,0))","v":"-"},{"$f":"IF(COUNTIF('N PMRg 2019'!B:B,B47)=0,\"-\",COUNTIF('N PMRg 2019'!B:B,B47))","v":"-"},{"$f":"IF(ISERROR(VLOOKUP(B47,'N PMRg 2019'!B:G,6,0)),\"-\",VLOOKUP(B47,'N PMRg 2019'!B:G,6,0))","v":"-"}]
[36,null,{"$f":"VLOOKUP(B48,Pilot!A:C,3,0)","v":{"$error":"#N/A"}},{"$f":"VLOOKUP(B48,Pilot!A:C,2,0)","v":{"$error":"#N/A"}},{"$f":"VLOOKUP(B48,Pilot!A:E,5,0)","v":{"$error":"#N/A"}},{"$f":"VLOOKUP(B48,Pilot!A:F,6,0)","v":{"$error":"#N/A"}},36,null,0,{"$f":"IF(COUNTIF('N PMČR 2019'!B:B,B48)=0,\"-\",COUNTIF('N PMČR 2019'!B:B,B48))","v":"-"},{"$f":"IF(ISERROR(VLOOKUP(B48,'N PMČR 2019'!B:G,6,0)),\"-\",VLOOKUP(B48,'N PMČR 2019'!B:G,6,0))","v":"-"},{"$f":"IF(COUNTIF('N PMRg 2019'!B:B,B48)=0,\"-\",COUNTIF('N PMRg 2019'!B:B,B48))","v":"-"},{"$f":"IF(ISERROR(VLOOKUP(B48,'N PMRg 2019'!B:G,6,0)),\"-\",VLOOKUP(B48,'N PMRg 2019'!B:G,6,0))","v":"-"}]
[37,null,{"$f":"VLOOKUP(B49,Pilot!A:C,3,0)","v":{"$error":"#N/A"}},{"$f":"VLOOKUP(B49,Pilot!A:C,2,0)","v":{"$error":"#N/A"}},{"$f":"VLOOKUP(B49,Pilot!A:E,5,0)","v":{"$error":"#N/A"}},{"$f":"VLOOKUP(B49,Pilot!A:F,6,0)","v":{"$error":"#N/A"}},37,null,0,{"$f":"IF(COUNTIF('N PMČR 2019'!B:B,B49)=0,\"-\",COUNTIF('N PMČR 2019'!B:B,B49))","v":"-"},{"$f":"IF(ISERROR(VLOOKUP(B49,'N PMČR 2019'!B:G,6,0)),\"-\",VLOOKUP(B49,'N PMČR 2019'!B:G,6,0))","v":"-"},{"$f":"IF(COUNTIF('N PMRg 2019'!B:B,B49)=0,\"-\",COUNTIF('N PMRg 2019'!B:B,B49))","v":"-"},{"$f":"IF(ISERROR(VLOOKUP(B49,'N PMRg 2019'!B:G,6,0)),\"-\",VLOOKUP(B49,'N PMRg 2019'!B:G,6,0))","v":"-"}]
[38,null,{"$f":"VLOOKUP(B50,Pilot!A:C,3,0)","v":{"$error":"#N/A"}},{"$f":"VLOOKUP(B50,Pilot!A:C,2,0)","v":{"$error":"#N/A"}},{"$f":"VLOOKUP(B50,Pilot!A:E,5,0)","v":{"$error":"#N/A"}},{"$f":"VLOOKUP(B50,Pilot!A:F,6,0)","v":{"$error":"#N/A"}},{"$f":"A50","v":38},null,0,{"$f":"IF(COUNTIF('N PMČR 2019'!B:B,B50)=0,\"-\",COUNTIF('N PMČR 2019'!B:B,B50))","v":"-"},{"$f":"IF(ISERROR(VLOOKUP(B50,'N PMČR 2019'!B:G,6,0)),\"-\",VLOOKUP(B50,'N PMČR 2019'!B:G,6,0))","v":"-"},{"$f":"IF(COUNTIF('N PMRg 2019'!B:B,B50)=0,\"-\",COUNTIF('N PMRg 2019'!B:B,B50))","v":"-"},{"$f":"IF(ISERROR(VLOOKUP(B50,'N PMRg 2019'!B:G,6,0)),\"-\",VLOOKUP(B50,'N PMRg 2019'!B:G,6,0))","v":"-"}]
[39,null,{"$f":"VLOOKUP(B51,Pilot!A:C,3,0)","v":{"$error":"#N/A"}},{"$f":"VLOOKUP(B51,Pilot!A:C,2,0)","v":{"$error":"#N/A"}},{"$f":"VLOOKUP(B51,Pilot!A:E,5,0)","v":{"$error":"#N/A"}},{"$f":"VLOOKUP(B51,Pilot!A:F,6,0)","v":{"$error":"#N/A"}},{"$f":"A51","v":39},null,0,{"$f":"IF(COUNTIF('N PMČR 2019'!B:B,B51)=0,\"-\",COUNTIF('N PMČR 2019'!B:B,B51))","v":"-"},{"$f":"IF(ISERROR(VLOOKUP(B51,'N PMČR 2019'!B:G,6,0)),\"-\",VLOOKUP(B51,'N PMČR 2019'!B:G,6,0))","v":"-"},{"$f":"IF(COUNTIF('N PMRg 2019'!B:B,B51)=0,\"-\",COUNTIF('N PMRg 2019'!B:B,B51))","v":"-"},{"$f":"IF(ISERROR(VLOOKUP(B51,'N PMRg 2019'!B:G,6,0)),\"-\",VLOOKUP(B51,'N PMRg 2019'!B:G,6,0))","v":"-"}]
[40,null,{"$f":"VLOOKUP(B52,Pilot!A:C,3,0)","v":{"$error":"#N/A"}},{"$f":"VLOOKUP(B52,Pilot!A:C,2,0)","v":{"$error":"#N/A"}},{"$f":"VLOOKUP(B52,Pilot!A:E,5,0)","v":{"$error":"#N/A"}},{"$f":"VLOOKUP(B52,Pilot!A:F,6,0)","v":{"$error":"#N/A"}},{"$f":"A52","v":40},null,{"$f":"COUNTIF(B:B,B52)","v":0},{"$f":"IF(COUNTIF('N PMČR 2019'!B:B,B52)=0,\"-\",COUNTIF('N PMČR 2019'!B:B,B52))","v":"-"},{"$f":"IF(ISERROR(VLOOKUP(B52,'N PMČR 2019'!B:G,6,0)),\"-\",VLOOKUP(B52,'N PMČR 2019'!B:G,6,0))","v":"-"},{"$f":"IF(COUNTIF('N PMRg 2019'!B:B,B52)=0,\"-\",COUNTIF('N PMRg 2019'!B:B,B52))","v":"-"},{"$f":"IF(ISERROR(VLOOKUP(B52,'N PMRg 2019'!B:G,6,0)),\"-\",VLOOKUP(B52,'N PMRg 2019'!B:G,6,0))","v":"-"}]
["N1",null,{"$f":"VLOOKUP(B53,Pilot!A:C,3,0)","v":{"$error":"#N/A"}},{"$f":"VLOOKUP(B53,Pilot!A:C,2,0)","v":{"$error":"#N/A"}},{"$f":"VLOOKUP(B53,Pilot!A:E,5,0)","v":{"$error":"#N/A"}},{"$f":"VLOOKUP(B53,Pilot!A:F,6,0)","v":{"$error":"#N/A"}},"N1",null,0,{"$f":"IF(COUNTIF('N PMČR 2019'!B:B,B53)=0,\"-\",COUNTIF('N PMČR 2019'!B:B,B53))","v":"-"},{"$f":"IF(ISERROR(VLOOKUP(B53,'N PMČR 2019'!B:G,6,0)),\"-\",VLOOKUP(B53,'N PMČR 2019'!B:G,6,0))","v":"-"},{"$f":"IF(COUNTIF('N PMRg 2019'!B:B,B53)=0,\"-\",COUNTIF('N PMRg 2019'!B:B,B53))","v":"-"},{"$f":"IF(ISERROR(VLOOKUP(B53,'N PMRg 2019'!B:G,6,0)),\"-\",VLOOKUP(B53,'N PMRg 2019'!B:G,6,0))","v":"-"}]
["N2",null,{"$f":"VLOOKUP(B54,Pilot!A:C,3,0)","v":{"$error":"#N/A"}},{"$f":"VLOOKUP(B54,Pilot!A:C,2,0)","v":{"$error":"#N/A"}},{"$f":"VLOOKUP(B54,Pilot!A:E,5,0)","v":{"$error":"#N/A"}},{"$f":"VLOOKUP(B54,Pilot!A:F,6,0)","v":{"$error":"#N/A"}},"N2",null,0,{"$f":"IF(COUNTIF('N PMČR 2019'!B:B,B54)=0,\"-\",COUNTIF('N PMČR 2019'!B:B,B54))","v":"-"},{"$f":"IF(ISERROR(VLOOKUP(B54,'N PMČR 2019'!B:G,6,0)),\"-\",VLOOKUP(B54,'N PMČR 2019'!B:G,6,0))","v":"-"},{"$f":"IF(COUNTIF('N PMRg 2019'!B:B,B54)=0,\"-\",COUNTIF('N PMRg 2019'!B:B,B54))","v":"-"},{"$f":"IF(ISERROR(VLOOKUP(B54,'N PMRg 2019'!B:G,6,0)),\"-\",VLOOKUP(B54,'N PMRg 2019'!B:G,6,0))","v":"-"}]
["N3",null,{"$f":"VLOOKUP(B55,Pilot!A:C,3,0)","v":{"$error":"#N/A"}},{"$f":"VLOOKUP(B55,Pilot!A:C,2,0)","v":{"$error":"#N/A"}},{"$f":"VLOOKUP(B55,Pilot!A:E,5,0)","v":{"$error":"#N/A"}},{"$f":"VLOOKUP(B55,Pilot!A:F,6,0)","v":{"$error":"#N/A"}},"N3",null,0,{"$f":"IF(COUNTIF('N PMČR 2019'!B:B,B55)=0,\"-\",COUNTIF('N PMČR 2019'!B:B,B55))","v":"-"},{"$f":"IF(ISERROR(VLOOKUP(B55,'N PMČR 2019'!B:G,6,0)),\"-\",VLOOKUP(B55,'N PMČR 2019'!B:G,6,0))","v":"-"},{"$f":"IF(COUNTIF('N PMRg 2019'!B:B,B55)=0,\"-\",COUNTIF('N PMRg 2019'!B:B,B55))","v":"-"},{"$f":"IF(ISERROR(VLOOKUP(B55,'N PMRg 2019'!B:G,6,0)),\"-\",VLOOKUP(B55,'N PMRg 2019'!B:G,6,0))","v":"-"}]
["N4",null,{"$f":"VLOOKUP(B56,Pilot!A:C,3,0)","v":{"$error":"#N/A"}},{"$f":"VLOOKUP(B56,Pilot!A:C,2,0)","v":{"$error":"#N/A"}},{"$f":"VLOOKUP(B56,Pilot!A:E,5,0)","v":{"$error":"#N/A"}},{"$f":"VLOOKUP(B56,Pilot!A:F,6,0)","v":{"$error":"#N/A"}},"N4",null,0,{"$f":"IF(COUNTIF('N PMČR 2019'!B:B,B56)=0,\"-\",COUNTIF('N PMČR 2019'!B:B,B56))","v":"-"},{"$f":"IF(ISERROR(VLOOKUP(B56,'N PMČR 2019'!B:G,6,0)),\"-\",VLOOKUP(B56,'N PMČR 2019'!B:G,6,0))","v":"-"},{"$f":"IF(COUNTIF('N PMRg 2019'!B:B,B56)=0,\"-\",COUNTIF('N PMRg 2019'!B:B,B56))","v":"-"},{"$f":"IF(ISERROR(VLOOKUP(B56,'N PMRg 2019'!B:G,6,0)),\"-\",VLOOKUP(B56,'N PMRg 2019'!B:G,6,0))","v":"-"}]
["N5",null,{"$f":"VLOOKUP(B57,Pilot!A:C,3,0)","v":{"$error":"#N/A"}},{"$f":"VLOOKUP(B57,Pilot!A:C,2,0)","v":{"$error":"#N/A"}},{"$f":"VLOOKUP(B57,Pilot!A:E,5,0)","v":{"$error":"#N/A"}},{"$f":"VLOOKUP(B57,Pilot!A:F,6,0)","v":{"$error":"#N/A"}},"N5",null,0,{"$f":"IF(COUNTIF('N PMČR 2019'!B:B,B57)=0,\"-\",COUNTIF('N PMČR 2019'!B:B,B57))","v":"-"},{"$f":"IF(ISERROR(VLOOKUP(B57,'N PMČR 2019'!B:G,6,0)),\"-\",VLOOKUP(B57,'N PMČR 2019'!B:G,6,0))","v":"-"},{"$f":"IF(COUNTIF('N PMRg 2019'!B:B,B57)=0,\"-\",COUNTIF('N PMRg 2019'!B:B,B57))","v":"-"},{"$f":"IF(ISERROR(VLOOKUP(B57,'N PMRg 2019'!B:G,6,0)),\"-\",VLOOKUP(B57,'N PMRg 2019'!B:G,6,0))","v":"-"}]
["6.7.5.5.","akademici, kteří nesplňují statut juniora, mají na PMČRj rezervováno 5 soutěžních míst nad rámec nominace stanovené bodem 6.7.5.4."]
["-","-",{"$f":"VLOOKUP(B59,Pilot!A:C,3,0)","v":" "},{"$f":"VLOOKUP(B59,Pilot!A:C,2,0)","v":" "},{"$f":"VLOOKUP(B59,Pilot!A:E,5,0)","v":" "},{"$f":"VLOOKUP(B59,Pilot!A:F,6,0)","v":" "},{"$f":"A59","v":"-"},null,{"$f":"COUNTIF(B:B,B59)","v":10},{"$f":"IF(COUNTIF('N PMČR 2019'!B:B,B59)=0,\"-\",COUNTIF('N PMČR 2019'!B:B,B59))","v":10},{"$f":"IF(ISERROR(VLOOKUP(B59,'N PMČR 2019'!B:G,6,0)),\"-\",VLOOKUP(B59,'N PMČR 2019'!B:G,6,0))","v":"-"},{"$f":"IF(COUNTIF('N PMRg 2019'!B:B,B59)=0,\"-\",COUNTIF('N PMRg 2019'!B:B,B59))","v":14},{"$f":"IF(ISERROR(VLOOKUP(B59,'N PMRg 2019'!B:G,6,0)),\"-\",VLOOKUP(B59,'N PMRg 2019'!B:G,6,0))","v":"-"}]
["-","-",{"$f":"VLOOKUP(B60,Pilot!A:C,3,0)","v":" "},{"$f":"VLOOKUP(B60,Pilot!A:C,2,0)","v":" "},{"$f":"VLOOKUP(B60,Pilot!A:E,5,0)","v":" "},{"$f":"VLOOKUP(B60,Pilot!A:F,6,0)","v":" "},{"$f":"A60","v":"-"},null,{"$f":"COUNTIF(B:B,B60)","v":10},{"$f":"IF(COUNTIF('N PMČR 2019'!B:B,B60)=0,\"-\",COUNTIF('N PMČR 2019'!B:B,B60))","v":10},{"$f":"IF(ISERROR(VLOOKUP(B60,'N PMČR 2019'!B:G,6,0)),\"-\",VLOOKUP(B60,'N PMČR 2019'!B:G,6,0))","v":"-"},{"$f":"IF(COUNTIF('N PMRg 2019'!B:B,B60)=0,\"-\",COUNTIF('N PMRg 2019'!B:B,B60))","v":14},{"$f":"IF(ISERROR(VLOOKUP(B60,'N PMRg 2019'!B:G,6,0)),\"-\",VLOOKUP(B60,'N PMRg 2019'!B:G,6,0))","v":"-"}]
["-","-",{"$f":"VLOOKUP(B61,Pilot!A:C,3,0)","v":" "},{"$f":"VLOOKUP(B61,Pilot!A:C,2,0)","v":" "},{"$f":"VLOOKUP(B61,Pilot!A:E,5,0)","v":" "},{"$f":"VLOOKUP(B61,Pilot!A:F,6,0)","v":" "},{"$f":"A61","v":"-"},null,{"$f":"COUNTIF(B:B,B61)","v":10},{"$f":"IF(COUNTIF('N PMČR 2019'!B:B,B61)=0,\"-\",COUNTIF('N PMČR 2019'!B:B,B61))","v":10},{"$f":"IF(ISERROR(VLOOKUP(B61,'N PMČR 2019'!B:G,6,0)),\"-\",VLOOKUP(B61,'N PMČR 2019'!B:G,6,0))","v":"-"},{"$f":"IF(COUNTIF('N PMRg 2019'!B:B,B61)=0,\"-\",COUNTIF('N PMRg 2019'!B:B,B61))","v":14},{"$f":"IF(ISERROR(VLOOKUP(B61,'N PMRg 2019'!B:G,6,0)),\"-\",VLOOKUP(B61,'N PMRg 2019'!B:G,6,0))","v":"-"}]
["-","-",{"$f":"VLOOKUP(B62,Pilot!A:C,3,0)","v":" "},{"$f":"VLOOKUP(B62,Pilot!A:C,2,0)","v":" "},{"$f":"VLOOKUP(B62,Pilot!A:E,5,0)","v":" "},{"$f":"VLOOKUP(B62,Pilot!A:F,6,0)","v":" "},{"$f":"A62","v":"-"},null,{"$f":"COUNTIF(B:B,B62)","v":10},{"$f":"IF(COUNTIF('N PMČR 2019'!B:B,B62)=0,\"-\",COUNTIF('N PMČR 2019'!B:B,B62))","v":10},{"$f":"IF(ISERROR(VLOOKUP(B62,'N PMČR 2019'!B:G,6,0)),\"-\",VLOOKUP(B62,'N PMČR 2019'!B:G,6,0))","v":"-"},{"$f":"IF(COUNTIF('N PMRg 2019'!B:B,B62)=0,\"-\",COUNTIF('N PMRg 2019'!B:B,B62))","v":14},{"$f":"IF(ISERROR(VLOOKUP(B62,'N PMRg 2019'!B:G,6,0)),\"-\",VLOOKUP(B62,'N PMRg 2019'!B:G,6,0))","v":"-"}]
["-","-",{"$f":"VLOOKUP(B63,Pilot!A:C,3,0)","v":" "},{"$f":"VLOOKUP(B63,Pilot!A:C,2,0)","v":" "},{"$f":"VLOOKUP(B63,Pilot!A:E,5,0)","v":" "},{"$f":"VLOOKUP(B63,Pilot!A:F,6,0)","v":" "},{"$f":"A63","v":"-"},null,{"$f":"COUNTIF(B:B,B63)","v":10},{"$f":"IF(COUNTIF('N PMČR 2019'!B:B,B63)=0,\"-\",COUNTIF('N PMČR 2019'!B:B,B63))","v":10},{"$f":"IF(ISERROR(VLOOKUP(B63,'N PMČR 2019'!B:G,6,0)),\"-\",VLOOKUP(B63,'N PMČR 2019'!B:G,6,0))","v":"-"},{"$f":"IF(COUNTIF('N PMRg 2019'!B:B,B63)=0,\"-\",COUNTIF('N PMRg 2019'!B:B,B63))","v":14},{"$f":"IF(ISERROR(VLOOKUP(B63,'N PMRg 2019'!B:G,6,0)),\"-\",VLOOKUP(B63,'N PMRg 2019'!B:G,6,0))","v":"-"}]
["6.7.5.6.","další soutěžící může navrhnout PK podle jiných kritérií dle odstavce 9. SŘ"]
["-","-",{"$f":"VLOOKUP(B65,Pilot!A:C,3,0)","v":" "},{"$f":"VLOOKUP(B65,Pilot!A:C,2,0)","v":" "},{"$f":"VLOOKUP(B65,Pilot!A:E,5,0)","v":" "},{"$f":"VLOOKUP(B65,Pilot!A:F,6,0)","v":" "},{"$f":"A65","v":"-"},null,{"$f":"COUNTIF(B:B,B65)","v":10},{"$f":"IF(COUNTIF('N PMČR 2019'!B:B,B65)=0,\"-\",COUNTIF('N PMČR 2019'!B:B,B65))","v":10},{"$f":"IF(ISERROR(VLOOKUP(B65,'N PMČR 2019'!B:G,6,0)),\"-\",VLOOKUP(B65,'N PMČR 2019'!B:G,6,0))","v":"-"},{"$f":"IF(COUNTIF('N PMRg 2019'!B:B,B65)=0,\"-\",COUNTIF('N PMRg 2019'!B:B,B65))","v":14},{"$f":"IF(ISERROR(VLOOKUP(B65,'N PMRg 2019'!B:G,6,0)),\"-\",VLOOKUP(B65,'N PMRg 2019'!B:G,6,0))","v":"-"}]
["-","-",{"$f":"VLOOKUP(B66,Pilot!A:C,3,0)","v":" "},{"$f":"VLOOKUP(B66,Pilot!A:C,2,0)","v":" "},{"$f":"VLOOKUP(B66,Pilot!A:E,5,0)","v":" "},{"$f":"VLOOKUP(B66,Pilot!A:F,6,0)","v":" "},{"$f":"A66","v":"-"},null,{"$f":"COUNTIF(B:B,B66)","v":10},{"$f":"IF(COUNTIF('N PMČR 2019'!B:B,B66)=0,\"-\",COUNTIF('N PMČR 2019'!B:B,B66))","v":10},{"$f":"IF(ISERROR(VLOOKUP(B66,'N PMČR 2019'!B:G,6,0)),\"-\",VLOOKUP(B66,'N PMČR 2019'!B:G,6,0))","v":"-"},{"$f":"IF(COUNTIF('N PMRg 2019'!B:B,B66)=0,\"-\",COUNTIF('N PMRg 2019'!B:B,B66))","v":14},{"$f":"IF(ISERROR(VLOOKUP(B66,'N PMRg 2019'!B:G,6,0)),\"-\",VLOOKUP(B66,'N PMRg 2019'!B:G,6,0))","v":"-"}]
["-","-",{"$f":"VLOOKUP(B67,Pilot!A:C,3,0)","v":" "},{"$f":"VLOOKUP(B67,Pilot!A:C,2,0)","v":" "},{"$f":"VLOOKUP(B67,Pilot!A:E,5,0)","v":" "},{"$f":"VLOOKUP(B67,Pilot!A:F,6,0)","v":" "},{"$f":"A67","v":"-"},null,{"$f":"COUNTIF(B:B,B67)","v":10},{"$f":"IF(COUNTIF('N PMČR 2019'!B:B,B67)=0,\"-\",COUNTIF('N PMČR 2019'!B:B,B67))","v":10},{"$f":"IF(ISERROR(VLOOKUP(B67,'N PMČR 2019'!B:G,6,0)),\"-\",VLOOKUP(B67,'N PMČR 2019'!B:G,6,0))","v":"-"},{"$f":"IF(COUNTIF('N PMRg 2019'!B:B,B67)=0,\"-\",COUNTIF('N PMRg 2019'!B:B,B67))","v":14},{"$f":"IF(ISERROR(VLOOKUP(B67,'N PMRg 2019'!B:G,6,0)),\"-\",VLOOKUP(B67,'N PMRg 2019'!B:G,6,0))","v":"-"}]
["-","-",{"$f":"VLOOKUP(B68,Pilot!A:C,3,0)","v":" "},{"$f":"VLOOKUP(B68,Pilot!A:C,2,0)","v":" "},{"$f":"VLOOKUP(B68,Pilot!A:E,5,0)","v":" "},{"$f":"VLOOKUP(B68,Pilot!A:F,6,0)","v":" "},{"$f":"A68","v":"-"},null,{"$f":"COUNTIF(B:B,B68)","v":10},{"$f":"IF(COUNTIF('N PMČR 2019'!B:B,B68)=0,\"-\",COUNTIF('N PMČR 2019'!B:B,B68))","v":10},{"$f":"IF(ISERROR(VLOOKUP(B68,'N PMČR 2019'!B:G,6,0)),\"-\",VLOOKUP(B68,'N PMČR 2019'!B:G,6,0))","v":"-"},{"$f":"IF(COUNTIF('N PMRg 2019'!B:B,B68)=0,\"-\",COUNTIF('N PMRg 2019'!B:B,B68))","v":14},{"$f":"IF(ISERROR(VLOOKUP(B68,'N PMRg 2019'!B:G,6,0)),\"-\",VLOOKUP(B68,'N PMRg 2019'!B:G,6,0))","v":"-"}]
["-","-",{"$f":"VLOOKUP(B69,Pilot!A:C,3,0)","v":" "},{"$f":"VLOOKUP(B69,Pilot!A:C,2,0)","v":" "},{"$f":"VLOOKUP(B69,Pilot!A:E,5,0)","v":" "},{"$f":"VLOOKUP(B69,Pilot!A:F,6,0)","v":" "},{"$f":"A69","v":"-"},null,{"$f":"COUNTIF(B:B,B69)","v":10},{"$f":"IF(COUNTIF('N PMČR 2019'!B:B,B69)=0,\"-\",COUNTIF('N PMČR 2019'!B:B,B69))","v":10},{"$f":"IF(ISERROR(VLOOKUP(B69,'N PMČR 2019'!B:G,6,0)),\"-\",VLOOKUP(B69,'N PMČR 2019'!B:G,6,0))","v":"-"},{"$f":"IF(COUNTIF('N PMRg 2019'!B:B,B69)=0,\"-\",COUNTIF('N PMRg 2019'!B:B,B69))","v":14},{"$f":"IF(ISERROR(VLOOKUP(B69,'N PMRg 2019'!B:G,6,0)),\"-\",VLOOKUP(B69,'N PMRg 2019'!B:G,6,0))","v":"-"}]
[]
["6.7.6.","Statut juniora"]
[null,"Za juniora jsou považování všichni soutěžící, kteří dovrší maximálně 25 let v kalendářním roce konání soutěže."]
["6.7.6.","Statut akademika"]
[null,"Za akademika jsou považováni všichni soutěžící, kteří jsou řádnými studenty (vlastní platný studijní index) pregraduálního prezenčního, kombinovaného, nebo postgraduálního studia. Dále absolventi jakéhokoliv vysokoškolského studia do 1 roku po promoci."]
[null,"Týká se pouze Vysokých škol registrovaných u MŠMT."]
[null,"Účast akademiků na PMČRj je omezena dovršením maximálně 28 let v kalendářním roce konání soutěže."]
[]
[]
["Schváleno Plachtařskou komisí AeČR dne XX.X.2019 ve XXXXX"]